{"text_format":"2","workbook":"xlsx","n_sheets":2,"sheets":["Sheet1","Set"],"not_rendered":{"charts":0,"images":0,"macros":0,"external_links":0,"defined_names":5,"comments":0,"pivot_tables":0},"unopened":[],"bounds":{"document_bytes":16777216,"sheet_cells":100000,"run_cost":"one","rows_first":2000,"rows_last":500,"rows_between":2000,"halvings":0,"cell_chars":16384,"cell_head_chars":4096},"cells_cut":0,"cells_raw":0,"read":"whole","date_system":"1900"}

{"sheet":"Sheet1","index":0,"n_rows":2001,"n_cols":16,"rows_kept":2001,"cut":false,"hidden":false,"merged":[]}
[1]
[1,"Obligāts","Obligāts","Obligāts","Obligāts","Obligāts","Obligāts","Obligāts",null,"Obligāts","Obligāts","Obligāts","Nav obligāts","Obligāts","Obligāts"]
[1,"Rēķina datums","Piegādātāja nosauk.\n(kontakta kartiņai jābūt sistēmā)","Piegādātāja Reģ.nr.\n(kontakta kartiņai jābūt sistēmā)","Piegādātāja rēķina numurs (jābūt unikālam šajā sarakstā)","Kopā summa (ar PVN)","PVN summa","Rēķina veids (izvēlies no saraksta)","Rēķina veids value","Valūta","Samaksas termiņš (dienas) Izvēlies no saraksta","Grāmatvedības konts kur grāmatos rēķinu (parasti izmaksu konts)","Objekti","Rindas summa BEZ PVN","PVN likme (izvēlies no saraksta)","PVN kods"]
[null,"01.01.2021","MONEO LATVIA SIA",40103911142,"MRE 19732",89.03,15.45,"Rēķins",{"$f":"IF(H4>0,VLOOKUP(H4,Set!$A$2:$B$4,2,FALSE),\"\")","v":"IREK"},"EUR","10",7111,"ML_ABC",1.73,"Pakalpojumi no ES",{"$f":"IF(O4>0,VLOOKUP(O4,Set!$H$2:$J$16,2,FALSE),\"\")","v":"ESPA"}]
[{"$nulls":8},{"$f":"IF(H5>0,VLOOKUP(H5,Set!$A$2:$B$4,2,FALSE),\"\")","v":""},{"$nulls":6},{"$f":"IF(O5>0,VLOOKUP(O5,Set!$H$2:$J$16,2,FALSE),\"\")","v":""}]
[{"$nulls":8},{"$f":"IF(H6>0,VLOOKUP(H6,Set!$A$2:$B$4,2,FALSE),\"\")","v":""},{"$nulls":6},{"$f":"IF(O6>0,VLOOKUP(O6,Set!$H$2:$J$16,2,FALSE),\"\")","v":""}]
[{"$nulls":8},{"$f":"IF(H7>0,VLOOKUP(H7,Set!$A$2:$B$4,2,FALSE),\"\")","v":""},{"$nulls":6},{"$f":"IF(O7>0,VLOOKUP(O7,Set!$H$2:$J$16,2,FALSE),\"\")","v":""}]
[{"$nulls":8},{"$f":"IF(H8>0,VLOOKUP(H8,Set!$A$2:$B$4,2,FALSE),\"\")","v":""},{"$nulls":6},{"$f":"IF(O8>0,VLOOKUP(O8,Set!$H$2:$J$16,2,FALSE),\"\")","v":""}]
[{"$nulls":8},{"$f":"IF(H9>0,VLOOKUP(H9,Set!$A$2:$B$4,2,FALSE),\"\")","v":""},{"$nulls":6},{"$f":"IF(O9>0,VLOOKUP(O9,Set!$H$2:$J$16,2,FALSE),\"\")","v":""}]
[{"$nulls":8},{"$f":"IF(H10>0,VLOOKUP(H10,Set!$A$2:$B$4,2,FALSE),\"\")","v":""},{"$nulls":6},{"$f":"IF(O10>0,VLOOKUP(O10,Set!$H$2:$J$16,2,FALSE),\"\")","v":""}]
[{"$nulls":8},{"$f":"IF(H11>0,VLOOKUP(H11,Set!$A$2:$B$4,2,FALSE),\"\")","v":""},{"$nulls":6},{"$f":"IF(O11>0,VLOOKUP(O11,Set!$H$2:$J$16,2,FALSE),\"\")","v":""}]
[{"$nulls":8},{"$f":"IF(H12>0,VLOOKUP(H12,Set!$A$2:$B$4,2,FALSE),\"\")","v":""},{"$nulls":6},{"$f":"IF(O12>0,VLOOKUP(O12,Set!$H$2:$J$16,2,FALSE),\"\")","v":""}]
[{"$nulls":8},{"$f":"IF(H13>0,VLOOKUP(H13,Set!$A$2:$B$4,2,FALSE),\"\")","v":""},{"$nulls":6},{"$f":"IF(O13>0,VLOOKUP(O13,Set!$H$2:$J$16,2,FALSE),\"\")","v":""}]
[{"$nulls":8},{"$f":"IF(H14>0,VLOOKUP(H14,Set!$A$2:$B$4,2,FALSE),\"\")","v":""},{"$nulls":6},{"$f":"IF(O14>0,VLOOKUP(O14,Set!$H$2:$J$16,2,FALSE),\"\")","v":""}]
[{"$nulls":8},{"$f":"IF(H15>0,VLOOKUP(H15,Set!$A$2:$B$4,2,FALSE),\"\")","v":""},{"$nulls":6},{"$f":"IF(O15>0,VLOOKUP(O15,Set!$H$2:$J$16,2,FALSE),\"\")","v":""}]
[{"$nulls":8},{"$f":"IF(H16>0,VLOOKUP(H16,Set!$A$2:$B$4,2,FALSE),\"\")","v":""},{"$nulls":6},{"$f":"IF(O16>0,VLOOKUP(O16,Set!$H$2:$J$16,2,FALSE),\"\")","v":""}]
[{"$nulls":8},{"$f":"IF(H17>0,VLOOKUP(H17,Set!$A$2:$B$4,2,FALSE),\"\")","v":""},{"$nulls":6},{"$f":"IF(O17>0,VLOOKUP(O17,Set!$H$2:$J$16,2,FALSE),\"\")","v":""}]
[{"$nulls":8},{"$f":"IF(H18>0,VLOOKUP(H18,Set!$A$2:$B$4,2,FALSE),\"\")","v":""},{"$nulls":6},{"$f":"IF(O18>0,VLOOKUP(O18,Set!$H$2:$J$16,2,FALSE),\"\")","v":""}]
[{"$nulls":8},{"$f":"IF(H19>0,VLOOKUP(H19,Set!$A$2:$B$4,2,FALSE),\"\")","v":""},{"$nulls":6},{"$f":"IF(O19>0,VLOOKUP(O19,Set!$H$2:$J$16,2,FALSE),\"\")","v":""}]
[{"$nulls":8},{"$f":"IF(H20>0,VLOOKUP(H20,Set!$A$2:$B$4,2,FALSE),\"\")","v":""},{"$nulls":6},{"$f":"IF(O20>0,VLOOKUP(O20,Set!$H$2:$J$16,2,FALSE),\"\")","v":""}]
[{"$nulls":8},{"$f":"IF(H21>0,VLOOKUP(H21,Set!$A$2:$B$4,2,FALSE),\"\")","v":""},{"$nulls":6},{"$f":"IF(O21>0,VLOOKUP(O21,Set!$H$2:$J$16,2,FALSE),\"\")","v":""}]
[{"$nulls":8},{"$f":"IF(H22>0,VLOOKUP(H22,Set!$A$2:$B$4,2,FALSE),\"\")","v":""},{"$nulls":6},{"$f":"IF(O22>0,VLOOKUP(O22,Set!$H$2:$J$16,2,FALSE),\"\")","v":""}]
[{"$nulls":8},{"$f":"IF(H23>0,VLOOKUP(H23,Set!$A$2:$B$4,2,FALSE),\"\")","v":""},{"$nulls":6},{"$f":"IF(O23>0,VLOOKUP(O23,Set!$H$2:$J$16,2,FALSE),\"\")","v":""}]
[{"$nulls":8},{"$f":"IF(H24>0,VLOOKUP(H24,Set!$A$2:$B$4,2,FALSE),\"\")","v":""},{"$nulls":6},{"$f":"IF(O24>0,VLOOKUP(O24,Set!$H$2:$J$16,2,FALSE),\"\")","v":""}]
[{"$nulls":8},{"$f":"IF(H25>0,VLOOKUP(H25,Set!$A$2:$B$4,2,FALSE),\"\")","v":""},{"$nulls":6},{"$f":"IF(O25>0,VLOOKUP(O25,Set!$H$2:$J$16,2,FALSE),\"\")","v":""}]
[{"$nulls":8},{"$f":"IF(H26>0,VLOOKUP(H26,Set!$A$2:$B$4,2,FALSE),\"\")","v":""},{"$nulls":6},{"$f":"IF(O26>0,VLOOKUP(O26,Set!$H$2:$J$16,2,FALSE),\"\")","v":""}]
[{"$nulls":8},{"$f":"IF(H27>0,VLOOKUP(H27,Set!$A$2:$B$4,2,FALSE),\"\")","v":""},{"$nulls":6},{"$f":"IF(O27>0,VLOOKUP(O27,Set!$H$2:$J$16,2,FALSE),\"\")","v":""}]
[{"$nulls":8},{"$f":"IF(H28>0,VLOOKUP(H28,Set!$A$2:$B$4,2,FALSE),\"\")","v":""},{"$nulls":6},{"$f":"IF(O28>0,VLOOKUP(O28,Set!$H$2:$J$16,2,FALSE),\"\")","v":""}]
[{"$nulls":8},{"$f":"IF(H29>0,VLOOKUP(H29,Set!$A$2:$B$4,2,FALSE),\"\")","v":""},{"$nulls":6},{"$f":"IF(O29>0,VLOOKUP(O29,Set!$H$2:$J$16,2,FALSE),\"\")","v":""}]
[{"$nulls":8},{"$f":"IF(H30>0,VLOOKUP(H30,Set!$A$2:$B$4,2,FALSE),\"\")","v":""},{"$nulls":6},{"$f":"IF(O30>0,VLOOKUP(O30,Set!$H$2:$J$16,2,FALSE),\"\")","v":""}]
[{"$nulls":8},{"$f":"IF(H31>0,VLOOKUP(H31,Set!$A$2:$B$4,2,FALSE),\"\")","v":""},{"$nulls":6},{"$f":"IF(O31>0,VLOOKUP(O31,Set!$H$2:$J$16,2,FALSE),\"\")","v":""}]
[{"$nulls":8},{"$f":"IF(H32>0,VLOOKUP(H32,Set!$A$2:$B$4,2,FALSE),\"\")","v":""},{"$nulls":6},{"$f":"IF(O32>0,VLOOKUP(O32,Set!$H$2:$J$16,2,FALSE),\"\")","v":""}]
[{"$nulls":8},{"$f":"IF(H33>0,VLOOKUP(H33,Set!$A$2:$B$4,2,FALSE),\"\")","v":""},{"$nulls":6},{"$f":"IF(O33>0,VLOOKUP(O33,Set!$H$2:$J$16,2,FALSE),\"\")","v":""}]
[{"$nulls":8},{"$f":"IF(H34>0,VLOOKUP(H34,Set!$A$2:$B$4,2,FALSE),\"\")","v":""},{"$nulls":6},{"$f":"IF(O34>0,VLOOKUP(O34,Set!$H$2:$J$16,2,FALSE),\"\")","v":""}]
[{"$nulls":8},{"$f":"IF(H35>0,VLOOKUP(H35,Set!$A$2:$B$4,2,FALSE),\"\")","v":""},{"$nulls":6},{"$f":"IF(O35>0,VLOOKUP(O35,Set!$H$2:$J$16,2,FALSE),\"\")","v":""}]
[{"$nulls":8},{"$f":"IF(H36>0,VLOOKUP(H36,Set!$A$2:$B$4,2,FALSE),\"\")","v":""},{"$nulls":6},{"$f":"IF(O36>0,VLOOKUP(O36,Set!$H$2:$J$16,2,FALSE),\"\")","v":""}]
[{"$nulls":8},{"$f":"IF(H37>0,VLOOKUP(H37,Set!$A$2:$B$4,2,FALSE),\"\")","v":""},{"$nulls":6},{"$f":"IF(O37>0,VLOOKUP(O37,Set!$H$2:$J$16,2,FALSE),\"\")","v":""}]
[{"$nulls":8},{"$f":"IF(H38>0,VLOOKUP(H38,Set!$A$2:$B$4,2,FALSE),\"\")","v":""},{"$nulls":6},{"$f":"IF(O38>0,VLOOKUP(O38,Set!$H$2:$J$16,2,FALSE),\"\")","v":""}]
[{"$nulls":8},{"$f":"IF(H39>0,VLOOKUP(H39,Set!$A$2:$B$4,2,FALSE),\"\")","v":""},{"$nulls":6},{"$f":"IF(O39>0,VLOOKUP(O39,Set!$H$2:$J$16,2,FALSE),\"\")","v":""}]
[{"$nulls":8},{"$f":"IF(H40>0,VLOOKUP(H40,Set!$A$2:$B$4,2,FALSE),\"\")","v":""},{"$nulls":6},{"$f":"IF(O40>0,VLOOKUP(O40,Set!$H$2:$J$16,2,FALSE),\"\")","v":""}]
[{"$nulls":8},{"$f":"IF(H41>0,VLOOKUP(H41,Set!$A$2:$B$4,2,FALSE),\"\")","v":""},{"$nulls":6},{"$f":"IF(O41>0,VLOOKUP(O41,Set!$H$2:$J$16,2,FALSE),\"\")","v":""}]
[{"$nulls":8},{"$f":"IF(H42>0,VLOOKUP(H42,Set!$A$2:$B$4,2,FALSE),\"\")","v":""},{"$nulls":6},{"$f":"IF(O42>0,VLOOKUP(O42,Set!$H$2:$J$16,2,FALSE),\"\")","v":""}]
[{"$nulls":8},{"$f":"IF(H43>0,VLOOKUP(H43,Set!$A$2:$B$4,2,FALSE),\"\")","v":""},{"$nulls":6},{"$f":"IF(O43>0,VLOOKUP(O43,Set!$H$2:$J$16,2,FALSE),\"\")","v":""}]
[{"$nulls":8},{"$f":"IF(H44>0,VLOOKUP(H44,Set!$A$2:$B$4,2,FALSE),\"\")","v":""},{"$nulls":6},{"$f":"IF(O44>0,VLOOKUP(O44,Set!$H$2:$J$16,2,FALSE),\"\")","v":""}]
[{"$nulls":8},{"$f":"IF(H45>0,VLOOKUP(H45,Set!$A$2:$B$4,2,FALSE),\"\")","v":""},{"$nulls":6},{"$f":"IF(O45>0,VLOOKUP(O45,Set!$H$2:$J$16,2,FALSE),\"\")","v":""}]
[{"$nulls":8},{"$f":"IF(H46>0,VLOOKUP(H46,Set!$A$2:$B$4,2,FALSE),\"\")","v":""},{"$nulls":6},{"$f":"IF(O46>0,VLOOKUP(O46,Set!$H$2:$J$16,2,FALSE),\"\")","v":""}]
[{"$nulls":8},{"$f":"IF(H47>0,VLOOKUP(H47,Set!$A$2:$B$4,2,FALSE),\"\")","v":""},{"$nulls":6},{"$f":"IF(O47>0,VLOOKUP(O47,Set!$H$2:$J$16,2,FALSE),\"\")","v":""}]
[{"$nulls":8},{"$f":"IF(H48>0,VLOOKUP(H48,Set!$A$2:$B$4,2,FALSE),\"\")","v":""},{"$nulls":6},{"$f":"IF(O48>0,VLOOKUP(O48,Set!$H$2:$J$16,2,FALSE),\"\")","v":""}]
[{"$nulls":8},{"$f":"IF(H49>0,VLOOKUP(H49,Set!$A$2:$B$4,2,FALSE),\"\")","v":""},{"$nulls":6},{"$f":"IF(O49>0,VLOOKUP(O49,Set!$H$2:$J$16,2,FALSE),\"\")","v":""}]
[{"$nulls":8},{"$f":"IF(H50>0,VLOOKUP(H50,Set!$A$2:$B$4,2,FALSE),\"\")","v":""},{"$nulls":6},{"$f":"IF(O50>0,VLOOKUP(O50,Set!$H$2:$J$16,2,FALSE),\"\")","v":""}]
[{"$nulls":8},{"$f":"IF(H51>0,VLOOKUP(H51,Set!$A$2:$B$4,2,FALSE),\"\")","v":""},{"$nulls":6},{"$f":"IF(O51>0,VLOOKUP(O51,Set!$H$2:$J$16,2,FALSE),\"\")","v":""}]
[{"$nulls":8},{"$f":"IF(H52>0,VLOOKUP(H52,Set!$A$2:$B$4,2,FALSE),\"\")","v":""},{"$nulls":6},{"$f":"IF(O52>0,VLOOKUP(O52,Set!$H$2:$J$16,2,FALSE),\"\")","v":""}]
[{"$nulls":8},{"$f":"IF(H53>0,VLOOKUP(H53,Set!$A$2:$B$4,2,FALSE),\"\")","v":""},{"$nulls":6},{"$f":"IF(O53>0,VLOOKUP(O53,Set!$H$2:$J$16,2,FALSE),\"\")","v":""}]
[{"$nulls":8},{"$f":"IF(H54>0,VLOOKUP(H54,Set!$A$2:$B$4,2,FALSE),\"\")","v":""},{"$nulls":6},{"$f":"IF(O54>0,VLOOKUP(O54,Set!$H$2:$J$16,2,FALSE),\"\")","v":""}]
[{"$nulls":8},{"$f":"IF(H55>0,VLOOKUP(H55,Set!$A$2:$B$4,2,FALSE),\"\")","v":""},{"$nulls":6},{"$f":"IF(O55>0,VLOOKUP(O55,Set!$H$2:$J$16,2,FALSE),\"\")","v":""}]
[{"$nulls":8},{"$f":"IF(H56>0,VLOOKUP(H56,Set!$A$2:$B$4,2,FALSE),\"\")","v":""},{"$nulls":6},{"$f":"IF(O56>0,VLOOKUP(O56,Set!$H$2:$J$16,2,FALSE),\"\")","v":""}]
[{"$nulls":8},{"$f":"IF(H57>0,VLOOKUP(H57,Set!$A$2:$B$4,2,FALSE),\"\")","v":""},{"$nulls":6},{"$f":"IF(O57>0,VLOOKUP(O57,Set!$H$2:$J$16,2,FALSE),\"\")","v":""}]
[{"$nulls":8},{"$f":"IF(H58>0,VLOOKUP(H58,Set!$A$2:$B$4,2,FALSE),\"\")","v":""},{"$nulls":6},{"$f":"IF(O58>0,VLOOKUP(O58,Set!$H$2:$J$16,2,FALSE),\"\")","v":""}]
[{"$nulls":8},{"$f":"IF(H59>0,VLOOKUP(H59,Set!$A$2:$B$4,2,FALSE),\"\")","v":""},{"$nulls":6},{"$f":"IF(O59>0,VLOOKUP(O59,Set!$H$2:$J$16,2,FALSE),\"\")","v":""}]
[{"$nulls":8},{"$f":"IF(H60>0,VLOOKUP(H60,Set!$A$2:$B$4,2,FALSE),\"\")","v":""},{"$nulls":6},{"$f":"IF(O60>0,VLOOKUP(O60,Set!$H$2:$J$16,2,FALSE),\"\")","v":""}]
[{"$nulls":8},{"$f":"IF(H61>0,VLOOKUP(H61,Set!$A$2:$B$4,2,FALSE),\"\")","v":""},{"$nulls":6},{"$f":"IF(O61>0,VLOOKUP(O61,Set!$H$2:$J$16,2,FALSE),\"\")","v":""}]
[{"$nulls":8},{"$f":"IF(H62>0,VLOOKUP(H62,Set!$A$2:$B$4,2,FALSE),\"\")","v":""},{"$nulls":6},{"$f":"IF(O62>0,VLOOKUP(O62,Set!$H$2:$J$16,2,FALSE),\"\")","v":""}]
[{"$nulls":8},{"$f":"IF(H63>0,VLOOKUP(H63,Set!$A$2:$B$4,2,FALSE),\"\")","v":""},{"$nulls":6},{"$f":"IF(O63>0,VLOOKUP(O63,Set!$H$2:$J$16,2,FALSE),\"\")","v":""}]
[{"$nulls":8},{"$f":"IF(H64>0,VLOOKUP(H64,Set!$A$2:$B$4,2,FALSE),\"\")","v":""},{"$nulls":6},{"$f":"IF(O64>0,VLOOKUP(O64,Set!$H$2:$J$16,2,FALSE),\"\")","v":""}]
[{"$nulls":8},{"$f":"IF(H65>0,VLOOKUP(H65,Set!$A$2:$B$4,2,FALSE),\"\")","v":""},{"$nulls":6},{"$f":"IF(O65>0,VLOOKUP(O65,Set!$H$2:$J$16,2,FALSE),\"\")","v":""}]
[{"$nulls":8},{"$f":"IF(H66>0,VLOOKUP(H66,Set!$A$2:$B$4,2,FALSE),\"\")","v":""},{"$nulls":6},{"$f":"IF(O66>0,VLOOKUP(O66,Set!$H$2:$J$16,2,FALSE),\"\")","v":""}]
[{"$nulls":8},{"$f":"IF(H67>0,VLOOKUP(H67,Set!$A$2:$B$4,2,FALSE),\"\")","v":""},{"$nulls":6},{"$f":"IF(O67>0,VLOOKUP(O67,Set!$H$2:$J$16,2,FALSE),\"\")","v":""}]
[{"$nulls":8},{"$f":"IF(H68>0,VLOOKUP(H68,Set!$A$2:$B$4,2,FALSE),\"\")","v":""},{"$nulls":6},{"$f":"IF(O68>0,VLOOKUP(O68,Set!$H$2:$J$16,2,FALSE),\"\")","v":""}]
[{"$nulls":8},{"$f":"IF(H69>0,VLOOKUP(H69,Set!$A$2:$B$4,2,FALSE),\"\")","v":""},{"$nulls":6},{"$f":"IF(O69>0,VLOOKUP(O69,Set!$H$2:$J$16,2,FALSE),\"\")","v":""}]
[{"$nulls":8},{"$f":"IF(H70>0,VLOOKUP(H70,Set!$A$2:$B$4,2,FALSE),\"\")","v":""},{"$nulls":6},{"$f":"IF(O70>0,VLOOKUP(O70,Set!$H$2:$J$16,2,FALSE),\"\")","v":""}]
[{"$nulls":8},{"$f":"IF(H71>0,VLOOKUP(H71,Set!$A$2:$B$4,2,FALSE),\"\")","v":""},{"$nulls":6},{"$f":"IF(O71>0,VLOOKUP(O71,Set!$H$2:$J$16,2,FALSE),\"\")","v":""}]
[{"$nulls":8},{"$f":"IF(H72>0,VLOOKUP(H72,Set!$A$2:$B$4,2,FALSE),\"\")","v":""},{"$nulls":6},{"$f":"IF(O72>0,VLOOKUP(O72,Set!$H$2:$J$16,2,FALSE),\"\")","v":""}]
[{"$nulls":8},{"$f":"IF(H73>0,VLOOKUP(H73,Set!$A$2:$B$4,2,FALSE),\"\")","v":""},{"$nulls":6},{"$f":"IF(O73>0,VLOOKUP(O73,Set!$H$2:$J$16,2,FALSE),\"\")","v":""}]
[{"$nulls":8},{"$f":"IF(H74>0,VLOOKUP(H74,Set!$A$2:$B$4,2,FALSE),\"\")","v":""},{"$nulls":6},{"$f":"IF(O74>0,VLOOKUP(O74,Set!$H$2:$J$16,2,FALSE),\"\")","v":""}]
[{"$nulls":8},{"$f":"IF(H75>0,VLOOKUP(H75,Set!$A$2:$B$4,2,FALSE),\"\")","v":""},{"$nulls":6},{"$f":"IF(O75>0,VLOOKUP(O75,Set!$H$2:$J$16,2,FALSE),\"\")","v":""}]
[{"$nulls":8},{"$f":"IF(H76>0,VLOOKUP(H76,Set!$A$2:$B$4,2,FALSE),\"\")","v":""},{"$nulls":6},{"$f":"IF(O76>0,VLOOKUP(O76,Set!$H$2:$J$16,2,FALSE),\"\")","v":""}]
[{"$nulls":8},{"$f":"IF(H77>0,VLOOKUP(H77,Set!$A$2:$B$4,2,FALSE),\"\")","v":""},{"$nulls":6},{"$f":"IF(O77>0,VLOOKUP(O77,Set!$H$2:$J$16,2,FALSE),\"\")","v":""}]
[{"$nulls":8},{"$f":"IF(H78>0,VLOOKUP(H78,Set!$A$2:$B$4,2,FALSE),\"\")","v":""},{"$nulls":6},{"$f":"IF(O78>0,VLOOKUP(O78,Set!$H$2:$J$16,2,FALSE),\"\")","v":""}]
[{"$nulls":8},{"$f":"IF(H79>0,VLOOKUP(H79,Set!$A$2:$B$4,2,FALSE),\"\")","v":""},{"$nulls":6},{"$f":"IF(O79>0,VLOOKUP(O79,Set!$H$2:$J$16,2,FALSE),\"\")","v":""}]
[{"$nulls":8},{"$f":"IF(H80>0,VLOOKUP(H80,Set!$A$2:$B$4,2,FALSE),\"\")","v":""},{"$nulls":6},{"$f":"IF(O80>0,VLOOKUP(O80,Set!$H$2:$J$16,2,FALSE),\"\")","v":""}]
[{"$nulls":8},{"$f":"IF(H81>0,VLOOKUP(H81,Set!$A$2:$B$4,2,FALSE),\"\")","v":""},{"$nulls":6},{"$f":"IF(O81>0,VLOOKUP(O81,Set!$H$2:$J$16,2,FALSE),\"\")","v":""}]
[{"$nulls":8},{"$f":"IF(H82>0,VLOOKUP(H82,Set!$A$2:$B$4,2,FALSE),\"\")","v":""},{"$nulls":6},{"$f":"IF(O82>0,VLOOKUP(O82,Set!$H$2:$J$16,2,FALSE),\"\")","v":""}]
[{"$nulls":8},{"$f":"IF(H83>0,VLOOKUP(H83,Set!$A$2:$B$4,2,FALSE),\"\")","v":""},{"$nulls":6},{"$f":"IF(O83>0,VLOOKUP(O83,Set!$H$2:$J$16,2,FALSE),\"\")","v":""}]
[{"$nulls":8},{"$f":"IF(H84>0,VLOOKUP(H84,Set!$A$2:$B$4,2,FALSE),\"\")","v":""},{"$nulls":6},{"$f":"IF(O84>0,VLOOKUP(O84,Set!$H$2:$J$16,2,FALSE),\"\")","v":""}]
[{"$nulls":8},{"$f":"IF(H85>0,VLOOKUP(H85,Set!$A$2:$B$4,2,FALSE),\"\")","v":""},{"$nulls":6},{"$f":"IF(O85>0,VLOOKUP(O85,Set!$H$2:$J$16,2,FALSE),\"\")","v":""}]
[{"$nulls":8},{"$f":"IF(H86>0,VLOOKUP(H86,Set!$A$2:$B$4,2,FALSE),\"\")","v":""},{"$nulls":6},{"$f":"IF(O86>0,VLOOKUP(O86,Set!$H$2:$J$16,2,FALSE),\"\")","v":""}]
[{"$nulls":8},{"$f":"IF(H87>0,VLOOKUP(H87,Set!$A$2:$B$4,2,FALSE),\"\")","v":""},{"$nulls":6},{"$f":"IF(O87>0,VLOOKUP(O87,Set!$H$2:$J$16,2,FALSE),\"\")","v":""}]
[{"$nulls":8},{"$f":"IF(H88>0,VLOOKUP(H88,Set!$A$2:$B$4,2,FALSE),\"\")","v":""},{"$nulls":6},{"$f":"IF(O88>0,VLOOKUP(O88,Set!$H$2:$J$16,2,FALSE),\"\")","v":""}]
[{"$nulls":8},{"$f":"IF(H89>0,VLOOKUP(H89,Set!$A$2:$B$4,2,FALSE),\"\")","v":""},{"$nulls":6},{"$f":"IF(O89>0,VLOOKUP(O89,Set!$H$2:$J$16,2,FALSE),\"\")","v":""}]
[{"$nulls":8},{"$f":"IF(H90>0,VLOOKUP(H90,Set!$A$2:$B$4,2,FALSE),\"\")","v":""},{"$nulls":6},{"$f":"IF(O90>0,VLOOKUP(O90,Set!$H$2:$J$16,2,FALSE),\"\")","v":""}]
[{"$nulls":8},{"$f":"IF(H91>0,VLOOKUP(H91,Set!$A$2:$B$4,2,FALSE),\"\")","v":""},{"$nulls":6},{"$f":"IF(O91>0,VLOOKUP(O91,Set!$H$2:$J$16,2,FALSE),\"\")","v":""}]
[{"$nulls":8},{"$f":"IF(H92>0,VLOOKUP(H92,Set!$A$2:$B$4,2,FALSE),\"\")","v":""},{"$nulls":6},{"$f":"IF(O92>0,VLOOKUP(O92,Set!$H$2:$J$16,2,FALSE),\"\")","v":""}]
[{"$nulls":8},{"$f":"IF(H93>0,VLOOKUP(H93,Set!$A$2:$B$4,2,FALSE),\"\")","v":""},{"$nulls":6},{"$f":"IF(O93>0,VLOOKUP(O93,Set!$H$2:$J$16,2,FALSE),\"\")","v":""}]
[{"$nulls":8},{"$f":"IF(H94>0,VLOOKUP(H94,Set!$A$2:$B$4,2,FALSE),\"\")","v":""},{"$nulls":6},{"$f":"IF(O94>0,VLOOKUP(O94,Set!$H$2:$J$16,2,FALSE),\"\")","v":""}]
[{"$nulls":8},{"$f":"IF(H95>0,VLOOKUP(H95,Set!$A$2:$B$4,2,FALSE),\"\")","v":""},{"$nulls":6},{"$f":"IF(O95>0,VLOOKUP(O95,Set!$H$2:$J$16,2,FALSE),\"\")","v":""}]
[{"$nulls":8},{"$f":"IF(H96>0,VLOOKUP(H96,Set!$A$2:$B$4,2,FALSE),\"\")","v":""},{"$nulls":6},{"$f":"IF(O96>0,VLOOKUP(O96,Set!$H$2:$J$16,2,FALSE),\"\")","v":""}]
[{"$nulls":8},{"$f":"IF(H97>0,VLOOKUP(H97,Set!$A$2:$B$4,2,FALSE),\"\")","v":""},{"$nulls":6},{"$f":"IF(O97>0,VLOOKUP(O97,Set!$H$2:$J$16,2,FALSE),\"\")","v":""}]
[{"$nulls":8},{"$f":"IF(H98>0,VLOOKUP(H98,Set!$A$2:$B$4,2,FALSE),\"\")","v":""},{"$nulls":6},{"$f":"IF(O98>0,VLOOKUP(O98,Set!$H$2:$J$16,2,FALSE),\"\")","v":""}]
[{"$nulls":8},{"$f":"IF(H99>0,VLOOKUP(H99,Set!$A$2:$B$4,2,FALSE),\"\")","v":""},{"$nulls":6},{"$f":"IF(O99>0,VLOOKUP(O99,Set!$H$2:$J$16,2,FALSE),\"\")","v":""}]
[{"$nulls":8},{"$f":"IF(H100>0,VLOOKUP(H100,Set!$A$2:$B$4,2,FALSE),\"\")","v":""},{"$nulls":6},{"$f":"IF(O100>0,VLOOKUP(O100,Set!$H$2:$J$16,2,FALSE),\"\")","v":""}]
[{"$nulls":8},{"$f":"IF(H101>0,VLOOKUP(H101,Set!$A$2:$B$4,2,FALSE),\"\")","v":""},{"$nulls":6},{"$f":"IF(O101>0,VLOOKUP(O101,Set!$H$2:$J$16,2,FALSE),\"\")","v":""}]
[{"$nulls":8},{"$f":"IF(H102>0,VLOOKUP(H102,Set!$A$2:$B$4,2,FALSE),\"\")","v":""},{"$nulls":6},{"$f":"IF(O102>0,VLOOKUP(O102,Set!$H$2:$J$16,2,FALSE),\"\")","v":""}]
[{"$nulls":8},{"$f":"IF(H103>0,VLOOKUP(H103,Set!$A$2:$B$4,2,FALSE),\"\")","v":""},{"$nulls":6},{"$f":"IF(O103>0,VLOOKUP(O103,Set!$H$2:$J$16,2,FALSE),\"\")","v":""}]
[{"$nulls":8},{"$f":"IF(H104>0,VLOOKUP(H104,Set!$A$2:$B$4,2,FALSE),\"\")","v":""},{"$nulls":6},{"$f":"IF(O104>0,VLOOKUP(O104,Set!$H$2:$J$16,2,FALSE),\"\")","v":""}]
[{"$nulls":8},{"$f":"IF(H105>0,VLOOKUP(H105,Set!$A$2:$B$4,2,FALSE),\"\")","v":""},{"$nulls":6},{"$f":"IF(O105>0,VLOOKUP(O105,Set!$H$2:$J$16,2,FALSE),\"\")","v":""}]
[{"$nulls":8},{"$f":"IF(H106>0,VLOOKUP(H106,Set!$A$2:$B$4,2,FALSE),\"\")","v":""},{"$nulls":6},{"$f":"IF(O106>0,VLOOKUP(O106,Set!$H$2:$J$16,2,FALSE),\"\")","v":""}]
[{"$nulls":8},{"$f":"IF(H107>0,VLOOKUP(H107,Set!$A$2:$B$4,2,FALSE),\"\")","v":""},{"$nulls":6},{"$f":"IF(O107>0,VLOOKUP(O107,Set!$H$2:$J$16,2,FALSE),\"\")","v":""}]
[{"$nulls":8},{"$f":"IF(H108>0,VLOOKUP(H108,Set!$A$2:$B$4,2,FALSE),\"\")","v":""},{"$nulls":6},{"$f":"IF(O108>0,VLOOKUP(O108,Set!$H$2:$J$16,2,FALSE),\"\")","v":""}]
[{"$nulls":8},{"$f":"IF(H109>0,VLOOKUP(H109,Set!$A$2:$B$4,2,FALSE),\"\")","v":""},{"$nulls":6},{"$f":"IF(O109>0,VLOOKUP(O109,Set!$H$2:$J$16,2,FALSE),\"\")","v":""}]
[{"$nulls":8},{"$f":"IF(H110>0,VLOOKUP(H110,Set!$A$2:$B$4,2,FALSE),\"\")","v":""},{"$nulls":6},{"$f":"IF(O110>0,VLOOKUP(O110,Set!$H$2:$J$16,2,FALSE),\"\")","v":""}]
[{"$nulls":8},{"$f":"IF(H111>0,VLOOKUP(H111,Set!$A$2:$B$4,2,FALSE),\"\")","v":""},{"$nulls":6},{"$f":"IF(O111>0,VLOOKUP(O111,Set!$H$2:$J$16,2,FALSE),\"\")","v":""}]
[{"$nulls":8},{"$f":"IF(H112>0,VLOOKUP(H112,Set!$A$2:$B$4,2,FALSE),\"\")","v":""},{"$nulls":6},{"$f":"IF(O112>0,VLOOKUP(O112,Set!$H$2:$J$16,2,FALSE),\"\")","v":""}]
[{"$nulls":8},{"$f":"IF(H113>0,VLOOKUP(H113,Set!$A$2:$B$4,2,FALSE),\"\")","v":""},{"$nulls":6},{"$f":"IF(O113>0,VLOOKUP(O113,Set!$H$2:$J$16,2,FALSE),\"\")","v":""}]
[{"$nulls":8},{"$f":"IF(H114>0,VLOOKUP(H114,Set!$A$2:$B$4,2,FALSE),\"\")","v":""},{"$nulls":6},{"$f":"IF(O114>0,VLOOKUP(O114,Set!$H$2:$J$16,2,FALSE),\"\")","v":""}]
[{"$nulls":8},{"$f":"IF(H115>0,VLOOKUP(H115,Set!$A$2:$B$4,2,FALSE),\"\")","v":""},{"$nulls":6},{"$f":"IF(O115>0,VLOOKUP(O115,Set!$H$2:$J$16,2,FALSE),\"\")","v":""}]
[{"$nulls":8},{"$f":"IF(H116>0,VLOOKUP(H116,Set!$A$2:$B$4,2,FALSE),\"\")","v":""},{"$nulls":6},{"$f":"IF(O116>0,VLOOKUP(O116,Set!$H$2:$J$16,2,FALSE),\"\")","v":""}]
[{"$nulls":8},{"$f":"IF(H117>0,VLOOKUP(H117,Set!$A$2:$B$4,2,FALSE),\"\")","v":""},{"$nulls":6},{"$f":"IF(O117>0,VLOOKUP(O117,Set!$H$2:$J$16,2,FALSE),\"\")","v":""}]
[{"$nulls":8},{"$f":"IF(H118>0,VLOOKUP(H118,Set!$A$2:$B$4,2,FALSE),\"\")","v":""},{"$nulls":6},{"$f":"IF(O118>0,VLOOKUP(O118,Set!$H$2:$J$16,2,FALSE),\"\")","v":""}]
[{"$nulls":8},{"$f":"IF(H119>0,VLOOKUP(H119,Set!$A$2:$B$4,2,FALSE),\"\")","v":""},{"$nulls":6},{"$f":"IF(O119>0,VLOOKUP(O119,Set!$H$2:$J$16,2,FALSE),\"\")","v":""}]
[{"$nulls":8},{"$f":"IF(H120>0,VLOOKUP(H120,Set!$A$2:$B$4,2,FALSE),\"\")","v":""},{"$nulls":6},{"$f":"IF(O120>0,VLOOKUP(O120,Set!$H$2:$J$16,2,FALSE),\"\")","v":""}]
[{"$nulls":8},{"$f":"IF(H121>0,VLOOKUP(H121,Set!$A$2:$B$4,2,FALSE),\"\")","v":""},{"$nulls":6},{"$f":"IF(O121>0,VLOOKUP(O121,Set!$H$2:$J$16,2,FALSE),\"\")","v":""}]
[{"$nulls":8},{"$f":"IF(H122>0,VLOOKUP(H122,Set!$A$2:$B$4,2,FALSE),\"\")","v":""},{"$nulls":6},{"$f":"IF(O122>0,VLOOKUP(O122,Set!$H$2:$J$16,2,FALSE),\"\")","v":""}]
[{"$nulls":8},{"$f":"IF(H123>0,VLOOKUP(H123,Set!$A$2:$B$4,2,FALSE),\"\")","v":""},{"$nulls":6},{"$f":"IF(O123>0,VLOOKUP(O123,Set!$H$2:$J$16,2,FALSE),\"\")","v":""}]
[{"$nulls":8},{"$f":"IF(H124>0,VLOOKUP(H124,Set!$A$2:$B$4,2,FALSE),\"\")","v":""},{"$nulls":6},{"$f":"IF(O124>0,VLOOKUP(O124,Set!$H$2:$J$16,2,FALSE),\"\")","v":""}]
[{"$nulls":8},{"$f":"IF(H125>0,VLOOKUP(H125,Set!$A$2:$B$4,2,FALSE),\"\")","v":""},{"$nulls":6},{"$f":"IF(O125>0,VLOOKUP(O125,Set!$H$2:$J$16,2,FALSE),\"\")","v":""}]
[{"$nulls":8},{"$f":"IF(H126>0,VLOOKUP(H126,Set!$A$2:$B$4,2,FALSE),\"\")","v":""},{"$nulls":6},{"$f":"IF(O126>0,VLOOKUP(O126,Set!$H$2:$J$16,2,FALSE),\"\")","v":""}]
[{"$nulls":8},{"$f":"IF(H127>0,VLOOKUP(H127,Set!$A$2:$B$4,2,FALSE),\"\")","v":""},{"$nulls":6},{"$f":"IF(O127>0,VLOOKUP(O127,Set!$H$2:$J$16,2,FALSE),\"\")","v":""}]
[{"$nulls":8},{"$f":"IF(H128>0,VLOOKUP(H128,Set!$A$2:$B$4,2,FALSE),\"\")","v":""},{"$nulls":6},{"$f":"IF(O128>0,VLOOKUP(O128,Set!$H$2:$J$16,2,FALSE),\"\")","v":""}]
[{"$nulls":8},{"$f":"IF(H129>0,VLOOKUP(H129,Set!$A$2:$B$4,2,FALSE),\"\")","v":""},{"$nulls":6},{"$f":"IF(O129>0,VLOOKUP(O129,Set!$H$2:$J$16,2,FALSE),\"\")","v":""}]
[{"$nulls":8},{"$f":"IF(H130>0,VLOOKUP(H130,Set!$A$2:$B$4,2,FALSE),\"\")","v":""},{"$nulls":6},{"$f":"IF(O130>0,VLOOKUP(O130,Set!$H$2:$J$16,2,FALSE),\"\")","v":""}]
[{"$nulls":8},{"$f":"IF(H131>0,VLOOKUP(H131,Set!$A$2:$B$4,2,FALSE),\"\")","v":""},{"$nulls":6},{"$f":"IF(O131>0,VLOOKUP(O131,Set!$H$2:$J$16,2,FALSE),\"\")","v":""}]
[{"$nulls":8},{"$f":"IF(H132>0,VLOOKUP(H132,Set!$A$2:$B$4,2,FALSE),\"\")","v":""},{"$nulls":6},{"$f":"IF(O132>0,VLOOKUP(O132,Set!$H$2:$J$16,2,FALSE),\"\")","v":""}]
[{"$nulls":8},{"$f":"IF(H133>0,VLOOKUP(H133,Set!$A$2:$B$4,2,FALSE),\"\")","v":""},{"$nulls":6},{"$f":"IF(O133>0,VLOOKUP(O133,Set!$H$2:$J$16,2,FALSE),\"\")","v":""}]
[{"$nulls":8},{"$f":"IF(H134>0,VLOOKUP(H134,Set!$A$2:$B$4,2,FALSE),\"\")","v":""},{"$nulls":6},{"$f":"IF(O134>0,VLOOKUP(O134,Set!$H$2:$J$16,2,FALSE),\"\")","v":""}]
[{"$nulls":8},{"$f":"IF(H135>0,VLOOKUP(H135,Set!$A$2:$B$4,2,FALSE),\"\")","v":""},{"$nulls":6},{"$f":"IF(O135>0,VLOOKUP(O135,Set!$H$2:$J$16,2,FALSE),\"\")","v":""}]
[{"$nulls":8},{"$f":"IF(H136>0,VLOOKUP(H136,Set!$A$2:$B$4,2,FALSE),\"\")","v":""},{"$nulls":6},{"$f":"IF(O136>0,VLOOKUP(O136,Set!$H$2:$J$16,2,FALSE),\"\")","v":""}]
[{"$nulls":8},{"$f":"IF(H137>0,VLOOKUP(H137,Set!$A$2:$B$4,2,FALSE),\"\")","v":""},{"$nulls":6},{"$f":"IF(O137>0,VLOOKUP(O137,Set!$H$2:$J$16,2,FALSE),\"\")","v":""}]
[{"$nulls":8},{"$f":"IF(H138>0,VLOOKUP(H138,Set!$A$2:$B$4,2,FALSE),\"\")","v":""},{"$nulls":6},{"$f":"IF(O138>0,VLOOKUP(O138,Set!$H$2:$J$16,2,FALSE),\"\")","v":""}]
[{"$nulls":8},{"$f":"IF(H139>0,VLOOKUP(H139,Set!$A$2:$B$4,2,FALSE),\"\")","v":""},{"$nulls":6},{"$f":"IF(O139>0,VLOOKUP(O139,Set!$H$2:$J$16,2,FALSE),\"\")","v":""}]
[{"$nulls":8},{"$f":"IF(H140>0,VLOOKUP(H140,Set!$A$2:$B$4,2,FALSE),\"\")","v":""},{"$nulls":6},{"$f":"IF(O140>0,VLOOKUP(O140,Set!$H$2:$J$16,2,FALSE),\"\")","v":""}]
[{"$nulls":8},{"$f":"IF(H141>0,VLOOKUP(H141,Set!$A$2:$B$4,2,FALSE),\"\")","v":""},{"$nulls":6},{"$f":"IF(O141>0,VLOOKUP(O141,Set!$H$2:$J$16,2,FALSE),\"\")","v":""}]
[{"$nulls":8},{"$f":"IF(H142>0,VLOOKUP(H142,Set!$A$2:$B$4,2,FALSE),\"\")","v":""},{"$nulls":6},{"$f":"IF(O142>0,VLOOKUP(O142,Set!$H$2:$J$16,2,FALSE),\"\")","v":""}]
[{"$nulls":8},{"$f":"IF(H143>0,VLOOKUP(H143,Set!$A$2:$B$4,2,FALSE),\"\")","v":""},{"$nulls":6},{"$f":"IF(O143>0,VLOOKUP(O143,Set!$H$2:$J$16,2,FALSE),\"\")","v":""}]
[{"$nulls":8},{"$f":"IF(H144>0,VLOOKUP(H144,Set!$A$2:$B$4,2,FALSE),\"\")","v":""},{"$nulls":6},{"$f":"IF(O144>0,VLOOKUP(O144,Set!$H$2:$J$16,2,FALSE),\"\")","v":""}]
[{"$nulls":8},{"$f":"IF(H145>0,VLOOKUP(H145,Set!$A$2:$B$4,2,FALSE),\"\")","v":""},{"$nulls":6},{"$f":"IF(O145>0,VLOOKUP(O145,Set!$H$2:$J$16,2,FALSE),\"\")","v":""}]
[{"$nulls":8},{"$f":"IF(H146>0,VLOOKUP(H146,Set!$A$2:$B$4,2,FALSE),\"\")","v":""},{"$nulls":6},{"$f":"IF(O146>0,VLOOKUP(O146,Set!$H$2:$J$16,2,FALSE),\"\")","v":""}]
[{"$nulls":8},{"$f":"IF(H147>0,VLOOKUP(H147,Set!$A$2:$B$4,2,FALSE),\"\")","v":""},{"$nulls":6},{"$f":"IF(O147>0,VLOOKUP(O147,Set!$H$2:$J$16,2,FALSE),\"\")","v":""}]
[{"$nulls":8},{"$f":"IF(H148>0,VLOOKUP(H148,Set!$A$2:$B$4,2,FALSE),\"\")","v":""},{"$nulls":6},{"$f":"IF(O148>0,VLOOKUP(O148,Set!$H$2:$J$16,2,FALSE),\"\")","v":""}]
[{"$nulls":8},{"$f":"IF(H149>0,VLOOKUP(H149,Set!$A$2:$B$4,2,FALSE),\"\")","v":""},{"$nulls":6},{"$f":"IF(O149>0,VLOOKUP(O149,Set!$H$2:$J$16,2,FALSE),\"\")","v":""}]
[{"$nulls":8},{"$f":"IF(H150>0,VLOOKUP(H150,Set!$A$2:$B$4,2,FALSE),\"\")","v":""},{"$nulls":6},{"$f":"IF(O150>0,VLOOKUP(O150,Set!$H$2:$J$16,2,FALSE),\"\")","v":""}]
[{"$nulls":8},{"$f":"IF(H151>0,VLOOKUP(H151,Set!$A$2:$B$4,2,FALSE),\"\")","v":""},{"$nulls":6},{"$f":"IF(O151>0,VLOOKUP(O151,Set!$H$2:$J$16,2,FALSE),\"\")","v":""}]
[{"$nulls":8},{"$f":"IF(H152>0,VLOOKUP(H152,Set!$A$2:$B$4,2,FALSE),\"\")","v":""},{"$nulls":6},{"$f":"IF(O152>0,VLOOKUP(O152,Set!$H$2:$J$16,2,FALSE),\"\")","v":""}]
[{"$nulls":8},{"$f":"IF(H153>0,VLOOKUP(H153,Set!$A$2:$B$4,2,FALSE),\"\")","v":""},{"$nulls":6},{"$f":"IF(O153>0,VLOOKUP(O153,Set!$H$2:$J$16,2,FALSE),\"\")","v":""}]
[{"$nulls":8},{"$f":"IF(H154>0,VLOOKUP(H154,Set!$A$2:$B$4,2,FALSE),\"\")","v":""},{"$nulls":6},{"$f":"IF(O154>0,VLOOKUP(O154,Set!$H$2:$J$16,2,FALSE),\"\")","v":""}]
[{"$nulls":8},{"$f":"IF(H155>0,VLOOKUP(H155,Set!$A$2:$B$4,2,FALSE),\"\")","v":""},{"$nulls":6},{"$f":"IF(O155>0,VLOOKUP(O155,Set!$H$2:$J$16,2,FALSE),\"\")","v":""}]
[{"$nulls":8},{"$f":"IF(H156>0,VLOOKUP(H156,Set!$A$2:$B$4,2,FALSE),\"\")","v":""},{"$nulls":6},{"$f":"IF(O156>0,VLOOKUP(O156,Set!$H$2:$J$16,2,FALSE),\"\")","v":""}]
[{"$nulls":8},{"$f":"IF(H157>0,VLOOKUP(H157,Set!$A$2:$B$4,2,FALSE),\"\")","v":""},{"$nulls":6},{"$f":"IF(O157>0,VLOOKUP(O157,Set!$H$2:$J$16,2,FALSE),\"\")","v":""}]
[{"$nulls":8},{"$f":"IF(H158>0,VLOOKUP(H158,Set!$A$2:$B$4,2,FALSE),\"\")","v":""},{"$nulls":6},{"$f":"IF(O158>0,VLOOKUP(O158,Set!$H$2:$J$16,2,FALSE),\"\")","v":""}]
[{"$nulls":8},{"$f":"IF(H159>0,VLOOKUP(H159,Set!$A$2:$B$4,2,FALSE),\"\")","v":""},{"$nulls":6},{"$f":"IF(O159>0,VLOOKUP(O159,Set!$H$2:$J$16,2,FALSE),\"\")","v":""}]
[{"$nulls":8},{"$f":"IF(H160>0,VLOOKUP(H160,Set!$A$2:$B$4,2,FALSE),\"\")","v":""},{"$nulls":6},{"$f":"IF(O160>0,VLOOKUP(O160,Set!$H$2:$J$16,2,FALSE),\"\")","v":""}]
[{"$nulls":8},{"$f":"IF(H161>0,VLOOKUP(H161,Set!$A$2:$B$4,2,FALSE),\"\")","v":""},{"$nulls":6},{"$f":"IF(O161>0,VLOOKUP(O161,Set!$H$2:$J$16,2,FALSE),\"\")","v":""}]
[{"$nulls":8},{"$f":"IF(H162>0,VLOOKUP(H162,Set!$A$2:$B$4,2,FALSE),\"\")","v":""},{"$nulls":6},{"$f":"IF(O162>0,VLOOKUP(O162,Set!$H$2:$J$16,2,FALSE),\"\")","v":""}]
[{"$nulls":8},{"$f":"IF(H163>0,VLOOKUP(H163,Set!$A$2:$B$4,2,FALSE),\"\")","v":""},{"$nulls":6},{"$f":"IF(O163>0,VLOOKUP(O163,Set!$H$2:$J$16,2,FALSE),\"\")","v":""}]
[{"$nulls":8},{"$f":"IF(H164>0,VLOOKUP(H164,Set!$A$2:$B$4,2,FALSE),\"\")","v":""},{"$nulls":6},{"$f":"IF(O164>0,VLOOKUP(O164,Set!$H$2:$J$16,2,FALSE),\"\")","v":""}]
[{"$nulls":8},{"$f":"IF(H165>0,VLOOKUP(H165,Set!$A$2:$B$4,2,FALSE),\"\")","v":""},{"$nulls":6},{"$f":"IF(O165>0,VLOOKUP(O165,Set!$H$2:$J$16,2,FALSE),\"\")","v":""}]
[{"$nulls":8},{"$f":"IF(H166>0,VLOOKUP(H166,Set!$A$2:$B$4,2,FALSE),\"\")","v":""},{"$nulls":6},{"$f":"IF(O166>0,VLOOKUP(O166,Set!$H$2:$J$16,2,FALSE),\"\")","v":""}]
[{"$nulls":8},{"$f":"IF(H167>0,VLOOKUP(H167,Set!$A$2:$B$4,2,FALSE),\"\")","v":""},{"$nulls":6},{"$f":"IF(O167>0,VLOOKUP(O167,Set!$H$2:$J$16,2,FALSE),\"\")","v":""}]
[{"$nulls":8},{"$f":"IF(H168>0,VLOOKUP(H168,Set!$A$2:$B$4,2,FALSE),\"\")","v":""},{"$nulls":6},{"$f":"IF(O168>0,VLOOKUP(O168,Set!$H$2:$J$16,2,FALSE),\"\")","v":""}]
[{"$nulls":8},{"$f":"IF(H169>0,VLOOKUP(H169,Set!$A$2:$B$4,2,FALSE),\"\")","v":""},{"$nulls":6},{"$f":"IF(O169>0,VLOOKUP(O169,Set!$H$2:$J$16,2,FALSE),\"\")","v":""}]
[{"$nulls":8},{"$f":"IF(H170>0,VLOOKUP(H170,Set!$A$2:$B$4,2,FALSE),\"\")","v":""},{"$nulls":6},{"$f":"IF(O170>0,VLOOKUP(O170,Set!$H$2:$J$16,2,FALSE),\"\")","v":""}]
[{"$nulls":8},{"$f":"IF(H171>0,VLOOKUP(H171,Set!$A$2:$B$4,2,FALSE),\"\")","v":""},{"$nulls":6},{"$f":"IF(O171>0,VLOOKUP(O171,Set!$H$2:$J$16,2,FALSE),\"\")","v":""}]
[{"$nulls":8},{"$f":"IF(H172>0,VLOOKUP(H172,Set!$A$2:$B$4,2,FALSE),\"\")","v":""},{"$nulls":6},{"$f":"IF(O172>0,VLOOKUP(O172,Set!$H$2:$J$16,2,FALSE),\"\")","v":""}]
[{"$nulls":8},{"$f":"IF(H173>0,VLOOKUP(H173,Set!$A$2:$B$4,2,FALSE),\"\")","v":""},{"$nulls":6},{"$f":"IF(O173>0,VLOOKUP(O173,Set!$H$2:$J$16,2,FALSE),\"\")","v":""}]
[{"$nulls":8},{"$f":"IF(H174>0,VLOOKUP(H174,Set!$A$2:$B$4,2,FALSE),\"\")","v":""},{"$nulls":6},{"$f":"IF(O174>0,VLOOKUP(O174,Set!$H$2:$J$16,2,FALSE),\"\")","v":""}]
[{"$nulls":8},{"$f":"IF(H175>0,VLOOKUP(H175,Set!$A$2:$B$4,2,FALSE),\"\")","v":""},{"$nulls":6},{"$f":"IF(O175>0,VLOOKUP(O175,Set!$H$2:$J$16,2,FALSE),\"\")","v":""}]
[{"$nulls":8},{"$f":"IF(H176>0,VLOOKUP(H176,Set!$A$2:$B$4,2,FALSE),\"\")","v":""},{"$nulls":6},{"$f":"IF(O176>0,VLOOKUP(O176,Set!$H$2:$J$16,2,FALSE),\"\")","v":""}]
[{"$nulls":8},{"$f":"IF(H177>0,VLOOKUP(H177,Set!$A$2:$B$4,2,FALSE),\"\")","v":""},{"$nulls":6},{"$f":"IF(O177>0,VLOOKUP(O177,Set!$H$2:$J$16,2,FALSE),\"\")","v":""}]
[{"$nulls":8},{"$f":"IF(H178>0,VLOOKUP(H178,Set!$A$2:$B$4,2,FALSE),\"\")","v":""},{"$nulls":6},{"$f":"IF(O178>0,VLOOKUP(O178,Set!$H$2:$J$16,2,FALSE),\"\")","v":""}]
[{"$nulls":8},{"$f":"IF(H179>0,VLOOKUP(H179,Set!$A$2:$B$4,2,FALSE),\"\")","v":""},{"$nulls":6},{"$f":"IF(O179>0,VLOOKUP(O179,Set!$H$2:$J$16,2,FALSE),\"\")","v":""}]
[{"$nulls":8},{"$f":"IF(H180>0,VLOOKUP(H180,Set!$A$2:$B$4,2,FALSE),\"\")","v":""},{"$nulls":6},{"$f":"IF(O180>0,VLOOKUP(O180,Set!$H$2:$J$16,2,FALSE),\"\")","v":""}]
[{"$nulls":8},{"$f":"IF(H181>0,VLOOKUP(H181,Set!$A$2:$B$4,2,FALSE),\"\")","v":""},{"$nulls":6},{"$f":"IF(O181>0,VLOOKUP(O181,Set!$H$2:$J$16,2,FALSE),\"\")","v":""}]
[{"$nulls":8},{"$f":"IF(H182>0,VLOOKUP(H182,Set!$A$2:$B$4,2,FALSE),\"\")","v":""},{"$nulls":6},{"$f":"IF(O182>0,VLOOKUP(O182,Set!$H$2:$J$16,2,FALSE),\"\")","v":""}]
[{"$nulls":8},{"$f":"IF(H183>0,VLOOKUP(H183,Set!$A$2:$B$4,2,FALSE),\"\")","v":""},{"$nulls":6},{"$f":"IF(O183>0,VLOOKUP(O183,Set!$H$2:$J$16,2,FALSE),\"\")","v":""}]
[{"$nulls":8},{"$f":"IF(H184>0,VLOOKUP(H184,Set!$A$2:$B$4,2,FALSE),\"\")","v":""},{"$nulls":6},{"$f":"IF(O184>0,VLOOKUP(O184,Set!$H$2:$J$16,2,FALSE),\"\")","v":""}]
[{"$nulls":8},{"$f":"IF(H185>0,VLOOKUP(H185,Set!$A$2:$B$4,2,FALSE),\"\")","v":""},{"$nulls":6},{"$f":"IF(O185>0,VLOOKUP(O185,Set!$H$2:$J$16,2,FALSE),\"\")","v":""}]
[{"$nulls":8},{"$f":"IF(H186>0,VLOOKUP(H186,Set!$A$2:$B$4,2,FALSE),\"\")","v":""},{"$nulls":6},{"$f":"IF(O186>0,VLOOKUP(O186,Set!$H$2:$J$16,2,FALSE),\"\")","v":""}]
[{"$nulls":8},{"$f":"IF(H187>0,VLOOKUP(H187,Set!$A$2:$B$4,2,FALSE),\"\")","v":""},{"$nulls":6},{"$f":"IF(O187>0,VLOOKUP(O187,Set!$H$2:$J$16,2,FALSE),\"\")","v":""}]
[{"$nulls":8},{"$f":"IF(H188>0,VLOOKUP(H188,Set!$A$2:$B$4,2,FALSE),\"\")","v":""},{"$nulls":6},{"$f":"IF(O188>0,VLOOKUP(O188,Set!$H$2:$J$16,2,FALSE),\"\")","v":""}]
[{"$nulls":8},{"$f":"IF(H189>0,VLOOKUP(H189,Set!$A$2:$B$4,2,FALSE),\"\")","v":""},{"$nulls":6},{"$f":"IF(O189>0,VLOOKUP(O189,Set!$H$2:$J$16,2,FALSE),\"\")","v":""}]
[{"$nulls":8},{"$f":"IF(H190>0,VLOOKUP(H190,Set!$A$2:$B$4,2,FALSE),\"\")","v":""},{"$nulls":6},{"$f":"IF(O190>0,VLOOKUP(O190,Set!$H$2:$J$16,2,FALSE),\"\")","v":""}]
[{"$nulls":8},{"$f":"IF(H191>0,VLOOKUP(H191,Set!$A$2:$B$4,2,FALSE),\"\")","v":""},{"$nulls":6},{"$f":"IF(O191>0,VLOOKUP(O191,Set!$H$2:$J$16,2,FALSE),\"\")","v":""}]
[{"$nulls":8},{"$f":"IF(H192>0,VLOOKUP(H192,Set!$A$2:$B$4,2,FALSE),\"\")","v":""},{"$nulls":6},{"$f":"IF(O192>0,VLOOKUP(O192,Set!$H$2:$J$16,2,FALSE),\"\")","v":""}]
[{"$nulls":8},{"$f":"IF(H193>0,VLOOKUP(H193,Set!$A$2:$B$4,2,FALSE),\"\")","v":""},{"$nulls":6},{"$f":"IF(O193>0,VLOOKUP(O193,Set!$H$2:$J$16,2,FALSE),\"\")","v":""}]
[{"$nulls":8},{"$f":"IF(H194>0,VLOOKUP(H194,Set!$A$2:$B$4,2,FALSE),\"\")","v":""},{"$nulls":6},{"$f":"IF(O194>0,VLOOKUP(O194,Set!$H$2:$J$16,2,FALSE),\"\")","v":""}]
[{"$nulls":8},{"$f":"IF(H195>0,VLOOKUP(H195,Set!$A$2:$B$4,2,FALSE),\"\")","v":""},{"$nulls":6},{"$f":"IF(O195>0,VLOOKUP(O195,Set!$H$2:$J$16,2,FALSE),\"\")","v":""}]
[{"$nulls":8},{"$f":"IF(H196>0,VLOOKUP(H196,Set!$A$2:$B$4,2,FALSE),\"\")","v":""},{"$nulls":6},{"$f":"IF(O196>0,VLOOKUP(O196,Set!$H$2:$J$16,2,FALSE),\"\")","v":""}]
[{"$nulls":8},{"$f":"IF(H197>0,VLOOKUP(H197,Set!$A$2:$B$4,2,FALSE),\"\")","v":""},{"$nulls":6},{"$f":"IF(O197>0,VLOOKUP(O197,Set!$H$2:$J$16,2,FALSE),\"\")","v":""}]
[{"$nulls":8},{"$f":"IF(H198>0,VLOOKUP(H198,Set!$A$2:$B$4,2,FALSE),\"\")","v":""},{"$nulls":6},{"$f":"IF(O198>0,VLOOKUP(O198,Set!$H$2:$J$16,2,FALSE),\"\")","v":""}]
[{"$nulls":8},{"$f":"IF(H199>0,VLOOKUP(H199,Set!$A$2:$B$4,2,FALSE),\"\")","v":""},{"$nulls":6},{"$f":"IF(O199>0,VLOOKUP(O199,Set!$H$2:$J$16,2,FALSE),\"\")","v":""}]
[{"$nulls":8},{"$f":"IF(H200>0,VLOOKUP(H200,Set!$A$2:$B$4,2,FALSE),\"\")","v":""},{"$nulls":6},{"$f":"IF(O200>0,VLOOKUP(O200,Set!$H$2:$J$16,2,FALSE),\"\")","v":""}]
[{"$nulls":8},{"$f":"IF(H201>0,VLOOKUP(H201,Set!$A$2:$B$4,2,FALSE),\"\")","v":""},{"$nulls":6},{"$f":"IF(O201>0,VLOOKUP(O201,Set!$H$2:$J$16,2,FALSE),\"\")","v":""}]
[{"$nulls":8},{"$f":"IF(H202>0,VLOOKUP(H202,Set!$A$2:$B$4,2,FALSE),\"\")","v":""},{"$nulls":6},{"$f":"IF(O202>0,VLOOKUP(O202,Set!$H$2:$J$16,2,FALSE),\"\")","v":""}]
[{"$nulls":8},{"$f":"IF(H203>0,VLOOKUP(H203,Set!$A$2:$B$4,2,FALSE),\"\")","v":""},{"$nulls":6},{"$f":"IF(O203>0,VLOOKUP(O203,Set!$H$2:$J$16,2,FALSE),\"\")","v":""}]
[{"$nulls":8},{"$f":"IF(H204>0,VLOOKUP(H204,Set!$A$2:$B$4,2,FALSE),\"\")","v":""},{"$nulls":6},{"$f":"IF(O204>0,VLOOKUP(O204,Set!$H$2:$J$16,2,FALSE),\"\")","v":""}]
[{"$nulls":8},{"$f":"IF(H205>0,VLOOKUP(H205,Set!$A$2:$B$4,2,FALSE),\"\")","v":""},{"$nulls":6},{"$f":"IF(O205>0,VLOOKUP(O205,Set!$H$2:$J$16,2,FALSE),\"\")","v":""}]
[{"$nulls":8},{"$f":"IF(H206>0,VLOOKUP(H206,Set!$A$2:$B$4,2,FALSE),\"\")","v":""},{"$nulls":6},{"$f":"IF(O206>0,VLOOKUP(O206,Set!$H$2:$J$16,2,FALSE),\"\")","v":""}]
[{"$nulls":8},{"$f":"IF(H207>0,VLOOKUP(H207,Set!$A$2:$B$4,2,FALSE),\"\")","v":""},{"$nulls":6},{"$f":"IF(O207>0,VLOOKUP(O207,Set!$H$2:$J$16,2,FALSE),\"\")","v":""}]
[{"$nulls":8},{"$f":"IF(H208>0,VLOOKUP(H208,Set!$A$2:$B$4,2,FALSE),\"\")","v":""},{"$nulls":6},{"$f":"IF(O208>0,VLOOKUP(O208,Set!$H$2:$J$16,2,FALSE),\"\")","v":""}]
[{"$nulls":8},{"$f":"IF(H209>0,VLOOKUP(H209,Set!$A$2:$B$4,2,FALSE),\"\")","v":""},{"$nulls":6},{"$f":"IF(O209>0,VLOOKUP(O209,Set!$H$2:$J$16,2,FALSE),\"\")","v":""}]
[{"$nulls":8},{"$f":"IF(H210>0,VLOOKUP(H210,Set!$A$2:$B$4,2,FALSE),\"\")","v":""},{"$nulls":6},{"$f":"IF(O210>0,VLOOKUP(O210,Set!$H$2:$J$16,2,FALSE),\"\")","v":""}]
[{"$nulls":8},{"$f":"IF(H211>0,VLOOKUP(H211,Set!$A$2:$B$4,2,FALSE),\"\")","v":""},{"$nulls":6},{"$f":"IF(O211>0,VLOOKUP(O211,Set!$H$2:$J$16,2,FALSE),\"\")","v":""}]
[{"$nulls":8},{"$f":"IF(H212>0,VLOOKUP(H212,Set!$A$2:$B$4,2,FALSE),\"\")","v":""},{"$nulls":6},{"$f":"IF(O212>0,VLOOKUP(O212,Set!$H$2:$J$16,2,FALSE),\"\")","v":""}]
[{"$nulls":8},{"$f":"IF(H213>0,VLOOKUP(H213,Set!$A$2:$B$4,2,FALSE),\"\")","v":""},{"$nulls":6},{"$f":"IF(O213>0,VLOOKUP(O213,Set!$H$2:$J$16,2,FALSE),\"\")","v":""}]
[{"$nulls":8},{"$f":"IF(H214>0,VLOOKUP(H214,Set!$A$2:$B$4,2,FALSE),\"\")","v":""},{"$nulls":6},{"$f":"IF(O214>0,VLOOKUP(O214,Set!$H$2:$J$16,2,FALSE),\"\")","v":""}]
[{"$nulls":8},{"$f":"IF(H215>0,VLOOKUP(H215,Set!$A$2:$B$4,2,FALSE),\"\")","v":""},{"$nulls":6},{"$f":"IF(O215>0,VLOOKUP(O215,Set!$H$2:$J$16,2,FALSE),\"\")","v":""}]
[{"$nulls":8},{"$f":"IF(H216>0,VLOOKUP(H216,Set!$A$2:$B$4,2,FALSE),\"\")","v":""},{"$nulls":6},{"$f":"IF(O216>0,VLOOKUP(O216,Set!$H$2:$J$16,2,FALSE),\"\")","v":""}]
[{"$nulls":8},{"$f":"IF(H217>0,VLOOKUP(H217,Set!$A$2:$B$4,2,FALSE),\"\")","v":""},{"$nulls":6},{"$f":"IF(O217>0,VLOOKUP(O217,Set!$H$2:$J$16,2,FALSE),\"\")","v":""}]
[{"$nulls":8},{"$f":"IF(H218>0,VLOOKUP(H218,Set!$A$2:$B$4,2,FALSE),\"\")","v":""},{"$nulls":6},{"$f":"IF(O218>0,VLOOKUP(O218,Set!$H$2:$J$16,2,FALSE),\"\")","v":""}]
[{"$nulls":8},{"$f":"IF(H219>0,VLOOKUP(H219,Set!$A$2:$B$4,2,FALSE),\"\")","v":""},{"$nulls":6},{"$f":"IF(O219>0,VLOOKUP(O219,Set!$H$2:$J$16,2,FALSE),\"\")","v":""}]
[{"$nulls":8},{"$f":"IF(H220>0,VLOOKUP(H220,Set!$A$2:$B$4,2,FALSE),\"\")","v":""},{"$nulls":6},{"$f":"IF(O220>0,VLOOKUP(O220,Set!$H$2:$J$16,2,FALSE),\"\")","v":""}]
[{"$nulls":8},{"$f":"IF(H221>0,VLOOKUP(H221,Set!$A$2:$B$4,2,FALSE),\"\")","v":""},{"$nulls":6},{"$f":"IF(O221>0,VLOOKUP(O221,Set!$H$2:$J$16,2,FALSE),\"\")","v":""}]
[{"$nulls":8},{"$f":"IF(H222>0,VLOOKUP(H222,Set!$A$2:$B$4,2,FALSE),\"\")","v":""},{"$nulls":6},{"$f":"IF(O222>0,VLOOKUP(O222,Set!$H$2:$J$16,2,FALSE),\"\")","v":""}]
[{"$nulls":8},{"$f":"IF(H223>0,VLOOKUP(H223,Set!$A$2:$B$4,2,FALSE),\"\")","v":""},{"$nulls":6},{"$f":"IF(O223>0,VLOOKUP(O223,Set!$H$2:$J$16,2,FALSE),\"\")","v":""}]
[{"$nulls":8},{"$f":"IF(H224>0,VLOOKUP(H224,Set!$A$2:$B$4,2,FALSE),\"\")","v":""},{"$nulls":6},{"$f":"IF(O224>0,VLOOKUP(O224,Set!$H$2:$J$16,2,FALSE),\"\")","v":""}]
[{"$nulls":8},{"$f":"IF(H225>0,VLOOKUP(H225,Set!$A$2:$B$4,2,FALSE),\"\")","v":""},{"$nulls":6},{"$f":"IF(O225>0,VLOOKUP(O225,Set!$H$2:$J$16,2,FALSE),\"\")","v":""}]
[{"$nulls":8},{"$f":"IF(H226>0,VLOOKUP(H226,Set!$A$2:$B$4,2,FALSE),\"\")","v":""},{"$nulls":6},{"$f":"IF(O226>0,VLOOKUP(O226,Set!$H$2:$J$16,2,FALSE),\"\")","v":""}]
[{"$nulls":8},{"$f":"IF(H227>0,VLOOKUP(H227,Set!$A$2:$B$4,2,FALSE),\"\")","v":""},{"$nulls":6},{"$f":"IF(O227>0,VLOOKUP(O227,Set!$H$2:$J$16,2,FALSE),\"\")","v":""}]
[{"$nulls":8},{"$f":"IF(H228>0,VLOOKUP(H228,Set!$A$2:$B$4,2,FALSE),\"\")","v":""},{"$nulls":6},{"$f":"IF(O228>0,VLOOKUP(O228,Set!$H$2:$J$16,2,FALSE),\"\")","v":""}]
[{"$nulls":8},{"$f":"IF(H229>0,VLOOKUP(H229,Set!$A$2:$B$4,2,FALSE),\"\")","v":""},{"$nulls":6},{"$f":"IF(O229>0,VLOOKUP(O229,Set!$H$2:$J$16,2,FALSE),\"\")","v":""}]
[{"$nulls":8},{"$f":"IF(H230>0,VLOOKUP(H230,Set!$A$2:$B$4,2,FALSE),\"\")","v":""},{"$nulls":6},{"$f":"IF(O230>0,VLOOKUP(O230,Set!$H$2:$J$16,2,FALSE),\"\")","v":""}]
[{"$nulls":8},{"$f":"IF(H231>0,VLOOKUP(H231,Set!$A$2:$B$4,2,FALSE),\"\")","v":""},{"$nulls":6},{"$f":"IF(O231>0,VLOOKUP(O231,Set!$H$2:$J$16,2,FALSE),\"\")","v":""}]
[{"$nulls":8},{"$f":"IF(H232>0,VLOOKUP(H232,Set!$A$2:$B$4,2,FALSE),\"\")","v":""},{"$nulls":6},{"$f":"IF(O232>0,VLOOKUP(O232,Set!$H$2:$J$16,2,FALSE),\"\")","v":""}]
[{"$nulls":8},{"$f":"IF(H233>0,VLOOKUP(H233,Set!$A$2:$B$4,2,FALSE),\"\")","v":""},{"$nulls":6},{"$f":"IF(O233>0,VLOOKUP(O233,Set!$H$2:$J$16,2,FALSE),\"\")","v":""}]
[{"$nulls":8},{"$f":"IF(H234>0,VLOOKUP(H234,Set!$A$2:$B$4,2,FALSE),\"\")","v":""},{"$nulls":6},{"$f":"IF(O234>0,VLOOKUP(O234,Set!$H$2:$J$16,2,FALSE),\"\")","v":""}]
[{"$nulls":8},{"$f":"IF(H235>0,VLOOKUP(H235,Set!$A$2:$B$4,2,FALSE),\"\")","v":""},{"$nulls":6},{"$f":"IF(O235>0,VLOOKUP(O235,Set!$H$2:$J$16,2,FALSE),\"\")","v":""}]
[{"$nulls":8},{"$f":"IF(H236>0,VLOOKUP(H236,Set!$A$2:$B$4,2,FALSE),\"\")","v":""},{"$nulls":6},{"$f":"IF(O236>0,VLOOKUP(O236,Set!$H$2:$J$16,2,FALSE),\"\")","v":""}]
[{"$nulls":8},{"$f":"IF(H237>0,VLOOKUP(H237,Set!$A$2:$B$4,2,FALSE),\"\")","v":""},{"$nulls":6},{"$f":"IF(O237>0,VLOOKUP(O237,Set!$H$2:$J$16,2,FALSE),\"\")","v":""}]
[{"$nulls":8},{"$f":"IF(H238>0,VLOOKUP(H238,Set!$A$2:$B$4,2,FALSE),\"\")","v":""},{"$nulls":6},{"$f":"IF(O238>0,VLOOKUP(O238,Set!$H$2:$J$16,2,FALSE),\"\")","v":""}]
[{"$nulls":8},{"$f":"IF(H239>0,VLOOKUP(H239,Set!$A$2:$B$4,2,FALSE),\"\")","v":""},{"$nulls":6},{"$f":"IF(O239>0,VLOOKUP(O239,Set!$H$2:$J$16,2,FALSE),\"\")","v":""}]
[{"$nulls":8},{"$f":"IF(H240>0,VLOOKUP(H240,Set!$A$2:$B$4,2,FALSE),\"\")","v":""},{"$nulls":6},{"$f":"IF(O240>0,VLOOKUP(O240,Set!$H$2:$J$16,2,FALSE),\"\")","v":""}]
[{"$nulls":8},{"$f":"IF(H241>0,VLOOKUP(H241,Set!$A$2:$B$4,2,FALSE),\"\")","v":""},{"$nulls":6},{"$f":"IF(O241>0,VLOOKUP(O241,Set!$H$2:$J$16,2,FALSE),\"\")","v":""}]
[{"$nulls":8},{"$f":"IF(H242>0,VLOOKUP(H242,Set!$A$2:$B$4,2,FALSE),\"\")","v":""},{"$nulls":6},{"$f":"IF(O242>0,VLOOKUP(O242,Set!$H$2:$J$16,2,FALSE),\"\")","v":""}]
[{"$nulls":8},{"$f":"IF(H243>0,VLOOKUP(H243,Set!$A$2:$B$4,2,FALSE),\"\")","v":""},{"$nulls":6},{"$f":"IF(O243>0,VLOOKUP(O243,Set!$H$2:$J$16,2,FALSE),\"\")","v":""}]
[{"$nulls":8},{"$f":"IF(H244>0,VLOOKUP(H244,Set!$A$2:$B$4,2,FALSE),\"\")","v":""},{"$nulls":6},{"$f":"IF(O244>0,VLOOKUP(O244,Set!$H$2:$J$16,2,FALSE),\"\")","v":""}]
[{"$nulls":8},{"$f":"IF(H245>0,VLOOKUP(H245,Set!$A$2:$B$4,2,FALSE),\"\")","v":""},{"$nulls":6},{"$f":"IF(O245>0,VLOOKUP(O245,Set!$H$2:$J$16,2,FALSE),\"\")","v":""}]
[{"$nulls":8},{"$f":"IF(H246>0,VLOOKUP(H246,Set!$A$2:$B$4,2,FALSE),\"\")","v":""},{"$nulls":6},{"$f":"IF(O246>0,VLOOKUP(O246,Set!$H$2:$J$16,2,FALSE),\"\")","v":""}]
[{"$nulls":8},{"$f":"IF(H247>0,VLOOKUP(H247,Set!$A$2:$B$4,2,FALSE),\"\")","v":""},{"$nulls":6},{"$f":"IF(O247>0,VLOOKUP(O247,Set!$H$2:$J$16,2,FALSE),\"\")","v":""}]
[{"$nulls":8},{"$f":"IF(H248>0,VLOOKUP(H248,Set!$A$2:$B$4,2,FALSE),\"\")","v":""},{"$nulls":6},{"$f":"IF(O248>0,VLOOKUP(O248,Set!$H$2:$J$16,2,FALSE),\"\")","v":""}]
[{"$nulls":8},{"$f":"IF(H249>0,VLOOKUP(H249,Set!$A$2:$B$4,2,FALSE),\"\")","v":""},{"$nulls":6},{"$f":"IF(O249>0,VLOOKUP(O249,Set!$H$2:$J$16,2,FALSE),\"\")","v":""}]
[{"$nulls":8},{"$f":"IF(H250>0,VLOOKUP(H250,Set!$A$2:$B$4,2,FALSE),\"\")","v":""},{"$nulls":6},{"$f":"IF(O250>0,VLOOKUP(O250,Set!$H$2:$J$16,2,FALSE),\"\")","v":""}]
[{"$nulls":8},{"$f":"IF(H251>0,VLOOKUP(H251,Set!$A$2:$B$4,2,FALSE),\"\")","v":""},{"$nulls":6},{"$f":"IF(O251>0,VLOOKUP(O251,Set!$H$2:$J$16,2,FALSE),\"\")","v":""}]
[{"$nulls":8},{"$f":"IF(H252>0,VLOOKUP(H252,Set!$A$2:$B$4,2,FALSE),\"\")","v":""},{"$nulls":6},{"$f":"IF(O252>0,VLOOKUP(O252,Set!$H$2:$J$16,2,FALSE),\"\")","v":""}]
[{"$nulls":8},{"$f":"IF(H253>0,VLOOKUP(H253,Set!$A$2:$B$4,2,FALSE),\"\")","v":""},{"$nulls":6},{"$f":"IF(O253>0,VLOOKUP(O253,Set!$H$2:$J$16,2,FALSE),\"\")","v":""}]
[{"$nulls":8},{"$f":"IF(H254>0,VLOOKUP(H254,Set!$A$2:$B$4,2,FALSE),\"\")","v":""},{"$nulls":6},{"$f":"IF(O254>0,VLOOKUP(O254,Set!$H$2:$J$16,2,FALSE),\"\")","v":""}]
[{"$nulls":8},{"$f":"IF(H255>0,VLOOKUP(H255,Set!$A$2:$B$4,2,FALSE),\"\")","v":""},{"$nulls":6},{"$f":"IF(O255>0,VLOOKUP(O255,Set!$H$2:$J$16,2,FALSE),\"\")","v":""}]
[{"$nulls":8},{"$f":"IF(H256>0,VLOOKUP(H256,Set!$A$2:$B$4,2,FALSE),\"\")","v":""},{"$nulls":6},{"$f":"IF(O256>0,VLOOKUP(O256,Set!$H$2:$J$16,2,FALSE),\"\")","v":""}]
[{"$nulls":8},{"$f":"IF(H257>0,VLOOKUP(H257,Set!$A$2:$B$4,2,FALSE),\"\")","v":""},{"$nulls":6},{"$f":"IF(O257>0,VLOOKUP(O257,Set!$H$2:$J$16,2,FALSE),\"\")","v":""}]
[{"$nulls":8},{"$f":"IF(H258>0,VLOOKUP(H258,Set!$A$2:$B$4,2,FALSE),\"\")","v":""},{"$nulls":6},{"$f":"IF(O258>0,VLOOKUP(O258,Set!$H$2:$J$16,2,FALSE),\"\")","v":""}]
[{"$nulls":8},{"$f":"IF(H259>0,VLOOKUP(H259,Set!$A$2:$B$4,2,FALSE),\"\")","v":""},{"$nulls":6},{"$f":"IF(O259>0,VLOOKUP(O259,Set!$H$2:$J$16,2,FALSE),\"\")","v":""}]
[{"$nulls":8},{"$f":"IF(H260>0,VLOOKUP(H260,Set!$A$2:$B$4,2,FALSE),\"\")","v":""},{"$nulls":6},{"$f":"IF(O260>0,VLOOKUP(O260,Set!$H$2:$J$16,2,FALSE),\"\")","v":""}]
[{"$nulls":8},{"$f":"IF(H261>0,VLOOKUP(H261,Set!$A$2:$B$4,2,FALSE),\"\")","v":""},{"$nulls":6},{"$f":"IF(O261>0,VLOOKUP(O261,Set!$H$2:$J$16,2,FALSE),\"\")","v":""}]
[{"$nulls":8},{"$f":"IF(H262>0,VLOOKUP(H262,Set!$A$2:$B$4,2,FALSE),\"\")","v":""},{"$nulls":6},{"$f":"IF(O262>0,VLOOKUP(O262,Set!$H$2:$J$16,2,FALSE),\"\")","v":""}]
[{"$nulls":8},{"$f":"IF(H263>0,VLOOKUP(H263,Set!$A$2:$B$4,2,FALSE),\"\")","v":""},{"$nulls":6},{"$f":"IF(O263>0,VLOOKUP(O263,Set!$H$2:$J$16,2,FALSE),\"\")","v":""}]
[{"$nulls":8},{"$f":"IF(H264>0,VLOOKUP(H264,Set!$A$2:$B$4,2,FALSE),\"\")","v":""},{"$nulls":6},{"$f":"IF(O264>0,VLOOKUP(O264,Set!$H$2:$J$16,2,FALSE),\"\")","v":""}]
[{"$nulls":8},{"$f":"IF(H265>0,VLOOKUP(H265,Set!$A$2:$B$4,2,FALSE),\"\")","v":""},{"$nulls":6},{"$f":"IF(O265>0,VLOOKUP(O265,Set!$H$2:$J$16,2,FALSE),\"\")","v":""}]
[{"$nulls":8},{"$f":"IF(H266>0,VLOOKUP(H266,Set!$A$2:$B$4,2,FALSE),\"\")","v":""},{"$nulls":6},{"$f":"IF(O266>0,VLOOKUP(O266,Set!$H$2:$J$16,2,FALSE),\"\")","v":""}]
[{"$nulls":8},{"$f":"IF(H267>0,VLOOKUP(H267,Set!$A$2:$B$4,2,FALSE),\"\")","v":""},{"$nulls":6},{"$f":"IF(O267>0,VLOOKUP(O267,Set!$H$2:$J$16,2,FALSE),\"\")","v":""}]
[{"$nulls":8},{"$f":"IF(H268>0,VLOOKUP(H268,Set!$A$2:$B$4,2,FALSE),\"\")","v":""},{"$nulls":6},{"$f":"IF(O268>0,VLOOKUP(O268,Set!$H$2:$J$16,2,FALSE),\"\")","v":""}]
[{"$nulls":8},{"$f":"IF(H269>0,VLOOKUP(H269,Set!$A$2:$B$4,2,FALSE),\"\")","v":""},{"$nulls":6},{"$f":"IF(O269>0,VLOOKUP(O269,Set!$H$2:$J$16,2,FALSE),\"\")","v":""}]
[{"$nulls":8},{"$f":"IF(H270>0,VLOOKUP(H270,Set!$A$2:$B$4,2,FALSE),\"\")","v":""},{"$nulls":6},{"$f":"IF(O270>0,VLOOKUP(O270,Set!$H$2:$J$16,2,FALSE),\"\")","v":""}]
[{"$nulls":8},{"$f":"IF(H271>0,VLOOKUP(H271,Set!$A$2:$B$4,2,FALSE),\"\")","v":""},{"$nulls":6},{"$f":"IF(O271>0,VLOOKUP(O271,Set!$H$2:$J$16,2,FALSE),\"\")","v":""}]
[{"$nulls":8},{"$f":"IF(H272>0,VLOOKUP(H272,Set!$A$2:$B$4,2,FALSE),\"\")","v":""},{"$nulls":6},{"$f":"IF(O272>0,VLOOKUP(O272,Set!$H$2:$J$16,2,FALSE),\"\")","v":""}]
[{"$nulls":8},{"$f":"IF(H273>0,VLOOKUP(H273,Set!$A$2:$B$4,2,FALSE),\"\")","v":""},{"$nulls":6},{"$f":"IF(O273>0,VLOOKUP(O273,Set!$H$2:$J$16,2,FALSE),\"\")","v":""}]
[{"$nulls":8},{"$f":"IF(H274>0,VLOOKUP(H274,Set!$A$2:$B$4,2,FALSE),\"\")","v":""},{"$nulls":6},{"$f":"IF(O274>0,VLOOKUP(O274,Set!$H$2:$J$16,2,FALSE),\"\")","v":""}]
[{"$nulls":8},{"$f":"IF(H275>0,VLOOKUP(H275,Set!$A$2:$B$4,2,FALSE),\"\")","v":""},{"$nulls":6},{"$f":"IF(O275>0,VLOOKUP(O275,Set!$H$2:$J$16,2,FALSE),\"\")","v":""}]
[{"$nulls":8},{"$f":"IF(H276>0,VLOOKUP(H276,Set!$A$2:$B$4,2,FALSE),\"\")","v":""},{"$nulls":6},{"$f":"IF(O276>0,VLOOKUP(O276,Set!$H$2:$J$16,2,FALSE),\"\")","v":""}]
[{"$nulls":8},{"$f":"IF(H277>0,VLOOKUP(H277,Set!$A$2:$B$4,2,FALSE),\"\")","v":""},{"$nulls":6},{"$f":"IF(O277>0,VLOOKUP(O277,Set!$H$2:$J$16,2,FALSE),\"\")","v":""}]
[{"$nulls":8},{"$f":"IF(H278>0,VLOOKUP(H278,Set!$A$2:$B$4,2,FALSE),\"\")","v":""},{"$nulls":6},{"$f":"IF(O278>0,VLOOKUP(O278,Set!$H$2:$J$16,2,FALSE),\"\")","v":""}]
[{"$nulls":8},{"$f":"IF(H279>0,VLOOKUP(H279,Set!$A$2:$B$4,2,FALSE),\"\")","v":""},{"$nulls":6},{"$f":"IF(O279>0,VLOOKUP(O279,Set!$H$2:$J$16,2,FALSE),\"\")","v":""}]
[{"$nulls":8},{"$f":"IF(H280>0,VLOOKUP(H280,Set!$A$2:$B$4,2,FALSE),\"\")","v":""},{"$nulls":6},{"$f":"IF(O280>0,VLOOKUP(O280,Set!$H$2:$J$16,2,FALSE),\"\")","v":""}]
[{"$nulls":8},{"$f":"IF(H281>0,VLOOKUP(H281,Set!$A$2:$B$4,2,FALSE),\"\")","v":""},{"$nulls":6},{"$f":"IF(O281>0,VLOOKUP(O281,Set!$H$2:$J$16,2,FALSE),\"\")","v":""}]
[{"$nulls":8},{"$f":"IF(H282>0,VLOOKUP(H282,Set!$A$2:$B$4,2,FALSE),\"\")","v":""},{"$nulls":6},{"$f":"IF(O282>0,VLOOKUP(O282,Set!$H$2:$J$16,2,FALSE),\"\")","v":""}]
[{"$nulls":8},{"$f":"IF(H283>0,VLOOKUP(H283,Set!$A$2:$B$4,2,FALSE),\"\")","v":""},{"$nulls":6},{"$f":"IF(O283>0,VLOOKUP(O283,Set!$H$2:$J$16,2,FALSE),\"\")","v":""}]
[{"$nulls":8},{"$f":"IF(H284>0,VLOOKUP(H284,Set!$A$2:$B$4,2,FALSE),\"\")","v":""},{"$nulls":6},{"$f":"IF(O284>0,VLOOKUP(O284,Set!$H$2:$J$16,2,FALSE),\"\")","v":""}]
[{"$nulls":8},{"$f":"IF(H285>0,VLOOKUP(H285,Set!$A$2:$B$4,2,FALSE),\"\")","v":""},{"$nulls":6},{"$f":"IF(O285>0,VLOOKUP(O285,Set!$H$2:$J$16,2,FALSE),\"\")","v":""}]
[{"$nulls":8},{"$f":"IF(H286>0,VLOOKUP(H286,Set!$A$2:$B$4,2,FALSE),\"\")","v":""},{"$nulls":6},{"$f":"IF(O286>0,VLOOKUP(O286,Set!$H$2:$J$16,2,FALSE),\"\")","v":""}]
[{"$nulls":8},{"$f":"IF(H287>0,VLOOKUP(H287,Set!$A$2:$B$4,2,FALSE),\"\")","v":""},{"$nulls":6},{"$f":"IF(O287>0,VLOOKUP(O287,Set!$H$2:$J$16,2,FALSE),\"\")","v":""}]
[{"$nulls":8},{"$f":"IF(H288>0,VLOOKUP(H288,Set!$A$2:$B$4,2,FALSE),\"\")","v":""},{"$nulls":6},{"$f":"IF(O288>0,VLOOKUP(O288,Set!$H$2:$J$16,2,FALSE),\"\")","v":""}]
[{"$nulls":8},{"$f":"IF(H289>0,VLOOKUP(H289,Set!$A$2:$B$4,2,FALSE),\"\")","v":""},{"$nulls":6},{"$f":"IF(O289>0,VLOOKUP(O289,Set!$H$2:$J$16,2,FALSE),\"\")","v":""}]
[{"$nulls":8},{"$f":"IF(H290>0,VLOOKUP(H290,Set!$A$2:$B$4,2,FALSE),\"\")","v":""},{"$nulls":6},{"$f":"IF(O290>0,VLOOKUP(O290,Set!$H$2:$J$16,2,FALSE),\"\")","v":""}]
[{"$nulls":8},{"$f":"IF(H291>0,VLOOKUP(H291,Set!$A$2:$B$4,2,FALSE),\"\")","v":""},{"$nulls":6},{"$f":"IF(O291>0,VLOOKUP(O291,Set!$H$2:$J$16,2,FALSE),\"\")","v":""}]
[{"$nulls":8},{"$f":"IF(H292>0,VLOOKUP(H292,Set!$A$2:$B$4,2,FALSE),\"\")","v":""},{"$nulls":6},{"$f":"IF(O292>0,VLOOKUP(O292,Set!$H$2:$J$16,2,FALSE),\"\")","v":""}]
[{"$nulls":8},{"$f":"IF(H293>0,VLOOKUP(H293,Set!$A$2:$B$4,2,FALSE),\"\")","v":""},{"$nulls":6},{"$f":"IF(O293>0,VLOOKUP(O293,Set!$H$2:$J$16,2,FALSE),\"\")","v":""}]
[{"$nulls":8},{"$f":"IF(H294>0,VLOOKUP(H294,Set!$A$2:$B$4,2,FALSE),\"\")","v":""},{"$nulls":6},{"$f":"IF(O294>0,VLOOKUP(O294,Set!$H$2:$J$16,2,FALSE),\"\")","v":""}]
[{"$nulls":8},{"$f":"IF(H295>0,VLOOKUP(H295,Set!$A$2:$B$4,2,FALSE),\"\")","v":""},{"$nulls":6},{"$f":"IF(O295>0,VLOOKUP(O295,Set!$H$2:$J$16,2,FALSE),\"\")","v":""}]
[{"$nulls":8},{"$f":"IF(H296>0,VLOOKUP(H296,Set!$A$2:$B$4,2,FALSE),\"\")","v":""},{"$nulls":6},{"$f":"IF(O296>0,VLOOKUP(O296,Set!$H$2:$J$16,2,FALSE),\"\")","v":""}]
[{"$nulls":8},{"$f":"IF(H297>0,VLOOKUP(H297,Set!$A$2:$B$4,2,FALSE),\"\")","v":""},{"$nulls":6},{"$f":"IF(O297>0,VLOOKUP(O297,Set!$H$2:$J$16,2,FALSE),\"\")","v":""}]
[{"$nulls":8},{"$f":"IF(H298>0,VLOOKUP(H298,Set!$A$2:$B$4,2,FALSE),\"\")","v":""},{"$nulls":6},{"$f":"IF(O298>0,VLOOKUP(O298,Set!$H$2:$J$16,2,FALSE),\"\")","v":""}]
[{"$nulls":8},{"$f":"IF(H299>0,VLOOKUP(H299,Set!$A$2:$B$4,2,FALSE),\"\")","v":""},{"$nulls":6},{"$f":"IF(O299>0,VLOOKUP(O299,Set!$H$2:$J$16,2,FALSE),\"\")","v":""}]
[{"$nulls":8},{"$f":"IF(H300>0,VLOOKUP(H300,Set!$A$2:$B$4,2,FALSE),\"\")","v":""},{"$nulls":6},{"$f":"IF(O300>0,VLOOKUP(O300,Set!$H$2:$J$16,2,FALSE),\"\")","v":""}]
[{"$nulls":8},{"$f":"IF(H301>0,VLOOKUP(H301,Set!$A$2:$B$4,2,FALSE),\"\")","v":""},{"$nulls":6},{"$f":"IF(O301>0,VLOOKUP(O301,Set!$H$2:$J$16,2,FALSE),\"\")","v":""}]
[{"$nulls":8},{"$f":"IF(H302>0,VLOOKUP(H302,Set!$A$2:$B$4,2,FALSE),\"\")","v":""},{"$nulls":6},{"$f":"IF(O302>0,VLOOKUP(O302,Set!$H$2:$J$16,2,FALSE),\"\")","v":""}]
[{"$nulls":8},{"$f":"IF(H303>0,VLOOKUP(H303,Set!$A$2:$B$4,2,FALSE),\"\")","v":""},{"$nulls":6},{"$f":"IF(O303>0,VLOOKUP(O303,Set!$H$2:$J$16,2,FALSE),\"\")","v":""}]
[{"$nulls":8},{"$f":"IF(H304>0,VLOOKUP(H304,Set!$A$2:$B$4,2,FALSE),\"\")","v":""},{"$nulls":6},{"$f":"IF(O304>0,VLOOKUP(O304,Set!$H$2:$J$16,2,FALSE),\"\")","v":""}]
[{"$nulls":8},{"$f":"IF(H305>0,VLOOKUP(H305,Set!$A$2:$B$4,2,FALSE),\"\")","v":""},{"$nulls":6},{"$f":"IF(O305>0,VLOOKUP(O305,Set!$H$2:$J$16,2,FALSE),\"\")","v":""}]
[{"$nulls":8},{"$f":"IF(H306>0,VLOOKUP(H306,Set!$A$2:$B$4,2,FALSE),\"\")","v":""},{"$nulls":6},{"$f":"IF(O306>0,VLOOKUP(O306,Set!$H$2:$J$16,2,FALSE),\"\")","v":""}]
[{"$nulls":8},{"$f":"IF(H307>0,VLOOKUP(H307,Set!$A$2:$B$4,2,FALSE),\"\")","v":""},{"$nulls":6},{"$f":"IF(O307>0,VLOOKUP(O307,Set!$H$2:$J$16,2,FALSE),\"\")","v":""}]
[{"$nulls":8},{"$f":"IF(H308>0,VLOOKUP(H308,Set!$A$2:$B$4,2,FALSE),\"\")","v":""},{"$nulls":6},{"$f":"IF(O308>0,VLOOKUP(O308,Set!$H$2:$J$16,2,FALSE),\"\")","v":""}]
[{"$nulls":8},{"$f":"IF(H309>0,VLOOKUP(H309,Set!$A$2:$B$4,2,FALSE),\"\")","v":""},{"$nulls":6},{"$f":"IF(O309>0,VLOOKUP(O309,Set!$H$2:$J$16,2,FALSE),\"\")","v":""}]
[{"$nulls":8},{"$f":"IF(H310>0,VLOOKUP(H310,Set!$A$2:$B$4,2,FALSE),\"\")","v":""},{"$nulls":6},{"$f":"IF(O310>0,VLOOKUP(O310,Set!$H$2:$J$16,2,FALSE),\"\")","v":""}]
[{"$nulls":8},{"$f":"IF(H311>0,VLOOKUP(H311,Set!$A$2:$B$4,2,FALSE),\"\")","v":""},{"$nulls":6},{"$f":"IF(O311>0,VLOOKUP(O311,Set!$H$2:$J$16,2,FALSE),\"\")","v":""}]
[{"$nulls":8},{"$f":"IF(H312>0,VLOOKUP(H312,Set!$A$2:$B$4,2,FALSE),\"\")","v":""},{"$nulls":6},{"$f":"IF(O312>0,VLOOKUP(O312,Set!$H$2:$J$16,2,FALSE),\"\")","v":""}]
[{"$nulls":8},{"$f":"IF(H313>0,VLOOKUP(H313,Set!$A$2:$B$4,2,FALSE),\"\")","v":""},{"$nulls":6},{"$f":"IF(O313>0,VLOOKUP(O313,Set!$H$2:$J$16,2,FALSE),\"\")","v":""}]
[{"$nulls":8},{"$f":"IF(H314>0,VLOOKUP(H314,Set!$A$2:$B$4,2,FALSE),\"\")","v":""},{"$nulls":6},{"$f":"IF(O314>0,VLOOKUP(O314,Set!$H$2:$J$16,2,FALSE),\"\")","v":""}]
[{"$nulls":8},{"$f":"IF(H315>0,VLOOKUP(H315,Set!$A$2:$B$4,2,FALSE),\"\")","v":""},{"$nulls":6},{"$f":"IF(O315>0,VLOOKUP(O315,Set!$H$2:$J$16,2,FALSE),\"\")","v":""}]
[{"$nulls":8},{"$f":"IF(H316>0,VLOOKUP(H316,Set!$A$2:$B$4,2,FALSE),\"\")","v":""},{"$nulls":6},{"$f":"IF(O316>0,VLOOKUP(O316,Set!$H$2:$J$16,2,FALSE),\"\")","v":""}]
[{"$nulls":8},{"$f":"IF(H317>0,VLOOKUP(H317,Set!$A$2:$B$4,2,FALSE),\"\")","v":""},{"$nulls":6},{"$f":"IF(O317>0,VLOOKUP(O317,Set!$H$2:$J$16,2,FALSE),\"\")","v":""}]
[{"$nulls":8},{"$f":"IF(H318>0,VLOOKUP(H318,Set!$A$2:$B$4,2,FALSE),\"\")","v":""},{"$nulls":6},{"$f":"IF(O318>0,VLOOKUP(O318,Set!$H$2:$J$16,2,FALSE),\"\")","v":""}]
[{"$nulls":8},{"$f":"IF(H319>0,VLOOKUP(H319,Set!$A$2:$B$4,2,FALSE),\"\")","v":""},{"$nulls":6},{"$f":"IF(O319>0,VLOOKUP(O319,Set!$H$2:$J$16,2,FALSE),\"\")","v":""}]
[{"$nulls":8},{"$f":"IF(H320>0,VLOOKUP(H320,Set!$A$2:$B$4,2,FALSE),\"\")","v":""},{"$nulls":6},{"$f":"IF(O320>0,VLOOKUP(O320,Set!$H$2:$J$16,2,FALSE),\"\")","v":""}]
[{"$nulls":8},{"$f":"IF(H321>0,VLOOKUP(H321,Set!$A$2:$B$4,2,FALSE),\"\")","v":""},{"$nulls":6},{"$f":"IF(O321>0,VLOOKUP(O321,Set!$H$2:$J$16,2,FALSE),\"\")","v":""}]
[{"$nulls":8},{"$f":"IF(H322>0,VLOOKUP(H322,Set!$A$2:$B$4,2,FALSE),\"\")","v":""},{"$nulls":6},{"$f":"IF(O322>0,VLOOKUP(O322,Set!$H$2:$J$16,2,FALSE),\"\")","v":""}]
[{"$nulls":8},{"$f":"IF(H323>0,VLOOKUP(H323,Set!$A$2:$B$4,2,FALSE),\"\")","v":""},{"$nulls":6},{"$f":"IF(O323>0,VLOOKUP(O323,Set!$H$2:$J$16,2,FALSE),\"\")","v":""}]
[{"$nulls":8},{"$f":"IF(H324>0,VLOOKUP(H324,Set!$A$2:$B$4,2,FALSE),\"\")","v":""},{"$nulls":6},{"$f":"IF(O324>0,VLOOKUP(O324,Set!$H$2:$J$16,2,FALSE),\"\")","v":""}]
[{"$nulls":8},{"$f":"IF(H325>0,VLOOKUP(H325,Set!$A$2:$B$4,2,FALSE),\"\")","v":""},{"$nulls":6},{"$f":"IF(O325>0,VLOOKUP(O325,Set!$H$2:$J$16,2,FALSE),\"\")","v":""}]
[{"$nulls":8},{"$f":"IF(H326>0,VLOOKUP(H326,Set!$A$2:$B$4,2,FALSE),\"\")","v":""},{"$nulls":6},{"$f":"IF(O326>0,VLOOKUP(O326,Set!$H$2:$J$16,2,FALSE),\"\")","v":""}]
[{"$nulls":8},{"$f":"IF(H327>0,VLOOKUP(H327,Set!$A$2:$B$4,2,FALSE),\"\")","v":""},{"$nulls":6},{"$f":"IF(O327>0,VLOOKUP(O327,Set!$H$2:$J$16,2,FALSE),\"\")","v":""}]
[{"$nulls":8},{"$f":"IF(H328>0,VLOOKUP(H328,Set!$A$2:$B$4,2,FALSE),\"\")","v":""},{"$nulls":6},{"$f":"IF(O328>0,VLOOKUP(O328,Set!$H$2:$J$16,2,FALSE),\"\")","v":""}]
[{"$nulls":8},{"$f":"IF(H329>0,VLOOKUP(H329,Set!$A$2:$B$4,2,FALSE),\"\")","v":""},{"$nulls":6},{"$f":"IF(O329>0,VLOOKUP(O329,Set!$H$2:$J$16,2,FALSE),\"\")","v":""}]
[{"$nulls":8},{"$f":"IF(H330>0,VLOOKUP(H330,Set!$A$2:$B$4,2,FALSE),\"\")","v":""},{"$nulls":6},{"$f":"IF(O330>0,VLOOKUP(O330,Set!$H$2:$J$16,2,FALSE),\"\")","v":""}]
[{"$nulls":8},{"$f":"IF(H331>0,VLOOKUP(H331,Set!$A$2:$B$4,2,FALSE),\"\")","v":""},{"$nulls":6},{"$f":"IF(O331>0,VLOOKUP(O331,Set!$H$2:$J$16,2,FALSE),\"\")","v":""}]
[{"$nulls":8},{"$f":"IF(H332>0,VLOOKUP(H332,Set!$A$2:$B$4,2,FALSE),\"\")","v":""},{"$nulls":6},{"$f":"IF(O332>0,VLOOKUP(O332,Set!$H$2:$J$16,2,FALSE),\"\")","v":""}]
[{"$nulls":8},{"$f":"IF(H333>0,VLOOKUP(H333,Set!$A$2:$B$4,2,FALSE),\"\")","v":""},{"$nulls":6},{"$f":"IF(O333>0,VLOOKUP(O333,Set!$H$2:$J$16,2,FALSE),\"\")","v":""}]
[{"$nulls":8},{"$f":"IF(H334>0,VLOOKUP(H334,Set!$A$2:$B$4,2,FALSE),\"\")","v":""},{"$nulls":6},{"$f":"IF(O334>0,VLOOKUP(O334,Set!$H$2:$J$16,2,FALSE),\"\")","v":""}]
[{"$nulls":8},{"$f":"IF(H335>0,VLOOKUP(H335,Set!$A$2:$B$4,2,FALSE),\"\")","v":""},{"$nulls":6},{"$f":"IF(O335>0,VLOOKUP(O335,Set!$H$2:$J$16,2,FALSE),\"\")","v":""}]
[{"$nulls":8},{"$f":"IF(H336>0,VLOOKUP(H336,Set!$A$2:$B$4,2,FALSE),\"\")","v":""},{"$nulls":6},{"$f":"IF(O336>0,VLOOKUP(O336,Set!$H$2:$J$16,2,FALSE),\"\")","v":""}]
[{"$nulls":8},{"$f":"IF(H337>0,VLOOKUP(H337,Set!$A$2:$B$4,2,FALSE),\"\")","v":""},{"$nulls":6},{"$f":"IF(O337>0,VLOOKUP(O337,Set!$H$2:$J$16,2,FALSE),\"\")","v":""}]
[{"$nulls":8},{"$f":"IF(H338>0,VLOOKUP(H338,Set!$A$2:$B$4,2,FALSE),\"\")","v":""},{"$nulls":6},{"$f":"IF(O338>0,VLOOKUP(O338,Set!$H$2:$J$16,2,FALSE),\"\")","v":""}]
[{"$nulls":8},{"$f":"IF(H339>0,VLOOKUP(H339,Set!$A$2:$B$4,2,FALSE),\"\")","v":""},{"$nulls":6},{"$f":"IF(O339>0,VLOOKUP(O339,Set!$H$2:$J$16,2,FALSE),\"\")","v":""}]
[{"$nulls":8},{"$f":"IF(H340>0,VLOOKUP(H340,Set!$A$2:$B$4,2,FALSE),\"\")","v":""},{"$nulls":6},{"$f":"IF(O340>0,VLOOKUP(O340,Set!$H$2:$J$16,2,FALSE),\"\")","v":""}]
[{"$nulls":8},{"$f":"IF(H341>0,VLOOKUP(H341,Set!$A$2:$B$4,2,FALSE),\"\")","v":""},{"$nulls":6},{"$f":"IF(O341>0,VLOOKUP(O341,Set!$H$2:$J$16,2,FALSE),\"\")","v":""}]
[{"$nulls":8},{"$f":"IF(H342>0,VLOOKUP(H342,Set!$A$2:$B$4,2,FALSE),\"\")","v":""},{"$nulls":6},{"$f":"IF(O342>0,VLOOKUP(O342,Set!$H$2:$J$16,2,FALSE),\"\")","v":""}]
[{"$nulls":8},{"$f":"IF(H343>0,VLOOKUP(H343,Set!$A$2:$B$4,2,FALSE),\"\")","v":""},{"$nulls":6},{"$f":"IF(O343>0,VLOOKUP(O343,Set!$H$2:$J$16,2,FALSE),\"\")","v":""}]
[{"$nulls":8},{"$f":"IF(H344>0,VLOOKUP(H344,Set!$A$2:$B$4,2,FALSE),\"\")","v":""},{"$nulls":6},{"$f":"IF(O344>0,VLOOKUP(O344,Set!$H$2:$J$16,2,FALSE),\"\")","v":""}]
[{"$nulls":8},{"$f":"IF(H345>0,VLOOKUP(H345,Set!$A$2:$B$4,2,FALSE),\"\")","v":""},{"$nulls":6},{"$f":"IF(O345>0,VLOOKUP(O345,Set!$H$2:$J$16,2,FALSE),\"\")","v":""}]
[{"$nulls":8},{"$f":"IF(H346>0,VLOOKUP(H346,Set!$A$2:$B$4,2,FALSE),\"\")","v":""},{"$nulls":6},{"$f":"IF(O346>0,VLOOKUP(O346,Set!$H$2:$J$16,2,FALSE),\"\")","v":""}]
[{"$nulls":8},{"$f":"IF(H347>0,VLOOKUP(H347,Set!$A$2:$B$4,2,FALSE),\"\")","v":""},{"$nulls":6},{"$f":"IF(O347>0,VLOOKUP(O347,Set!$H$2:$J$16,2,FALSE),\"\")","v":""}]
[{"$nulls":8},{"$f":"IF(H348>0,VLOOKUP(H348,Set!$A$2:$B$4,2,FALSE),\"\")","v":""},{"$nulls":6},{"$f":"IF(O348>0,VLOOKUP(O348,Set!$H$2:$J$16,2,FALSE),\"\")","v":""}]
[{"$nulls":8},{"$f":"IF(H349>0,VLOOKUP(H349,Set!$A$2:$B$4,2,FALSE),\"\")","v":""},{"$nulls":6},{"$f":"IF(O349>0,VLOOKUP(O349,Set!$H$2:$J$16,2,FALSE),\"\")","v":""}]
[{"$nulls":8},{"$f":"IF(H350>0,VLOOKUP(H350,Set!$A$2:$B$4,2,FALSE),\"\")","v":""},{"$nulls":6},{"$f":"IF(O350>0,VLOOKUP(O350,Set!$H$2:$J$16,2,FALSE),\"\")","v":""}]
[{"$nulls":8},{"$f":"IF(H351>0,VLOOKUP(H351,Set!$A$2:$B$4,2,FALSE),\"\")","v":""},{"$nulls":6},{"$f":"IF(O351>0,VLOOKUP(O351,Set!$H$2:$J$16,2,FALSE),\"\")","v":""}]
[{"$nulls":8},{"$f":"IF(H352>0,VLOOKUP(H352,Set!$A$2:$B$4,2,FALSE),\"\")","v":""},{"$nulls":6},{"$f":"IF(O352>0,VLOOKUP(O352,Set!$H$2:$J$16,2,FALSE),\"\")","v":""}]
[{"$nulls":8},{"$f":"IF(H353>0,VLOOKUP(H353,Set!$A$2:$B$4,2,FALSE),\"\")","v":""},{"$nulls":6},{"$f":"IF(O353>0,VLOOKUP(O353,Set!$H$2:$J$16,2,FALSE),\"\")","v":""}]
[{"$nulls":8},{"$f":"IF(H354>0,VLOOKUP(H354,Set!$A$2:$B$4,2,FALSE),\"\")","v":""},{"$nulls":6},{"$f":"IF(O354>0,VLOOKUP(O354,Set!$H$2:$J$16,2,FALSE),\"\")","v":""}]
[{"$nulls":8},{"$f":"IF(H355>0,VLOOKUP(H355,Set!$A$2:$B$4,2,FALSE),\"\")","v":""},{"$nulls":6},{"$f":"IF(O355>0,VLOOKUP(O355,Set!$H$2:$J$16,2,FALSE),\"\")","v":""}]
[{"$nulls":8},{"$f":"IF(H356>0,VLOOKUP(H356,Set!$A$2:$B$4,2,FALSE),\"\")","v":""},{"$nulls":6},{"$f":"IF(O356>0,VLOOKUP(O356,Set!$H$2:$J$16,2,FALSE),\"\")","v":""}]
[{"$nulls":8},{"$f":"IF(H357>0,VLOOKUP(H357,Set!$A$2:$B$4,2,FALSE),\"\")","v":""},{"$nulls":6},{"$f":"IF(O357>0,VLOOKUP(O357,Set!$H$2:$J$16,2,FALSE),\"\")","v":""}]
[{"$nulls":8},{"$f":"IF(H358>0,VLOOKUP(H358,Set!$A$2:$B$4,2,FALSE),\"\")","v":""},{"$nulls":6},{"$f":"IF(O358>0,VLOOKUP(O358,Set!$H$2:$J$16,2,FALSE),\"\")","v":""}]
[{"$nulls":8},{"$f":"IF(H359>0,VLOOKUP(H359,Set!$A$2:$B$4,2,FALSE),\"\")","v":""},{"$nulls":6},{"$f":"IF(O359>0,VLOOKUP(O359,Set!$H$2:$J$16,2,FALSE),\"\")","v":""}]
[{"$nulls":8},{"$f":"IF(H360>0,VLOOKUP(H360,Set!$A$2:$B$4,2,FALSE),\"\")","v":""},{"$nulls":6},{"$f":"IF(O360>0,VLOOKUP(O360,Set!$H$2:$J$16,2,FALSE),\"\")","v":""}]
[{"$nulls":8},{"$f":"IF(H361>0,VLOOKUP(H361,Set!$A$2:$B$4,2,FALSE),\"\")","v":""},{"$nulls":6},{"$f":"IF(O361>0,VLOOKUP(O361,Set!$H$2:$J$16,2,FALSE),\"\")","v":""}]
[{"$nulls":8},{"$f":"IF(H362>0,VLOOKUP(H362,Set!$A$2:$B$4,2,FALSE),\"\")","v":""},{"$nulls":6},{"$f":"IF(O362>0,VLOOKUP(O362,Set!$H$2:$J$16,2,FALSE),\"\")","v":""}]
[{"$nulls":8},{"$f":"IF(H363>0,VLOOKUP(H363,Set!$A$2:$B$4,2,FALSE),\"\")","v":""},{"$nulls":6},{"$f":"IF(O363>0,VLOOKUP(O363,Set!$H$2:$J$16,2,FALSE),\"\")","v":""}]
[{"$nulls":8},{"$f":"IF(H364>0,VLOOKUP(H364,Set!$A$2:$B$4,2,FALSE),\"\")","v":""},{"$nulls":6},{"$f":"IF(O364>0,VLOOKUP(O364,Set!$H$2:$J$16,2,FALSE),\"\")","v":""}]
[{"$nulls":8},{"$f":"IF(H365>0,VLOOKUP(H365,Set!$A$2:$B$4,2,FALSE),\"\")","v":""},{"$nulls":6},{"$f":"IF(O365>0,VLOOKUP(O365,Set!$H$2:$J$16,2,FALSE),\"\")","v":""}]
[{"$nulls":8},{"$f":"IF(H366>0,VLOOKUP(H366,Set!$A$2:$B$4,2,FALSE),\"\")","v":""},{"$nulls":6},{"$f":"IF(O366>0,VLOOKUP(O366,Set!$H$2:$J$16,2,FALSE),\"\")","v":""}]
[{"$nulls":8},{"$f":"IF(H367>0,VLOOKUP(H367,Set!$A$2:$B$4,2,FALSE),\"\")","v":""},{"$nulls":6},{"$f":"IF(O367>0,VLOOKUP(O367,Set!$H$2:$J$16,2,FALSE),\"\")","v":""}]
[{"$nulls":8},{"$f":"IF(H368>0,VLOOKUP(H368,Set!$A$2:$B$4,2,FALSE),\"\")","v":""},{"$nulls":6},{"$f":"IF(O368>0,VLOOKUP(O368,Set!$H$2:$J$16,2,FALSE),\"\")","v":""}]
[{"$nulls":8},{"$f":"IF(H369>0,VLOOKUP(H369,Set!$A$2:$B$4,2,FALSE),\"\")","v":""},{"$nulls":6},{"$f":"IF(O369>0,VLOOKUP(O369,Set!$H$2:$J$16,2,FALSE),\"\")","v":""}]
[{"$nulls":8},{"$f":"IF(H370>0,VLOOKUP(H370,Set!$A$2:$B$4,2,FALSE),\"\")","v":""},{"$nulls":6},{"$f":"IF(O370>0,VLOOKUP(O370,Set!$H$2:$J$16,2,FALSE),\"\")","v":""}]
[{"$nulls":8},{"$f":"IF(H371>0,VLOOKUP(H371,Set!$A$2:$B$4,2,FALSE),\"\")","v":""},{"$nulls":6},{"$f":"IF(O371>0,VLOOKUP(O371,Set!$H$2:$J$16,2,FALSE),\"\")","v":""}]
[{"$nulls":8},{"$f":"IF(H372>0,VLOOKUP(H372,Set!$A$2:$B$4,2,FALSE),\"\")","v":""},{"$nulls":6},{"$f":"IF(O372>0,VLOOKUP(O372,Set!$H$2:$J$16,2,FALSE),\"\")","v":""}]
[{"$nulls":8},{"$f":"IF(H373>0,VLOOKUP(H373,Set!$A$2:$B$4,2,FALSE),\"\")","v":""},{"$nulls":6},{"$f":"IF(O373>0,VLOOKUP(O373,Set!$H$2:$J$16,2,FALSE),\"\")","v":""}]
[{"$nulls":8},{"$f":"IF(H374>0,VLOOKUP(H374,Set!$A$2:$B$4,2,FALSE),\"\")","v":""},{"$nulls":6},{"$f":"IF(O374>0,VLOOKUP(O374,Set!$H$2:$J$16,2,FALSE),\"\")","v":""}]
[{"$nulls":8},{"$f":"IF(H375>0,VLOOKUP(H375,Set!$A$2:$B$4,2,FALSE),\"\")","v":""},{"$nulls":6},{"$f":"IF(O375>0,VLOOKUP(O375,Set!$H$2:$J$16,2,FALSE),\"\")","v":""}]
[{"$nulls":8},{"$f":"IF(H376>0,VLOOKUP(H376,Set!$A$2:$B$4,2,FALSE),\"\")","v":""},{"$nulls":6},{"$f":"IF(O376>0,VLOOKUP(O376,Set!$H$2:$J$16,2,FALSE),\"\")","v":""}]
[{"$nulls":8},{"$f":"IF(H377>0,VLOOKUP(H377,Set!$A$2:$B$4,2,FALSE),\"\")","v":""},{"$nulls":6},{"$f":"IF(O377>0,VLOOKUP(O377,Set!$H$2:$J$16,2,FALSE),\"\")","v":""}]
[{"$nulls":8},{"$f":"IF(H378>0,VLOOKUP(H378,Set!$A$2:$B$4,2,FALSE),\"\")","v":""},{"$nulls":6},{"$f":"IF(O378>0,VLOOKUP(O378,Set!$H$2:$J$16,2,FALSE),\"\")","v":""}]
[{"$nulls":8},{"$f":"IF(H379>0,VLOOKUP(H379,Set!$A$2:$B$4,2,FALSE),\"\")","v":""},{"$nulls":6},{"$f":"IF(O379>0,VLOOKUP(O379,Set!$H$2:$J$16,2,FALSE),\"\")","v":""}]
[{"$nulls":8},{"$f":"IF(H380>0,VLOOKUP(H380,Set!$A$2:$B$4,2,FALSE),\"\")","v":""},{"$nulls":6},{"$f":"IF(O380>0,VLOOKUP(O380,Set!$H$2:$J$16,2,FALSE),\"\")","v":""}]
[{"$nulls":8},{"$f":"IF(H381>0,VLOOKUP(H381,Set!$A$2:$B$4,2,FALSE),\"\")","v":""},{"$nulls":6},{"$f":"IF(O381>0,VLOOKUP(O381,Set!$H$2:$J$16,2,FALSE),\"\")","v":""}]
[{"$nulls":8},{"$f":"IF(H382>0,VLOOKUP(H382,Set!$A$2:$B$4,2,FALSE),\"\")","v":""},{"$nulls":6},{"$f":"IF(O382>0,VLOOKUP(O382,Set!$H$2:$J$16,2,FALSE),\"\")","v":""}]
[{"$nulls":8},{"$f":"IF(H383>0,VLOOKUP(H383,Set!$A$2:$B$4,2,FALSE),\"\")","v":""},{"$nulls":6},{"$f":"IF(O383>0,VLOOKUP(O383,Set!$H$2:$J$16,2,FALSE),\"\")","v":""}]
[{"$nulls":8},{"$f":"IF(H384>0,VLOOKUP(H384,Set!$A$2:$B$4,2,FALSE),\"\")","v":""},{"$nulls":6},{"$f":"IF(O384>0,VLOOKUP(O384,Set!$H$2:$J$16,2,FALSE),\"\")","v":""}]
[{"$nulls":8},{"$f":"IF(H385>0,VLOOKUP(H385,Set!$A$2:$B$4,2,FALSE),\"\")","v":""},{"$nulls":6},{"$f":"IF(O385>0,VLOOKUP(O385,Set!$H$2:$J$16,2,FALSE),\"\")","v":""}]
[{"$nulls":8},{"$f":"IF(H386>0,VLOOKUP(H386,Set!$A$2:$B$4,2,FALSE),\"\")","v":""},{"$nulls":6},{"$f":"IF(O386>0,VLOOKUP(O386,Set!$H$2:$J$16,2,FALSE),\"\")","v":""}]
[{"$nulls":8},{"$f":"IF(H387>0,VLOOKUP(H387,Set!$A$2:$B$4,2,FALSE),\"\")","v":""},{"$nulls":6},{"$f":"IF(O387>0,VLOOKUP(O387,Set!$H$2:$J$16,2,FALSE),\"\")","v":""}]
[{"$nulls":8},{"$f":"IF(H388>0,VLOOKUP(H388,Set!$A$2:$B$4,2,FALSE),\"\")","v":""},{"$nulls":6},{"$f":"IF(O388>0,VLOOKUP(O388,Set!$H$2:$J$16,2,FALSE),\"\")","v":""}]
[{"$nulls":8},{"$f":"IF(H389>0,VLOOKUP(H389,Set!$A$2:$B$4,2,FALSE),\"\")","v":""},{"$nulls":6},{"$f":"IF(O389>0,VLOOKUP(O389,Set!$H$2:$J$16,2,FALSE),\"\")","v":""}]
[{"$nulls":8},{"$f":"IF(H390>0,VLOOKUP(H390,Set!$A$2:$B$4,2,FALSE),\"\")","v":""},{"$nulls":6},{"$f":"IF(O390>0,VLOOKUP(O390,Set!$H$2:$J$16,2,FALSE),\"\")","v":""}]
[{"$nulls":8},{"$f":"IF(H391>0,VLOOKUP(H391,Set!$A$2:$B$4,2,FALSE),\"\")","v":""},{"$nulls":6},{"$f":"IF(O391>0,VLOOKUP(O391,Set!$H$2:$J$16,2,FALSE),\"\")","v":""}]
[{"$nulls":8},{"$f":"IF(H392>0,VLOOKUP(H392,Set!$A$2:$B$4,2,FALSE),\"\")","v":""},{"$nulls":6},{"$f":"IF(O392>0,VLOOKUP(O392,Set!$H$2:$J$16,2,FALSE),\"\")","v":""}]
[{"$nulls":8},{"$f":"IF(H393>0,VLOOKUP(H393,Set!$A$2:$B$4,2,FALSE),\"\")","v":""},{"$nulls":6},{"$f":"IF(O393>0,VLOOKUP(O393,Set!$H$2:$J$16,2,FALSE),\"\")","v":""}]
[{"$nulls":8},{"$f":"IF(H394>0,VLOOKUP(H394,Set!$A$2:$B$4,2,FALSE),\"\")","v":""},{"$nulls":6},{"$f":"IF(O394>0,VLOOKUP(O394,Set!$H$2:$J$16,2,FALSE),\"\")","v":""}]
[{"$nulls":8},{"$f":"IF(H395>0,VLOOKUP(H395,Set!$A$2:$B$4,2,FALSE),\"\")","v":""},{"$nulls":6},{"$f":"IF(O395>0,VLOOKUP(O395,Set!$H$2:$J$16,2,FALSE),\"\")","v":""}]
[{"$nulls":8},{"$f":"IF(H396>0,VLOOKUP(H396,Set!$A$2:$B$4,2,FALSE),\"\")","v":""},{"$nulls":6},{"$f":"IF(O396>0,VLOOKUP(O396,Set!$H$2:$J$16,2,FALSE),\"\")","v":""}]
[{"$nulls":8},{"$f":"IF(H397>0,VLOOKUP(H397,Set!$A$2:$B$4,2,FALSE),\"\")","v":""},{"$nulls":6},{"$f":"IF(O397>0,VLOOKUP(O397,Set!$H$2:$J$16,2,FALSE),\"\")","v":""}]
[{"$nulls":8},{"$f":"IF(H398>0,VLOOKUP(H398,Set!$A$2:$B$4,2,FALSE),\"\")","v":""},{"$nulls":6},{"$f":"IF(O398>0,VLOOKUP(O398,Set!$H$2:$J$16,2,FALSE),\"\")","v":""}]
[{"$nulls":8},{"$f":"IF(H399>0,VLOOKUP(H399,Set!$A$2:$B$4,2,FALSE),\"\")","v":""},{"$nulls":6},{"$f":"IF(O399>0,VLOOKUP(O399,Set!$H$2:$J$16,2,FALSE),\"\")","v":""}]
[{"$nulls":8},{"$f":"IF(H400>0,VLOOKUP(H400,Set!$A$2:$B$4,2,FALSE),\"\")","v":""},{"$nulls":6},{"$f":"IF(O400>0,VLOOKUP(O400,Set!$H$2:$J$16,2,FALSE),\"\")","v":""}]
[{"$nulls":8},{"$f":"IF(H401>0,VLOOKUP(H401,Set!$A$2:$B$4,2,FALSE),\"\")","v":""},{"$nulls":6},{"$f":"IF(O401>0,VLOOKUP(O401,Set!$H$2:$J$16,2,FALSE),\"\")","v":""}]
[{"$nulls":8},{"$f":"IF(H402>0,VLOOKUP(H402,Set!$A$2:$B$4,2,FALSE),\"\")","v":""},{"$nulls":6},{"$f":"IF(O402>0,VLOOKUP(O402,Set!$H$2:$J$16,2,FALSE),\"\")","v":""}]
[{"$nulls":8},{"$f":"IF(H403>0,VLOOKUP(H403,Set!$A$2:$B$4,2,FALSE),\"\")","v":""},{"$nulls":6},{"$f":"IF(O403>0,VLOOKUP(O403,Set!$H$2:$J$16,2,FALSE),\"\")","v":""}]
[{"$nulls":8},{"$f":"IF(H404>0,VLOOKUP(H404,Set!$A$2:$B$4,2,FALSE),\"\")","v":""},{"$nulls":6},{"$f":"IF(O404>0,VLOOKUP(O404,Set!$H$2:$J$16,2,FALSE),\"\")","v":""}]
[{"$nulls":8},{"$f":"IF(H405>0,VLOOKUP(H405,Set!$A$2:$B$4,2,FALSE),\"\")","v":""},{"$nulls":6},{"$f":"IF(O405>0,VLOOKUP(O405,Set!$H$2:$J$16,2,FALSE),\"\")","v":""}]
[{"$nulls":8},{"$f":"IF(H406>0,VLOOKUP(H406,Set!$A$2:$B$4,2,FALSE),\"\")","v":""},{"$nulls":6},{"$f":"IF(O406>0,VLOOKUP(O406,Set!$H$2:$J$16,2,FALSE),\"\")","v":""}]
[{"$nulls":8},{"$f":"IF(H407>0,VLOOKUP(H407,Set!$A$2:$B$4,2,FALSE),\"\")","v":""},{"$nulls":6},{"$f":"IF(O407>0,VLOOKUP(O407,Set!$H$2:$J$16,2,FALSE),\"\")","v":""}]
[{"$nulls":8},{"$f":"IF(H408>0,VLOOKUP(H408,Set!$A$2:$B$4,2,FALSE),\"\")","v":""},{"$nulls":6},{"$f":"IF(O408>0,VLOOKUP(O408,Set!$H$2:$J$16,2,FALSE),\"\")","v":""}]
[{"$nulls":8},{"$f":"IF(H409>0,VLOOKUP(H409,Set!$A$2:$B$4,2,FALSE),\"\")","v":""},{"$nulls":6},{"$f":"IF(O409>0,VLOOKUP(O409,Set!$H$2:$J$16,2,FALSE),\"\")","v":""}]
[{"$nulls":8},{"$f":"IF(H410>0,VLOOKUP(H410,Set!$A$2:$B$4,2,FALSE),\"\")","v":""},{"$nulls":6},{"$f":"IF(O410>0,VLOOKUP(O410,Set!$H$2:$J$16,2,FALSE),\"\")","v":""}]
[{"$nulls":8},{"$f":"IF(H411>0,VLOOKUP(H411,Set!$A$2:$B$4,2,FALSE),\"\")","v":""},{"$nulls":6},{"$f":"IF(O411>0,VLOOKUP(O411,Set!$H$2:$J$16,2,FALSE),\"\")","v":""}]
[{"$nulls":8},{"$f":"IF(H412>0,VLOOKUP(H412,Set!$A$2:$B$4,2,FALSE),\"\")","v":""},{"$nulls":6},{"$f":"IF(O412>0,VLOOKUP(O412,Set!$H$2:$J$16,2,FALSE),\"\")","v":""}]
[{"$nulls":8},{"$f":"IF(H413>0,VLOOKUP(H413,Set!$A$2:$B$4,2,FALSE),\"\")","v":""},{"$nulls":6},{"$f":"IF(O413>0,VLOOKUP(O413,Set!$H$2:$J$16,2,FALSE),\"\")","v":""}]
[{"$nulls":8},{"$f":"IF(H414>0,VLOOKUP(H414,Set!$A$2:$B$4,2,FALSE),\"\")","v":""},{"$nulls":6},{"$f":"IF(O414>0,VLOOKUP(O414,Set!$H$2:$J$16,2,FALSE),\"\")","v":""}]
[{"$nulls":8},{"$f":"IF(H415>0,VLOOKUP(H415,Set!$A$2:$B$4,2,FALSE),\"\")","v":""},{"$nulls":6},{"$f":"IF(O415>0,VLOOKUP(O415,Set!$H$2:$J$16,2,FALSE),\"\")","v":""}]
[{"$nulls":8},{"$f":"IF(H416>0,VLOOKUP(H416,Set!$A$2:$B$4,2,FALSE),\"\")","v":""},{"$nulls":6},{"$f":"IF(O416>0,VLOOKUP(O416,Set!$H$2:$J$16,2,FALSE),\"\")","v":""}]
[{"$nulls":8},{"$f":"IF(H417>0,VLOOKUP(H417,Set!$A$2:$B$4,2,FALSE),\"\")","v":""},{"$nulls":6},{"$f":"IF(O417>0,VLOOKUP(O417,Set!$H$2:$J$16,2,FALSE),\"\")","v":""}]
[{"$nulls":8},{"$f":"IF(H418>0,VLOOKUP(H418,Set!$A$2:$B$4,2,FALSE),\"\")","v":""},{"$nulls":6},{"$f":"IF(O418>0,VLOOKUP(O418,Set!$H$2:$J$16,2,FALSE),\"\")","v":""}]
[{"$nulls":8},{"$f":"IF(H419>0,VLOOKUP(H419,Set!$A$2:$B$4,2,FALSE),\"\")","v":""},{"$nulls":6},{"$f":"IF(O419>0,VLOOKUP(O419,Set!$H$2:$J$16,2,FALSE),\"\")","v":""}]
[{"$nulls":8},{"$f":"IF(H420>0,VLOOKUP(H420,Set!$A$2:$B$4,2,FALSE),\"\")","v":""},{"$nulls":6},{"$f":"IF(O420>0,VLOOKUP(O420,Set!$H$2:$J$16,2,FALSE),\"\")","v":""}]
[{"$nulls":8},{"$f":"IF(H421>0,VLOOKUP(H421,Set!$A$2:$B$4,2,FALSE),\"\")","v":""},{"$nulls":6},{"$f":"IF(O421>0,VLOOKUP(O421,Set!$H$2:$J$16,2,FALSE),\"\")","v":""}]
[{"$nulls":8},{"$f":"IF(H422>0,VLOOKUP(H422,Set!$A$2:$B$4,2,FALSE),\"\")","v":""},{"$nulls":6},{"$f":"IF(O422>0,VLOOKUP(O422,Set!$H$2:$J$16,2,FALSE),\"\")","v":""}]
[{"$nulls":8},{"$f":"IF(H423>0,VLOOKUP(H423,Set!$A$2:$B$4,2,FALSE),\"\")","v":""},{"$nulls":6},{"$f":"IF(O423>0,VLOOKUP(O423,Set!$H$2:$J$16,2,FALSE),\"\")","v":""}]
[{"$nulls":8},{"$f":"IF(H424>0,VLOOKUP(H424,Set!$A$2:$B$4,2,FALSE),\"\")","v":""},{"$nulls":6},{"$f":"IF(O424>0,VLOOKUP(O424,Set!$H$2:$J$16,2,FALSE),\"\")","v":""}]
[{"$nulls":8},{"$f":"IF(H425>0,VLOOKUP(H425,Set!$A$2:$B$4,2,FALSE),\"\")","v":""},{"$nulls":6},{"$f":"IF(O425>0,VLOOKUP(O425,Set!$H$2:$J$16,2,FALSE),\"\")","v":""}]
[{"$nulls":8},{"$f":"IF(H426>0,VLOOKUP(H426,Set!$A$2:$B$4,2,FALSE),\"\")","v":""},{"$nulls":6},{"$f":"IF(O426>0,VLOOKUP(O426,Set!$H$2:$J$16,2,FALSE),\"\")","v":""}]
[{"$nulls":8},{"$f":"IF(H427>0,VLOOKUP(H427,Set!$A$2:$B$4,2,FALSE),\"\")","v":""},{"$nulls":6},{"$f":"IF(O427>0,VLOOKUP(O427,Set!$H$2:$J$16,2,FALSE),\"\")","v":""}]
[{"$nulls":8},{"$f":"IF(H428>0,VLOOKUP(H428,Set!$A$2:$B$4,2,FALSE),\"\")","v":""},{"$nulls":6},{"$f":"IF(O428>0,VLOOKUP(O428,Set!$H$2:$J$16,2,FALSE),\"\")","v":""}]
[{"$nulls":8},{"$f":"IF(H429>0,VLOOKUP(H429,Set!$A$2:$B$4,2,FALSE),\"\")","v":""},{"$nulls":6},{"$f":"IF(O429>0,VLOOKUP(O429,Set!$H$2:$J$16,2,FALSE),\"\")","v":""}]
[{"$nulls":8},{"$f":"IF(H430>0,VLOOKUP(H430,Set!$A$2:$B$4,2,FALSE),\"\")","v":""},{"$nulls":6},{"$f":"IF(O430>0,VLOOKUP(O430,Set!$H$2:$J$16,2,FALSE),\"\")","v":""}]
[{"$nulls":8},{"$f":"IF(H431>0,VLOOKUP(H431,Set!$A$2:$B$4,2,FALSE),\"\")","v":""},{"$nulls":6},{"$f":"IF(O431>0,VLOOKUP(O431,Set!$H$2:$J$16,2,FALSE),\"\")","v":""}]
[{"$nulls":8},{"$f":"IF(H432>0,VLOOKUP(H432,Set!$A$2:$B$4,2,FALSE),\"\")","v":""},{"$nulls":6},{"$f":"IF(O432>0,VLOOKUP(O432,Set!$H$2:$J$16,2,FALSE),\"\")","v":""}]
[{"$nulls":8},{"$f":"IF(H433>0,VLOOKUP(H433,Set!$A$2:$B$4,2,FALSE),\"\")","v":""},{"$nulls":6},{"$f":"IF(O433>0,VLOOKUP(O433,Set!$H$2:$J$16,2,FALSE),\"\")","v":""}]
[{"$nulls":8},{"$f":"IF(H434>0,VLOOKUP(H434,Set!$A$2:$B$4,2,FALSE),\"\")","v":""},{"$nulls":6},{"$f":"IF(O434>0,VLOOKUP(O434,Set!$H$2:$J$16,2,FALSE),\"\")","v":""}]
[{"$nulls":8},{"$f":"IF(H435>0,VLOOKUP(H435,Set!$A$2:$B$4,2,FALSE),\"\")","v":""},{"$nulls":6},{"$f":"IF(O435>0,VLOOKUP(O435,Set!$H$2:$J$16,2,FALSE),\"\")","v":""}]
[{"$nulls":8},{"$f":"IF(H436>0,VLOOKUP(H436,Set!$A$2:$B$4,2,FALSE),\"\")","v":""},{"$nulls":6},{"$f":"IF(O436>0,VLOOKUP(O436,Set!$H$2:$J$16,2,FALSE),\"\")","v":""}]
[{"$nulls":8},{"$f":"IF(H437>0,VLOOKUP(H437,Set!$A$2:$B$4,2,FALSE),\"\")","v":""},{"$nulls":6},{"$f":"IF(O437>0,VLOOKUP(O437,Set!$H$2:$J$16,2,FALSE),\"\")","v":""}]
[{"$nulls":8},{"$f":"IF(H438>0,VLOOKUP(H438,Set!$A$2:$B$4,2,FALSE),\"\")","v":""},{"$nulls":6},{"$f":"IF(O438>0,VLOOKUP(O438,Set!$H$2:$J$16,2,FALSE),\"\")","v":""}]
[{"$nulls":8},{"$f":"IF(H439>0,VLOOKUP(H439,Set!$A$2:$B$4,2,FALSE),\"\")","v":""},{"$nulls":6},{"$f":"IF(O439>0,VLOOKUP(O439,Set!$H$2:$J$16,2,FALSE),\"\")","v":""}]
[{"$nulls":8},{"$f":"IF(H440>0,VLOOKUP(H440,Set!$A$2:$B$4,2,FALSE),\"\")","v":""},{"$nulls":6},{"$f":"IF(O440>0,VLOOKUP(O440,Set!$H$2:$J$16,2,FALSE),\"\")","v":""}]
[{"$nulls":8},{"$f":"IF(H441>0,VLOOKUP(H441,Set!$A$2:$B$4,2,FALSE),\"\")","v":""},{"$nulls":6},{"$f":"IF(O441>0,VLOOKUP(O441,Set!$H$2:$J$16,2,FALSE),\"\")","v":""}]
[{"$nulls":8},{"$f":"IF(H442>0,VLOOKUP(H442,Set!$A$2:$B$4,2,FALSE),\"\")","v":""},{"$nulls":6},{"$f":"IF(O442>0,VLOOKUP(O442,Set!$H$2:$J$16,2,FALSE),\"\")","v":""}]
[{"$nulls":8},{"$f":"IF(H443>0,VLOOKUP(H443,Set!$A$2:$B$4,2,FALSE),\"\")","v":""},{"$nulls":6},{"$f":"IF(O443>0,VLOOKUP(O443,Set!$H$2:$J$16,2,FALSE),\"\")","v":""}]
[{"$nulls":8},{"$f":"IF(H444>0,VLOOKUP(H444,Set!$A$2:$B$4,2,FALSE),\"\")","v":""},{"$nulls":6},{"$f":"IF(O444>0,VLOOKUP(O444,Set!$H$2:$J$16,2,FALSE),\"\")","v":""}]
[{"$nulls":8},{"$f":"IF(H445>0,VLOOKUP(H445,Set!$A$2:$B$4,2,FALSE),\"\")","v":""},{"$nulls":6},{"$f":"IF(O445>0,VLOOKUP(O445,Set!$H$2:$J$16,2,FALSE),\"\")","v":""}]
[{"$nulls":8},{"$f":"IF(H446>0,VLOOKUP(H446,Set!$A$2:$B$4,2,FALSE),\"\")","v":""},{"$nulls":6},{"$f":"IF(O446>0,VLOOKUP(O446,Set!$H$2:$J$16,2,FALSE),\"\")","v":""}]
[{"$nulls":8},{"$f":"IF(H447>0,VLOOKUP(H447,Set!$A$2:$B$4,2,FALSE),\"\")","v":""},{"$nulls":6},{"$f":"IF(O447>0,VLOOKUP(O447,Set!$H$2:$J$16,2,FALSE),\"\")","v":""}]
[{"$nulls":8},{"$f":"IF(H448>0,VLOOKUP(H448,Set!$A$2:$B$4,2,FALSE),\"\")","v":""},{"$nulls":6},{"$f":"IF(O448>0,VLOOKUP(O448,Set!$H$2:$J$16,2,FALSE),\"\")","v":""}]
[{"$nulls":8},{"$f":"IF(H449>0,VLOOKUP(H449,Set!$A$2:$B$4,2,FALSE),\"\")","v":""},{"$nulls":6},{"$f":"IF(O449>0,VLOOKUP(O449,Set!$H$2:$J$16,2,FALSE),\"\")","v":""}]
[{"$nulls":8},{"$f":"IF(H450>0,VLOOKUP(H450,Set!$A$2:$B$4,2,FALSE),\"\")","v":""},{"$nulls":6},{"$f":"IF(O450>0,VLOOKUP(O450,Set!$H$2:$J$16,2,FALSE),\"\")","v":""}]
[{"$nulls":8},{"$f":"IF(H451>0,VLOOKUP(H451,Set!$A$2:$B$4,2,FALSE),\"\")","v":""},{"$nulls":6},{"$f":"IF(O451>0,VLOOKUP(O451,Set!$H$2:$J$16,2,FALSE),\"\")","v":""}]
[{"$nulls":8},{"$f":"IF(H452>0,VLOOKUP(H452,Set!$A$2:$B$4,2,FALSE),\"\")","v":""},{"$nulls":6},{"$f":"IF(O452>0,VLOOKUP(O452,Set!$H$2:$J$16,2,FALSE),\"\")","v":""}]
[{"$nulls":8},{"$f":"IF(H453>0,VLOOKUP(H453,Set!$A$2:$B$4,2,FALSE),\"\")","v":""},{"$nulls":6},{"$f":"IF(O453>0,VLOOKUP(O453,Set!$H$2:$J$16,2,FALSE),\"\")","v":""}]
[{"$nulls":8},{"$f":"IF(H454>0,VLOOKUP(H454,Set!$A$2:$B$4,2,FALSE),\"\")","v":""},{"$nulls":6},{"$f":"IF(O454>0,VLOOKUP(O454,Set!$H$2:$J$16,2,FALSE),\"\")","v":""}]
[{"$nulls":8},{"$f":"IF(H455>0,VLOOKUP(H455,Set!$A$2:$B$4,2,FALSE),\"\")","v":""},{"$nulls":6},{"$f":"IF(O455>0,VLOOKUP(O455,Set!$H$2:$J$16,2,FALSE),\"\")","v":""}]
[{"$nulls":8},{"$f":"IF(H456>0,VLOOKUP(H456,Set!$A$2:$B$4,2,FALSE),\"\")","v":""},{"$nulls":6},{"$f":"IF(O456>0,VLOOKUP(O456,Set!$H$2:$J$16,2,FALSE),\"\")","v":""}]
[{"$nulls":8},{"$f":"IF(H457>0,VLOOKUP(H457,Set!$A$2:$B$4,2,FALSE),\"\")","v":""},{"$nulls":6},{"$f":"IF(O457>0,VLOOKUP(O457,Set!$H$2:$J$16,2,FALSE),\"\")","v":""}]
[{"$nulls":8},{"$f":"IF(H458>0,VLOOKUP(H458,Set!$A$2:$B$4,2,FALSE),\"\")","v":""},{"$nulls":6},{"$f":"IF(O458>0,VLOOKUP(O458,Set!$H$2:$J$16,2,FALSE),\"\")","v":""}]
[{"$nulls":8},{"$f":"IF(H459>0,VLOOKUP(H459,Set!$A$2:$B$4,2,FALSE),\"\")","v":""},{"$nulls":6},{"$f":"IF(O459>0,VLOOKUP(O459,Set!$H$2:$J$16,2,FALSE),\"\")","v":""}]
[{"$nulls":8},{"$f":"IF(H460>0,VLOOKUP(H460,Set!$A$2:$B$4,2,FALSE),\"\")","v":""},{"$nulls":6},{"$f":"IF(O460>0,VLOOKUP(O460,Set!$H$2:$J$16,2,FALSE),\"\")","v":""}]
[{"$nulls":8},{"$f":"IF(H461>0,VLOOKUP(H461,Set!$A$2:$B$4,2,FALSE),\"\")","v":""},{"$nulls":6},{"$f":"IF(O461>0,VLOOKUP(O461,Set!$H$2:$J$16,2,FALSE),\"\")","v":""}]
[{"$nulls":8},{"$f":"IF(H462>0,VLOOKUP(H462,Set!$A$2:$B$4,2,FALSE),\"\")","v":""},{"$nulls":6},{"$f":"IF(O462>0,VLOOKUP(O462,Set!$H$2:$J$16,2,FALSE),\"\")","v":""}]
[{"$nulls":8},{"$f":"IF(H463>0,VLOOKUP(H463,Set!$A$2:$B$4,2,FALSE),\"\")","v":""},{"$nulls":6},{"$f":"IF(O463>0,VLOOKUP(O463,Set!$H$2:$J$16,2,FALSE),\"\")","v":""}]
[{"$nulls":8},{"$f":"IF(H464>0,VLOOKUP(H464,Set!$A$2:$B$4,2,FALSE),\"\")","v":""},{"$nulls":6},{"$f":"IF(O464>0,VLOOKUP(O464,Set!$H$2:$J$16,2,FALSE),\"\")","v":""}]
[{"$nulls":8},{"$f":"IF(H465>0,VLOOKUP(H465,Set!$A$2:$B$4,2,FALSE),\"\")","v":""},{"$nulls":6},{"$f":"IF(O465>0,VLOOKUP(O465,Set!$H$2:$J$16,2,FALSE),\"\")","v":""}]
[{"$nulls":8},{"$f":"IF(H466>0,VLOOKUP(H466,Set!$A$2:$B$4,2,FALSE),\"\")","v":""},{"$nulls":6},{"$f":"IF(O466>0,VLOOKUP(O466,Set!$H$2:$J$16,2,FALSE),\"\")","v":""}]
[{"$nulls":8},{"$f":"IF(H467>0,VLOOKUP(H467,Set!$A$2:$B$4,2,FALSE),\"\")","v":""},{"$nulls":6},{"$f":"IF(O467>0,VLOOKUP(O467,Set!$H$2:$J$16,2,FALSE),\"\")","v":""}]
[{"$nulls":8},{"$f":"IF(H468>0,VLOOKUP(H468,Set!$A$2:$B$4,2,FALSE),\"\")","v":""},{"$nulls":6},{"$f":"IF(O468>0,VLOOKUP(O468,Set!$H$2:$J$16,2,FALSE),\"\")","v":""}]
[{"$nulls":8},{"$f":"IF(H469>0,VLOOKUP(H469,Set!$A$2:$B$4,2,FALSE),\"\")","v":""},{"$nulls":6},{"$f":"IF(O469>0,VLOOKUP(O469,Set!$H$2:$J$16,2,FALSE),\"\")","v":""}]
[{"$nulls":8},{"$f":"IF(H470>0,VLOOKUP(H470,Set!$A$2:$B$4,2,FALSE),\"\")","v":""},{"$nulls":6},{"$f":"IF(O470>0,VLOOKUP(O470,Set!$H$2:$J$16,2,FALSE),\"\")","v":""}]
[{"$nulls":8},{"$f":"IF(H471>0,VLOOKUP(H471,Set!$A$2:$B$4,2,FALSE),\"\")","v":""},{"$nulls":6},{"$f":"IF(O471>0,VLOOKUP(O471,Set!$H$2:$J$16,2,FALSE),\"\")","v":""}]
[{"$nulls":8},{"$f":"IF(H472>0,VLOOKUP(H472,Set!$A$2:$B$4,2,FALSE),\"\")","v":""},{"$nulls":6},{"$f":"IF(O472>0,VLOOKUP(O472,Set!$H$2:$J$16,2,FALSE),\"\")","v":""}]
[{"$nulls":8},{"$f":"IF(H473>0,VLOOKUP(H473,Set!$A$2:$B$4,2,FALSE),\"\")","v":""},{"$nulls":6},{"$f":"IF(O473>0,VLOOKUP(O473,Set!$H$2:$J$16,2,FALSE),\"\")","v":""}]
[{"$nulls":8},{"$f":"IF(H474>0,VLOOKUP(H474,Set!$A$2:$B$4,2,FALSE),\"\")","v":""},{"$nulls":6},{"$f":"IF(O474>0,VLOOKUP(O474,Set!$H$2:$J$16,2,FALSE),\"\")","v":""}]
[{"$nulls":8},{"$f":"IF(H475>0,VLOOKUP(H475,Set!$A$2:$B$4,2,FALSE),\"\")","v":""},{"$nulls":6},{"$f":"IF(O475>0,VLOOKUP(O475,Set!$H$2:$J$16,2,FALSE),\"\")","v":""}]
[{"$nulls":8},{"$f":"IF(H476>0,VLOOKUP(H476,Set!$A$2:$B$4,2,FALSE),\"\")","v":""},{"$nulls":6},{"$f":"IF(O476>0,VLOOKUP(O476,Set!$H$2:$J$16,2,FALSE),\"\")","v":""}]
[{"$nulls":8},{"$f":"IF(H477>0,VLOOKUP(H477,Set!$A$2:$B$4,2,FALSE),\"\")","v":""},{"$nulls":6},{"$f":"IF(O477>0,VLOOKUP(O477,Set!$H$2:$J$16,2,FALSE),\"\")","v":""}]
[{"$nulls":8},{"$f":"IF(H478>0,VLOOKUP(H478,Set!$A$2:$B$4,2,FALSE),\"\")","v":""},{"$nulls":6},{"$f":"IF(O478>0,VLOOKUP(O478,Set!$H$2:$J$16,2,FALSE),\"\")","v":""}]
[{"$nulls":8},{"$f":"IF(H479>0,VLOOKUP(H479,Set!$A$2:$B$4,2,FALSE),\"\")","v":""},{"$nulls":6},{"$f":"IF(O479>0,VLOOKUP(O479,Set!$H$2:$J$16,2,FALSE),\"\")","v":""}]
[{"$nulls":8},{"$f":"IF(H480>0,VLOOKUP(H480,Set!$A$2:$B$4,2,FALSE),\"\")","v":""},{"$nulls":6},{"$f":"IF(O480>0,VLOOKUP(O480,Set!$H$2:$J$16,2,FALSE),\"\")","v":""}]
[{"$nulls":8},{"$f":"IF(H481>0,VLOOKUP(H481,Set!$A$2:$B$4,2,FALSE),\"\")","v":""},{"$nulls":6},{"$f":"IF(O481>0,VLOOKUP(O481,Set!$H$2:$J$16,2,FALSE),\"\")","v":""}]
[{"$nulls":8},{"$f":"IF(H482>0,VLOOKUP(H482,Set!$A$2:$B$4,2,FALSE),\"\")","v":""},{"$nulls":6},{"$f":"IF(O482>0,VLOOKUP(O482,Set!$H$2:$J$16,2,FALSE),\"\")","v":""}]
[{"$nulls":8},{"$f":"IF(H483>0,VLOOKUP(H483,Set!$A$2:$B$4,2,FALSE),\"\")","v":""},{"$nulls":6},{"$f":"IF(O483>0,VLOOKUP(O483,Set!$H$2:$J$16,2,FALSE),\"\")","v":""}]
[{"$nulls":8},{"$f":"IF(H484>0,VLOOKUP(H484,Set!$A$2:$B$4,2,FALSE),\"\")","v":""},{"$nulls":6},{"$f":"IF(O484>0,VLOOKUP(O484,Set!$H$2:$J$16,2,FALSE),\"\")","v":""}]
[{"$nulls":8},{"$f":"IF(H485>0,VLOOKUP(H485,Set!$A$2:$B$4,2,FALSE),\"\")","v":""},{"$nulls":6},{"$f":"IF(O485>0,VLOOKUP(O485,Set!$H$2:$J$16,2,FALSE),\"\")","v":""}]
[{"$nulls":8},{"$f":"IF(H486>0,VLOOKUP(H486,Set!$A$2:$B$4,2,FALSE),\"\")","v":""},{"$nulls":6},{"$f":"IF(O486>0,VLOOKUP(O486,Set!$H$2:$J$16,2,FALSE),\"\")","v":""}]
[{"$nulls":8},{"$f":"IF(H487>0,VLOOKUP(H487,Set!$A$2:$B$4,2,FALSE),\"\")","v":""},{"$nulls":6},{"$f":"IF(O487>0,VLOOKUP(O487,Set!$H$2:$J$16,2,FALSE),\"\")","v":""}]
[{"$nulls":8},{"$f":"IF(H488>0,VLOOKUP(H488,Set!$A$2:$B$4,2,FALSE),\"\")","v":""},{"$nulls":6},{"$f":"IF(O488>0,VLOOKUP(O488,Set!$H$2:$J$16,2,FALSE),\"\")","v":""}]
[{"$nulls":8},{"$f":"IF(H489>0,VLOOKUP(H489,Set!$A$2:$B$4,2,FALSE),\"\")","v":""},{"$nulls":6},{"$f":"IF(O489>0,VLOOKUP(O489,Set!$H$2:$J$16,2,FALSE),\"\")","v":""}]
[{"$nulls":8},{"$f":"IF(H490>0,VLOOKUP(H490,Set!$A$2:$B$4,2,FALSE),\"\")","v":""},{"$nulls":6},{"$f":"IF(O490>0,VLOOKUP(O490,Set!$H$2:$J$16,2,FALSE),\"\")","v":""}]
[{"$nulls":8},{"$f":"IF(H491>0,VLOOKUP(H491,Set!$A$2:$B$4,2,FALSE),\"\")","v":""},{"$nulls":6},{"$f":"IF(O491>0,VLOOKUP(O491,Set!$H$2:$J$16,2,FALSE),\"\")","v":""}]
[{"$nulls":8},{"$f":"IF(H492>0,VLOOKUP(H492,Set!$A$2:$B$4,2,FALSE),\"\")","v":""},{"$nulls":6},{"$f":"IF(O492>0,VLOOKUP(O492,Set!$H$2:$J$16,2,FALSE),\"\")","v":""}]
[{"$nulls":8},{"$f":"IF(H493>0,VLOOKUP(H493,Set!$A$2:$B$4,2,FALSE),\"\")","v":""},{"$nulls":6},{"$f":"IF(O493>0,VLOOKUP(O493,Set!$H$2:$J$16,2,FALSE),\"\")","v":""}]
[{"$nulls":8},{"$f":"IF(H494>0,VLOOKUP(H494,Set!$A$2:$B$4,2,FALSE),\"\")","v":""},{"$nulls":6},{"$f":"IF(O494>0,VLOOKUP(O494,Set!$H$2:$J$16,2,FALSE),\"\")","v":""}]
[{"$nulls":8},{"$f":"IF(H495>0,VLOOKUP(H495,Set!$A$2:$B$4,2,FALSE),\"\")","v":""},{"$nulls":6},{"$f":"IF(O495>0,VLOOKUP(O495,Set!$H$2:$J$16,2,FALSE),\"\")","v":""}]
[{"$nulls":8},{"$f":"IF(H496>0,VLOOKUP(H496,Set!$A$2:$B$4,2,FALSE),\"\")","v":""},{"$nulls":6},{"$f":"IF(O496>0,VLOOKUP(O496,Set!$H$2:$J$16,2,FALSE),\"\")","v":""}]
[{"$nulls":8},{"$f":"IF(H497>0,VLOOKUP(H497,Set!$A$2:$B$4,2,FALSE),\"\")","v":""},{"$nulls":6},{"$f":"IF(O497>0,VLOOKUP(O497,Set!$H$2:$J$16,2,FALSE),\"\")","v":""}]
[{"$nulls":8},{"$f":"IF(H498>0,VLOOKUP(H498,Set!$A$2:$B$4,2,FALSE),\"\")","v":""},{"$nulls":6},{"$f":"IF(O498>0,VLOOKUP(O498,Set!$H$2:$J$16,2,FALSE),\"\")","v":""}]
[{"$nulls":8},{"$f":"IF(H499>0,VLOOKUP(H499,Set!$A$2:$B$4,2,FALSE),\"\")","v":""},{"$nulls":6},{"$f":"IF(O499>0,VLOOKUP(O499,Set!$H$2:$J$16,2,FALSE),\"\")","v":""}]
[{"$nulls":8},{"$f":"IF(H500>0,VLOOKUP(H500,Set!$A$2:$B$4,2,FALSE),\"\")","v":""},{"$nulls":6},{"$f":"IF(O500>0,VLOOKUP(O500,Set!$H$2:$J$16,2,FALSE),\"\")","v":""}]
[{"$nulls":8},{"$f":"IF(H501>0,VLOOKUP(H501,Set!$A$2:$B$4,2,FALSE),\"\")","v":""},{"$nulls":6},{"$f":"IF(O501>0,VLOOKUP(O501,Set!$H$2:$J$16,2,FALSE),\"\")","v":""}]
[{"$nulls":8},{"$f":"IF(H502>0,VLOOKUP(H502,Set!$A$2:$B$4,2,FALSE),\"\")","v":""},{"$nulls":6},{"$f":"IF(O502>0,VLOOKUP(O502,Set!$H$2:$J$16,2,FALSE),\"\")","v":""}]
[{"$nulls":8},{"$f":"IF(H503>0,VLOOKUP(H503,Set!$A$2:$B$4,2,FALSE),\"\")","v":""},{"$nulls":6},{"$f":"IF(O503>0,VLOOKUP(O503,Set!$H$2:$J$16,2,FALSE),\"\")","v":""}]
[{"$nulls":8},{"$f":"IF(H504>0,VLOOKUP(H504,Set!$A$2:$B$4,2,FALSE),\"\")","v":""},{"$nulls":6},{"$f":"IF(O504>0,VLOOKUP(O504,Set!$H$2:$J$16,2,FALSE),\"\")","v":""}]
[{"$nulls":8},{"$f":"IF(H505>0,VLOOKUP(H505,Set!$A$2:$B$4,2,FALSE),\"\")","v":""},{"$nulls":6},{"$f":"IF(O505>0,VLOOKUP(O505,Set!$H$2:$J$16,2,FALSE),\"\")","v":""}]
[{"$nulls":8},{"$f":"IF(H506>0,VLOOKUP(H506,Set!$A$2:$B$4,2,FALSE),\"\")","v":""},{"$nulls":6},{"$f":"IF(O506>0,VLOOKUP(O506,Set!$H$2:$J$16,2,FALSE),\"\")","v":""}]
[{"$nulls":8},{"$f":"IF(H507>0,VLOOKUP(H507,Set!$A$2:$B$4,2,FALSE),\"\")","v":""},{"$nulls":6},{"$f":"IF(O507>0,VLOOKUP(O507,Set!$H$2:$J$16,2,FALSE),\"\")","v":""}]
[{"$nulls":8},{"$f":"IF(H508>0,VLOOKUP(H508,Set!$A$2:$B$4,2,FALSE),\"\")","v":""},{"$nulls":6},{"$f":"IF(O508>0,VLOOKUP(O508,Set!$H$2:$J$16,2,FALSE),\"\")","v":""}]
[{"$nulls":8},{"$f":"IF(H509>0,VLOOKUP(H509,Set!$A$2:$B$4,2,FALSE),\"\")","v":""},{"$nulls":6},{"$f":"IF(O509>0,VLOOKUP(O509,Set!$H$2:$J$16,2,FALSE),\"\")","v":""}]
[{"$nulls":8},{"$f":"IF(H510>0,VLOOKUP(H510,Set!$A$2:$B$4,2,FALSE),\"\")","v":""},{"$nulls":6},{"$f":"IF(O510>0,VLOOKUP(O510,Set!$H$2:$J$16,2,FALSE),\"\")","v":""}]
[{"$nulls":8},{"$f":"IF(H511>0,VLOOKUP(H511,Set!$A$2:$B$4,2,FALSE),\"\")","v":""},{"$nulls":6},{"$f":"IF(O511>0,VLOOKUP(O511,Set!$H$2:$J$16,2,FALSE),\"\")","v":""}]
[{"$nulls":8},{"$f":"IF(H512>0,VLOOKUP(H512,Set!$A$2:$B$4,2,FALSE),\"\")","v":""},{"$nulls":6},{"$f":"IF(O512>0,VLOOKUP(O512,Set!$H$2:$J$16,2,FALSE),\"\")","v":""}]
[{"$nulls":8},{"$f":"IF(H513>0,VLOOKUP(H513,Set!$A$2:$B$4,2,FALSE),\"\")","v":""},{"$nulls":6},{"$f":"IF(O513>0,VLOOKUP(O513,Set!$H$2:$J$16,2,FALSE),\"\")","v":""}]
[{"$nulls":8},{"$f":"IF(H514>0,VLOOKUP(H514,Set!$A$2:$B$4,2,FALSE),\"\")","v":""},{"$nulls":6},{"$f":"IF(O514>0,VLOOKUP(O514,Set!$H$2:$J$16,2,FALSE),\"\")","v":""}]
[{"$nulls":8},{"$f":"IF(H515>0,VLOOKUP(H515,Set!$A$2:$B$4,2,FALSE),\"\")","v":""},{"$nulls":6},{"$f":"IF(O515>0,VLOOKUP(O515,Set!$H$2:$J$16,2,FALSE),\"\")","v":""}]
[{"$nulls":8},{"$f":"IF(H516>0,VLOOKUP(H516,Set!$A$2:$B$4,2,FALSE),\"\")","v":""},{"$nulls":6},{"$f":"IF(O516>0,VLOOKUP(O516,Set!$H$2:$J$16,2,FALSE),\"\")","v":""}]
[{"$nulls":8},{"$f":"IF(H517>0,VLOOKUP(H517,Set!$A$2:$B$4,2,FALSE),\"\")","v":""},{"$nulls":6},{"$f":"IF(O517>0,VLOOKUP(O517,Set!$H$2:$J$16,2,FALSE),\"\")","v":""}]
[{"$nulls":8},{"$f":"IF(H518>0,VLOOKUP(H518,Set!$A$2:$B$4,2,FALSE),\"\")","v":""},{"$nulls":6},{"$f":"IF(O518>0,VLOOKUP(O518,Set!$H$2:$J$16,2,FALSE),\"\")","v":""}]
[{"$nulls":8},{"$f":"IF(H519>0,VLOOKUP(H519,Set!$A$2:$B$4,2,FALSE),\"\")","v":""},{"$nulls":6},{"$f":"IF(O519>0,VLOOKUP(O519,Set!$H$2:$J$16,2,FALSE),\"\")","v":""}]
[{"$nulls":8},{"$f":"IF(H520>0,VLOOKUP(H520,Set!$A$2:$B$4,2,FALSE),\"\")","v":""},{"$nulls":6},{"$f":"IF(O520>0,VLOOKUP(O520,Set!$H$2:$J$16,2,FALSE),\"\")","v":""}]
[{"$nulls":8},{"$f":"IF(H521>0,VLOOKUP(H521,Set!$A$2:$B$4,2,FALSE),\"\")","v":""},{"$nulls":6},{"$f":"IF(O521>0,VLOOKUP(O521,Set!$H$2:$J$16,2,FALSE),\"\")","v":""}]
[{"$nulls":8},{"$f":"IF(H522>0,VLOOKUP(H522,Set!$A$2:$B$4,2,FALSE),\"\")","v":""},{"$nulls":6},{"$f":"IF(O522>0,VLOOKUP(O522,Set!$H$2:$J$16,2,FALSE),\"\")","v":""}]
[{"$nulls":8},{"$f":"IF(H523>0,VLOOKUP(H523,Set!$A$2:$B$4,2,FALSE),\"\")","v":""},{"$nulls":6},{"$f":"IF(O523>0,VLOOKUP(O523,Set!$H$2:$J$16,2,FALSE),\"\")","v":""}]
[{"$nulls":8},{"$f":"IF(H524>0,VLOOKUP(H524,Set!$A$2:$B$4,2,FALSE),\"\")","v":""},{"$nulls":6},{"$f":"IF(O524>0,VLOOKUP(O524,Set!$H$2:$J$16,2,FALSE),\"\")","v":""}]
[{"$nulls":8},{"$f":"IF(H525>0,VLOOKUP(H525,Set!$A$2:$B$4,2,FALSE),\"\")","v":""},{"$nulls":6},{"$f":"IF(O525>0,VLOOKUP(O525,Set!$H$2:$J$16,2,FALSE),\"\")","v":""}]
[{"$nulls":8},{"$f":"IF(H526>0,VLOOKUP(H526,Set!$A$2:$B$4,2,FALSE),\"\")","v":""},{"$nulls":6},{"$f":"IF(O526>0,VLOOKUP(O526,Set!$H$2:$J$16,2,FALSE),\"\")","v":""}]
[{"$nulls":8},{"$f":"IF(H527>0,VLOOKUP(H527,Set!$A$2:$B$4,2,FALSE),\"\")","v":""},{"$nulls":6},{"$f":"IF(O527>0,VLOOKUP(O527,Set!$H$2:$J$16,2,FALSE),\"\")","v":""}]
[{"$nulls":8},{"$f":"IF(H528>0,VLOOKUP(H528,Set!$A$2:$B$4,2,FALSE),\"\")","v":""},{"$nulls":6},{"$f":"IF(O528>0,VLOOKUP(O528,Set!$H$2:$J$16,2,FALSE),\"\")","v":""}]
[{"$nulls":8},{"$f":"IF(H529>0,VLOOKUP(H529,Set!$A$2:$B$4,2,FALSE),\"\")","v":""},{"$nulls":6},{"$f":"IF(O529>0,VLOOKUP(O529,Set!$H$2:$J$16,2,FALSE),\"\")","v":""}]
[{"$nulls":8},{"$f":"IF(H530>0,VLOOKUP(H530,Set!$A$2:$B$4,2,FALSE),\"\")","v":""},{"$nulls":6},{"$f":"IF(O530>0,VLOOKUP(O530,Set!$H$2:$J$16,2,FALSE),\"\")","v":""}]
[{"$nulls":8},{"$f":"IF(H531>0,VLOOKUP(H531,Set!$A$2:$B$4,2,FALSE),\"\")","v":""},{"$nulls":6},{"$f":"IF(O531>0,VLOOKUP(O531,Set!$H$2:$J$16,2,FALSE),\"\")","v":""}]
[{"$nulls":8},{"$f":"IF(H532>0,VLOOKUP(H532,Set!$A$2:$B$4,2,FALSE),\"\")","v":""},{"$nulls":6},{"$f":"IF(O532>0,VLOOKUP(O532,Set!$H$2:$J$16,2,FALSE),\"\")","v":""}]
[{"$nulls":8},{"$f":"IF(H533>0,VLOOKUP(H533,Set!$A$2:$B$4,2,FALSE),\"\")","v":""},{"$nulls":6},{"$f":"IF(O533>0,VLOOKUP(O533,Set!$H$2:$J$16,2,FALSE),\"\")","v":""}]
[{"$nulls":8},{"$f":"IF(H534>0,VLOOKUP(H534,Set!$A$2:$B$4,2,FALSE),\"\")","v":""},{"$nulls":6},{"$f":"IF(O534>0,VLOOKUP(O534,Set!$H$2:$J$16,2,FALSE),\"\")","v":""}]
[{"$nulls":8},{"$f":"IF(H535>0,VLOOKUP(H535,Set!$A$2:$B$4,2,FALSE),\"\")","v":""},{"$nulls":6},{"$f":"IF(O535>0,VLOOKUP(O535,Set!$H$2:$J$16,2,FALSE),\"\")","v":""}]
[{"$nulls":8},{"$f":"IF(H536>0,VLOOKUP(H536,Set!$A$2:$B$4,2,FALSE),\"\")","v":""},{"$nulls":6},{"$f":"IF(O536>0,VLOOKUP(O536,Set!$H$2:$J$16,2,FALSE),\"\")","v":""}]
[{"$nulls":8},{"$f":"IF(H537>0,VLOOKUP(H537,Set!$A$2:$B$4,2,FALSE),\"\")","v":""},{"$nulls":6},{"$f":"IF(O537>0,VLOOKUP(O537,Set!$H$2:$J$16,2,FALSE),\"\")","v":""}]
[{"$nulls":8},{"$f":"IF(H538>0,VLOOKUP(H538,Set!$A$2:$B$4,2,FALSE),\"\")","v":""},{"$nulls":6},{"$f":"IF(O538>0,VLOOKUP(O538,Set!$H$2:$J$16,2,FALSE),\"\")","v":""}]
[{"$nulls":8},{"$f":"IF(H539>0,VLOOKUP(H539,Set!$A$2:$B$4,2,FALSE),\"\")","v":""},{"$nulls":6},{"$f":"IF(O539>0,VLOOKUP(O539,Set!$H$2:$J$16,2,FALSE),\"\")","v":""}]
[{"$nulls":8},{"$f":"IF(H540>0,VLOOKUP(H540,Set!$A$2:$B$4,2,FALSE),\"\")","v":""},{"$nulls":6},{"$f":"IF(O540>0,VLOOKUP(O540,Set!$H$2:$J$16,2,FALSE),\"\")","v":""}]
[{"$nulls":8},{"$f":"IF(H541>0,VLOOKUP(H541,Set!$A$2:$B$4,2,FALSE),\"\")","v":""},{"$nulls":6},{"$f":"IF(O541>0,VLOOKUP(O541,Set!$H$2:$J$16,2,FALSE),\"\")","v":""}]
[{"$nulls":8},{"$f":"IF(H542>0,VLOOKUP(H542,Set!$A$2:$B$4,2,FALSE),\"\")","v":""},{"$nulls":6},{"$f":"IF(O542>0,VLOOKUP(O542,Set!$H$2:$J$16,2,FALSE),\"\")","v":""}]
[{"$nulls":8},{"$f":"IF(H543>0,VLOOKUP(H543,Set!$A$2:$B$4,2,FALSE),\"\")","v":""},{"$nulls":6},{"$f":"IF(O543>0,VLOOKUP(O543,Set!$H$2:$J$16,2,FALSE),\"\")","v":""}]
[{"$nulls":8},{"$f":"IF(H544>0,VLOOKUP(H544,Set!$A$2:$B$4,2,FALSE),\"\")","v":""},{"$nulls":6},{"$f":"IF(O544>0,VLOOKUP(O544,Set!$H$2:$J$16,2,FALSE),\"\")","v":""}]
[{"$nulls":8},{"$f":"IF(H545>0,VLOOKUP(H545,Set!$A$2:$B$4,2,FALSE),\"\")","v":""},{"$nulls":6},{"$f":"IF(O545>0,VLOOKUP(O545,Set!$H$2:$J$16,2,FALSE),\"\")","v":""}]
[{"$nulls":8},{"$f":"IF(H546>0,VLOOKUP(H546,Set!$A$2:$B$4,2,FALSE),\"\")","v":""},{"$nulls":6},{"$f":"IF(O546>0,VLOOKUP(O546,Set!$H$2:$J$16,2,FALSE),\"\")","v":""}]
[{"$nulls":8},{"$f":"IF(H547>0,VLOOKUP(H547,Set!$A$2:$B$4,2,FALSE),\"\")","v":""},{"$nulls":6},{"$f":"IF(O547>0,VLOOKUP(O547,Set!$H$2:$J$16,2,FALSE),\"\")","v":""}]
[{"$nulls":8},{"$f":"IF(H548>0,VLOOKUP(H548,Set!$A$2:$B$4,2,FALSE),\"\")","v":""},{"$nulls":6},{"$f":"IF(O548>0,VLOOKUP(O548,Set!$H$2:$J$16,2,FALSE),\"\")","v":""}]
[{"$nulls":8},{"$f":"IF(H549>0,VLOOKUP(H549,Set!$A$2:$B$4,2,FALSE),\"\")","v":""},{"$nulls":6},{"$f":"IF(O549>0,VLOOKUP(O549,Set!$H$2:$J$16,2,FALSE),\"\")","v":""}]
[{"$nulls":8},{"$f":"IF(H550>0,VLOOKUP(H550,Set!$A$2:$B$4,2,FALSE),\"\")","v":""},{"$nulls":6},{"$f":"IF(O550>0,VLOOKUP(O550,Set!$H$2:$J$16,2,FALSE),\"\")","v":""}]
[{"$nulls":8},{"$f":"IF(H551>0,VLOOKUP(H551,Set!$A$2:$B$4,2,FALSE),\"\")","v":""},{"$nulls":6},{"$f":"IF(O551>0,VLOOKUP(O551,Set!$H$2:$J$16,2,FALSE),\"\")","v":""}]
[{"$nulls":8},{"$f":"IF(H552>0,VLOOKUP(H552,Set!$A$2:$B$4,2,FALSE),\"\")","v":""},{"$nulls":6},{"$f":"IF(O552>0,VLOOKUP(O552,Set!$H$2:$J$16,2,FALSE),\"\")","v":""}]
[{"$nulls":8},{"$f":"IF(H553>0,VLOOKUP(H553,Set!$A$2:$B$4,2,FALSE),\"\")","v":""},{"$nulls":6},{"$f":"IF(O553>0,VLOOKUP(O553,Set!$H$2:$J$16,2,FALSE),\"\")","v":""}]
[{"$nulls":8},{"$f":"IF(H554>0,VLOOKUP(H554,Set!$A$2:$B$4,2,FALSE),\"\")","v":""},{"$nulls":6},{"$f":"IF(O554>0,VLOOKUP(O554,Set!$H$2:$J$16,2,FALSE),\"\")","v":""}]
[{"$nulls":8},{"$f":"IF(H555>0,VLOOKUP(H555,Set!$A$2:$B$4,2,FALSE),\"\")","v":""},{"$nulls":6},{"$f":"IF(O555>0,VLOOKUP(O555,Set!$H$2:$J$16,2,FALSE),\"\")","v":""}]
[{"$nulls":8},{"$f":"IF(H556>0,VLOOKUP(H556,Set!$A$2:$B$4,2,FALSE),\"\")","v":""},{"$nulls":6},{"$f":"IF(O556>0,VLOOKUP(O556,Set!$H$2:$J$16,2,FALSE),\"\")","v":""}]
[{"$nulls":8},{"$f":"IF(H557>0,VLOOKUP(H557,Set!$A$2:$B$4,2,FALSE),\"\")","v":""},{"$nulls":6},{"$f":"IF(O557>0,VLOOKUP(O557,Set!$H$2:$J$16,2,FALSE),\"\")","v":""}]
[{"$nulls":8},{"$f":"IF(H558>0,VLOOKUP(H558,Set!$A$2:$B$4,2,FALSE),\"\")","v":""},{"$nulls":6},{"$f":"IF(O558>0,VLOOKUP(O558,Set!$H$2:$J$16,2,FALSE),\"\")","v":""}]
[{"$nulls":8},{"$f":"IF(H559>0,VLOOKUP(H559,Set!$A$2:$B$4,2,FALSE),\"\")","v":""},{"$nulls":6},{"$f":"IF(O559>0,VLOOKUP(O559,Set!$H$2:$J$16,2,FALSE),\"\")","v":""}]
[{"$nulls":8},{"$f":"IF(H560>0,VLOOKUP(H560,Set!$A$2:$B$4,2,FALSE),\"\")","v":""},{"$nulls":6},{"$f":"IF(O560>0,VLOOKUP(O560,Set!$H$2:$J$16,2,FALSE),\"\")","v":""}]
[{"$nulls":8},{"$f":"IF(H561>0,VLOOKUP(H561,Set!$A$2:$B$4,2,FALSE),\"\")","v":""},{"$nulls":6},{"$f":"IF(O561>0,VLOOKUP(O561,Set!$H$2:$J$16,2,FALSE),\"\")","v":""}]
[{"$nulls":8},{"$f":"IF(H562>0,VLOOKUP(H562,Set!$A$2:$B$4,2,FALSE),\"\")","v":""},{"$nulls":6},{"$f":"IF(O562>0,VLOOKUP(O562,Set!$H$2:$J$16,2,FALSE),\"\")","v":""}]
[{"$nulls":8},{"$f":"IF(H563>0,VLOOKUP(H563,Set!$A$2:$B$4,2,FALSE),\"\")","v":""},{"$nulls":6},{"$f":"IF(O563>0,VLOOKUP(O563,Set!$H$2:$J$16,2,FALSE),\"\")","v":""}]
[{"$nulls":8},{"$f":"IF(H564>0,VLOOKUP(H564,Set!$A$2:$B$4,2,FALSE),\"\")","v":""},{"$nulls":6},{"$f":"IF(O564>0,VLOOKUP(O564,Set!$H$2:$J$16,2,FALSE),\"\")","v":""}]
[{"$nulls":8},{"$f":"IF(H565>0,VLOOKUP(H565,Set!$A$2:$B$4,2,FALSE),\"\")","v":""},{"$nulls":6},{"$f":"IF(O565>0,VLOOKUP(O565,Set!$H$2:$J$16,2,FALSE),\"\")","v":""}]
[{"$nulls":8},{"$f":"IF(H566>0,VLOOKUP(H566,Set!$A$2:$B$4,2,FALSE),\"\")","v":""},{"$nulls":6},{"$f":"IF(O566>0,VLOOKUP(O566,Set!$H$2:$J$16,2,FALSE),\"\")","v":""}]
[{"$nulls":8},{"$f":"IF(H567>0,VLOOKUP(H567,Set!$A$2:$B$4,2,FALSE),\"\")","v":""},{"$nulls":6},{"$f":"IF(O567>0,VLOOKUP(O567,Set!$H$2:$J$16,2,FALSE),\"\")","v":""}]
[{"$nulls":8},{"$f":"IF(H568>0,VLOOKUP(H568,Set!$A$2:$B$4,2,FALSE),\"\")","v":""},{"$nulls":6},{"$f":"IF(O568>0,VLOOKUP(O568,Set!$H$2:$J$16,2,FALSE),\"\")","v":""}]
[{"$nulls":8},{"$f":"IF(H569>0,VLOOKUP(H569,Set!$A$2:$B$4,2,FALSE),\"\")","v":""},{"$nulls":6},{"$f":"IF(O569>0,VLOOKUP(O569,Set!$H$2:$J$16,2,FALSE),\"\")","v":""}]
[{"$nulls":8},{"$f":"IF(H570>0,VLOOKUP(H570,Set!$A$2:$B$4,2,FALSE),\"\")","v":""},{"$nulls":6},{"$f":"IF(O570>0,VLOOKUP(O570,Set!$H$2:$J$16,2,FALSE),\"\")","v":""}]
[{"$nulls":8},{"$f":"IF(H571>0,VLOOKUP(H571,Set!$A$2:$B$4,2,FALSE),\"\")","v":""},{"$nulls":6},{"$f":"IF(O571>0,VLOOKUP(O571,Set!$H$2:$J$16,2,FALSE),\"\")","v":""}]
[{"$nulls":8},{"$f":"IF(H572>0,VLOOKUP(H572,Set!$A$2:$B$4,2,FALSE),\"\")","v":""},{"$nulls":6},{"$f":"IF(O572>0,VLOOKUP(O572,Set!$H$2:$J$16,2,FALSE),\"\")","v":""}]
[{"$nulls":8},{"$f":"IF(H573>0,VLOOKUP(H573,Set!$A$2:$B$4,2,FALSE),\"\")","v":""},{"$nulls":6},{"$f":"IF(O573>0,VLOOKUP(O573,Set!$H$2:$J$16,2,FALSE),\"\")","v":""}]
[{"$nulls":8},{"$f":"IF(H574>0,VLOOKUP(H574,Set!$A$2:$B$4,2,FALSE),\"\")","v":""},{"$nulls":6},{"$f":"IF(O574>0,VLOOKUP(O574,Set!$H$2:$J$16,2,FALSE),\"\")","v":""}]
[{"$nulls":8},{"$f":"IF(H575>0,VLOOKUP(H575,Set!$A$2:$B$4,2,FALSE),\"\")","v":""},{"$nulls":6},{"$f":"IF(O575>0,VLOOKUP(O575,Set!$H$2:$J$16,2,FALSE),\"\")","v":""}]
[{"$nulls":8},{"$f":"IF(H576>0,VLOOKUP(H576,Set!$A$2:$B$4,2,FALSE),\"\")","v":""},{"$nulls":6},{"$f":"IF(O576>0,VLOOKUP(O576,Set!$H$2:$J$16,2,FALSE),\"\")","v":""}]
[{"$nulls":8},{"$f":"IF(H577>0,VLOOKUP(H577,Set!$A$2:$B$4,2,FALSE),\"\")","v":""},{"$nulls":6},{"$f":"IF(O577>0,VLOOKUP(O577,Set!$H$2:$J$16,2,FALSE),\"\")","v":""}]
[{"$nulls":8},{"$f":"IF(H578>0,VLOOKUP(H578,Set!$A$2:$B$4,2,FALSE),\"\")","v":""},{"$nulls":6},{"$f":"IF(O578>0,VLOOKUP(O578,Set!$H$2:$J$16,2,FALSE),\"\")","v":""}]
[{"$nulls":8},{"$f":"IF(H579>0,VLOOKUP(H579,Set!$A$2:$B$4,2,FALSE),\"\")","v":""},{"$nulls":6},{"$f":"IF(O579>0,VLOOKUP(O579,Set!$H$2:$J$16,2,FALSE),\"\")","v":""}]
[{"$nulls":8},{"$f":"IF(H580>0,VLOOKUP(H580,Set!$A$2:$B$4,2,FALSE),\"\")","v":""},{"$nulls":6},{"$f":"IF(O580>0,VLOOKUP(O580,Set!$H$2:$J$16,2,FALSE),\"\")","v":""}]
[{"$nulls":8},{"$f":"IF(H581>0,VLOOKUP(H581,Set!$A$2:$B$4,2,FALSE),\"\")","v":""},{"$nulls":6},{"$f":"IF(O581>0,VLOOKUP(O581,Set!$H$2:$J$16,2,FALSE),\"\")","v":""}]
[{"$nulls":8},{"$f":"IF(H582>0,VLOOKUP(H582,Set!$A$2:$B$4,2,FALSE),\"\")","v":""},{"$nulls":6},{"$f":"IF(O582>0,VLOOKUP(O582,Set!$H$2:$J$16,2,FALSE),\"\")","v":""}]
[{"$nulls":8},{"$f":"IF(H583>0,VLOOKUP(H583,Set!$A$2:$B$4,2,FALSE),\"\")","v":""},{"$nulls":6},{"$f":"IF(O583>0,VLOOKUP(O583,Set!$H$2:$J$16,2,FALSE),\"\")","v":""}]
[{"$nulls":8},{"$f":"IF(H584>0,VLOOKUP(H584,Set!$A$2:$B$4,2,FALSE),\"\")","v":""},{"$nulls":6},{"$f":"IF(O584>0,VLOOKUP(O584,Set!$H$2:$J$16,2,FALSE),\"\")","v":""}]
[{"$nulls":8},{"$f":"IF(H585>0,VLOOKUP(H585,Set!$A$2:$B$4,2,FALSE),\"\")","v":""},{"$nulls":6},{"$f":"IF(O585>0,VLOOKUP(O585,Set!$H$2:$J$16,2,FALSE),\"\")","v":""}]
[{"$nulls":8},{"$f":"IF(H586>0,VLOOKUP(H586,Set!$A$2:$B$4,2,FALSE),\"\")","v":""},{"$nulls":6},{"$f":"IF(O586>0,VLOOKUP(O586,Set!$H$2:$J$16,2,FALSE),\"\")","v":""}]
[{"$nulls":8},{"$f":"IF(H587>0,VLOOKUP(H587,Set!$A$2:$B$4,2,FALSE),\"\")","v":""},{"$nulls":6},{"$f":"IF(O587>0,VLOOKUP(O587,Set!$H$2:$J$16,2,FALSE),\"\")","v":""}]
[{"$nulls":8},{"$f":"IF(H588>0,VLOOKUP(H588,Set!$A$2:$B$4,2,FALSE),\"\")","v":""},{"$nulls":6},{"$f":"IF(O588>0,VLOOKUP(O588,Set!$H$2:$J$16,2,FALSE),\"\")","v":""}]
[{"$nulls":8},{"$f":"IF(H589>0,VLOOKUP(H589,Set!$A$2:$B$4,2,FALSE),\"\")","v":""},{"$nulls":6},{"$f":"IF(O589>0,VLOOKUP(O589,Set!$H$2:$J$16,2,FALSE),\"\")","v":""}]
[{"$nulls":8},{"$f":"IF(H590>0,VLOOKUP(H590,Set!$A$2:$B$4,2,FALSE),\"\")","v":""},{"$nulls":6},{"$f":"IF(O590>0,VLOOKUP(O590,Set!$H$2:$J$16,2,FALSE),\"\")","v":""}]
[{"$nulls":8},{"$f":"IF(H591>0,VLOOKUP(H591,Set!$A$2:$B$4,2,FALSE),\"\")","v":""},{"$nulls":6},{"$f":"IF(O591>0,VLOOKUP(O591,Set!$H$2:$J$16,2,FALSE),\"\")","v":""}]
[{"$nulls":8},{"$f":"IF(H592>0,VLOOKUP(H592,Set!$A$2:$B$4,2,FALSE),\"\")","v":""},{"$nulls":6},{"$f":"IF(O592>0,VLOOKUP(O592,Set!$H$2:$J$16,2,FALSE),\"\")","v":""}]
[{"$nulls":8},{"$f":"IF(H593>0,VLOOKUP(H593,Set!$A$2:$B$4,2,FALSE),\"\")","v":""},{"$nulls":6},{"$f":"IF(O593>0,VLOOKUP(O593,Set!$H$2:$J$16,2,FALSE),\"\")","v":""}]
[{"$nulls":8},{"$f":"IF(H594>0,VLOOKUP(H594,Set!$A$2:$B$4,2,FALSE),\"\")","v":""},{"$nulls":6},{"$f":"IF(O594>0,VLOOKUP(O594,Set!$H$2:$J$16,2,FALSE),\"\")","v":""}]
[{"$nulls":8},{"$f":"IF(H595>0,VLOOKUP(H595,Set!$A$2:$B$4,2,FALSE),\"\")","v":""},{"$nulls":6},{"$f":"IF(O595>0,VLOOKUP(O595,Set!$H$2:$J$16,2,FALSE),\"\")","v":""}]
[{"$nulls":8},{"$f":"IF(H596>0,VLOOKUP(H596,Set!$A$2:$B$4,2,FALSE),\"\")","v":""},{"$nulls":6},{"$f":"IF(O596>0,VLOOKUP(O596,Set!$H$2:$J$16,2,FALSE),\"\")","v":""}]
[{"$nulls":8},{"$f":"IF(H597>0,VLOOKUP(H597,Set!$A$2:$B$4,2,FALSE),\"\")","v":""},{"$nulls":6},{"$f":"IF(O597>0,VLOOKUP(O597,Set!$H$2:$J$16,2,FALSE),\"\")","v":""}]
[{"$nulls":8},{"$f":"IF(H598>0,VLOOKUP(H598,Set!$A$2:$B$4,2,FALSE),\"\")","v":""},{"$nulls":6},{"$f":"IF(O598>0,VLOOKUP(O598,Set!$H$2:$J$16,2,FALSE),\"\")","v":""}]
[{"$nulls":8},{"$f":"IF(H599>0,VLOOKUP(H599,Set!$A$2:$B$4,2,FALSE),\"\")","v":""},{"$nulls":6},{"$f":"IF(O599>0,VLOOKUP(O599,Set!$H$2:$J$16,2,FALSE),\"\")","v":""}]
[{"$nulls":8},{"$f":"IF(H600>0,VLOOKUP(H600,Set!$A$2:$B$4,2,FALSE),\"\")","v":""},{"$nulls":6},{"$f":"IF(O600>0,VLOOKUP(O600,Set!$H$2:$J$16,2,FALSE),\"\")","v":""}]
[{"$nulls":8},{"$f":"IF(H601>0,VLOOKUP(H601,Set!$A$2:$B$4,2,FALSE),\"\")","v":""},{"$nulls":6},{"$f":"IF(O601>0,VLOOKUP(O601,Set!$H$2:$J$16,2,FALSE),\"\")","v":""}]
[{"$nulls":8},{"$f":"IF(H602>0,VLOOKUP(H602,Set!$A$2:$B$4,2,FALSE),\"\")","v":""},{"$nulls":6},{"$f":"IF(O602>0,VLOOKUP(O602,Set!$H$2:$J$16,2,FALSE),\"\")","v":""}]
[{"$nulls":8},{"$f":"IF(H603>0,VLOOKUP(H603,Set!$A$2:$B$4,2,FALSE),\"\")","v":""},{"$nulls":6},{"$f":"IF(O603>0,VLOOKUP(O603,Set!$H$2:$J$16,2,FALSE),\"\")","v":""}]
[{"$nulls":8},{"$f":"IF(H604>0,VLOOKUP(H604,Set!$A$2:$B$4,2,FALSE),\"\")","v":""},{"$nulls":6},{"$f":"IF(O604>0,VLOOKUP(O604,Set!$H$2:$J$16,2,FALSE),\"\")","v":""}]
[{"$nulls":8},{"$f":"IF(H605>0,VLOOKUP(H605,Set!$A$2:$B$4,2,FALSE),\"\")","v":""},{"$nulls":6},{"$f":"IF(O605>0,VLOOKUP(O605,Set!$H$2:$J$16,2,FALSE),\"\")","v":""}]
[{"$nulls":8},{"$f":"IF(H606>0,VLOOKUP(H606,Set!$A$2:$B$4,2,FALSE),\"\")","v":""},{"$nulls":6},{"$f":"IF(O606>0,VLOOKUP(O606,Set!$H$2:$J$16,2,FALSE),\"\")","v":""}]
[{"$nulls":8},{"$f":"IF(H607>0,VLOOKUP(H607,Set!$A$2:$B$4,2,FALSE),\"\")","v":""},{"$nulls":6},{"$f":"IF(O607>0,VLOOKUP(O607,Set!$H$2:$J$16,2,FALSE),\"\")","v":""}]
[{"$nulls":8},{"$f":"IF(H608>0,VLOOKUP(H608,Set!$A$2:$B$4,2,FALSE),\"\")","v":""},{"$nulls":6},{"$f":"IF(O608>0,VLOOKUP(O608,Set!$H$2:$J$16,2,FALSE),\"\")","v":""}]
[{"$nulls":8},{"$f":"IF(H609>0,VLOOKUP(H609,Set!$A$2:$B$4,2,FALSE),\"\")","v":""},{"$nulls":6},{"$f":"IF(O609>0,VLOOKUP(O609,Set!$H$2:$J$16,2,FALSE),\"\")","v":""}]
[{"$nulls":8},{"$f":"IF(H610>0,VLOOKUP(H610,Set!$A$2:$B$4,2,FALSE),\"\")","v":""},{"$nulls":6},{"$f":"IF(O610>0,VLOOKUP(O610,Set!$H$2:$J$16,2,FALSE),\"\")","v":""}]
[{"$nulls":8},{"$f":"IF(H611>0,VLOOKUP(H611,Set!$A$2:$B$4,2,FALSE),\"\")","v":""},{"$nulls":6},{"$f":"IF(O611>0,VLOOKUP(O611,Set!$H$2:$J$16,2,FALSE),\"\")","v":""}]
[{"$nulls":8},{"$f":"IF(H612>0,VLOOKUP(H612,Set!$A$2:$B$4,2,FALSE),\"\")","v":""},{"$nulls":6},{"$f":"IF(O612>0,VLOOKUP(O612,Set!$H$2:$J$16,2,FALSE),\"\")","v":""}]
[{"$nulls":8},{"$f":"IF(H613>0,VLOOKUP(H613,Set!$A$2:$B$4,2,FALSE),\"\")","v":""},{"$nulls":6},{"$f":"IF(O613>0,VLOOKUP(O613,Set!$H$2:$J$16,2,FALSE),\"\")","v":""}]
[{"$nulls":8},{"$f":"IF(H614>0,VLOOKUP(H614,Set!$A$2:$B$4,2,FALSE),\"\")","v":""},{"$nulls":6},{"$f":"IF(O614>0,VLOOKUP(O614,Set!$H$2:$J$16,2,FALSE),\"\")","v":""}]
[{"$nulls":8},{"$f":"IF(H615>0,VLOOKUP(H615,Set!$A$2:$B$4,2,FALSE),\"\")","v":""},{"$nulls":6},{"$f":"IF(O615>0,VLOOKUP(O615,Set!$H$2:$J$16,2,FALSE),\"\")","v":""}]
[{"$nulls":8},{"$f":"IF(H616>0,VLOOKUP(H616,Set!$A$2:$B$4,2,FALSE),\"\")","v":""},{"$nulls":6},{"$f":"IF(O616>0,VLOOKUP(O616,Set!$H$2:$J$16,2,FALSE),\"\")","v":""}]
[{"$nulls":8},{"$f":"IF(H617>0,VLOOKUP(H617,Set!$A$2:$B$4,2,FALSE),\"\")","v":""},{"$nulls":6},{"$f":"IF(O617>0,VLOOKUP(O617,Set!$H$2:$J$16,2,FALSE),\"\")","v":""}]
[{"$nulls":8},{"$f":"IF(H618>0,VLOOKUP(H618,Set!$A$2:$B$4,2,FALSE),\"\")","v":""},{"$nulls":6},{"$f":"IF(O618>0,VLOOKUP(O618,Set!$H$2:$J$16,2,FALSE),\"\")","v":""}]
[{"$nulls":8},{"$f":"IF(H619>0,VLOOKUP(H619,Set!$A$2:$B$4,2,FALSE),\"\")","v":""},{"$nulls":6},{"$f":"IF(O619>0,VLOOKUP(O619,Set!$H$2:$J$16,2,FALSE),\"\")","v":""}]
[{"$nulls":8},{"$f":"IF(H620>0,VLOOKUP(H620,Set!$A$2:$B$4,2,FALSE),\"\")","v":""},{"$nulls":6},{"$f":"IF(O620>0,VLOOKUP(O620,Set!$H$2:$J$16,2,FALSE),\"\")","v":""}]
[{"$nulls":8},{"$f":"IF(H621>0,VLOOKUP(H621,Set!$A$2:$B$4,2,FALSE),\"\")","v":""},{"$nulls":6},{"$f":"IF(O621>0,VLOOKUP(O621,Set!$H$2:$J$16,2,FALSE),\"\")","v":""}]
[{"$nulls":8},{"$f":"IF(H622>0,VLOOKUP(H622,Set!$A$2:$B$4,2,FALSE),\"\")","v":""},{"$nulls":6},{"$f":"IF(O622>0,VLOOKUP(O622,Set!$H$2:$J$16,2,FALSE),\"\")","v":""}]
[{"$nulls":8},{"$f":"IF(H623>0,VLOOKUP(H623,Set!$A$2:$B$4,2,FALSE),\"\")","v":""},{"$nulls":6},{"$f":"IF(O623>0,VLOOKUP(O623,Set!$H$2:$J$16,2,FALSE),\"\")","v":""}]
[{"$nulls":8},{"$f":"IF(H624>0,VLOOKUP(H624,Set!$A$2:$B$4,2,FALSE),\"\")","v":""},{"$nulls":6},{"$f":"IF(O624>0,VLOOKUP(O624,Set!$H$2:$J$16,2,FALSE),\"\")","v":""}]
[{"$nulls":8},{"$f":"IF(H625>0,VLOOKUP(H625,Set!$A$2:$B$4,2,FALSE),\"\")","v":""},{"$nulls":6},{"$f":"IF(O625>0,VLOOKUP(O625,Set!$H$2:$J$16,2,FALSE),\"\")","v":""}]
[{"$nulls":8},{"$f":"IF(H626>0,VLOOKUP(H626,Set!$A$2:$B$4,2,FALSE),\"\")","v":""},{"$nulls":6},{"$f":"IF(O626>0,VLOOKUP(O626,Set!$H$2:$J$16,2,FALSE),\"\")","v":""}]
[{"$nulls":8},{"$f":"IF(H627>0,VLOOKUP(H627,Set!$A$2:$B$4,2,FALSE),\"\")","v":""},{"$nulls":6},{"$f":"IF(O627>0,VLOOKUP(O627,Set!$H$2:$J$16,2,FALSE),\"\")","v":""}]
[{"$nulls":8},{"$f":"IF(H628>0,VLOOKUP(H628,Set!$A$2:$B$4,2,FALSE),\"\")","v":""},{"$nulls":6},{"$f":"IF(O628>0,VLOOKUP(O628,Set!$H$2:$J$16,2,FALSE),\"\")","v":""}]
[{"$nulls":8},{"$f":"IF(H629>0,VLOOKUP(H629,Set!$A$2:$B$4,2,FALSE),\"\")","v":""},{"$nulls":6},{"$f":"IF(O629>0,VLOOKUP(O629,Set!$H$2:$J$16,2,FALSE),\"\")","v":""}]
[{"$nulls":8},{"$f":"IF(H630>0,VLOOKUP(H630,Set!$A$2:$B$4,2,FALSE),\"\")","v":""},{"$nulls":6},{"$f":"IF(O630>0,VLOOKUP(O630,Set!$H$2:$J$16,2,FALSE),\"\")","v":""}]
[{"$nulls":8},{"$f":"IF(H631>0,VLOOKUP(H631,Set!$A$2:$B$4,2,FALSE),\"\")","v":""},{"$nulls":6},{"$f":"IF(O631>0,VLOOKUP(O631,Set!$H$2:$J$16,2,FALSE),\"\")","v":""}]
[{"$nulls":8},{"$f":"IF(H632>0,VLOOKUP(H632,Set!$A$2:$B$4,2,FALSE),\"\")","v":""},{"$nulls":6},{"$f":"IF(O632>0,VLOOKUP(O632,Set!$H$2:$J$16,2,FALSE),\"\")","v":""}]
[{"$nulls":8},{"$f":"IF(H633>0,VLOOKUP(H633,Set!$A$2:$B$4,2,FALSE),\"\")","v":""},{"$nulls":6},{"$f":"IF(O633>0,VLOOKUP(O633,Set!$H$2:$J$16,2,FALSE),\"\")","v":""}]
[{"$nulls":8},{"$f":"IF(H634>0,VLOOKUP(H634,Set!$A$2:$B$4,2,FALSE),\"\")","v":""},{"$nulls":6},{"$f":"IF(O634>0,VLOOKUP(O634,Set!$H$2:$J$16,2,FALSE),\"\")","v":""}]
[{"$nulls":8},{"$f":"IF(H635>0,VLOOKUP(H635,Set!$A$2:$B$4,2,FALSE),\"\")","v":""},{"$nulls":6},{"$f":"IF(O635>0,VLOOKUP(O635,Set!$H$2:$J$16,2,FALSE),\"\")","v":""}]
[{"$nulls":8},{"$f":"IF(H636>0,VLOOKUP(H636,Set!$A$2:$B$4,2,FALSE),\"\")","v":""},{"$nulls":6},{"$f":"IF(O636>0,VLOOKUP(O636,Set!$H$2:$J$16,2,FALSE),\"\")","v":""}]
[{"$nulls":8},{"$f":"IF(H637>0,VLOOKUP(H637,Set!$A$2:$B$4,2,FALSE),\"\")","v":""},{"$nulls":6},{"$f":"IF(O637>0,VLOOKUP(O637,Set!$H$2:$J$16,2,FALSE),\"\")","v":""}]
[{"$nulls":8},{"$f":"IF(H638>0,VLOOKUP(H638,Set!$A$2:$B$4,2,FALSE),\"\")","v":""},{"$nulls":6},{"$f":"IF(O638>0,VLOOKUP(O638,Set!$H$2:$J$16,2,FALSE),\"\")","v":""}]
[{"$nulls":8},{"$f":"IF(H639>0,VLOOKUP(H639,Set!$A$2:$B$4,2,FALSE),\"\")","v":""},{"$nulls":6},{"$f":"IF(O639>0,VLOOKUP(O639,Set!$H$2:$J$16,2,FALSE),\"\")","v":""}]
[{"$nulls":8},{"$f":"IF(H640>0,VLOOKUP(H640,Set!$A$2:$B$4,2,FALSE),\"\")","v":""},{"$nulls":6},{"$f":"IF(O640>0,VLOOKUP(O640,Set!$H$2:$J$16,2,FALSE),\"\")","v":""}]
[{"$nulls":8},{"$f":"IF(H641>0,VLOOKUP(H641,Set!$A$2:$B$4,2,FALSE),\"\")","v":""},{"$nulls":6},{"$f":"IF(O641>0,VLOOKUP(O641,Set!$H$2:$J$16,2,FALSE),\"\")","v":""}]
[{"$nulls":8},{"$f":"IF(H642>0,VLOOKUP(H642,Set!$A$2:$B$4,2,FALSE),\"\")","v":""},{"$nulls":6},{"$f":"IF(O642>0,VLOOKUP(O642,Set!$H$2:$J$16,2,FALSE),\"\")","v":""}]
[{"$nulls":8},{"$f":"IF(H643>0,VLOOKUP(H643,Set!$A$2:$B$4,2,FALSE),\"\")","v":""},{"$nulls":6},{"$f":"IF(O643>0,VLOOKUP(O643,Set!$H$2:$J$16,2,FALSE),\"\")","v":""}]
[{"$nulls":8},{"$f":"IF(H644>0,VLOOKUP(H644,Set!$A$2:$B$4,2,FALSE),\"\")","v":""},{"$nulls":6},{"$f":"IF(O644>0,VLOOKUP(O644,Set!$H$2:$J$16,2,FALSE),\"\")","v":""}]
[{"$nulls":8},{"$f":"IF(H645>0,VLOOKUP(H645,Set!$A$2:$B$4,2,FALSE),\"\")","v":""},{"$nulls":6},{"$f":"IF(O645>0,VLOOKUP(O645,Set!$H$2:$J$16,2,FALSE),\"\")","v":""}]
[{"$nulls":8},{"$f":"IF(H646>0,VLOOKUP(H646,Set!$A$2:$B$4,2,FALSE),\"\")","v":""},{"$nulls":6},{"$f":"IF(O646>0,VLOOKUP(O646,Set!$H$2:$J$16,2,FALSE),\"\")","v":""}]
[{"$nulls":8},{"$f":"IF(H647>0,VLOOKUP(H647,Set!$A$2:$B$4,2,FALSE),\"\")","v":""},{"$nulls":6},{"$f":"IF(O647>0,VLOOKUP(O647,Set!$H$2:$J$16,2,FALSE),\"\")","v":""}]
[{"$nulls":8},{"$f":"IF(H648>0,VLOOKUP(H648,Set!$A$2:$B$4,2,FALSE),\"\")","v":""},{"$nulls":6},{"$f":"IF(O648>0,VLOOKUP(O648,Set!$H$2:$J$16,2,FALSE),\"\")","v":""}]
[{"$nulls":8},{"$f":"IF(H649>0,VLOOKUP(H649,Set!$A$2:$B$4,2,FALSE),\"\")","v":""},{"$nulls":6},{"$f":"IF(O649>0,VLOOKUP(O649,Set!$H$2:$J$16,2,FALSE),\"\")","v":""}]
[{"$nulls":8},{"$f":"IF(H650>0,VLOOKUP(H650,Set!$A$2:$B$4,2,FALSE),\"\")","v":""},{"$nulls":6},{"$f":"IF(O650>0,VLOOKUP(O650,Set!$H$2:$J$16,2,FALSE),\"\")","v":""}]
[{"$nulls":8},{"$f":"IF(H651>0,VLOOKUP(H651,Set!$A$2:$B$4,2,FALSE),\"\")","v":""},{"$nulls":6},{"$f":"IF(O651>0,VLOOKUP(O651,Set!$H$2:$J$16,2,FALSE),\"\")","v":""}]
[{"$nulls":8},{"$f":"IF(H652>0,VLOOKUP(H652,Set!$A$2:$B$4,2,FALSE),\"\")","v":""},{"$nulls":6},{"$f":"IF(O652>0,VLOOKUP(O652,Set!$H$2:$J$16,2,FALSE),\"\")","v":""}]
[{"$nulls":8},{"$f":"IF(H653>0,VLOOKUP(H653,Set!$A$2:$B$4,2,FALSE),\"\")","v":""},{"$nulls":6},{"$f":"IF(O653>0,VLOOKUP(O653,Set!$H$2:$J$16,2,FALSE),\"\")","v":""}]
[{"$nulls":8},{"$f":"IF(H654>0,VLOOKUP(H654,Set!$A$2:$B$4,2,FALSE),\"\")","v":""},{"$nulls":6},{"$f":"IF(O654>0,VLOOKUP(O654,Set!$H$2:$J$16,2,FALSE),\"\")","v":""}]
[{"$nulls":8},{"$f":"IF(H655>0,VLOOKUP(H655,Set!$A$2:$B$4,2,FALSE),\"\")","v":""},{"$nulls":6},{"$f":"IF(O655>0,VLOOKUP(O655,Set!$H$2:$J$16,2,FALSE),\"\")","v":""}]
[{"$nulls":8},{"$f":"IF(H656>0,VLOOKUP(H656,Set!$A$2:$B$4,2,FALSE),\"\")","v":""},{"$nulls":6},{"$f":"IF(O656>0,VLOOKUP(O656,Set!$H$2:$J$16,2,FALSE),\"\")","v":""}]
[{"$nulls":8},{"$f":"IF(H657>0,VLOOKUP(H657,Set!$A$2:$B$4,2,FALSE),\"\")","v":""},{"$nulls":6},{"$f":"IF(O657>0,VLOOKUP(O657,Set!$H$2:$J$16,2,FALSE),\"\")","v":""}]
[{"$nulls":8},{"$f":"IF(H658>0,VLOOKUP(H658,Set!$A$2:$B$4,2,FALSE),\"\")","v":""},{"$nulls":6},{"$f":"IF(O658>0,VLOOKUP(O658,Set!$H$2:$J$16,2,FALSE),\"\")","v":""}]
[{"$nulls":8},{"$f":"IF(H659>0,VLOOKUP(H659,Set!$A$2:$B$4,2,FALSE),\"\")","v":""},{"$nulls":6},{"$f":"IF(O659>0,VLOOKUP(O659,Set!$H$2:$J$16,2,FALSE),\"\")","v":""}]
[{"$nulls":8},{"$f":"IF(H660>0,VLOOKUP(H660,Set!$A$2:$B$4,2,FALSE),\"\")","v":""},{"$nulls":6},{"$f":"IF(O660>0,VLOOKUP(O660,Set!$H$2:$J$16,2,FALSE),\"\")","v":""}]
[{"$nulls":8},{"$f":"IF(H661>0,VLOOKUP(H661,Set!$A$2:$B$4,2,FALSE),\"\")","v":""},{"$nulls":6},{"$f":"IF(O661>0,VLOOKUP(O661,Set!$H$2:$J$16,2,FALSE),\"\")","v":""}]
[{"$nulls":8},{"$f":"IF(H662>0,VLOOKUP(H662,Set!$A$2:$B$4,2,FALSE),\"\")","v":""},{"$nulls":6},{"$f":"IF(O662>0,VLOOKUP(O662,Set!$H$2:$J$16,2,FALSE),\"\")","v":""}]
[{"$nulls":8},{"$f":"IF(H663>0,VLOOKUP(H663,Set!$A$2:$B$4,2,FALSE),\"\")","v":""},{"$nulls":6},{"$f":"IF(O663>0,VLOOKUP(O663,Set!$H$2:$J$16,2,FALSE),\"\")","v":""}]
[{"$nulls":8},{"$f":"IF(H664>0,VLOOKUP(H664,Set!$A$2:$B$4,2,FALSE),\"\")","v":""},{"$nulls":6},{"$f":"IF(O664>0,VLOOKUP(O664,Set!$H$2:$J$16,2,FALSE),\"\")","v":""}]
[{"$nulls":8},{"$f":"IF(H665>0,VLOOKUP(H665,Set!$A$2:$B$4,2,FALSE),\"\")","v":""},{"$nulls":6},{"$f":"IF(O665>0,VLOOKUP(O665,Set!$H$2:$J$16,2,FALSE),\"\")","v":""}]
[{"$nulls":8},{"$f":"IF(H666>0,VLOOKUP(H666,Set!$A$2:$B$4,2,FALSE),\"\")","v":""},{"$nulls":6},{"$f":"IF(O666>0,VLOOKUP(O666,Set!$H$2:$J$16,2,FALSE),\"\")","v":""}]
[{"$nulls":8},{"$f":"IF(H667>0,VLOOKUP(H667,Set!$A$2:$B$4,2,FALSE),\"\")","v":""},{"$nulls":6},{"$f":"IF(O667>0,VLOOKUP(O667,Set!$H$2:$J$16,2,FALSE),\"\")","v":""}]
[{"$nulls":8},{"$f":"IF(H668>0,VLOOKUP(H668,Set!$A$2:$B$4,2,FALSE),\"\")","v":""},{"$nulls":6},{"$f":"IF(O668>0,VLOOKUP(O668,Set!$H$2:$J$16,2,FALSE),\"\")","v":""}]
[{"$nulls":8},{"$f":"IF(H669>0,VLOOKUP(H669,Set!$A$2:$B$4,2,FALSE),\"\")","v":""},{"$nulls":6},{"$f":"IF(O669>0,VLOOKUP(O669,Set!$H$2:$J$16,2,FALSE),\"\")","v":""}]
[{"$nulls":8},{"$f":"IF(H670>0,VLOOKUP(H670,Set!$A$2:$B$4,2,FALSE),\"\")","v":""},{"$nulls":6},{"$f":"IF(O670>0,VLOOKUP(O670,Set!$H$2:$J$16,2,FALSE),\"\")","v":""}]
[{"$nulls":8},{"$f":"IF(H671>0,VLOOKUP(H671,Set!$A$2:$B$4,2,FALSE),\"\")","v":""},{"$nulls":6},{"$f":"IF(O671>0,VLOOKUP(O671,Set!$H$2:$J$16,2,FALSE),\"\")","v":""}]
[{"$nulls":8},{"$f":"IF(H672>0,VLOOKUP(H672,Set!$A$2:$B$4,2,FALSE),\"\")","v":""},{"$nulls":6},{"$f":"IF(O672>0,VLOOKUP(O672,Set!$H$2:$J$16,2,FALSE),\"\")","v":""}]
[{"$nulls":8},{"$f":"IF(H673>0,VLOOKUP(H673,Set!$A$2:$B$4,2,FALSE),\"\")","v":""},{"$nulls":6},{"$f":"IF(O673>0,VLOOKUP(O673,Set!$H$2:$J$16,2,FALSE),\"\")","v":""}]
[{"$nulls":8},{"$f":"IF(H674>0,VLOOKUP(H674,Set!$A$2:$B$4,2,FALSE),\"\")","v":""},{"$nulls":6},{"$f":"IF(O674>0,VLOOKUP(O674,Set!$H$2:$J$16,2,FALSE),\"\")","v":""}]
[{"$nulls":8},{"$f":"IF(H675>0,VLOOKUP(H675,Set!$A$2:$B$4,2,FALSE),\"\")","v":""},{"$nulls":6},{"$f":"IF(O675>0,VLOOKUP(O675,Set!$H$2:$J$16,2,FALSE),\"\")","v":""}]
[{"$nulls":8},{"$f":"IF(H676>0,VLOOKUP(H676,Set!$A$2:$B$4,2,FALSE),\"\")","v":""},{"$nulls":6},{"$f":"IF(O676>0,VLOOKUP(O676,Set!$H$2:$J$16,2,FALSE),\"\")","v":""}]
[{"$nulls":8},{"$f":"IF(H677>0,VLOOKUP(H677,Set!$A$2:$B$4,2,FALSE),\"\")","v":""},{"$nulls":6},{"$f":"IF(O677>0,VLOOKUP(O677,Set!$H$2:$J$16,2,FALSE),\"\")","v":""}]
[{"$nulls":8},{"$f":"IF(H678>0,VLOOKUP(H678,Set!$A$2:$B$4,2,FALSE),\"\")","v":""},{"$nulls":6},{"$f":"IF(O678>0,VLOOKUP(O678,Set!$H$2:$J$16,2,FALSE),\"\")","v":""}]
[{"$nulls":8},{"$f":"IF(H679>0,VLOOKUP(H679,Set!$A$2:$B$4,2,FALSE),\"\")","v":""},{"$nulls":6},{"$f":"IF(O679>0,VLOOKUP(O679,Set!$H$2:$J$16,2,FALSE),\"\")","v":""}]
[{"$nulls":8},{"$f":"IF(H680>0,VLOOKUP(H680,Set!$A$2:$B$4,2,FALSE),\"\")","v":""},{"$nulls":6},{"$f":"IF(O680>0,VLOOKUP(O680,Set!$H$2:$J$16,2,FALSE),\"\")","v":""}]
[{"$nulls":8},{"$f":"IF(H681>0,VLOOKUP(H681,Set!$A$2:$B$4,2,FALSE),\"\")","v":""},{"$nulls":6},{"$f":"IF(O681>0,VLOOKUP(O681,Set!$H$2:$J$16,2,FALSE),\"\")","v":""}]
[{"$nulls":8},{"$f":"IF(H682>0,VLOOKUP(H682,Set!$A$2:$B$4,2,FALSE),\"\")","v":""},{"$nulls":6},{"$f":"IF(O682>0,VLOOKUP(O682,Set!$H$2:$J$16,2,FALSE),\"\")","v":""}]
[{"$nulls":8},{"$f":"IF(H683>0,VLOOKUP(H683,Set!$A$2:$B$4,2,FALSE),\"\")","v":""},{"$nulls":6},{"$f":"IF(O683>0,VLOOKUP(O683,Set!$H$2:$J$16,2,FALSE),\"\")","v":""}]
[{"$nulls":8},{"$f":"IF(H684>0,VLOOKUP(H684,Set!$A$2:$B$4,2,FALSE),\"\")","v":""},{"$nulls":6},{"$f":"IF(O684>0,VLOOKUP(O684,Set!$H$2:$J$16,2,FALSE),\"\")","v":""}]
[{"$nulls":8},{"$f":"IF(H685>0,VLOOKUP(H685,Set!$A$2:$B$4,2,FALSE),\"\")","v":""},{"$nulls":6},{"$f":"IF(O685>0,VLOOKUP(O685,Set!$H$2:$J$16,2,FALSE),\"\")","v":""}]
[{"$nulls":8},{"$f":"IF(H686>0,VLOOKUP(H686,Set!$A$2:$B$4,2,FALSE),\"\")","v":""},{"$nulls":6},{"$f":"IF(O686>0,VLOOKUP(O686,Set!$H$2:$J$16,2,FALSE),\"\")","v":""}]
[{"$nulls":8},{"$f":"IF(H687>0,VLOOKUP(H687,Set!$A$2:$B$4,2,FALSE),\"\")","v":""},{"$nulls":6},{"$f":"IF(O687>0,VLOOKUP(O687,Set!$H$2:$J$16,2,FALSE),\"\")","v":""}]
[{"$nulls":8},{"$f":"IF(H688>0,VLOOKUP(H688,Set!$A$2:$B$4,2,FALSE),\"\")","v":""},{"$nulls":6},{"$f":"IF(O688>0,VLOOKUP(O688,Set!$H$2:$J$16,2,FALSE),\"\")","v":""}]
[{"$nulls":8},{"$f":"IF(H689>0,VLOOKUP(H689,Set!$A$2:$B$4,2,FALSE),\"\")","v":""},{"$nulls":6},{"$f":"IF(O689>0,VLOOKUP(O689,Set!$H$2:$J$16,2,FALSE),\"\")","v":""}]
[{"$nulls":8},{"$f":"IF(H690>0,VLOOKUP(H690,Set!$A$2:$B$4,2,FALSE),\"\")","v":""},{"$nulls":6},{"$f":"IF(O690>0,VLOOKUP(O690,Set!$H$2:$J$16,2,FALSE),\"\")","v":""}]
[{"$nulls":8},{"$f":"IF(H691>0,VLOOKUP(H691,Set!$A$2:$B$4,2,FALSE),\"\")","v":""},{"$nulls":6},{"$f":"IF(O691>0,VLOOKUP(O691,Set!$H$2:$J$16,2,FALSE),\"\")","v":""}]
[{"$nulls":8},{"$f":"IF(H692>0,VLOOKUP(H692,Set!$A$2:$B$4,2,FALSE),\"\")","v":""},{"$nulls":6},{"$f":"IF(O692>0,VLOOKUP(O692,Set!$H$2:$J$16,2,FALSE),\"\")","v":""}]
[{"$nulls":8},{"$f":"IF(H693>0,VLOOKUP(H693,Set!$A$2:$B$4,2,FALSE),\"\")","v":""},{"$nulls":6},{"$f":"IF(O693>0,VLOOKUP(O693,Set!$H$2:$J$16,2,FALSE),\"\")","v":""}]
[{"$nulls":8},{"$f":"IF(H694>0,VLOOKUP(H694,Set!$A$2:$B$4,2,FALSE),\"\")","v":""},{"$nulls":6},{"$f":"IF(O694>0,VLOOKUP(O694,Set!$H$2:$J$16,2,FALSE),\"\")","v":""}]
[{"$nulls":8},{"$f":"IF(H695>0,VLOOKUP(H695,Set!$A$2:$B$4,2,FALSE),\"\")","v":""},{"$nulls":6},{"$f":"IF(O695>0,VLOOKUP(O695,Set!$H$2:$J$16,2,FALSE),\"\")","v":""}]
[{"$nulls":8},{"$f":"IF(H696>0,VLOOKUP(H696,Set!$A$2:$B$4,2,FALSE),\"\")","v":""},{"$nulls":6},{"$f":"IF(O696>0,VLOOKUP(O696,Set!$H$2:$J$16,2,FALSE),\"\")","v":""}]
[{"$nulls":8},{"$f":"IF(H697>0,VLOOKUP(H697,Set!$A$2:$B$4,2,FALSE),\"\")","v":""},{"$nulls":6},{"$f":"IF(O697>0,VLOOKUP(O697,Set!$H$2:$J$16,2,FALSE),\"\")","v":""}]
[{"$nulls":8},{"$f":"IF(H698>0,VLOOKUP(H698,Set!$A$2:$B$4,2,FALSE),\"\")","v":""},{"$nulls":6},{"$f":"IF(O698>0,VLOOKUP(O698,Set!$H$2:$J$16,2,FALSE),\"\")","v":""}]
[{"$nulls":8},{"$f":"IF(H699>0,VLOOKUP(H699,Set!$A$2:$B$4,2,FALSE),\"\")","v":""},{"$nulls":6},{"$f":"IF(O699>0,VLOOKUP(O699,Set!$H$2:$J$16,2,FALSE),\"\")","v":""}]
[{"$nulls":8},{"$f":"IF(H700>0,VLOOKUP(H700,Set!$A$2:$B$4,2,FALSE),\"\")","v":""},{"$nulls":6},{"$f":"IF(O700>0,VLOOKUP(O700,Set!$H$2:$J$16,2,FALSE),\"\")","v":""}]
[{"$nulls":8},{"$f":"IF(H701>0,VLOOKUP(H701,Set!$A$2:$B$4,2,FALSE),\"\")","v":""},{"$nulls":6},{"$f":"IF(O701>0,VLOOKUP(O701,Set!$H$2:$J$16,2,FALSE),\"\")","v":""}]
[{"$nulls":8},{"$f":"IF(H702>0,VLOOKUP(H702,Set!$A$2:$B$4,2,FALSE),\"\")","v":""},{"$nulls":6},{"$f":"IF(O702>0,VLOOKUP(O702,Set!$H$2:$J$16,2,FALSE),\"\")","v":""}]
[{"$nulls":8},{"$f":"IF(H703>0,VLOOKUP(H703,Set!$A$2:$B$4,2,FALSE),\"\")","v":""},{"$nulls":6},{"$f":"IF(O703>0,VLOOKUP(O703,Set!$H$2:$J$16,2,FALSE),\"\")","v":""}]
[{"$nulls":8},{"$f":"IF(H704>0,VLOOKUP(H704,Set!$A$2:$B$4,2,FALSE),\"\")","v":""},{"$nulls":6},{"$f":"IF(O704>0,VLOOKUP(O704,Set!$H$2:$J$16,2,FALSE),\"\")","v":""}]
[{"$nulls":8},{"$f":"IF(H705>0,VLOOKUP(H705,Set!$A$2:$B$4,2,FALSE),\"\")","v":""},{"$nulls":6},{"$f":"IF(O705>0,VLOOKUP(O705,Set!$H$2:$J$16,2,FALSE),\"\")","v":""}]
[{"$nulls":8},{"$f":"IF(H706>0,VLOOKUP(H706,Set!$A$2:$B$4,2,FALSE),\"\")","v":""},{"$nulls":6},{"$f":"IF(O706>0,VLOOKUP(O706,Set!$H$2:$J$16,2,FALSE),\"\")","v":""}]
[{"$nulls":8},{"$f":"IF(H707>0,VLOOKUP(H707,Set!$A$2:$B$4,2,FALSE),\"\")","v":""},{"$nulls":6},{"$f":"IF(O707>0,VLOOKUP(O707,Set!$H$2:$J$16,2,FALSE),\"\")","v":""}]
[{"$nulls":8},{"$f":"IF(H708>0,VLOOKUP(H708,Set!$A$2:$B$4,2,FALSE),\"\")","v":""},{"$nulls":6},{"$f":"IF(O708>0,VLOOKUP(O708,Set!$H$2:$J$16,2,FALSE),\"\")","v":""}]
[{"$nulls":8},{"$f":"IF(H709>0,VLOOKUP(H709,Set!$A$2:$B$4,2,FALSE),\"\")","v":""},{"$nulls":6},{"$f":"IF(O709>0,VLOOKUP(O709,Set!$H$2:$J$16,2,FALSE),\"\")","v":""}]
[{"$nulls":8},{"$f":"IF(H710>0,VLOOKUP(H710,Set!$A$2:$B$4,2,FALSE),\"\")","v":""},{"$nulls":6},{"$f":"IF(O710>0,VLOOKUP(O710,Set!$H$2:$J$16,2,FALSE),\"\")","v":""}]
[{"$nulls":8},{"$f":"IF(H711>0,VLOOKUP(H711,Set!$A$2:$B$4,2,FALSE),\"\")","v":""},{"$nulls":6},{"$f":"IF(O711>0,VLOOKUP(O711,Set!$H$2:$J$16,2,FALSE),\"\")","v":""}]
[{"$nulls":8},{"$f":"IF(H712>0,VLOOKUP(H712,Set!$A$2:$B$4,2,FALSE),\"\")","v":""},{"$nulls":6},{"$f":"IF(O712>0,VLOOKUP(O712,Set!$H$2:$J$16,2,FALSE),\"\")","v":""}]
[{"$nulls":8},{"$f":"IF(H713>0,VLOOKUP(H713,Set!$A$2:$B$4,2,FALSE),\"\")","v":""},{"$nulls":6},{"$f":"IF(O713>0,VLOOKUP(O713,Set!$H$2:$J$16,2,FALSE),\"\")","v":""}]
[{"$nulls":8},{"$f":"IF(H714>0,VLOOKUP(H714,Set!$A$2:$B$4,2,FALSE),\"\")","v":""},{"$nulls":6},{"$f":"IF(O714>0,VLOOKUP(O714,Set!$H$2:$J$16,2,FALSE),\"\")","v":""}]
[{"$nulls":8},{"$f":"IF(H715>0,VLOOKUP(H715,Set!$A$2:$B$4,2,FALSE),\"\")","v":""},{"$nulls":6},{"$f":"IF(O715>0,VLOOKUP(O715,Set!$H$2:$J$16,2,FALSE),\"\")","v":""}]
[{"$nulls":8},{"$f":"IF(H716>0,VLOOKUP(H716,Set!$A$2:$B$4,2,FALSE),\"\")","v":""},{"$nulls":6},{"$f":"IF(O716>0,VLOOKUP(O716,Set!$H$2:$J$16,2,FALSE),\"\")","v":""}]
[{"$nulls":8},{"$f":"IF(H717>0,VLOOKUP(H717,Set!$A$2:$B$4,2,FALSE),\"\")","v":""},{"$nulls":6},{"$f":"IF(O717>0,VLOOKUP(O717,Set!$H$2:$J$16,2,FALSE),\"\")","v":""}]
[{"$nulls":8},{"$f":"IF(H718>0,VLOOKUP(H718,Set!$A$2:$B$4,2,FALSE),\"\")","v":""},{"$nulls":6},{"$f":"IF(O718>0,VLOOKUP(O718,Set!$H$2:$J$16,2,FALSE),\"\")","v":""}]
[{"$nulls":8},{"$f":"IF(H719>0,VLOOKUP(H719,Set!$A$2:$B$4,2,FALSE),\"\")","v":""},{"$nulls":6},{"$f":"IF(O719>0,VLOOKUP(O719,Set!$H$2:$J$16,2,FALSE),\"\")","v":""}]
[{"$nulls":8},{"$f":"IF(H720>0,VLOOKUP(H720,Set!$A$2:$B$4,2,FALSE),\"\")","v":""},{"$nulls":6},{"$f":"IF(O720>0,VLOOKUP(O720,Set!$H$2:$J$16,2,FALSE),\"\")","v":""}]
[{"$nulls":8},{"$f":"IF(H721>0,VLOOKUP(H721,Set!$A$2:$B$4,2,FALSE),\"\")","v":""},{"$nulls":6},{"$f":"IF(O721>0,VLOOKUP(O721,Set!$H$2:$J$16,2,FALSE),\"\")","v":""}]
[{"$nulls":8},{"$f":"IF(H722>0,VLOOKUP(H722,Set!$A$2:$B$4,2,FALSE),\"\")","v":""},{"$nulls":6},{"$f":"IF(O722>0,VLOOKUP(O722,Set!$H$2:$J$16,2,FALSE),\"\")","v":""}]
[{"$nulls":8},{"$f":"IF(H723>0,VLOOKUP(H723,Set!$A$2:$B$4,2,FALSE),\"\")","v":""},{"$nulls":6},{"$f":"IF(O723>0,VLOOKUP(O723,Set!$H$2:$J$16,2,FALSE),\"\")","v":""}]
[{"$nulls":8},{"$f":"IF(H724>0,VLOOKUP(H724,Set!$A$2:$B$4,2,FALSE),\"\")","v":""},{"$nulls":6},{"$f":"IF(O724>0,VLOOKUP(O724,Set!$H$2:$J$16,2,FALSE),\"\")","v":""}]
[{"$nulls":8},{"$f":"IF(H725>0,VLOOKUP(H725,Set!$A$2:$B$4,2,FALSE),\"\")","v":""},{"$nulls":6},{"$f":"IF(O725>0,VLOOKUP(O725,Set!$H$2:$J$16,2,FALSE),\"\")","v":""}]
[{"$nulls":8},{"$f":"IF(H726>0,VLOOKUP(H726,Set!$A$2:$B$4,2,FALSE),\"\")","v":""},{"$nulls":6},{"$f":"IF(O726>0,VLOOKUP(O726,Set!$H$2:$J$16,2,FALSE),\"\")","v":""}]
[{"$nulls":8},{"$f":"IF(H727>0,VLOOKUP(H727,Set!$A$2:$B$4,2,FALSE),\"\")","v":""},{"$nulls":6},{"$f":"IF(O727>0,VLOOKUP(O727,Set!$H$2:$J$16,2,FALSE),\"\")","v":""}]
[{"$nulls":8},{"$f":"IF(H728>0,VLOOKUP(H728,Set!$A$2:$B$4,2,FALSE),\"\")","v":""},{"$nulls":6},{"$f":"IF(O728>0,VLOOKUP(O728,Set!$H$2:$J$16,2,FALSE),\"\")","v":""}]
[{"$nulls":8},{"$f":"IF(H729>0,VLOOKUP(H729,Set!$A$2:$B$4,2,FALSE),\"\")","v":""},{"$nulls":6},{"$f":"IF(O729>0,VLOOKUP(O729,Set!$H$2:$J$16,2,FALSE),\"\")","v":""}]
[{"$nulls":8},{"$f":"IF(H730>0,VLOOKUP(H730,Set!$A$2:$B$4,2,FALSE),\"\")","v":""},{"$nulls":6},{"$f":"IF(O730>0,VLOOKUP(O730,Set!$H$2:$J$16,2,FALSE),\"\")","v":""}]
[{"$nulls":8},{"$f":"IF(H731>0,VLOOKUP(H731,Set!$A$2:$B$4,2,FALSE),\"\")","v":""},{"$nulls":6},{"$f":"IF(O731>0,VLOOKUP(O731,Set!$H$2:$J$16,2,FALSE),\"\")","v":""}]
[{"$nulls":8},{"$f":"IF(H732>0,VLOOKUP(H732,Set!$A$2:$B$4,2,FALSE),\"\")","v":""},{"$nulls":6},{"$f":"IF(O732>0,VLOOKUP(O732,Set!$H$2:$J$16,2,FALSE),\"\")","v":""}]
[{"$nulls":8},{"$f":"IF(H733>0,VLOOKUP(H733,Set!$A$2:$B$4,2,FALSE),\"\")","v":""},{"$nulls":6},{"$f":"IF(O733>0,VLOOKUP(O733,Set!$H$2:$J$16,2,FALSE),\"\")","v":""}]
[{"$nulls":8},{"$f":"IF(H734>0,VLOOKUP(H734,Set!$A$2:$B$4,2,FALSE),\"\")","v":""},{"$nulls":6},{"$f":"IF(O734>0,VLOOKUP(O734,Set!$H$2:$J$16,2,FALSE),\"\")","v":""}]
[{"$nulls":8},{"$f":"IF(H735>0,VLOOKUP(H735,Set!$A$2:$B$4,2,FALSE),\"\")","v":""},{"$nulls":6},{"$f":"IF(O735>0,VLOOKUP(O735,Set!$H$2:$J$16,2,FALSE),\"\")","v":""}]
[{"$nulls":8},{"$f":"IF(H736>0,VLOOKUP(H736,Set!$A$2:$B$4,2,FALSE),\"\")","v":""},{"$nulls":6},{"$f":"IF(O736>0,VLOOKUP(O736,Set!$H$2:$J$16,2,FALSE),\"\")","v":""}]
[{"$nulls":8},{"$f":"IF(H737>0,VLOOKUP(H737,Set!$A$2:$B$4,2,FALSE),\"\")","v":""},{"$nulls":6},{"$f":"IF(O737>0,VLOOKUP(O737,Set!$H$2:$J$16,2,FALSE),\"\")","v":""}]
[{"$nulls":8},{"$f":"IF(H738>0,VLOOKUP(H738,Set!$A$2:$B$4,2,FALSE),\"\")","v":""},{"$nulls":6},{"$f":"IF(O738>0,VLOOKUP(O738,Set!$H$2:$J$16,2,FALSE),\"\")","v":""}]
[{"$nulls":8},{"$f":"IF(H739>0,VLOOKUP(H739,Set!$A$2:$B$4,2,FALSE),\"\")","v":""},{"$nulls":6},{"$f":"IF(O739>0,VLOOKUP(O739,Set!$H$2:$J$16,2,FALSE),\"\")","v":""}]
[{"$nulls":8},{"$f":"IF(H740>0,VLOOKUP(H740,Set!$A$2:$B$4,2,FALSE),\"\")","v":""},{"$nulls":6},{"$f":"IF(O740>0,VLOOKUP(O740,Set!$H$2:$J$16,2,FALSE),\"\")","v":""}]
[{"$nulls":8},{"$f":"IF(H741>0,VLOOKUP(H741,Set!$A$2:$B$4,2,FALSE),\"\")","v":""},{"$nulls":6},{"$f":"IF(O741>0,VLOOKUP(O741,Set!$H$2:$J$16,2,FALSE),\"\")","v":""}]
[{"$nulls":8},{"$f":"IF(H742>0,VLOOKUP(H742,Set!$A$2:$B$4,2,FALSE),\"\")","v":""},{"$nulls":6},{"$f":"IF(O742>0,VLOOKUP(O742,Set!$H$2:$J$16,2,FALSE),\"\")","v":""}]
[{"$nulls":8},{"$f":"IF(H743>0,VLOOKUP(H743,Set!$A$2:$B$4,2,FALSE),\"\")","v":""},{"$nulls":6},{"$f":"IF(O743>0,VLOOKUP(O743,Set!$H$2:$J$16,2,FALSE),\"\")","v":""}]
[{"$nulls":8},{"$f":"IF(H744>0,VLOOKUP(H744,Set!$A$2:$B$4,2,FALSE),\"\")","v":""},{"$nulls":6},{"$f":"IF(O744>0,VLOOKUP(O744,Set!$H$2:$J$16,2,FALSE),\"\")","v":""}]
[{"$nulls":8},{"$f":"IF(H745>0,VLOOKUP(H745,Set!$A$2:$B$4,2,FALSE),\"\")","v":""},{"$nulls":6},{"$f":"IF(O745>0,VLOOKUP(O745,Set!$H$2:$J$16,2,FALSE),\"\")","v":""}]
[{"$nulls":8},{"$f":"IF(H746>0,VLOOKUP(H746,Set!$A$2:$B$4,2,FALSE),\"\")","v":""},{"$nulls":6},{"$f":"IF(O746>0,VLOOKUP(O746,Set!$H$2:$J$16,2,FALSE),\"\")","v":""}]
[{"$nulls":8},{"$f":"IF(H747>0,VLOOKUP(H747,Set!$A$2:$B$4,2,FALSE),\"\")","v":""},{"$nulls":6},{"$f":"IF(O747>0,VLOOKUP(O747,Set!$H$2:$J$16,2,FALSE),\"\")","v":""}]
[{"$nulls":8},{"$f":"IF(H748>0,VLOOKUP(H748,Set!$A$2:$B$4,2,FALSE),\"\")","v":""},{"$nulls":6},{"$f":"IF(O748>0,VLOOKUP(O748,Set!$H$2:$J$16,2,FALSE),\"\")","v":""}]
[{"$nulls":8},{"$f":"IF(H749>0,VLOOKUP(H749,Set!$A$2:$B$4,2,FALSE),\"\")","v":""},{"$nulls":6},{"$f":"IF(O749>0,VLOOKUP(O749,Set!$H$2:$J$16,2,FALSE),\"\")","v":""}]
[{"$nulls":8},{"$f":"IF(H750>0,VLOOKUP(H750,Set!$A$2:$B$4,2,FALSE),\"\")","v":""},{"$nulls":6},{"$f":"IF(O750>0,VLOOKUP(O750,Set!$H$2:$J$16,2,FALSE),\"\")","v":""}]
[{"$nulls":8},{"$f":"IF(H751>0,VLOOKUP(H751,Set!$A$2:$B$4,2,FALSE),\"\")","v":""},{"$nulls":6},{"$f":"IF(O751>0,VLOOKUP(O751,Set!$H$2:$J$16,2,FALSE),\"\")","v":""}]
[{"$nulls":8},{"$f":"IF(H752>0,VLOOKUP(H752,Set!$A$2:$B$4,2,FALSE),\"\")","v":""},{"$nulls":6},{"$f":"IF(O752>0,VLOOKUP(O752,Set!$H$2:$J$16,2,FALSE),\"\")","v":""}]
[{"$nulls":8},{"$f":"IF(H753>0,VLOOKUP(H753,Set!$A$2:$B$4,2,FALSE),\"\")","v":""},{"$nulls":6},{"$f":"IF(O753>0,VLOOKUP(O753,Set!$H$2:$J$16,2,FALSE),\"\")","v":""}]
[{"$nulls":8},{"$f":"IF(H754>0,VLOOKUP(H754,Set!$A$2:$B$4,2,FALSE),\"\")","v":""},{"$nulls":6},{"$f":"IF(O754>0,VLOOKUP(O754,Set!$H$2:$J$16,2,FALSE),\"\")","v":""}]
[{"$nulls":8},{"$f":"IF(H755>0,VLOOKUP(H755,Set!$A$2:$B$4,2,FALSE),\"\")","v":""},{"$nulls":6},{"$f":"IF(O755>0,VLOOKUP(O755,Set!$H$2:$J$16,2,FALSE),\"\")","v":""}]
[{"$nulls":8},{"$f":"IF(H756>0,VLOOKUP(H756,Set!$A$2:$B$4,2,FALSE),\"\")","v":""},{"$nulls":6},{"$f":"IF(O756>0,VLOOKUP(O756,Set!$H$2:$J$16,2,FALSE),\"\")","v":""}]
[{"$nulls":8},{"$f":"IF(H757>0,VLOOKUP(H757,Set!$A$2:$B$4,2,FALSE),\"\")","v":""},{"$nulls":6},{"$f":"IF(O757>0,VLOOKUP(O757,Set!$H$2:$J$16,2,FALSE),\"\")","v":""}]
[{"$nulls":8},{"$f":"IF(H758>0,VLOOKUP(H758,Set!$A$2:$B$4,2,FALSE),\"\")","v":""},{"$nulls":6},{"$f":"IF(O758>0,VLOOKUP(O758,Set!$H$2:$J$16,2,FALSE),\"\")","v":""}]
[{"$nulls":8},{"$f":"IF(H759>0,VLOOKUP(H759,Set!$A$2:$B$4,2,FALSE),\"\")","v":""},{"$nulls":6},{"$f":"IF(O759>0,VLOOKUP(O759,Set!$H$2:$J$16,2,FALSE),\"\")","v":""}]
[{"$nulls":8},{"$f":"IF(H760>0,VLOOKUP(H760,Set!$A$2:$B$4,2,FALSE),\"\")","v":""},{"$nulls":6},{"$f":"IF(O760>0,VLOOKUP(O760,Set!$H$2:$J$16,2,FALSE),\"\")","v":""}]
[{"$nulls":8},{"$f":"IF(H761>0,VLOOKUP(H761,Set!$A$2:$B$4,2,FALSE),\"\")","v":""},{"$nulls":6},{"$f":"IF(O761>0,VLOOKUP(O761,Set!$H$2:$J$16,2,FALSE),\"\")","v":""}]
[{"$nulls":8},{"$f":"IF(H762>0,VLOOKUP(H762,Set!$A$2:$B$4,2,FALSE),\"\")","v":""},{"$nulls":6},{"$f":"IF(O762>0,VLOOKUP(O762,Set!$H$2:$J$16,2,FALSE),\"\")","v":""}]
[{"$nulls":8},{"$f":"IF(H763>0,VLOOKUP(H763,Set!$A$2:$B$4,2,FALSE),\"\")","v":""},{"$nulls":6},{"$f":"IF(O763>0,VLOOKUP(O763,Set!$H$2:$J$16,2,FALSE),\"\")","v":""}]
[{"$nulls":8},{"$f":"IF(H764>0,VLOOKUP(H764,Set!$A$2:$B$4,2,FALSE),\"\")","v":""},{"$nulls":6},{"$f":"IF(O764>0,VLOOKUP(O764,Set!$H$2:$J$16,2,FALSE),\"\")","v":""}]
[{"$nulls":8},{"$f":"IF(H765>0,VLOOKUP(H765,Set!$A$2:$B$4,2,FALSE),\"\")","v":""},{"$nulls":6},{"$f":"IF(O765>0,VLOOKUP(O765,Set!$H$2:$J$16,2,FALSE),\"\")","v":""}]
[{"$nulls":8},{"$f":"IF(H766>0,VLOOKUP(H766,Set!$A$2:$B$4,2,FALSE),\"\")","v":""},{"$nulls":6},{"$f":"IF(O766>0,VLOOKUP(O766,Set!$H$2:$J$16,2,FALSE),\"\")","v":""}]
[{"$nulls":8},{"$f":"IF(H767>0,VLOOKUP(H767,Set!$A$2:$B$4,2,FALSE),\"\")","v":""},{"$nulls":6},{"$f":"IF(O767>0,VLOOKUP(O767,Set!$H$2:$J$16,2,FALSE),\"\")","v":""}]
[{"$nulls":8},{"$f":"IF(H768>0,VLOOKUP(H768,Set!$A$2:$B$4,2,FALSE),\"\")","v":""},{"$nulls":6},{"$f":"IF(O768>0,VLOOKUP(O768,Set!$H$2:$J$16,2,FALSE),\"\")","v":""}]
[{"$nulls":8},{"$f":"IF(H769>0,VLOOKUP(H769,Set!$A$2:$B$4,2,FALSE),\"\")","v":""},{"$nulls":6},{"$f":"IF(O769>0,VLOOKUP(O769,Set!$H$2:$J$16,2,FALSE),\"\")","v":""}]
[{"$nulls":8},{"$f":"IF(H770>0,VLOOKUP(H770,Set!$A$2:$B$4,2,FALSE),\"\")","v":""},{"$nulls":6},{"$f":"IF(O770>0,VLOOKUP(O770,Set!$H$2:$J$16,2,FALSE),\"\")","v":""}]
[{"$nulls":8},{"$f":"IF(H771>0,VLOOKUP(H771,Set!$A$2:$B$4,2,FALSE),\"\")","v":""},{"$nulls":6},{"$f":"IF(O771>0,VLOOKUP(O771,Set!$H$2:$J$16,2,FALSE),\"\")","v":""}]
[{"$nulls":8},{"$f":"IF(H772>0,VLOOKUP(H772,Set!$A$2:$B$4,2,FALSE),\"\")","v":""},{"$nulls":6},{"$f":"IF(O772>0,VLOOKUP(O772,Set!$H$2:$J$16,2,FALSE),\"\")","v":""}]
[{"$nulls":8},{"$f":"IF(H773>0,VLOOKUP(H773,Set!$A$2:$B$4,2,FALSE),\"\")","v":""},{"$nulls":6},{"$f":"IF(O773>0,VLOOKUP(O773,Set!$H$2:$J$16,2,FALSE),\"\")","v":""}]
[{"$nulls":8},{"$f":"IF(H774>0,VLOOKUP(H774,Set!$A$2:$B$4,2,FALSE),\"\")","v":""},{"$nulls":6},{"$f":"IF(O774>0,VLOOKUP(O774,Set!$H$2:$J$16,2,FALSE),\"\")","v":""}]
[{"$nulls":8},{"$f":"IF(H775>0,VLOOKUP(H775,Set!$A$2:$B$4,2,FALSE),\"\")","v":""},{"$nulls":6},{"$f":"IF(O775>0,VLOOKUP(O775,Set!$H$2:$J$16,2,FALSE),\"\")","v":""}]
[{"$nulls":8},{"$f":"IF(H776>0,VLOOKUP(H776,Set!$A$2:$B$4,2,FALSE),\"\")","v":""},{"$nulls":6},{"$f":"IF(O776>0,VLOOKUP(O776,Set!$H$2:$J$16,2,FALSE),\"\")","v":""}]
[{"$nulls":8},{"$f":"IF(H777>0,VLOOKUP(H777,Set!$A$2:$B$4,2,FALSE),\"\")","v":""},{"$nulls":6},{"$f":"IF(O777>0,VLOOKUP(O777,Set!$H$2:$J$16,2,FALSE),\"\")","v":""}]
[{"$nulls":8},{"$f":"IF(H778>0,VLOOKUP(H778,Set!$A$2:$B$4,2,FALSE),\"\")","v":""},{"$nulls":6},{"$f":"IF(O778>0,VLOOKUP(O778,Set!$H$2:$J$16,2,FALSE),\"\")","v":""}]
[{"$nulls":8},{"$f":"IF(H779>0,VLOOKUP(H779,Set!$A$2:$B$4,2,FALSE),\"\")","v":""},{"$nulls":6},{"$f":"IF(O779>0,VLOOKUP(O779,Set!$H$2:$J$16,2,FALSE),\"\")","v":""}]
[{"$nulls":8},{"$f":"IF(H780>0,VLOOKUP(H780,Set!$A$2:$B$4,2,FALSE),\"\")","v":""},{"$nulls":6},{"$f":"IF(O780>0,VLOOKUP(O780,Set!$H$2:$J$16,2,FALSE),\"\")","v":""}]
[{"$nulls":8},{"$f":"IF(H781>0,VLOOKUP(H781,Set!$A$2:$B$4,2,FALSE),\"\")","v":""},{"$nulls":6},{"$f":"IF(O781>0,VLOOKUP(O781,Set!$H$2:$J$16,2,FALSE),\"\")","v":""}]
[{"$nulls":8},{"$f":"IF(H782>0,VLOOKUP(H782,Set!$A$2:$B$4,2,FALSE),\"\")","v":""},{"$nulls":6},{"$f":"IF(O782>0,VLOOKUP(O782,Set!$H$2:$J$16,2,FALSE),\"\")","v":""}]
[{"$nulls":8},{"$f":"IF(H783>0,VLOOKUP(H783,Set!$A$2:$B$4,2,FALSE),\"\")","v":""},{"$nulls":6},{"$f":"IF(O783>0,VLOOKUP(O783,Set!$H$2:$J$16,2,FALSE),\"\")","v":""}]
[{"$nulls":8},{"$f":"IF(H784>0,VLOOKUP(H784,Set!$A$2:$B$4,2,FALSE),\"\")","v":""},{"$nulls":6},{"$f":"IF(O784>0,VLOOKUP(O784,Set!$H$2:$J$16,2,FALSE),\"\")","v":""}]
[{"$nulls":8},{"$f":"IF(H785>0,VLOOKUP(H785,Set!$A$2:$B$4,2,FALSE),\"\")","v":""},{"$nulls":6},{"$f":"IF(O785>0,VLOOKUP(O785,Set!$H$2:$J$16,2,FALSE),\"\")","v":""}]
[{"$nulls":8},{"$f":"IF(H786>0,VLOOKUP(H786,Set!$A$2:$B$4,2,FALSE),\"\")","v":""},{"$nulls":6},{"$f":"IF(O786>0,VLOOKUP(O786,Set!$H$2:$J$16,2,FALSE),\"\")","v":""}]
[{"$nulls":8},{"$f":"IF(H787>0,VLOOKUP(H787,Set!$A$2:$B$4,2,FALSE),\"\")","v":""},{"$nulls":6},{"$f":"IF(O787>0,VLOOKUP(O787,Set!$H$2:$J$16,2,FALSE),\"\")","v":""}]
[{"$nulls":8},{"$f":"IF(H788>0,VLOOKUP(H788,Set!$A$2:$B$4,2,FALSE),\"\")","v":""},{"$nulls":6},{"$f":"IF(O788>0,VLOOKUP(O788,Set!$H$2:$J$16,2,FALSE),\"\")","v":""}]
[{"$nulls":8},{"$f":"IF(H789>0,VLOOKUP(H789,Set!$A$2:$B$4,2,FALSE),\"\")","v":""},{"$nulls":6},{"$f":"IF(O789>0,VLOOKUP(O789,Set!$H$2:$J$16,2,FALSE),\"\")","v":""}]
[{"$nulls":8},{"$f":"IF(H790>0,VLOOKUP(H790,Set!$A$2:$B$4,2,FALSE),\"\")","v":""},{"$nulls":6},{"$f":"IF(O790>0,VLOOKUP(O790,Set!$H$2:$J$16,2,FALSE),\"\")","v":""}]
[{"$nulls":8},{"$f":"IF(H791>0,VLOOKUP(H791,Set!$A$2:$B$4,2,FALSE),\"\")","v":""},{"$nulls":6},{"$f":"IF(O791>0,VLOOKUP(O791,Set!$H$2:$J$16,2,FALSE),\"\")","v":""}]
[{"$nulls":8},{"$f":"IF(H792>0,VLOOKUP(H792,Set!$A$2:$B$4,2,FALSE),\"\")","v":""},{"$nulls":6},{"$f":"IF(O792>0,VLOOKUP(O792,Set!$H$2:$J$16,2,FALSE),\"\")","v":""}]
[{"$nulls":8},{"$f":"IF(H793>0,VLOOKUP(H793,Set!$A$2:$B$4,2,FALSE),\"\")","v":""},{"$nulls":6},{"$f":"IF(O793>0,VLOOKUP(O793,Set!$H$2:$J$16,2,FALSE),\"\")","v":""}]
[{"$nulls":8},{"$f":"IF(H794>0,VLOOKUP(H794,Set!$A$2:$B$4,2,FALSE),\"\")","v":""},{"$nulls":6},{"$f":"IF(O794>0,VLOOKUP(O794,Set!$H$2:$J$16,2,FALSE),\"\")","v":""}]
[{"$nulls":8},{"$f":"IF(H795>0,VLOOKUP(H795,Set!$A$2:$B$4,2,FALSE),\"\")","v":""},{"$nulls":6},{"$f":"IF(O795>0,VLOOKUP(O795,Set!$H$2:$J$16,2,FALSE),\"\")","v":""}]
[{"$nulls":8},{"$f":"IF(H796>0,VLOOKUP(H796,Set!$A$2:$B$4,2,FALSE),\"\")","v":""},{"$nulls":6},{"$f":"IF(O796>0,VLOOKUP(O796,Set!$H$2:$J$16,2,FALSE),\"\")","v":""}]
[{"$nulls":8},{"$f":"IF(H797>0,VLOOKUP(H797,Set!$A$2:$B$4,2,FALSE),\"\")","v":""},{"$nulls":6},{"$f":"IF(O797>0,VLOOKUP(O797,Set!$H$2:$J$16,2,FALSE),\"\")","v":""}]
[{"$nulls":8},{"$f":"IF(H798>0,VLOOKUP(H798,Set!$A$2:$B$4,2,FALSE),\"\")","v":""},{"$nulls":6},{"$f":"IF(O798>0,VLOOKUP(O798,Set!$H$2:$J$16,2,FALSE),\"\")","v":""}]
[{"$nulls":8},{"$f":"IF(H799>0,VLOOKUP(H799,Set!$A$2:$B$4,2,FALSE),\"\")","v":""},{"$nulls":6},{"$f":"IF(O799>0,VLOOKUP(O799,Set!$H$2:$J$16,2,FALSE),\"\")","v":""}]
[{"$nulls":8},{"$f":"IF(H800>0,VLOOKUP(H800,Set!$A$2:$B$4,2,FALSE),\"\")","v":""},{"$nulls":6},{"$f":"IF(O800>0,VLOOKUP(O800,Set!$H$2:$J$16,2,FALSE),\"\")","v":""}]
[{"$nulls":8},{"$f":"IF(H801>0,VLOOKUP(H801,Set!$A$2:$B$4,2,FALSE),\"\")","v":""},{"$nulls":6},{"$f":"IF(O801>0,VLOOKUP(O801,Set!$H$2:$J$16,2,FALSE),\"\")","v":""}]
[{"$nulls":8},{"$f":"IF(H802>0,VLOOKUP(H802,Set!$A$2:$B$4,2,FALSE),\"\")","v":""},{"$nulls":6},{"$f":"IF(O802>0,VLOOKUP(O802,Set!$H$2:$J$16,2,FALSE),\"\")","v":""}]
[{"$nulls":8},{"$f":"IF(H803>0,VLOOKUP(H803,Set!$A$2:$B$4,2,FALSE),\"\")","v":""},{"$nulls":6},{"$f":"IF(O803>0,VLOOKUP(O803,Set!$H$2:$J$16,2,FALSE),\"\")","v":""}]
[{"$nulls":8},{"$f":"IF(H804>0,VLOOKUP(H804,Set!$A$2:$B$4,2,FALSE),\"\")","v":""},{"$nulls":6},{"$f":"IF(O804>0,VLOOKUP(O804,Set!$H$2:$J$16,2,FALSE),\"\")","v":""}]
[{"$nulls":8},{"$f":"IF(H805>0,VLOOKUP(H805,Set!$A$2:$B$4,2,FALSE),\"\")","v":""},{"$nulls":6},{"$f":"IF(O805>0,VLOOKUP(O805,Set!$H$2:$J$16,2,FALSE),\"\")","v":""}]
[{"$nulls":8},{"$f":"IF(H806>0,VLOOKUP(H806,Set!$A$2:$B$4,2,FALSE),\"\")","v":""},{"$nulls":6},{"$f":"IF(O806>0,VLOOKUP(O806,Set!$H$2:$J$16,2,FALSE),\"\")","v":""}]
[{"$nulls":8},{"$f":"IF(H807>0,VLOOKUP(H807,Set!$A$2:$B$4,2,FALSE),\"\")","v":""},{"$nulls":6},{"$f":"IF(O807>0,VLOOKUP(O807,Set!$H$2:$J$16,2,FALSE),\"\")","v":""}]
[{"$nulls":8},{"$f":"IF(H808>0,VLOOKUP(H808,Set!$A$2:$B$4,2,FALSE),\"\")","v":""},{"$nulls":6},{"$f":"IF(O808>0,VLOOKUP(O808,Set!$H$2:$J$16,2,FALSE),\"\")","v":""}]
[{"$nulls":8},{"$f":"IF(H809>0,VLOOKUP(H809,Set!$A$2:$B$4,2,FALSE),\"\")","v":""},{"$nulls":6},{"$f":"IF(O809>0,VLOOKUP(O809,Set!$H$2:$J$16,2,FALSE),\"\")","v":""}]
[{"$nulls":8},{"$f":"IF(H810>0,VLOOKUP(H810,Set!$A$2:$B$4,2,FALSE),\"\")","v":""},{"$nulls":6},{"$f":"IF(O810>0,VLOOKUP(O810,Set!$H$2:$J$16,2,FALSE),\"\")","v":""}]
[{"$nulls":8},{"$f":"IF(H811>0,VLOOKUP(H811,Set!$A$2:$B$4,2,FALSE),\"\")","v":""},{"$nulls":6},{"$f":"IF(O811>0,VLOOKUP(O811,Set!$H$2:$J$16,2,FALSE),\"\")","v":""}]
[{"$nulls":8},{"$f":"IF(H812>0,VLOOKUP(H812,Set!$A$2:$B$4,2,FALSE),\"\")","v":""},{"$nulls":6},{"$f":"IF(O812>0,VLOOKUP(O812,Set!$H$2:$J$16,2,FALSE),\"\")","v":""}]
[{"$nulls":8},{"$f":"IF(H813>0,VLOOKUP(H813,Set!$A$2:$B$4,2,FALSE),\"\")","v":""},{"$nulls":6},{"$f":"IF(O813>0,VLOOKUP(O813,Set!$H$2:$J$16,2,FALSE),\"\")","v":""}]
[{"$nulls":8},{"$f":"IF(H814>0,VLOOKUP(H814,Set!$A$2:$B$4,2,FALSE),\"\")","v":""},{"$nulls":6},{"$f":"IF(O814>0,VLOOKUP(O814,Set!$H$2:$J$16,2,FALSE),\"\")","v":""}]
[{"$nulls":8},{"$f":"IF(H815>0,VLOOKUP(H815,Set!$A$2:$B$4,2,FALSE),\"\")","v":""},{"$nulls":6},{"$f":"IF(O815>0,VLOOKUP(O815,Set!$H$2:$J$16,2,FALSE),\"\")","v":""}]
[{"$nulls":8},{"$f":"IF(H816>0,VLOOKUP(H816,Set!$A$2:$B$4,2,FALSE),\"\")","v":""},{"$nulls":6},{"$f":"IF(O816>0,VLOOKUP(O816,Set!$H$2:$J$16,2,FALSE),\"\")","v":""}]
[{"$nulls":8},{"$f":"IF(H817>0,VLOOKUP(H817,Set!$A$2:$B$4,2,FALSE),\"\")","v":""},{"$nulls":6},{"$f":"IF(O817>0,VLOOKUP(O817,Set!$H$2:$J$16,2,FALSE),\"\")","v":""}]
[{"$nulls":8},{"$f":"IF(H818>0,VLOOKUP(H818,Set!$A$2:$B$4,2,FALSE),\"\")","v":""},{"$nulls":6},{"$f":"IF(O818>0,VLOOKUP(O818,Set!$H$2:$J$16,2,FALSE),\"\")","v":""}]
[{"$nulls":8},{"$f":"IF(H819>0,VLOOKUP(H819,Set!$A$2:$B$4,2,FALSE),\"\")","v":""},{"$nulls":6},{"$f":"IF(O819>0,VLOOKUP(O819,Set!$H$2:$J$16,2,FALSE),\"\")","v":""}]
[{"$nulls":8},{"$f":"IF(H820>0,VLOOKUP(H820,Set!$A$2:$B$4,2,FALSE),\"\")","v":""},{"$nulls":6},{"$f":"IF(O820>0,VLOOKUP(O820,Set!$H$2:$J$16,2,FALSE),\"\")","v":""}]
[{"$nulls":8},{"$f":"IF(H821>0,VLOOKUP(H821,Set!$A$2:$B$4,2,FALSE),\"\")","v":""},{"$nulls":6},{"$f":"IF(O821>0,VLOOKUP(O821,Set!$H$2:$J$16,2,FALSE),\"\")","v":""}]
[{"$nulls":8},{"$f":"IF(H822>0,VLOOKUP(H822,Set!$A$2:$B$4,2,FALSE),\"\")","v":""},{"$nulls":6},{"$f":"IF(O822>0,VLOOKUP(O822,Set!$H$2:$J$16,2,FALSE),\"\")","v":""}]
[{"$nulls":8},{"$f":"IF(H823>0,VLOOKUP(H823,Set!$A$2:$B$4,2,FALSE),\"\")","v":""},{"$nulls":6},{"$f":"IF(O823>0,VLOOKUP(O823,Set!$H$2:$J$16,2,FALSE),\"\")","v":""}]
[{"$nulls":8},{"$f":"IF(H824>0,VLOOKUP(H824,Set!$A$2:$B$4,2,FALSE),\"\")","v":""},{"$nulls":6},{"$f":"IF(O824>0,VLOOKUP(O824,Set!$H$2:$J$16,2,FALSE),\"\")","v":""}]
[{"$nulls":8},{"$f":"IF(H825>0,VLOOKUP(H825,Set!$A$2:$B$4,2,FALSE),\"\")","v":""},{"$nulls":6},{"$f":"IF(O825>0,VLOOKUP(O825,Set!$H$2:$J$16,2,FALSE),\"\")","v":""}]
[{"$nulls":8},{"$f":"IF(H826>0,VLOOKUP(H826,Set!$A$2:$B$4,2,FALSE),\"\")","v":""},{"$nulls":6},{"$f":"IF(O826>0,VLOOKUP(O826,Set!$H$2:$J$16,2,FALSE),\"\")","v":""}]
[{"$nulls":8},{"$f":"IF(H827>0,VLOOKUP(H827,Set!$A$2:$B$4,2,FALSE),\"\")","v":""},{"$nulls":6},{"$f":"IF(O827>0,VLOOKUP(O827,Set!$H$2:$J$16,2,FALSE),\"\")","v":""}]
[{"$nulls":8},{"$f":"IF(H828>0,VLOOKUP(H828,Set!$A$2:$B$4,2,FALSE),\"\")","v":""},{"$nulls":6},{"$f":"IF(O828>0,VLOOKUP(O828,Set!$H$2:$J$16,2,FALSE),\"\")","v":""}]
[{"$nulls":8},{"$f":"IF(H829>0,VLOOKUP(H829,Set!$A$2:$B$4,2,FALSE),\"\")","v":""},{"$nulls":6},{"$f":"IF(O829>0,VLOOKUP(O829,Set!$H$2:$J$16,2,FALSE),\"\")","v":""}]
[{"$nulls":8},{"$f":"IF(H830>0,VLOOKUP(H830,Set!$A$2:$B$4,2,FALSE),\"\")","v":""},{"$nulls":6},{"$f":"IF(O830>0,VLOOKUP(O830,Set!$H$2:$J$16,2,FALSE),\"\")","v":""}]
[{"$nulls":8},{"$f":"IF(H831>0,VLOOKUP(H831,Set!$A$2:$B$4,2,FALSE),\"\")","v":""},{"$nulls":6},{"$f":"IF(O831>0,VLOOKUP(O831,Set!$H$2:$J$16,2,FALSE),\"\")","v":""}]
[{"$nulls":8},{"$f":"IF(H832>0,VLOOKUP(H832,Set!$A$2:$B$4,2,FALSE),\"\")","v":""},{"$nulls":6},{"$f":"IF(O832>0,VLOOKUP(O832,Set!$H$2:$J$16,2,FALSE),\"\")","v":""}]
[{"$nulls":8},{"$f":"IF(H833>0,VLOOKUP(H833,Set!$A$2:$B$4,2,FALSE),\"\")","v":""},{"$nulls":6},{"$f":"IF(O833>0,VLOOKUP(O833,Set!$H$2:$J$16,2,FALSE),\"\")","v":""}]
[{"$nulls":8},{"$f":"IF(H834>0,VLOOKUP(H834,Set!$A$2:$B$4,2,FALSE),\"\")","v":""},{"$nulls":6},{"$f":"IF(O834>0,VLOOKUP(O834,Set!$H$2:$J$16,2,FALSE),\"\")","v":""}]
[{"$nulls":8},{"$f":"IF(H835>0,VLOOKUP(H835,Set!$A$2:$B$4,2,FALSE),\"\")","v":""},{"$nulls":6},{"$f":"IF(O835>0,VLOOKUP(O835,Set!$H$2:$J$16,2,FALSE),\"\")","v":""}]
[{"$nulls":8},{"$f":"IF(H836>0,VLOOKUP(H836,Set!$A$2:$B$4,2,FALSE),\"\")","v":""},{"$nulls":6},{"$f":"IF(O836>0,VLOOKUP(O836,Set!$H$2:$J$16,2,FALSE),\"\")","v":""}]
[{"$nulls":8},{"$f":"IF(H837>0,VLOOKUP(H837,Set!$A$2:$B$4,2,FALSE),\"\")","v":""},{"$nulls":6},{"$f":"IF(O837>0,VLOOKUP(O837,Set!$H$2:$J$16,2,FALSE),\"\")","v":""}]
[{"$nulls":8},{"$f":"IF(H838>0,VLOOKUP(H838,Set!$A$2:$B$4,2,FALSE),\"\")","v":""},{"$nulls":6},{"$f":"IF(O838>0,VLOOKUP(O838,Set!$H$2:$J$16,2,FALSE),\"\")","v":""}]
[{"$nulls":8},{"$f":"IF(H839>0,VLOOKUP(H839,Set!$A$2:$B$4,2,FALSE),\"\")","v":""},{"$nulls":6},{"$f":"IF(O839>0,VLOOKUP(O839,Set!$H$2:$J$16,2,FALSE),\"\")","v":""}]
[{"$nulls":8},{"$f":"IF(H840>0,VLOOKUP(H840,Set!$A$2:$B$4,2,FALSE),\"\")","v":""},{"$nulls":6},{"$f":"IF(O840>0,VLOOKUP(O840,Set!$H$2:$J$16,2,FALSE),\"\")","v":""}]
[{"$nulls":8},{"$f":"IF(H841>0,VLOOKUP(H841,Set!$A$2:$B$4,2,FALSE),\"\")","v":""},{"$nulls":6},{"$f":"IF(O841>0,VLOOKUP(O841,Set!$H$2:$J$16,2,FALSE),\"\")","v":""}]
[{"$nulls":8},{"$f":"IF(H842>0,VLOOKUP(H842,Set!$A$2:$B$4,2,FALSE),\"\")","v":""},{"$nulls":6},{"$f":"IF(O842>0,VLOOKUP(O842,Set!$H$2:$J$16,2,FALSE),\"\")","v":""}]
[{"$nulls":8},{"$f":"IF(H843>0,VLOOKUP(H843,Set!$A$2:$B$4,2,FALSE),\"\")","v":""},{"$nulls":6},{"$f":"IF(O843>0,VLOOKUP(O843,Set!$H$2:$J$16,2,FALSE),\"\")","v":""}]
[{"$nulls":8},{"$f":"IF(H844>0,VLOOKUP(H844,Set!$A$2:$B$4,2,FALSE),\"\")","v":""},{"$nulls":6},{"$f":"IF(O844>0,VLOOKUP(O844,Set!$H$2:$J$16,2,FALSE),\"\")","v":""}]
[{"$nulls":8},{"$f":"IF(H845>0,VLOOKUP(H845,Set!$A$2:$B$4,2,FALSE),\"\")","v":""},{"$nulls":6},{"$f":"IF(O845>0,VLOOKUP(O845,Set!$H$2:$J$16,2,FALSE),\"\")","v":""}]
[{"$nulls":8},{"$f":"IF(H846>0,VLOOKUP(H846,Set!$A$2:$B$4,2,FALSE),\"\")","v":""},{"$nulls":6},{"$f":"IF(O846>0,VLOOKUP(O846,Set!$H$2:$J$16,2,FALSE),\"\")","v":""}]
[{"$nulls":8},{"$f":"IF(H847>0,VLOOKUP(H847,Set!$A$2:$B$4,2,FALSE),\"\")","v":""},{"$nulls":6},{"$f":"IF(O847>0,VLOOKUP(O847,Set!$H$2:$J$16,2,FALSE),\"\")","v":""}]
[{"$nulls":8},{"$f":"IF(H848>0,VLOOKUP(H848,Set!$A$2:$B$4,2,FALSE),\"\")","v":""},{"$nulls":6},{"$f":"IF(O848>0,VLOOKUP(O848,Set!$H$2:$J$16,2,FALSE),\"\")","v":""}]
[{"$nulls":8},{"$f":"IF(H849>0,VLOOKUP(H849,Set!$A$2:$B$4,2,FALSE),\"\")","v":""},{"$nulls":6},{"$f":"IF(O849>0,VLOOKUP(O849,Set!$H$2:$J$16,2,FALSE),\"\")","v":""}]
[{"$nulls":8},{"$f":"IF(H850>0,VLOOKUP(H850,Set!$A$2:$B$4,2,FALSE),\"\")","v":""},{"$nulls":6},{"$f":"IF(O850>0,VLOOKUP(O850,Set!$H$2:$J$16,2,FALSE),\"\")","v":""}]
[{"$nulls":8},{"$f":"IF(H851>0,VLOOKUP(H851,Set!$A$2:$B$4,2,FALSE),\"\")","v":""},{"$nulls":6},{"$f":"IF(O851>0,VLOOKUP(O851,Set!$H$2:$J$16,2,FALSE),\"\")","v":""}]
[{"$nulls":8},{"$f":"IF(H852>0,VLOOKUP(H852,Set!$A$2:$B$4,2,FALSE),\"\")","v":""},{"$nulls":6},{"$f":"IF(O852>0,VLOOKUP(O852,Set!$H$2:$J$16,2,FALSE),\"\")","v":""}]
[{"$nulls":8},{"$f":"IF(H853>0,VLOOKUP(H853,Set!$A$2:$B$4,2,FALSE),\"\")","v":""},{"$nulls":6},{"$f":"IF(O853>0,VLOOKUP(O853,Set!$H$2:$J$16,2,FALSE),\"\")","v":""}]
[{"$nulls":8},{"$f":"IF(H854>0,VLOOKUP(H854,Set!$A$2:$B$4,2,FALSE),\"\")","v":""},{"$nulls":6},{"$f":"IF(O854>0,VLOOKUP(O854,Set!$H$2:$J$16,2,FALSE),\"\")","v":""}]
[{"$nulls":8},{"$f":"IF(H855>0,VLOOKUP(H855,Set!$A$2:$B$4,2,FALSE),\"\")","v":""},{"$nulls":6},{"$f":"IF(O855>0,VLOOKUP(O855,Set!$H$2:$J$16,2,FALSE),\"\")","v":""}]
[{"$nulls":8},{"$f":"IF(H856>0,VLOOKUP(H856,Set!$A$2:$B$4,2,FALSE),\"\")","v":""},{"$nulls":6},{"$f":"IF(O856>0,VLOOKUP(O856,Set!$H$2:$J$16,2,FALSE),\"\")","v":""}]
[{"$nulls":8},{"$f":"IF(H857>0,VLOOKUP(H857,Set!$A$2:$B$4,2,FALSE),\"\")","v":""},{"$nulls":6},{"$f":"IF(O857>0,VLOOKUP(O857,Set!$H$2:$J$16,2,FALSE),\"\")","v":""}]
[{"$nulls":8},{"$f":"IF(H858>0,VLOOKUP(H858,Set!$A$2:$B$4,2,FALSE),\"\")","v":""},{"$nulls":6},{"$f":"IF(O858>0,VLOOKUP(O858,Set!$H$2:$J$16,2,FALSE),\"\")","v":""}]
[{"$nulls":8},{"$f":"IF(H859>0,VLOOKUP(H859,Set!$A$2:$B$4,2,FALSE),\"\")","v":""},{"$nulls":6},{"$f":"IF(O859>0,VLOOKUP(O859,Set!$H$2:$J$16,2,FALSE),\"\")","v":""}]
[{"$nulls":8},{"$f":"IF(H860>0,VLOOKUP(H860,Set!$A$2:$B$4,2,FALSE),\"\")","v":""},{"$nulls":6},{"$f":"IF(O860>0,VLOOKUP(O860,Set!$H$2:$J$16,2,FALSE),\"\")","v":""}]
[{"$nulls":8},{"$f":"IF(H861>0,VLOOKUP(H861,Set!$A$2:$B$4,2,FALSE),\"\")","v":""},{"$nulls":6},{"$f":"IF(O861>0,VLOOKUP(O861,Set!$H$2:$J$16,2,FALSE),\"\")","v":""}]
[{"$nulls":8},{"$f":"IF(H862>0,VLOOKUP(H862,Set!$A$2:$B$4,2,FALSE),\"\")","v":""},{"$nulls":6},{"$f":"IF(O862>0,VLOOKUP(O862,Set!$H$2:$J$16,2,FALSE),\"\")","v":""}]
[{"$nulls":8},{"$f":"IF(H863>0,VLOOKUP(H863,Set!$A$2:$B$4,2,FALSE),\"\")","v":""},{"$nulls":6},{"$f":"IF(O863>0,VLOOKUP(O863,Set!$H$2:$J$16,2,FALSE),\"\")","v":""}]
[{"$nulls":8},{"$f":"IF(H864>0,VLOOKUP(H864,Set!$A$2:$B$4,2,FALSE),\"\")","v":""},{"$nulls":6},{"$f":"IF(O864>0,VLOOKUP(O864,Set!$H$2:$J$16,2,FALSE),\"\")","v":""}]
[{"$nulls":8},{"$f":"IF(H865>0,VLOOKUP(H865,Set!$A$2:$B$4,2,FALSE),\"\")","v":""},{"$nulls":6},{"$f":"IF(O865>0,VLOOKUP(O865,Set!$H$2:$J$16,2,FALSE),\"\")","v":""}]
[{"$nulls":8},{"$f":"IF(H866>0,VLOOKUP(H866,Set!$A$2:$B$4,2,FALSE),\"\")","v":""},{"$nulls":6},{"$f":"IF(O866>0,VLOOKUP(O866,Set!$H$2:$J$16,2,FALSE),\"\")","v":""}]
[{"$nulls":8},{"$f":"IF(H867>0,VLOOKUP(H867,Set!$A$2:$B$4,2,FALSE),\"\")","v":""},{"$nulls":6},{"$f":"IF(O867>0,VLOOKUP(O867,Set!$H$2:$J$16,2,FALSE),\"\")","v":""}]
[{"$nulls":8},{"$f":"IF(H868>0,VLOOKUP(H868,Set!$A$2:$B$4,2,FALSE),\"\")","v":""},{"$nulls":6},{"$f":"IF(O868>0,VLOOKUP(O868,Set!$H$2:$J$16,2,FALSE),\"\")","v":""}]
[{"$nulls":8},{"$f":"IF(H869>0,VLOOKUP(H869,Set!$A$2:$B$4,2,FALSE),\"\")","v":""},{"$nulls":6},{"$f":"IF(O869>0,VLOOKUP(O869,Set!$H$2:$J$16,2,FALSE),\"\")","v":""}]
[{"$nulls":8},{"$f":"IF(H870>0,VLOOKUP(H870,Set!$A$2:$B$4,2,FALSE),\"\")","v":""},{"$nulls":6},{"$f":"IF(O870>0,VLOOKUP(O870,Set!$H$2:$J$16,2,FALSE),\"\")","v":""}]
[{"$nulls":8},{"$f":"IF(H871>0,VLOOKUP(H871,Set!$A$2:$B$4,2,FALSE),\"\")","v":""},{"$nulls":6},{"$f":"IF(O871>0,VLOOKUP(O871,Set!$H$2:$J$16,2,FALSE),\"\")","v":""}]
[{"$nulls":8},{"$f":"IF(H872>0,VLOOKUP(H872,Set!$A$2:$B$4,2,FALSE),\"\")","v":""},{"$nulls":6},{"$f":"IF(O872>0,VLOOKUP(O872,Set!$H$2:$J$16,2,FALSE),\"\")","v":""}]
[{"$nulls":8},{"$f":"IF(H873>0,VLOOKUP(H873,Set!$A$2:$B$4,2,FALSE),\"\")","v":""},{"$nulls":6},{"$f":"IF(O873>0,VLOOKUP(O873,Set!$H$2:$J$16,2,FALSE),\"\")","v":""}]
[{"$nulls":8},{"$f":"IF(H874>0,VLOOKUP(H874,Set!$A$2:$B$4,2,FALSE),\"\")","v":""},{"$nulls":6},{"$f":"IF(O874>0,VLOOKUP(O874,Set!$H$2:$J$16,2,FALSE),\"\")","v":""}]
[{"$nulls":8},{"$f":"IF(H875>0,VLOOKUP(H875,Set!$A$2:$B$4,2,FALSE),\"\")","v":""},{"$nulls":6},{"$f":"IF(O875>0,VLOOKUP(O875,Set!$H$2:$J$16,2,FALSE),\"\")","v":""}]
[{"$nulls":8},{"$f":"IF(H876>0,VLOOKUP(H876,Set!$A$2:$B$4,2,FALSE),\"\")","v":""},{"$nulls":6},{"$f":"IF(O876>0,VLOOKUP(O876,Set!$H$2:$J$16,2,FALSE),\"\")","v":""}]
[{"$nulls":8},{"$f":"IF(H877>0,VLOOKUP(H877,Set!$A$2:$B$4,2,FALSE),\"\")","v":""},{"$nulls":6},{"$f":"IF(O877>0,VLOOKUP(O877,Set!$H$2:$J$16,2,FALSE),\"\")","v":""}]
[{"$nulls":8},{"$f":"IF(H878>0,VLOOKUP(H878,Set!$A$2:$B$4,2,FALSE),\"\")","v":""},{"$nulls":6},{"$f":"IF(O878>0,VLOOKUP(O878,Set!$H$2:$J$16,2,FALSE),\"\")","v":""}]
[{"$nulls":8},{"$f":"IF(H879>0,VLOOKUP(H879,Set!$A$2:$B$4,2,FALSE),\"\")","v":""},{"$nulls":6},{"$f":"IF(O879>0,VLOOKUP(O879,Set!$H$2:$J$16,2,FALSE),\"\")","v":""}]
[{"$nulls":8},{"$f":"IF(H880>0,VLOOKUP(H880,Set!$A$2:$B$4,2,FALSE),\"\")","v":""},{"$nulls":6},{"$f":"IF(O880>0,VLOOKUP(O880,Set!$H$2:$J$16,2,FALSE),\"\")","v":""}]
[{"$nulls":8},{"$f":"IF(H881>0,VLOOKUP(H881,Set!$A$2:$B$4,2,FALSE),\"\")","v":""},{"$nulls":6},{"$f":"IF(O881>0,VLOOKUP(O881,Set!$H$2:$J$16,2,FALSE),\"\")","v":""}]
[{"$nulls":8},{"$f":"IF(H882>0,VLOOKUP(H882,Set!$A$2:$B$4,2,FALSE),\"\")","v":""},{"$nulls":6},{"$f":"IF(O882>0,VLOOKUP(O882,Set!$H$2:$J$16,2,FALSE),\"\")","v":""}]
[{"$nulls":8},{"$f":"IF(H883>0,VLOOKUP(H883,Set!$A$2:$B$4,2,FALSE),\"\")","v":""},{"$nulls":6},{"$f":"IF(O883>0,VLOOKUP(O883,Set!$H$2:$J$16,2,FALSE),\"\")","v":""}]
[{"$nulls":8},{"$f":"IF(H884>0,VLOOKUP(H884,Set!$A$2:$B$4,2,FALSE),\"\")","v":""},{"$nulls":6},{"$f":"IF(O884>0,VLOOKUP(O884,Set!$H$2:$J$16,2,FALSE),\"\")","v":""}]
[{"$nulls":8},{"$f":"IF(H885>0,VLOOKUP(H885,Set!$A$2:$B$4,2,FALSE),\"\")","v":""},{"$nulls":6},{"$f":"IF(O885>0,VLOOKUP(O885,Set!$H$2:$J$16,2,FALSE),\"\")","v":""}]
[{"$nulls":8},{"$f":"IF(H886>0,VLOOKUP(H886,Set!$A$2:$B$4,2,FALSE),\"\")","v":""},{"$nulls":6},{"$f":"IF(O886>0,VLOOKUP(O886,Set!$H$2:$J$16,2,FALSE),\"\")","v":""}]
[{"$nulls":8},{"$f":"IF(H887>0,VLOOKUP(H887,Set!$A$2:$B$4,2,FALSE),\"\")","v":""},{"$nulls":6},{"$f":"IF(O887>0,VLOOKUP(O887,Set!$H$2:$J$16,2,FALSE),\"\")","v":""}]
[{"$nulls":8},{"$f":"IF(H888>0,VLOOKUP(H888,Set!$A$2:$B$4,2,FALSE),\"\")","v":""},{"$nulls":6},{"$f":"IF(O888>0,VLOOKUP(O888,Set!$H$2:$J$16,2,FALSE),\"\")","v":""}]
[{"$nulls":8},{"$f":"IF(H889>0,VLOOKUP(H889,Set!$A$2:$B$4,2,FALSE),\"\")","v":""},{"$nulls":6},{"$f":"IF(O889>0,VLOOKUP(O889,Set!$H$2:$J$16,2,FALSE),\"\")","v":""}]
[{"$nulls":8},{"$f":"IF(H890>0,VLOOKUP(H890,Set!$A$2:$B$4,2,FALSE),\"\")","v":""},{"$nulls":6},{"$f":"IF(O890>0,VLOOKUP(O890,Set!$H$2:$J$16,2,FALSE),\"\")","v":""}]
[{"$nulls":8},{"$f":"IF(H891>0,VLOOKUP(H891,Set!$A$2:$B$4,2,FALSE),\"\")","v":""},{"$nulls":6},{"$f":"IF(O891>0,VLOOKUP(O891,Set!$H$2:$J$16,2,FALSE),\"\")","v":""}]
[{"$nulls":8},{"$f":"IF(H892>0,VLOOKUP(H892,Set!$A$2:$B$4,2,FALSE),\"\")","v":""},{"$nulls":6},{"$f":"IF(O892>0,VLOOKUP(O892,Set!$H$2:$J$16,2,FALSE),\"\")","v":""}]
[{"$nulls":8},{"$f":"IF(H893>0,VLOOKUP(H893,Set!$A$2:$B$4,2,FALSE),\"\")","v":""},{"$nulls":6},{"$f":"IF(O893>0,VLOOKUP(O893,Set!$H$2:$J$16,2,FALSE),\"\")","v":""}]
[{"$nulls":8},{"$f":"IF(H894>0,VLOOKUP(H894,Set!$A$2:$B$4,2,FALSE),\"\")","v":""},{"$nulls":6},{"$f":"IF(O894>0,VLOOKUP(O894,Set!$H$2:$J$16,2,FALSE),\"\")","v":""}]
[{"$nulls":8},{"$f":"IF(H895>0,VLOOKUP(H895,Set!$A$2:$B$4,2,FALSE),\"\")","v":""},{"$nulls":6},{"$f":"IF(O895>0,VLOOKUP(O895,Set!$H$2:$J$16,2,FALSE),\"\")","v":""}]
[{"$nulls":8},{"$f":"IF(H896>0,VLOOKUP(H896,Set!$A$2:$B$4,2,FALSE),\"\")","v":""},{"$nulls":6},{"$f":"IF(O896>0,VLOOKUP(O896,Set!$H$2:$J$16,2,FALSE),\"\")","v":""}]
[{"$nulls":8},{"$f":"IF(H897>0,VLOOKUP(H897,Set!$A$2:$B$4,2,FALSE),\"\")","v":""},{"$nulls":6},{"$f":"IF(O897>0,VLOOKUP(O897,Set!$H$2:$J$16,2,FALSE),\"\")","v":""}]
[{"$nulls":8},{"$f":"IF(H898>0,VLOOKUP(H898,Set!$A$2:$B$4,2,FALSE),\"\")","v":""},{"$nulls":6},{"$f":"IF(O898>0,VLOOKUP(O898,Set!$H$2:$J$16,2,FALSE),\"\")","v":""}]
[{"$nulls":8},{"$f":"IF(H899>0,VLOOKUP(H899,Set!$A$2:$B$4,2,FALSE),\"\")","v":""},{"$nulls":6},{"$f":"IF(O899>0,VLOOKUP(O899,Set!$H$2:$J$16,2,FALSE),\"\")","v":""}]
[{"$nulls":8},{"$f":"IF(H900>0,VLOOKUP(H900,Set!$A$2:$B$4,2,FALSE),\"\")","v":""},{"$nulls":6},{"$f":"IF(O900>0,VLOOKUP(O900,Set!$H$2:$J$16,2,FALSE),\"\")","v":""}]
[{"$nulls":8},{"$f":"IF(H901>0,VLOOKUP(H901,Set!$A$2:$B$4,2,FALSE),\"\")","v":""},{"$nulls":6},{"$f":"IF(O901>0,VLOOKUP(O901,Set!$H$2:$J$16,2,FALSE),\"\")","v":""}]
[{"$nulls":8},{"$f":"IF(H902>0,VLOOKUP(H902,Set!$A$2:$B$4,2,FALSE),\"\")","v":""},{"$nulls":6},{"$f":"IF(O902>0,VLOOKUP(O902,Set!$H$2:$J$16,2,FALSE),\"\")","v":""}]
[{"$nulls":8},{"$f":"IF(H903>0,VLOOKUP(H903,Set!$A$2:$B$4,2,FALSE),\"\")","v":""},{"$nulls":6},{"$f":"IF(O903>0,VLOOKUP(O903,Set!$H$2:$J$16,2,FALSE),\"\")","v":""}]
[{"$nulls":8},{"$f":"IF(H904>0,VLOOKUP(H904,Set!$A$2:$B$4,2,FALSE),\"\")","v":""},{"$nulls":6},{"$f":"IF(O904>0,VLOOKUP(O904,Set!$H$2:$J$16,2,FALSE),\"\")","v":""}]
[{"$nulls":8},{"$f":"IF(H905>0,VLOOKUP(H905,Set!$A$2:$B$4,2,FALSE),\"\")","v":""},{"$nulls":6},{"$f":"IF(O905>0,VLOOKUP(O905,Set!$H$2:$J$16,2,FALSE),\"\")","v":""}]
[{"$nulls":8},{"$f":"IF(H906>0,VLOOKUP(H906,Set!$A$2:$B$4,2,FALSE),\"\")","v":""},{"$nulls":6},{"$f":"IF(O906>0,VLOOKUP(O906,Set!$H$2:$J$16,2,FALSE),\"\")","v":""}]
[{"$nulls":8},{"$f":"IF(H907>0,VLOOKUP(H907,Set!$A$2:$B$4,2,FALSE),\"\")","v":""},{"$nulls":6},{"$f":"IF(O907>0,VLOOKUP(O907,Set!$H$2:$J$16,2,FALSE),\"\")","v":""}]
[{"$nulls":8},{"$f":"IF(H908>0,VLOOKUP(H908,Set!$A$2:$B$4,2,FALSE),\"\")","v":""},{"$nulls":6},{"$f":"IF(O908>0,VLOOKUP(O908,Set!$H$2:$J$16,2,FALSE),\"\")","v":""}]
[{"$nulls":8},{"$f":"IF(H909>0,VLOOKUP(H909,Set!$A$2:$B$4,2,FALSE),\"\")","v":""},{"$nulls":6},{"$f":"IF(O909>0,VLOOKUP(O909,Set!$H$2:$J$16,2,FALSE),\"\")","v":""}]
[{"$nulls":8},{"$f":"IF(H910>0,VLOOKUP(H910,Set!$A$2:$B$4,2,FALSE),\"\")","v":""},{"$nulls":6},{"$f":"IF(O910>0,VLOOKUP(O910,Set!$H$2:$J$16,2,FALSE),\"\")","v":""}]
[{"$nulls":8},{"$f":"IF(H911>0,VLOOKUP(H911,Set!$A$2:$B$4,2,FALSE),\"\")","v":""},{"$nulls":6},{"$f":"IF(O911>0,VLOOKUP(O911,Set!$H$2:$J$16,2,FALSE),\"\")","v":""}]
[{"$nulls":8},{"$f":"IF(H912>0,VLOOKUP(H912,Set!$A$2:$B$4,2,FALSE),\"\")","v":""},{"$nulls":6},{"$f":"IF(O912>0,VLOOKUP(O912,Set!$H$2:$J$16,2,FALSE),\"\")","v":""}]
[{"$nulls":8},{"$f":"IF(H913>0,VLOOKUP(H913,Set!$A$2:$B$4,2,FALSE),\"\")","v":""},{"$nulls":6},{"$f":"IF(O913>0,VLOOKUP(O913,Set!$H$2:$J$16,2,FALSE),\"\")","v":""}]
[{"$nulls":8},{"$f":"IF(H914>0,VLOOKUP(H914,Set!$A$2:$B$4,2,FALSE),\"\")","v":""},{"$nulls":6},{"$f":"IF(O914>0,VLOOKUP(O914,Set!$H$2:$J$16,2,FALSE),\"\")","v":""}]
[{"$nulls":8},{"$f":"IF(H915>0,VLOOKUP(H915,Set!$A$2:$B$4,2,FALSE),\"\")","v":""},{"$nulls":6},{"$f":"IF(O915>0,VLOOKUP(O915,Set!$H$2:$J$16,2,FALSE),\"\")","v":""}]
[{"$nulls":8},{"$f":"IF(H916>0,VLOOKUP(H916,Set!$A$2:$B$4,2,FALSE),\"\")","v":""},{"$nulls":6},{"$f":"IF(O916>0,VLOOKUP(O916,Set!$H$2:$J$16,2,FALSE),\"\")","v":""}]
[{"$nulls":8},{"$f":"IF(H917>0,VLOOKUP(H917,Set!$A$2:$B$4,2,FALSE),\"\")","v":""},{"$nulls":6},{"$f":"IF(O917>0,VLOOKUP(O917,Set!$H$2:$J$16,2,FALSE),\"\")","v":""}]
[{"$nulls":8},{"$f":"IF(H918>0,VLOOKUP(H918,Set!$A$2:$B$4,2,FALSE),\"\")","v":""},{"$nulls":6},{"$f":"IF(O918>0,VLOOKUP(O918,Set!$H$2:$J$16,2,FALSE),\"\")","v":""}]
[{"$nulls":8},{"$f":"IF(H919>0,VLOOKUP(H919,Set!$A$2:$B$4,2,FALSE),\"\")","v":""},{"$nulls":6},{"$f":"IF(O919>0,VLOOKUP(O919,Set!$H$2:$J$16,2,FALSE),\"\")","v":""}]
[{"$nulls":8},{"$f":"IF(H920>0,VLOOKUP(H920,Set!$A$2:$B$4,2,FALSE),\"\")","v":""},{"$nulls":6},{"$f":"IF(O920>0,VLOOKUP(O920,Set!$H$2:$J$16,2,FALSE),\"\")","v":""}]
[{"$nulls":8},{"$f":"IF(H921>0,VLOOKUP(H921,Set!$A$2:$B$4,2,FALSE),\"\")","v":""},{"$nulls":6},{"$f":"IF(O921>0,VLOOKUP(O921,Set!$H$2:$J$16,2,FALSE),\"\")","v":""}]
[{"$nulls":8},{"$f":"IF(H922>0,VLOOKUP(H922,Set!$A$2:$B$4,2,FALSE),\"\")","v":""},{"$nulls":6},{"$f":"IF(O922>0,VLOOKUP(O922,Set!$H$2:$J$16,2,FALSE),\"\")","v":""}]
[{"$nulls":8},{"$f":"IF(H923>0,VLOOKUP(H923,Set!$A$2:$B$4,2,FALSE),\"\")","v":""},{"$nulls":6},{"$f":"IF(O923>0,VLOOKUP(O923,Set!$H$2:$J$16,2,FALSE),\"\")","v":""}]
[{"$nulls":8},{"$f":"IF(H924>0,VLOOKUP(H924,Set!$A$2:$B$4,2,FALSE),\"\")","v":""},{"$nulls":6},{"$f":"IF(O924>0,VLOOKUP(O924,Set!$H$2:$J$16,2,FALSE),\"\")","v":""}]
[{"$nulls":8},{"$f":"IF(H925>0,VLOOKUP(H925,Set!$A$2:$B$4,2,FALSE),\"\")","v":""},{"$nulls":6},{"$f":"IF(O925>0,VLOOKUP(O925,Set!$H$2:$J$16,2,FALSE),\"\")","v":""}]
[{"$nulls":8},{"$f":"IF(H926>0,VLOOKUP(H926,Set!$A$2:$B$4,2,FALSE),\"\")","v":""},{"$nulls":6},{"$f":"IF(O926>0,VLOOKUP(O926,Set!$H$2:$J$16,2,FALSE),\"\")","v":""}]
[{"$nulls":8},{"$f":"IF(H927>0,VLOOKUP(H927,Set!$A$2:$B$4,2,FALSE),\"\")","v":""},{"$nulls":6},{"$f":"IF(O927>0,VLOOKUP(O927,Set!$H$2:$J$16,2,FALSE),\"\")","v":""}]
[{"$nulls":8},{"$f":"IF(H928>0,VLOOKUP(H928,Set!$A$2:$B$4,2,FALSE),\"\")","v":""},{"$nulls":6},{"$f":"IF(O928>0,VLOOKUP(O928,Set!$H$2:$J$16,2,FALSE),\"\")","v":""}]
[{"$nulls":8},{"$f":"IF(H929>0,VLOOKUP(H929,Set!$A$2:$B$4,2,FALSE),\"\")","v":""},{"$nulls":6},{"$f":"IF(O929>0,VLOOKUP(O929,Set!$H$2:$J$16,2,FALSE),\"\")","v":""}]
[{"$nulls":8},{"$f":"IF(H930>0,VLOOKUP(H930,Set!$A$2:$B$4,2,FALSE),\"\")","v":""},{"$nulls":6},{"$f":"IF(O930>0,VLOOKUP(O930,Set!$H$2:$J$16,2,FALSE),\"\")","v":""}]
[{"$nulls":8},{"$f":"IF(H931>0,VLOOKUP(H931,Set!$A$2:$B$4,2,FALSE),\"\")","v":""},{"$nulls":6},{"$f":"IF(O931>0,VLOOKUP(O931,Set!$H$2:$J$16,2,FALSE),\"\")","v":""}]
[{"$nulls":8},{"$f":"IF(H932>0,VLOOKUP(H932,Set!$A$2:$B$4,2,FALSE),\"\")","v":""},{"$nulls":6},{"$f":"IF(O932>0,VLOOKUP(O932,Set!$H$2:$J$16,2,FALSE),\"\")","v":""}]
[{"$nulls":8},{"$f":"IF(H933>0,VLOOKUP(H933,Set!$A$2:$B$4,2,FALSE),\"\")","v":""},{"$nulls":6},{"$f":"IF(O933>0,VLOOKUP(O933,Set!$H$2:$J$16,2,FALSE),\"\")","v":""}]
[{"$nulls":8},{"$f":"IF(H934>0,VLOOKUP(H934,Set!$A$2:$B$4,2,FALSE),\"\")","v":""},{"$nulls":6},{"$f":"IF(O934>0,VLOOKUP(O934,Set!$H$2:$J$16,2,FALSE),\"\")","v":""}]
[{"$nulls":8},{"$f":"IF(H935>0,VLOOKUP(H935,Set!$A$2:$B$4,2,FALSE),\"\")","v":""},{"$nulls":6},{"$f":"IF(O935>0,VLOOKUP(O935,Set!$H$2:$J$16,2,FALSE),\"\")","v":""}]
[{"$nulls":8},{"$f":"IF(H936>0,VLOOKUP(H936,Set!$A$2:$B$4,2,FALSE),\"\")","v":""},{"$nulls":6},{"$f":"IF(O936>0,VLOOKUP(O936,Set!$H$2:$J$16,2,FALSE),\"\")","v":""}]
[{"$nulls":8},{"$f":"IF(H937>0,VLOOKUP(H937,Set!$A$2:$B$4,2,FALSE),\"\")","v":""},{"$nulls":6},{"$f":"IF(O937>0,VLOOKUP(O937,Set!$H$2:$J$16,2,FALSE),\"\")","v":""}]
[{"$nulls":8},{"$f":"IF(H938>0,VLOOKUP(H938,Set!$A$2:$B$4,2,FALSE),\"\")","v":""},{"$nulls":6},{"$f":"IF(O938>0,VLOOKUP(O938,Set!$H$2:$J$16,2,FALSE),\"\")","v":""}]
[{"$nulls":8},{"$f":"IF(H939>0,VLOOKUP(H939,Set!$A$2:$B$4,2,FALSE),\"\")","v":""},{"$nulls":6},{"$f":"IF(O939>0,VLOOKUP(O939,Set!$H$2:$J$16,2,FALSE),\"\")","v":""}]
[{"$nulls":8},{"$f":"IF(H940>0,VLOOKUP(H940,Set!$A$2:$B$4,2,FALSE),\"\")","v":""},{"$nulls":6},{"$f":"IF(O940>0,VLOOKUP(O940,Set!$H$2:$J$16,2,FALSE),\"\")","v":""}]
[{"$nulls":8},{"$f":"IF(H941>0,VLOOKUP(H941,Set!$A$2:$B$4,2,FALSE),\"\")","v":""},{"$nulls":6},{"$f":"IF(O941>0,VLOOKUP(O941,Set!$H$2:$J$16,2,FALSE),\"\")","v":""}]
[{"$nulls":8},{"$f":"IF(H942>0,VLOOKUP(H942,Set!$A$2:$B$4,2,FALSE),\"\")","v":""},{"$nulls":6},{"$f":"IF(O942>0,VLOOKUP(O942,Set!$H$2:$J$16,2,FALSE),\"\")","v":""}]
[{"$nulls":8},{"$f":"IF(H943>0,VLOOKUP(H943,Set!$A$2:$B$4,2,FALSE),\"\")","v":""},{"$nulls":6},{"$f":"IF(O943>0,VLOOKUP(O943,Set!$H$2:$J$16,2,FALSE),\"\")","v":""}]
[{"$nulls":8},{"$f":"IF(H944>0,VLOOKUP(H944,Set!$A$2:$B$4,2,FALSE),\"\")","v":""},{"$nulls":6},{"$f":"IF(O944>0,VLOOKUP(O944,Set!$H$2:$J$16,2,FALSE),\"\")","v":""}]
[{"$nulls":8},{"$f":"IF(H945>0,VLOOKUP(H945,Set!$A$2:$B$4,2,FALSE),\"\")","v":""},{"$nulls":6},{"$f":"IF(O945>0,VLOOKUP(O945,Set!$H$2:$J$16,2,FALSE),\"\")","v":""}]
[{"$nulls":8},{"$f":"IF(H946>0,VLOOKUP(H946,Set!$A$2:$B$4,2,FALSE),\"\")","v":""},{"$nulls":6},{"$f":"IF(O946>0,VLOOKUP(O946,Set!$H$2:$J$16,2,FALSE),\"\")","v":""}]
[{"$nulls":8},{"$f":"IF(H947>0,VLOOKUP(H947,Set!$A$2:$B$4,2,FALSE),\"\")","v":""},{"$nulls":6},{"$f":"IF(O947>0,VLOOKUP(O947,Set!$H$2:$J$16,2,FALSE),\"\")","v":""}]
[{"$nulls":8},{"$f":"IF(H948>0,VLOOKUP(H948,Set!$A$2:$B$4,2,FALSE),\"\")","v":""},{"$nulls":6},{"$f":"IF(O948>0,VLOOKUP(O948,Set!$H$2:$J$16,2,FALSE),\"\")","v":""}]
[{"$nulls":8},{"$f":"IF(H949>0,VLOOKUP(H949,Set!$A$2:$B$4,2,FALSE),\"\")","v":""},{"$nulls":6},{"$f":"IF(O949>0,VLOOKUP(O949,Set!$H$2:$J$16,2,FALSE),\"\")","v":""}]
[{"$nulls":8},{"$f":"IF(H950>0,VLOOKUP(H950,Set!$A$2:$B$4,2,FALSE),\"\")","v":""},{"$nulls":6},{"$f":"IF(O950>0,VLOOKUP(O950,Set!$H$2:$J$16,2,FALSE),\"\")","v":""}]
[{"$nulls":8},{"$f":"IF(H951>0,VLOOKUP(H951,Set!$A$2:$B$4,2,FALSE),\"\")","v":""},{"$nulls":6},{"$f":"IF(O951>0,VLOOKUP(O951,Set!$H$2:$J$16,2,FALSE),\"\")","v":""}]
[{"$nulls":8},{"$f":"IF(H952>0,VLOOKUP(H952,Set!$A$2:$B$4,2,FALSE),\"\")","v":""},{"$nulls":6},{"$f":"IF(O952>0,VLOOKUP(O952,Set!$H$2:$J$16,2,FALSE),\"\")","v":""}]
[{"$nulls":8},{"$f":"IF(H953>0,VLOOKUP(H953,Set!$A$2:$B$4,2,FALSE),\"\")","v":""},{"$nulls":6},{"$f":"IF(O953>0,VLOOKUP(O953,Set!$H$2:$J$16,2,FALSE),\"\")","v":""}]
[{"$nulls":8},{"$f":"IF(H954>0,VLOOKUP(H954,Set!$A$2:$B$4,2,FALSE),\"\")","v":""},{"$nulls":6},{"$f":"IF(O954>0,VLOOKUP(O954,Set!$H$2:$J$16,2,FALSE),\"\")","v":""}]
[{"$nulls":8},{"$f":"IF(H955>0,VLOOKUP(H955,Set!$A$2:$B$4,2,FALSE),\"\")","v":""},{"$nulls":6},{"$f":"IF(O955>0,VLOOKUP(O955,Set!$H$2:$J$16,2,FALSE),\"\")","v":""}]
[{"$nulls":8},{"$f":"IF(H956>0,VLOOKUP(H956,Set!$A$2:$B$4,2,FALSE),\"\")","v":""},{"$nulls":6},{"$f":"IF(O956>0,VLOOKUP(O956,Set!$H$2:$J$16,2,FALSE),\"\")","v":""}]
[{"$nulls":8},{"$f":"IF(H957>0,VLOOKUP(H957,Set!$A$2:$B$4,2,FALSE),\"\")","v":""},{"$nulls":6},{"$f":"IF(O957>0,VLOOKUP(O957,Set!$H$2:$J$16,2,FALSE),\"\")","v":""}]
[{"$nulls":8},{"$f":"IF(H958>0,VLOOKUP(H958,Set!$A$2:$B$4,2,FALSE),\"\")","v":""},{"$nulls":6},{"$f":"IF(O958>0,VLOOKUP(O958,Set!$H$2:$J$16,2,FALSE),\"\")","v":""}]
[{"$nulls":8},{"$f":"IF(H959>0,VLOOKUP(H959,Set!$A$2:$B$4,2,FALSE),\"\")","v":""},{"$nulls":6},{"$f":"IF(O959>0,VLOOKUP(O959,Set!$H$2:$J$16,2,FALSE),\"\")","v":""}]
[{"$nulls":8},{"$f":"IF(H960>0,VLOOKUP(H960,Set!$A$2:$B$4,2,FALSE),\"\")","v":""},{"$nulls":6},{"$f":"IF(O960>0,VLOOKUP(O960,Set!$H$2:$J$16,2,FALSE),\"\")","v":""}]
[{"$nulls":8},{"$f":"IF(H961>0,VLOOKUP(H961,Set!$A$2:$B$4,2,FALSE),\"\")","v":""},{"$nulls":6},{"$f":"IF(O961>0,VLOOKUP(O961,Set!$H$2:$J$16,2,FALSE),\"\")","v":""}]
[{"$nulls":8},{"$f":"IF(H962>0,VLOOKUP(H962,Set!$A$2:$B$4,2,FALSE),\"\")","v":""},{"$nulls":6},{"$f":"IF(O962>0,VLOOKUP(O962,Set!$H$2:$J$16,2,FALSE),\"\")","v":""}]
[{"$nulls":8},{"$f":"IF(H963>0,VLOOKUP(H963,Set!$A$2:$B$4,2,FALSE),\"\")","v":""},{"$nulls":6},{"$f":"IF(O963>0,VLOOKUP(O963,Set!$H$2:$J$16,2,FALSE),\"\")","v":""}]
[{"$nulls":8},{"$f":"IF(H964>0,VLOOKUP(H964,Set!$A$2:$B$4,2,FALSE),\"\")","v":""},{"$nulls":6},{"$f":"IF(O964>0,VLOOKUP(O964,Set!$H$2:$J$16,2,FALSE),\"\")","v":""}]
[{"$nulls":8},{"$f":"IF(H965>0,VLOOKUP(H965,Set!$A$2:$B$4,2,FALSE),\"\")","v":""},{"$nulls":6},{"$f":"IF(O965>0,VLOOKUP(O965,Set!$H$2:$J$16,2,FALSE),\"\")","v":""}]
[{"$nulls":8},{"$f":"IF(H966>0,VLOOKUP(H966,Set!$A$2:$B$4,2,FALSE),\"\")","v":""},{"$nulls":6},{"$f":"IF(O966>0,VLOOKUP(O966,Set!$H$2:$J$16,2,FALSE),\"\")","v":""}]
[{"$nulls":8},{"$f":"IF(H967>0,VLOOKUP(H967,Set!$A$2:$B$4,2,FALSE),\"\")","v":""},{"$nulls":6},{"$f":"IF(O967>0,VLOOKUP(O967,Set!$H$2:$J$16,2,FALSE),\"\")","v":""}]
[{"$nulls":8},{"$f":"IF(H968>0,VLOOKUP(H968,Set!$A$2:$B$4,2,FALSE),\"\")","v":""},{"$nulls":6},{"$f":"IF(O968>0,VLOOKUP(O968,Set!$H$2:$J$16,2,FALSE),\"\")","v":""}]
[{"$nulls":8},{"$f":"IF(H969>0,VLOOKUP(H969,Set!$A$2:$B$4,2,FALSE),\"\")","v":""},{"$nulls":6},{"$f":"IF(O969>0,VLOOKUP(O969,Set!$H$2:$J$16,2,FALSE),\"\")","v":""}]
[{"$nulls":8},{"$f":"IF(H970>0,VLOOKUP(H970,Set!$A$2:$B$4,2,FALSE),\"\")","v":""},{"$nulls":6},{"$f":"IF(O970>0,VLOOKUP(O970,Set!$H$2:$J$16,2,FALSE),\"\")","v":""}]
[{"$nulls":8},{"$f":"IF(H971>0,VLOOKUP(H971,Set!$A$2:$B$4,2,FALSE),\"\")","v":""},{"$nulls":6},{"$f":"IF(O971>0,VLOOKUP(O971,Set!$H$2:$J$16,2,FALSE),\"\")","v":""}]
[{"$nulls":8},{"$f":"IF(H972>0,VLOOKUP(H972,Set!$A$2:$B$4,2,FALSE),\"\")","v":""},{"$nulls":6},{"$f":"IF(O972>0,VLOOKUP(O972,Set!$H$2:$J$16,2,FALSE),\"\")","v":""}]
[{"$nulls":8},{"$f":"IF(H973>0,VLOOKUP(H973,Set!$A$2:$B$4,2,FALSE),\"\")","v":""},{"$nulls":6},{"$f":"IF(O973>0,VLOOKUP(O973,Set!$H$2:$J$16,2,FALSE),\"\")","v":""}]
[{"$nulls":8},{"$f":"IF(H974>0,VLOOKUP(H974,Set!$A$2:$B$4,2,FALSE),\"\")","v":""},{"$nulls":6},{"$f":"IF(O974>0,VLOOKUP(O974,Set!$H$2:$J$16,2,FALSE),\"\")","v":""}]
[{"$nulls":8},{"$f":"IF(H975>0,VLOOKUP(H975,Set!$A$2:$B$4,2,FALSE),\"\")","v":""},{"$nulls":6},{"$f":"IF(O975>0,VLOOKUP(O975,Set!$H$2:$J$16,2,FALSE),\"\")","v":""}]
[{"$nulls":8},{"$f":"IF(H976>0,VLOOKUP(H976,Set!$A$2:$B$4,2,FALSE),\"\")","v":""},{"$nulls":6},{"$f":"IF(O976>0,VLOOKUP(O976,Set!$H$2:$J$16,2,FALSE),\"\")","v":""}]
[{"$nulls":8},{"$f":"IF(H977>0,VLOOKUP(H977,Set!$A$2:$B$4,2,FALSE),\"\")","v":""},{"$nulls":6},{"$f":"IF(O977>0,VLOOKUP(O977,Set!$H$2:$J$16,2,FALSE),\"\")","v":""}]
[{"$nulls":8},{"$f":"IF(H978>0,VLOOKUP(H978,Set!$A$2:$B$4,2,FALSE),\"\")","v":""},{"$nulls":6},{"$f":"IF(O978>0,VLOOKUP(O978,Set!$H$2:$J$16,2,FALSE),\"\")","v":""}]
[{"$nulls":8},{"$f":"IF(H979>0,VLOOKUP(H979,Set!$A$2:$B$4,2,FALSE),\"\")","v":""},{"$nulls":6},{"$f":"IF(O979>0,VLOOKUP(O979,Set!$H$2:$J$16,2,FALSE),\"\")","v":""}]
[{"$nulls":8},{"$f":"IF(H980>0,VLOOKUP(H980,Set!$A$2:$B$4,2,FALSE),\"\")","v":""},{"$nulls":6},{"$f":"IF(O980>0,VLOOKUP(O980,Set!$H$2:$J$16,2,FALSE),\"\")","v":""}]
[{"$nulls":8},{"$f":"IF(H981>0,VLOOKUP(H981,Set!$A$2:$B$4,2,FALSE),\"\")","v":""},{"$nulls":6},{"$f":"IF(O981>0,VLOOKUP(O981,Set!$H$2:$J$16,2,FALSE),\"\")","v":""}]
[{"$nulls":8},{"$f":"IF(H982>0,VLOOKUP(H982,Set!$A$2:$B$4,2,FALSE),\"\")","v":""},{"$nulls":6},{"$f":"IF(O982>0,VLOOKUP(O982,Set!$H$2:$J$16,2,FALSE),\"\")","v":""}]
[{"$nulls":8},{"$f":"IF(H983>0,VLOOKUP(H983,Set!$A$2:$B$4,2,FALSE),\"\")","v":""},{"$nulls":6},{"$f":"IF(O983>0,VLOOKUP(O983,Set!$H$2:$J$16,2,FALSE),\"\")","v":""}]
[{"$nulls":8},{"$f":"IF(H984>0,VLOOKUP(H984,Set!$A$2:$B$4,2,FALSE),\"\")","v":""},{"$nulls":6},{"$f":"IF(O984>0,VLOOKUP(O984,Set!$H$2:$J$16,2,FALSE),\"\")","v":""}]
[{"$nulls":8},{"$f":"IF(H985>0,VLOOKUP(H985,Set!$A$2:$B$4,2,FALSE),\"\")","v":""},{"$nulls":6},{"$f":"IF(O985>0,VLOOKUP(O985,Set!$H$2:$J$16,2,FALSE),\"\")","v":""}]
[{"$nulls":8},{"$f":"IF(H986>0,VLOOKUP(H986,Set!$A$2:$B$4,2,FALSE),\"\")","v":""},{"$nulls":6},{"$f":"IF(O986>0,VLOOKUP(O986,Set!$H$2:$J$16,2,FALSE),\"\")","v":""}]
[{"$nulls":8},{"$f":"IF(H987>0,VLOOKUP(H987,Set!$A$2:$B$4,2,FALSE),\"\")","v":""},{"$nulls":6},{"$f":"IF(O987>0,VLOOKUP(O987,Set!$H$2:$J$16,2,FALSE),\"\")","v":""}]
[{"$nulls":8},{"$f":"IF(H988>0,VLOOKUP(H988,Set!$A$2:$B$4,2,FALSE),\"\")","v":""},{"$nulls":6},{"$f":"IF(O988>0,VLOOKUP(O988,Set!$H$2:$J$16,2,FALSE),\"\")","v":""}]
[{"$nulls":8},{"$f":"IF(H989>0,VLOOKUP(H989,Set!$A$2:$B$4,2,FALSE),\"\")","v":""},{"$nulls":6},{"$f":"IF(O989>0,VLOOKUP(O989,Set!$H$2:$J$16,2,FALSE),\"\")","v":""}]
[{"$nulls":8},{"$f":"IF(H990>0,VLOOKUP(H990,Set!$A$2:$B$4,2,FALSE),\"\")","v":""},{"$nulls":6},{"$f":"IF(O990>0,VLOOKUP(O990,Set!$H$2:$J$16,2,FALSE),\"\")","v":""}]
[{"$nulls":8},{"$f":"IF(H991>0,VLOOKUP(H991,Set!$A$2:$B$4,2,FALSE),\"\")","v":""},{"$nulls":6},{"$f":"IF(O991>0,VLOOKUP(O991,Set!$H$2:$J$16,2,FALSE),\"\")","v":""}]
[{"$nulls":8},{"$f":"IF(H992>0,VLOOKUP(H992,Set!$A$2:$B$4,2,FALSE),\"\")","v":""},{"$nulls":6},{"$f":"IF(O992>0,VLOOKUP(O992,Set!$H$2:$J$16,2,FALSE),\"\")","v":""}]
[{"$nulls":8},{"$f":"IF(H993>0,VLOOKUP(H993,Set!$A$2:$B$4,2,FALSE),\"\")","v":""},{"$nulls":6},{"$f":"IF(O993>0,VLOOKUP(O993,Set!$H$2:$J$16,2,FALSE),\"\")","v":""}]
[{"$nulls":8},{"$f":"IF(H994>0,VLOOKUP(H994,Set!$A$2:$B$4,2,FALSE),\"\")","v":""},{"$nulls":6},{"$f":"IF(O994>0,VLOOKUP(O994,Set!$H$2:$J$16,2,FALSE),\"\")","v":""}]
[{"$nulls":8},{"$f":"IF(H995>0,VLOOKUP(H995,Set!$A$2:$B$4,2,FALSE),\"\")","v":""},{"$nulls":6},{"$f":"IF(O995>0,VLOOKUP(O995,Set!$H$2:$J$16,2,FALSE),\"\")","v":""}]
[{"$nulls":8},{"$f":"IF(H996>0,VLOOKUP(H996,Set!$A$2:$B$4,2,FALSE),\"\")","v":""},{"$nulls":6},{"$f":"IF(O996>0,VLOOKUP(O996,Set!$H$2:$J$16,2,FALSE),\"\")","v":""}]
[{"$nulls":8},{"$f":"IF(H997>0,VLOOKUP(H997,Set!$A$2:$B$4,2,FALSE),\"\")","v":""},{"$nulls":6},{"$f":"IF(O997>0,VLOOKUP(O997,Set!$H$2:$J$16,2,FALSE),\"\")","v":""}]
[{"$nulls":8},{"$f":"IF(H998>0,VLOOKUP(H998,Set!$A$2:$B$4,2,FALSE),\"\")","v":""},{"$nulls":6},{"$f":"IF(O998>0,VLOOKUP(O998,Set!$H$2:$J$16,2,FALSE),\"\")","v":""}]
[{"$nulls":8},{"$f":"IF(H999>0,VLOOKUP(H999,Set!$A$2:$B$4,2,FALSE),\"\")","v":""},{"$nulls":6},{"$f":"IF(O999>0,VLOOKUP(O999,Set!$H$2:$J$16,2,FALSE),\"\")","v":""}]
[{"$nulls":8},{"$f":"IF(H1000>0,VLOOKUP(H1000,Set!$A$2:$B$4,2,FALSE),\"\")","v":""},{"$nulls":6},{"$f":"IF(O1000>0,VLOOKUP(O1000,Set!$H$2:$J$16,2,FALSE),\"\")","v":""}]
[{"$nulls":8},{"$f":"IF(H1001>0,VLOOKUP(H1001,Set!$A$2:$B$4,2,FALSE),\"\")","v":""},{"$nulls":6},{"$f":"IF(O1001>0,VLOOKUP(O1001,Set!$H$2:$J$16,2,FALSE),\"\")","v":""}]
[{"$nulls":8},{"$f":"IF(H1002>0,VLOOKUP(H1002,Set!$A$2:$B$4,2,FALSE),\"\")","v":""},{"$nulls":6},{"$f":"IF(O1002>0,VLOOKUP(O1002,Set!$H$2:$J$16,2,FALSE),\"\")","v":""}]
[{"$nulls":8},{"$f":"IF(H1003>0,VLOOKUP(H1003,Set!$A$2:$B$4,2,FALSE),\"\")","v":""},{"$nulls":6},{"$f":"IF(O1003>0,VLOOKUP(O1003,Set!$H$2:$J$16,2,FALSE),\"\")","v":""}]
[{"$nulls":8},{"$f":"IF(H1004>0,VLOOKUP(H1004,Set!$A$2:$B$4,2,FALSE),\"\")","v":""},{"$nulls":6},{"$f":"IF(O1004>0,VLOOKUP(O1004,Set!$H$2:$J$16,2,FALSE),\"\")","v":""}]
[{"$nulls":8},{"$f":"IF(H1005>0,VLOOKUP(H1005,Set!$A$2:$B$4,2,FALSE),\"\")","v":""},{"$nulls":6},{"$f":"IF(O1005>0,VLOOKUP(O1005,Set!$H$2:$J$16,2,FALSE),\"\")","v":""}]
[{"$nulls":8},{"$f":"IF(H1006>0,VLOOKUP(H1006,Set!$A$2:$B$4,2,FALSE),\"\")","v":""},{"$nulls":6},{"$f":"IF(O1006>0,VLOOKUP(O1006,Set!$H$2:$J$16,2,FALSE),\"\")","v":""}]
[{"$nulls":8},{"$f":"IF(H1007>0,VLOOKUP(H1007,Set!$A$2:$B$4,2,FALSE),\"\")","v":""},{"$nulls":6},{"$f":"IF(O1007>0,VLOOKUP(O1007,Set!$H$2:$J$16,2,FALSE),\"\")","v":""}]
[{"$nulls":8},{"$f":"IF(H1008>0,VLOOKUP(H1008,Set!$A$2:$B$4,2,FALSE),\"\")","v":""},{"$nulls":6},{"$f":"IF(O1008>0,VLOOKUP(O1008,Set!$H$2:$J$16,2,FALSE),\"\")","v":""}]
[{"$nulls":8},{"$f":"IF(H1009>0,VLOOKUP(H1009,Set!$A$2:$B$4,2,FALSE),\"\")","v":""},{"$nulls":6},{"$f":"IF(O1009>0,VLOOKUP(O1009,Set!$H$2:$J$16,2,FALSE),\"\")","v":""}]
[{"$nulls":8},{"$f":"IF(H1010>0,VLOOKUP(H1010,Set!$A$2:$B$4,2,FALSE),\"\")","v":""},{"$nulls":6},{"$f":"IF(O1010>0,VLOOKUP(O1010,Set!$H$2:$J$16,2,FALSE),\"\")","v":""}]
[{"$nulls":8},{"$f":"IF(H1011>0,VLOOKUP(H1011,Set!$A$2:$B$4,2,FALSE),\"\")","v":""},{"$nulls":6},{"$f":"IF(O1011>0,VLOOKUP(O1011,Set!$H$2:$J$16,2,FALSE),\"\")","v":""}]
[{"$nulls":8},{"$f":"IF(H1012>0,VLOOKUP(H1012,Set!$A$2:$B$4,2,FALSE),\"\")","v":""},{"$nulls":6},{"$f":"IF(O1012>0,VLOOKUP(O1012,Set!$H$2:$J$16,2,FALSE),\"\")","v":""}]
[{"$nulls":8},{"$f":"IF(H1013>0,VLOOKUP(H1013,Set!$A$2:$B$4,2,FALSE),\"\")","v":""},{"$nulls":6},{"$f":"IF(O1013>0,VLOOKUP(O1013,Set!$H$2:$J$16,2,FALSE),\"\")","v":""}]
[{"$nulls":8},{"$f":"IF(H1014>0,VLOOKUP(H1014,Set!$A$2:$B$4,2,FALSE),\"\")","v":""},{"$nulls":6},{"$f":"IF(O1014>0,VLOOKUP(O1014,Set!$H$2:$J$16,2,FALSE),\"\")","v":""}]
[{"$nulls":8},{"$f":"IF(H1015>0,VLOOKUP(H1015,Set!$A$2:$B$4,2,FALSE),\"\")","v":""},{"$nulls":6},{"$f":"IF(O1015>0,VLOOKUP(O1015,Set!$H$2:$J$16,2,FALSE),\"\")","v":""}]
[{"$nulls":8},{"$f":"IF(H1016>0,VLOOKUP(H1016,Set!$A$2:$B$4,2,FALSE),\"\")","v":""},{"$nulls":6},{"$f":"IF(O1016>0,VLOOKUP(O1016,Set!$H$2:$J$16,2,FALSE),\"\")","v":""}]
[{"$nulls":8},{"$f":"IF(H1017>0,VLOOKUP(H1017,Set!$A$2:$B$4,2,FALSE),\"\")","v":""},{"$nulls":6},{"$f":"IF(O1017>0,VLOOKUP(O1017,Set!$H$2:$J$16,2,FALSE),\"\")","v":""}]
[{"$nulls":8},{"$f":"IF(H1018>0,VLOOKUP(H1018,Set!$A$2:$B$4,2,FALSE),\"\")","v":""},{"$nulls":6},{"$f":"IF(O1018>0,VLOOKUP(O1018,Set!$H$2:$J$16,2,FALSE),\"\")","v":""}]
[{"$nulls":8},{"$f":"IF(H1019>0,VLOOKUP(H1019,Set!$A$2:$B$4,2,FALSE),\"\")","v":""},{"$nulls":6},{"$f":"IF(O1019>0,VLOOKUP(O1019,Set!$H$2:$J$16,2,FALSE),\"\")","v":""}]
[{"$nulls":8},{"$f":"IF(H1020>0,VLOOKUP(H1020,Set!$A$2:$B$4,2,FALSE),\"\")","v":""},{"$nulls":6},{"$f":"IF(O1020>0,VLOOKUP(O1020,Set!$H$2:$J$16,2,FALSE),\"\")","v":""}]
[{"$nulls":8},{"$f":"IF(H1021>0,VLOOKUP(H1021,Set!$A$2:$B$4,2,FALSE),\"\")","v":""},{"$nulls":6},{"$f":"IF(O1021>0,VLOOKUP(O1021,Set!$H$2:$J$16,2,FALSE),\"\")","v":""}]
[{"$nulls":8},{"$f":"IF(H1022>0,VLOOKUP(H1022,Set!$A$2:$B$4,2,FALSE),\"\")","v":""},{"$nulls":6},{"$f":"IF(O1022>0,VLOOKUP(O1022,Set!$H$2:$J$16,2,FALSE),\"\")","v":""}]
[{"$nulls":8},{"$f":"IF(H1023>0,VLOOKUP(H1023,Set!$A$2:$B$4,2,FALSE),\"\")","v":""},{"$nulls":6},{"$f":"IF(O1023>0,VLOOKUP(O1023,Set!$H$2:$J$16,2,FALSE),\"\")","v":""}]
[{"$nulls":8},{"$f":"IF(H1024>0,VLOOKUP(H1024,Set!$A$2:$B$4,2,FALSE),\"\")","v":""},{"$nulls":6},{"$f":"IF(O1024>0,VLOOKUP(O1024,Set!$H$2:$J$16,2,FALSE),\"\")","v":""}]
[{"$nulls":8},{"$f":"IF(H1025>0,VLOOKUP(H1025,Set!$A$2:$B$4,2,FALSE),\"\")","v":""},{"$nulls":6},{"$f":"IF(O1025>0,VLOOKUP(O1025,Set!$H$2:$J$16,2,FALSE),\"\")","v":""}]
[{"$nulls":8},{"$f":"IF(H1026>0,VLOOKUP(H1026,Set!$A$2:$B$4,2,FALSE),\"\")","v":""},{"$nulls":6},{"$f":"IF(O1026>0,VLOOKUP(O1026,Set!$H$2:$J$16,2,FALSE),\"\")","v":""}]
[{"$nulls":8},{"$f":"IF(H1027>0,VLOOKUP(H1027,Set!$A$2:$B$4,2,FALSE),\"\")","v":""},{"$nulls":6},{"$f":"IF(O1027>0,VLOOKUP(O1027,Set!$H$2:$J$16,2,FALSE),\"\")","v":""}]
[{"$nulls":8},{"$f":"IF(H1028>0,VLOOKUP(H1028,Set!$A$2:$B$4,2,FALSE),\"\")","v":""},{"$nulls":6},{"$f":"IF(O1028>0,VLOOKUP(O1028,Set!$H$2:$J$16,2,FALSE),\"\")","v":""}]
[{"$nulls":8},{"$f":"IF(H1029>0,VLOOKUP(H1029,Set!$A$2:$B$4,2,FALSE),\"\")","v":""},{"$nulls":6},{"$f":"IF(O1029>0,VLOOKUP(O1029,Set!$H$2:$J$16,2,FALSE),\"\")","v":""}]
[{"$nulls":8},{"$f":"IF(H1030>0,VLOOKUP(H1030,Set!$A$2:$B$4,2,FALSE),\"\")","v":""},{"$nulls":6},{"$f":"IF(O1030>0,VLOOKUP(O1030,Set!$H$2:$J$16,2,FALSE),\"\")","v":""}]
[{"$nulls":8},{"$f":"IF(H1031>0,VLOOKUP(H1031,Set!$A$2:$B$4,2,FALSE),\"\")","v":""},{"$nulls":6},{"$f":"IF(O1031>0,VLOOKUP(O1031,Set!$H$2:$J$16,2,FALSE),\"\")","v":""}]
[{"$nulls":8},{"$f":"IF(H1032>0,VLOOKUP(H1032,Set!$A$2:$B$4,2,FALSE),\"\")","v":""},{"$nulls":6},{"$f":"IF(O1032>0,VLOOKUP(O1032,Set!$H$2:$J$16,2,FALSE),\"\")","v":""}]
[{"$nulls":8},{"$f":"IF(H1033>0,VLOOKUP(H1033,Set!$A$2:$B$4,2,FALSE),\"\")","v":""},{"$nulls":6},{"$f":"IF(O1033>0,VLOOKUP(O1033,Set!$H$2:$J$16,2,FALSE),\"\")","v":""}]
[{"$nulls":8},{"$f":"IF(H1034>0,VLOOKUP(H1034,Set!$A$2:$B$4,2,FALSE),\"\")","v":""},{"$nulls":6},{"$f":"IF(O1034>0,VLOOKUP(O1034,Set!$H$2:$J$16,2,FALSE),\"\")","v":""}]
[{"$nulls":8},{"$f":"IF(H1035>0,VLOOKUP(H1035,Set!$A$2:$B$4,2,FALSE),\"\")","v":""},{"$nulls":6},{"$f":"IF(O1035>0,VLOOKUP(O1035,Set!$H$2:$J$16,2,FALSE),\"\")","v":""}]
[{"$nulls":8},{"$f":"IF(H1036>0,VLOOKUP(H1036,Set!$A$2:$B$4,2,FALSE),\"\")","v":""},{"$nulls":6},{"$f":"IF(O1036>0,VLOOKUP(O1036,Set!$H$2:$J$16,2,FALSE),\"\")","v":""}]
[{"$nulls":8},{"$f":"IF(H1037>0,VLOOKUP(H1037,Set!$A$2:$B$4,2,FALSE),\"\")","v":""},{"$nulls":6},{"$f":"IF(O1037>0,VLOOKUP(O1037,Set!$H$2:$J$16,2,FALSE),\"\")","v":""}]
[{"$nulls":8},{"$f":"IF(H1038>0,VLOOKUP(H1038,Set!$A$2:$B$4,2,FALSE),\"\")","v":""},{"$nulls":6},{"$f":"IF(O1038>0,VLOOKUP(O1038,Set!$H$2:$J$16,2,FALSE),\"\")","v":""}]
[{"$nulls":8},{"$f":"IF(H1039>0,VLOOKUP(H1039,Set!$A$2:$B$4,2,FALSE),\"\")","v":""},{"$nulls":6},{"$f":"IF(O1039>0,VLOOKUP(O1039,Set!$H$2:$J$16,2,FALSE),\"\")","v":""}]
[{"$nulls":8},{"$f":"IF(H1040>0,VLOOKUP(H1040,Set!$A$2:$B$4,2,FALSE),\"\")","v":""},{"$nulls":6},{"$f":"IF(O1040>0,VLOOKUP(O1040,Set!$H$2:$J$16,2,FALSE),\"\")","v":""}]
[{"$nulls":8},{"$f":"IF(H1041>0,VLOOKUP(H1041,Set!$A$2:$B$4,2,FALSE),\"\")","v":""},{"$nulls":6},{"$f":"IF(O1041>0,VLOOKUP(O1041,Set!$H$2:$J$16,2,FALSE),\"\")","v":""}]
[{"$nulls":8},{"$f":"IF(H1042>0,VLOOKUP(H1042,Set!$A$2:$B$4,2,FALSE),\"\")","v":""},{"$nulls":6},{"$f":"IF(O1042>0,VLOOKUP(O1042,Set!$H$2:$J$16,2,FALSE),\"\")","v":""}]
[{"$nulls":8},{"$f":"IF(H1043>0,VLOOKUP(H1043,Set!$A$2:$B$4,2,FALSE),\"\")","v":""},{"$nulls":6},{"$f":"IF(O1043>0,VLOOKUP(O1043,Set!$H$2:$J$16,2,FALSE),\"\")","v":""}]
[{"$nulls":8},{"$f":"IF(H1044>0,VLOOKUP(H1044,Set!$A$2:$B$4,2,FALSE),\"\")","v":""},{"$nulls":6},{"$f":"IF(O1044>0,VLOOKUP(O1044,Set!$H$2:$J$16,2,FALSE),\"\")","v":""}]
[{"$nulls":8},{"$f":"IF(H1045>0,VLOOKUP(H1045,Set!$A$2:$B$4,2,FALSE),\"\")","v":""},{"$nulls":6},{"$f":"IF(O1045>0,VLOOKUP(O1045,Set!$H$2:$J$16,2,FALSE),\"\")","v":""}]
[{"$nulls":8},{"$f":"IF(H1046>0,VLOOKUP(H1046,Set!$A$2:$B$4,2,FALSE),\"\")","v":""},{"$nulls":6},{"$f":"IF(O1046>0,VLOOKUP(O1046,Set!$H$2:$J$16,2,FALSE),\"\")","v":""}]
[{"$nulls":8},{"$f":"IF(H1047>0,VLOOKUP(H1047,Set!$A$2:$B$4,2,FALSE),\"\")","v":""},{"$nulls":6},{"$f":"IF(O1047>0,VLOOKUP(O1047,Set!$H$2:$J$16,2,FALSE),\"\")","v":""}]
[{"$nulls":8},{"$f":"IF(H1048>0,VLOOKUP(H1048,Set!$A$2:$B$4,2,FALSE),\"\")","v":""},{"$nulls":6},{"$f":"IF(O1048>0,VLOOKUP(O1048,Set!$H$2:$J$16,2,FALSE),\"\")","v":""}]
[{"$nulls":8},{"$f":"IF(H1049>0,VLOOKUP(H1049,Set!$A$2:$B$4,2,FALSE),\"\")","v":""},{"$nulls":6},{"$f":"IF(O1049>0,VLOOKUP(O1049,Set!$H$2:$J$16,2,FALSE),\"\")","v":""}]
[{"$nulls":8},{"$f":"IF(H1050>0,VLOOKUP(H1050,Set!$A$2:$B$4,2,FALSE),\"\")","v":""},{"$nulls":6},{"$f":"IF(O1050>0,VLOOKUP(O1050,Set!$H$2:$J$16,2,FALSE),\"\")","v":""}]
[{"$nulls":8},{"$f":"IF(H1051>0,VLOOKUP(H1051,Set!$A$2:$B$4,2,FALSE),\"\")","v":""},{"$nulls":6},{"$f":"IF(O1051>0,VLOOKUP(O1051,Set!$H$2:$J$16,2,FALSE),\"\")","v":""}]
[{"$nulls":8},{"$f":"IF(H1052>0,VLOOKUP(H1052,Set!$A$2:$B$4,2,FALSE),\"\")","v":""},{"$nulls":6},{"$f":"IF(O1052>0,VLOOKUP(O1052,Set!$H$2:$J$16,2,FALSE),\"\")","v":""}]
[{"$nulls":8},{"$f":"IF(H1053>0,VLOOKUP(H1053,Set!$A$2:$B$4,2,FALSE),\"\")","v":""},{"$nulls":6},{"$f":"IF(O1053>0,VLOOKUP(O1053,Set!$H$2:$J$16,2,FALSE),\"\")","v":""}]
[{"$nulls":8},{"$f":"IF(H1054>0,VLOOKUP(H1054,Set!$A$2:$B$4,2,FALSE),\"\")","v":""},{"$nulls":6},{"$f":"IF(O1054>0,VLOOKUP(O1054,Set!$H$2:$J$16,2,FALSE),\"\")","v":""}]
[{"$nulls":8},{"$f":"IF(H1055>0,VLOOKUP(H1055,Set!$A$2:$B$4,2,FALSE),\"\")","v":""},{"$nulls":6},{"$f":"IF(O1055>0,VLOOKUP(O1055,Set!$H$2:$J$16,2,FALSE),\"\")","v":""}]
[{"$nulls":8},{"$f":"IF(H1056>0,VLOOKUP(H1056,Set!$A$2:$B$4,2,FALSE),\"\")","v":""},{"$nulls":6},{"$f":"IF(O1056>0,VLOOKUP(O1056,Set!$H$2:$J$16,2,FALSE),\"\")","v":""}]
[{"$nulls":8},{"$f":"IF(H1057>0,VLOOKUP(H1057,Set!$A$2:$B$4,2,FALSE),\"\")","v":""},{"$nulls":6},{"$f":"IF(O1057>0,VLOOKUP(O1057,Set!$H$2:$J$16,2,FALSE),\"\")","v":""}]
[{"$nulls":8},{"$f":"IF(H1058>0,VLOOKUP(H1058,Set!$A$2:$B$4,2,FALSE),\"\")","v":""},{"$nulls":6},{"$f":"IF(O1058>0,VLOOKUP(O1058,Set!$H$2:$J$16,2,FALSE),\"\")","v":""}]
[{"$nulls":8},{"$f":"IF(H1059>0,VLOOKUP(H1059,Set!$A$2:$B$4,2,FALSE),\"\")","v":""},{"$nulls":6},{"$f":"IF(O1059>0,VLOOKUP(O1059,Set!$H$2:$J$16,2,FALSE),\"\")","v":""}]
[{"$nulls":8},{"$f":"IF(H1060>0,VLOOKUP(H1060,Set!$A$2:$B$4,2,FALSE),\"\")","v":""},{"$nulls":6},{"$f":"IF(O1060>0,VLOOKUP(O1060,Set!$H$2:$J$16,2,FALSE),\"\")","v":""}]
[{"$nulls":8},{"$f":"IF(H1061>0,VLOOKUP(H1061,Set!$A$2:$B$4,2,FALSE),\"\")","v":""},{"$nulls":6},{"$f":"IF(O1061>0,VLOOKUP(O1061,Set!$H$2:$J$16,2,FALSE),\"\")","v":""}]
[{"$nulls":8},{"$f":"IF(H1062>0,VLOOKUP(H1062,Set!$A$2:$B$4,2,FALSE),\"\")","v":""},{"$nulls":6},{"$f":"IF(O1062>0,VLOOKUP(O1062,Set!$H$2:$J$16,2,FALSE),\"\")","v":""}]
[{"$nulls":8},{"$f":"IF(H1063>0,VLOOKUP(H1063,Set!$A$2:$B$4,2,FALSE),\"\")","v":""},{"$nulls":6},{"$f":"IF(O1063>0,VLOOKUP(O1063,Set!$H$2:$J$16,2,FALSE),\"\")","v":""}]
[{"$nulls":8},{"$f":"IF(H1064>0,VLOOKUP(H1064,Set!$A$2:$B$4,2,FALSE),\"\")","v":""},{"$nulls":6},{"$f":"IF(O1064>0,VLOOKUP(O1064,Set!$H$2:$J$16,2,FALSE),\"\")","v":""}]
[{"$nulls":8},{"$f":"IF(H1065>0,VLOOKUP(H1065,Set!$A$2:$B$4,2,FALSE),\"\")","v":""},{"$nulls":6},{"$f":"IF(O1065>0,VLOOKUP(O1065,Set!$H$2:$J$16,2,FALSE),\"\")","v":""}]
[{"$nulls":8},{"$f":"IF(H1066>0,VLOOKUP(H1066,Set!$A$2:$B$4,2,FALSE),\"\")","v":""},{"$nulls":6},{"$f":"IF(O1066>0,VLOOKUP(O1066,Set!$H$2:$J$16,2,FALSE),\"\")","v":""}]
[{"$nulls":8},{"$f":"IF(H1067>0,VLOOKUP(H1067,Set!$A$2:$B$4,2,FALSE),\"\")","v":""},{"$nulls":6},{"$f":"IF(O1067>0,VLOOKUP(O1067,Set!$H$2:$J$16,2,FALSE),\"\")","v":""}]
[{"$nulls":8},{"$f":"IF(H1068>0,VLOOKUP(H1068,Set!$A$2:$B$4,2,FALSE),\"\")","v":""},{"$nulls":6},{"$f":"IF(O1068>0,VLOOKUP(O1068,Set!$H$2:$J$16,2,FALSE),\"\")","v":""}]
[{"$nulls":8},{"$f":"IF(H1069>0,VLOOKUP(H1069,Set!$A$2:$B$4,2,FALSE),\"\")","v":""},{"$nulls":6},{"$f":"IF(O1069>0,VLOOKUP(O1069,Set!$H$2:$J$16,2,FALSE),\"\")","v":""}]
[{"$nulls":8},{"$f":"IF(H1070>0,VLOOKUP(H1070,Set!$A$2:$B$4,2,FALSE),\"\")","v":""},{"$nulls":6},{"$f":"IF(O1070>0,VLOOKUP(O1070,Set!$H$2:$J$16,2,FALSE),\"\")","v":""}]
[{"$nulls":8},{"$f":"IF(H1071>0,VLOOKUP(H1071,Set!$A$2:$B$4,2,FALSE),\"\")","v":""},{"$nulls":6},{"$f":"IF(O1071>0,VLOOKUP(O1071,Set!$H$2:$J$16,2,FALSE),\"\")","v":""}]
[{"$nulls":8},{"$f":"IF(H1072>0,VLOOKUP(H1072,Set!$A$2:$B$4,2,FALSE),\"\")","v":""},{"$nulls":6},{"$f":"IF(O1072>0,VLOOKUP(O1072,Set!$H$2:$J$16,2,FALSE),\"\")","v":""}]
[{"$nulls":8},{"$f":"IF(H1073>0,VLOOKUP(H1073,Set!$A$2:$B$4,2,FALSE),\"\")","v":""},{"$nulls":6},{"$f":"IF(O1073>0,VLOOKUP(O1073,Set!$H$2:$J$16,2,FALSE),\"\")","v":""}]
[{"$nulls":8},{"$f":"IF(H1074>0,VLOOKUP(H1074,Set!$A$2:$B$4,2,FALSE),\"\")","v":""},{"$nulls":6},{"$f":"IF(O1074>0,VLOOKUP(O1074,Set!$H$2:$J$16,2,FALSE),\"\")","v":""}]
[{"$nulls":8},{"$f":"IF(H1075>0,VLOOKUP(H1075,Set!$A$2:$B$4,2,FALSE),\"\")","v":""},{"$nulls":6},{"$f":"IF(O1075>0,VLOOKUP(O1075,Set!$H$2:$J$16,2,FALSE),\"\")","v":""}]
[{"$nulls":8},{"$f":"IF(H1076>0,VLOOKUP(H1076,Set!$A$2:$B$4,2,FALSE),\"\")","v":""},{"$nulls":6},{"$f":"IF(O1076>0,VLOOKUP(O1076,Set!$H$2:$J$16,2,FALSE),\"\")","v":""}]
[{"$nulls":8},{"$f":"IF(H1077>0,VLOOKUP(H1077,Set!$A$2:$B$4,2,FALSE),\"\")","v":""},{"$nulls":6},{"$f":"IF(O1077>0,VLOOKUP(O1077,Set!$H$2:$J$16,2,FALSE),\"\")","v":""}]
[{"$nulls":8},{"$f":"IF(H1078>0,VLOOKUP(H1078,Set!$A$2:$B$4,2,FALSE),\"\")","v":""},{"$nulls":6},{"$f":"IF(O1078>0,VLOOKUP(O1078,Set!$H$2:$J$16,2,FALSE),\"\")","v":""}]
[{"$nulls":8},{"$f":"IF(H1079>0,VLOOKUP(H1079,Set!$A$2:$B$4,2,FALSE),\"\")","v":""},{"$nulls":6},{"$f":"IF(O1079>0,VLOOKUP(O1079,Set!$H$2:$J$16,2,FALSE),\"\")","v":""}]
[{"$nulls":8},{"$f":"IF(H1080>0,VLOOKUP(H1080,Set!$A$2:$B$4,2,FALSE),\"\")","v":""},{"$nulls":6},{"$f":"IF(O1080>0,VLOOKUP(O1080,Set!$H$2:$J$16,2,FALSE),\"\")","v":""}]
[{"$nulls":8},{"$f":"IF(H1081>0,VLOOKUP(H1081,Set!$A$2:$B$4,2,FALSE),\"\")","v":""},{"$nulls":6},{"$f":"IF(O1081>0,VLOOKUP(O1081,Set!$H$2:$J$16,2,FALSE),\"\")","v":""}]
[{"$nulls":8},{"$f":"IF(H1082>0,VLOOKUP(H1082,Set!$A$2:$B$4,2,FALSE),\"\")","v":""},{"$nulls":6},{"$f":"IF(O1082>0,VLOOKUP(O1082,Set!$H$2:$J$16,2,FALSE),\"\")","v":""}]
[{"$nulls":8},{"$f":"IF(H1083>0,VLOOKUP(H1083,Set!$A$2:$B$4,2,FALSE),\"\")","v":""},{"$nulls":6},{"$f":"IF(O1083>0,VLOOKUP(O1083,Set!$H$2:$J$16,2,FALSE),\"\")","v":""}]
[{"$nulls":8},{"$f":"IF(H1084>0,VLOOKUP(H1084,Set!$A$2:$B$4,2,FALSE),\"\")","v":""},{"$nulls":6},{"$f":"IF(O1084>0,VLOOKUP(O1084,Set!$H$2:$J$16,2,FALSE),\"\")","v":""}]
[{"$nulls":8},{"$f":"IF(H1085>0,VLOOKUP(H1085,Set!$A$2:$B$4,2,FALSE),\"\")","v":""},{"$nulls":6},{"$f":"IF(O1085>0,VLOOKUP(O1085,Set!$H$2:$J$16,2,FALSE),\"\")","v":""}]
[{"$nulls":8},{"$f":"IF(H1086>0,VLOOKUP(H1086,Set!$A$2:$B$4,2,FALSE),\"\")","v":""},{"$nulls":6},{"$f":"IF(O1086>0,VLOOKUP(O1086,Set!$H$2:$J$16,2,FALSE),\"\")","v":""}]
[{"$nulls":8},{"$f":"IF(H1087>0,VLOOKUP(H1087,Set!$A$2:$B$4,2,FALSE),\"\")","v":""},{"$nulls":6},{"$f":"IF(O1087>0,VLOOKUP(O1087,Set!$H$2:$J$16,2,FALSE),\"\")","v":""}]
[{"$nulls":8},{"$f":"IF(H1088>0,VLOOKUP(H1088,Set!$A$2:$B$4,2,FALSE),\"\")","v":""},{"$nulls":6},{"$f":"IF(O1088>0,VLOOKUP(O1088,Set!$H$2:$J$16,2,FALSE),\"\")","v":""}]
[{"$nulls":8},{"$f":"IF(H1089>0,VLOOKUP(H1089,Set!$A$2:$B$4,2,FALSE),\"\")","v":""},{"$nulls":6},{"$f":"IF(O1089>0,VLOOKUP(O1089,Set!$H$2:$J$16,2,FALSE),\"\")","v":""}]
[{"$nulls":8},{"$f":"IF(H1090>0,VLOOKUP(H1090,Set!$A$2:$B$4,2,FALSE),\"\")","v":""},{"$nulls":6},{"$f":"IF(O1090>0,VLOOKUP(O1090,Set!$H$2:$J$16,2,FALSE),\"\")","v":""}]
[{"$nulls":8},{"$f":"IF(H1091>0,VLOOKUP(H1091,Set!$A$2:$B$4,2,FALSE),\"\")","v":""},{"$nulls":6},{"$f":"IF(O1091>0,VLOOKUP(O1091,Set!$H$2:$J$16,2,FALSE),\"\")","v":""}]
[{"$nulls":8},{"$f":"IF(H1092>0,VLOOKUP(H1092,Set!$A$2:$B$4,2,FALSE),\"\")","v":""},{"$nulls":6},{"$f":"IF(O1092>0,VLOOKUP(O1092,Set!$H$2:$J$16,2,FALSE),\"\")","v":""}]
[{"$nulls":8},{"$f":"IF(H1093>0,VLOOKUP(H1093,Set!$A$2:$B$4,2,FALSE),\"\")","v":""},{"$nulls":6},{"$f":"IF(O1093>0,VLOOKUP(O1093,Set!$H$2:$J$16,2,FALSE),\"\")","v":""}]
[{"$nulls":8},{"$f":"IF(H1094>0,VLOOKUP(H1094,Set!$A$2:$B$4,2,FALSE),\"\")","v":""},{"$nulls":6},{"$f":"IF(O1094>0,VLOOKUP(O1094,Set!$H$2:$J$16,2,FALSE),\"\")","v":""}]
[{"$nulls":8},{"$f":"IF(H1095>0,VLOOKUP(H1095,Set!$A$2:$B$4,2,FALSE),\"\")","v":""},{"$nulls":6},{"$f":"IF(O1095>0,VLOOKUP(O1095,Set!$H$2:$J$16,2,FALSE),\"\")","v":""}]
[{"$nulls":8},{"$f":"IF(H1096>0,VLOOKUP(H1096,Set!$A$2:$B$4,2,FALSE),\"\")","v":""},{"$nulls":6},{"$f":"IF(O1096>0,VLOOKUP(O1096,Set!$H$2:$J$16,2,FALSE),\"\")","v":""}]
[{"$nulls":8},{"$f":"IF(H1097>0,VLOOKUP(H1097,Set!$A$2:$B$4,2,FALSE),\"\")","v":""},{"$nulls":6},{"$f":"IF(O1097>0,VLOOKUP(O1097,Set!$H$2:$J$16,2,FALSE),\"\")","v":""}]
[{"$nulls":8},{"$f":"IF(H1098>0,VLOOKUP(H1098,Set!$A$2:$B$4,2,FALSE),\"\")","v":""},{"$nulls":6},{"$f":"IF(O1098>0,VLOOKUP(O1098,Set!$H$2:$J$16,2,FALSE),\"\")","v":""}]
[{"$nulls":8},{"$f":"IF(H1099>0,VLOOKUP(H1099,Set!$A$2:$B$4,2,FALSE),\"\")","v":""},{"$nulls":6},{"$f":"IF(O1099>0,VLOOKUP(O1099,Set!$H$2:$J$16,2,FALSE),\"\")","v":""}]
[{"$nulls":8},{"$f":"IF(H1100>0,VLOOKUP(H1100,Set!$A$2:$B$4,2,FALSE),\"\")","v":""},{"$nulls":6},{"$f":"IF(O1100>0,VLOOKUP(O1100,Set!$H$2:$J$16,2,FALSE),\"\")","v":""}]
[{"$nulls":8},{"$f":"IF(H1101>0,VLOOKUP(H1101,Set!$A$2:$B$4,2,FALSE),\"\")","v":""},{"$nulls":6},{"$f":"IF(O1101>0,VLOOKUP(O1101,Set!$H$2:$J$16,2,FALSE),\"\")","v":""}]
[{"$nulls":8},{"$f":"IF(H1102>0,VLOOKUP(H1102,Set!$A$2:$B$4,2,FALSE),\"\")","v":""},{"$nulls":6},{"$f":"IF(O1102>0,VLOOKUP(O1102,Set!$H$2:$J$16,2,FALSE),\"\")","v":""}]
[{"$nulls":8},{"$f":"IF(H1103>0,VLOOKUP(H1103,Set!$A$2:$B$4,2,FALSE),\"\")","v":""},{"$nulls":6},{"$f":"IF(O1103>0,VLOOKUP(O1103,Set!$H$2:$J$16,2,FALSE),\"\")","v":""}]
[{"$nulls":8},{"$f":"IF(H1104>0,VLOOKUP(H1104,Set!$A$2:$B$4,2,FALSE),\"\")","v":""},{"$nulls":6},{"$f":"IF(O1104>0,VLOOKUP(O1104,Set!$H$2:$J$16,2,FALSE),\"\")","v":""}]
[{"$nulls":8},{"$f":"IF(H1105>0,VLOOKUP(H1105,Set!$A$2:$B$4,2,FALSE),\"\")","v":""},{"$nulls":6},{"$f":"IF(O1105>0,VLOOKUP(O1105,Set!$H$2:$J$16,2,FALSE),\"\")","v":""}]
[{"$nulls":8},{"$f":"IF(H1106>0,VLOOKUP(H1106,Set!$A$2:$B$4,2,FALSE),\"\")","v":""},{"$nulls":6},{"$f":"IF(O1106>0,VLOOKUP(O1106,Set!$H$2:$J$16,2,FALSE),\"\")","v":""}]
[{"$nulls":8},{"$f":"IF(H1107>0,VLOOKUP(H1107,Set!$A$2:$B$4,2,FALSE),\"\")","v":""},{"$nulls":6},{"$f":"IF(O1107>0,VLOOKUP(O1107,Set!$H$2:$J$16,2,FALSE),\"\")","v":""}]
[{"$nulls":8},{"$f":"IF(H1108>0,VLOOKUP(H1108,Set!$A$2:$B$4,2,FALSE),\"\")","v":""},{"$nulls":6},{"$f":"IF(O1108>0,VLOOKUP(O1108,Set!$H$2:$J$16,2,FALSE),\"\")","v":""}]
[{"$nulls":8},{"$f":"IF(H1109>0,VLOOKUP(H1109,Set!$A$2:$B$4,2,FALSE),\"\")","v":""},{"$nulls":6},{"$f":"IF(O1109>0,VLOOKUP(O1109,Set!$H$2:$J$16,2,FALSE),\"\")","v":""}]
[{"$nulls":8},{"$f":"IF(H1110>0,VLOOKUP(H1110,Set!$A$2:$B$4,2,FALSE),\"\")","v":""},{"$nulls":6},{"$f":"IF(O1110>0,VLOOKUP(O1110,Set!$H$2:$J$16,2,FALSE),\"\")","v":""}]
[{"$nulls":8},{"$f":"IF(H1111>0,VLOOKUP(H1111,Set!$A$2:$B$4,2,FALSE),\"\")","v":""},{"$nulls":6},{"$f":"IF(O1111>0,VLOOKUP(O1111,Set!$H$2:$J$16,2,FALSE),\"\")","v":""}]
[{"$nulls":8},{"$f":"IF(H1112>0,VLOOKUP(H1112,Set!$A$2:$B$4,2,FALSE),\"\")","v":""},{"$nulls":6},{"$f":"IF(O1112>0,VLOOKUP(O1112,Set!$H$2:$J$16,2,FALSE),\"\")","v":""}]
[{"$nulls":8},{"$f":"IF(H1113>0,VLOOKUP(H1113,Set!$A$2:$B$4,2,FALSE),\"\")","v":""},{"$nulls":6},{"$f":"IF(O1113>0,VLOOKUP(O1113,Set!$H$2:$J$16,2,FALSE),\"\")","v":""}]
[{"$nulls":8},{"$f":"IF(H1114>0,VLOOKUP(H1114,Set!$A$2:$B$4,2,FALSE),\"\")","v":""},{"$nulls":6},{"$f":"IF(O1114>0,VLOOKUP(O1114,Set!$H$2:$J$16,2,FALSE),\"\")","v":""}]
[{"$nulls":8},{"$f":"IF(H1115>0,VLOOKUP(H1115,Set!$A$2:$B$4,2,FALSE),\"\")","v":""},{"$nulls":6},{"$f":"IF(O1115>0,VLOOKUP(O1115,Set!$H$2:$J$16,2,FALSE),\"\")","v":""}]
[{"$nulls":8},{"$f":"IF(H1116>0,VLOOKUP(H1116,Set!$A$2:$B$4,2,FALSE),\"\")","v":""},{"$nulls":6},{"$f":"IF(O1116>0,VLOOKUP(O1116,Set!$H$2:$J$16,2,FALSE),\"\")","v":""}]
[{"$nulls":8},{"$f":"IF(H1117>0,VLOOKUP(H1117,Set!$A$2:$B$4,2,FALSE),\"\")","v":""},{"$nulls":6},{"$f":"IF(O1117>0,VLOOKUP(O1117,Set!$H$2:$J$16,2,FALSE),\"\")","v":""}]
[{"$nulls":8},{"$f":"IF(H1118>0,VLOOKUP(H1118,Set!$A$2:$B$4,2,FALSE),\"\")","v":""},{"$nulls":6},{"$f":"IF(O1118>0,VLOOKUP(O1118,Set!$H$2:$J$16,2,FALSE),\"\")","v":""}]
[{"$nulls":8},{"$f":"IF(H1119>0,VLOOKUP(H1119,Set!$A$2:$B$4,2,FALSE),\"\")","v":""},{"$nulls":6},{"$f":"IF(O1119>0,VLOOKUP(O1119,Set!$H$2:$J$16,2,FALSE),\"\")","v":""}]
[{"$nulls":8},{"$f":"IF(H1120>0,VLOOKUP(H1120,Set!$A$2:$B$4,2,FALSE),\"\")","v":""},{"$nulls":6},{"$f":"IF(O1120>0,VLOOKUP(O1120,Set!$H$2:$J$16,2,FALSE),\"\")","v":""}]
[{"$nulls":8},{"$f":"IF(H1121>0,VLOOKUP(H1121,Set!$A$2:$B$4,2,FALSE),\"\")","v":""},{"$nulls":6},{"$f":"IF(O1121>0,VLOOKUP(O1121,Set!$H$2:$J$16,2,FALSE),\"\")","v":""}]
[{"$nulls":8},{"$f":"IF(H1122>0,VLOOKUP(H1122,Set!$A$2:$B$4,2,FALSE),\"\")","v":""},{"$nulls":6},{"$f":"IF(O1122>0,VLOOKUP(O1122,Set!$H$2:$J$16,2,FALSE),\"\")","v":""}]
[{"$nulls":8},{"$f":"IF(H1123>0,VLOOKUP(H1123,Set!$A$2:$B$4,2,FALSE),\"\")","v":""},{"$nulls":6},{"$f":"IF(O1123>0,VLOOKUP(O1123,Set!$H$2:$J$16,2,FALSE),\"\")","v":""}]
[{"$nulls":8},{"$f":"IF(H1124>0,VLOOKUP(H1124,Set!$A$2:$B$4,2,FALSE),\"\")","v":""},{"$nulls":6},{"$f":"IF(O1124>0,VLOOKUP(O1124,Set!$H$2:$J$16,2,FALSE),\"\")","v":""}]
[{"$nulls":8},{"$f":"IF(H1125>0,VLOOKUP(H1125,Set!$A$2:$B$4,2,FALSE),\"\")","v":""},{"$nulls":6},{"$f":"IF(O1125>0,VLOOKUP(O1125,Set!$H$2:$J$16,2,FALSE),\"\")","v":""}]
[{"$nulls":8},{"$f":"IF(H1126>0,VLOOKUP(H1126,Set!$A$2:$B$4,2,FALSE),\"\")","v":""},{"$nulls":6},{"$f":"IF(O1126>0,VLOOKUP(O1126,Set!$H$2:$J$16,2,FALSE),\"\")","v":""}]
[{"$nulls":8},{"$f":"IF(H1127>0,VLOOKUP(H1127,Set!$A$2:$B$4,2,FALSE),\"\")","v":""},{"$nulls":6},{"$f":"IF(O1127>0,VLOOKUP(O1127,Set!$H$2:$J$16,2,FALSE),\"\")","v":""}]
[{"$nulls":8},{"$f":"IF(H1128>0,VLOOKUP(H1128,Set!$A$2:$B$4,2,FALSE),\"\")","v":""},{"$nulls":6},{"$f":"IF(O1128>0,VLOOKUP(O1128,Set!$H$2:$J$16,2,FALSE),\"\")","v":""}]
[{"$nulls":8},{"$f":"IF(H1129>0,VLOOKUP(H1129,Set!$A$2:$B$4,2,FALSE),\"\")","v":""},{"$nulls":6},{"$f":"IF(O1129>0,VLOOKUP(O1129,Set!$H$2:$J$16,2,FALSE),\"\")","v":""}]
[{"$nulls":8},{"$f":"IF(H1130>0,VLOOKUP(H1130,Set!$A$2:$B$4,2,FALSE),\"\")","v":""},{"$nulls":6},{"$f":"IF(O1130>0,VLOOKUP(O1130,Set!$H$2:$J$16,2,FALSE),\"\")","v":""}]
[{"$nulls":8},{"$f":"IF(H1131>0,VLOOKUP(H1131,Set!$A$2:$B$4,2,FALSE),\"\")","v":""},{"$nulls":6},{"$f":"IF(O1131>0,VLOOKUP(O1131,Set!$H$2:$J$16,2,FALSE),\"\")","v":""}]
[{"$nulls":8},{"$f":"IF(H1132>0,VLOOKUP(H1132,Set!$A$2:$B$4,2,FALSE),\"\")","v":""},{"$nulls":6},{"$f":"IF(O1132>0,VLOOKUP(O1132,Set!$H$2:$J$16,2,FALSE),\"\")","v":""}]
[{"$nulls":8},{"$f":"IF(H1133>0,VLOOKUP(H1133,Set!$A$2:$B$4,2,FALSE),\"\")","v":""},{"$nulls":6},{"$f":"IF(O1133>0,VLOOKUP(O1133,Set!$H$2:$J$16,2,FALSE),\"\")","v":""}]
[{"$nulls":8},{"$f":"IF(H1134>0,VLOOKUP(H1134,Set!$A$2:$B$4,2,FALSE),\"\")","v":""},{"$nulls":6},{"$f":"IF(O1134>0,VLOOKUP(O1134,Set!$H$2:$J$16,2,FALSE),\"\")","v":""}]
[{"$nulls":8},{"$f":"IF(H1135>0,VLOOKUP(H1135,Set!$A$2:$B$4,2,FALSE),\"\")","v":""},{"$nulls":6},{"$f":"IF(O1135>0,VLOOKUP(O1135,Set!$H$2:$J$16,2,FALSE),\"\")","v":""}]
[{"$nulls":8},{"$f":"IF(H1136>0,VLOOKUP(H1136,Set!$A$2:$B$4,2,FALSE),\"\")","v":""},{"$nulls":6},{"$f":"IF(O1136>0,VLOOKUP(O1136,Set!$H$2:$J$16,2,FALSE),\"\")","v":""}]
[{"$nulls":8},{"$f":"IF(H1137>0,VLOOKUP(H1137,Set!$A$2:$B$4,2,FALSE),\"\")","v":""},{"$nulls":6},{"$f":"IF(O1137>0,VLOOKUP(O1137,Set!$H$2:$J$16,2,FALSE),\"\")","v":""}]
[{"$nulls":8},{"$f":"IF(H1138>0,VLOOKUP(H1138,Set!$A$2:$B$4,2,FALSE),\"\")","v":""},{"$nulls":6},{"$f":"IF(O1138>0,VLOOKUP(O1138,Set!$H$2:$J$16,2,FALSE),\"\")","v":""}]
[{"$nulls":8},{"$f":"IF(H1139>0,VLOOKUP(H1139,Set!$A$2:$B$4,2,FALSE),\"\")","v":""},{"$nulls":6},{"$f":"IF(O1139>0,VLOOKUP(O1139,Set!$H$2:$J$16,2,FALSE),\"\")","v":""}]
[{"$nulls":8},{"$f":"IF(H1140>0,VLOOKUP(H1140,Set!$A$2:$B$4,2,FALSE),\"\")","v":""},{"$nulls":6},{"$f":"IF(O1140>0,VLOOKUP(O1140,Set!$H$2:$J$16,2,FALSE),\"\")","v":""}]
[{"$nulls":8},{"$f":"IF(H1141>0,VLOOKUP(H1141,Set!$A$2:$B$4,2,FALSE),\"\")","v":""},{"$nulls":6},{"$f":"IF(O1141>0,VLOOKUP(O1141,Set!$H$2:$J$16,2,FALSE),\"\")","v":""}]
[{"$nulls":8},{"$f":"IF(H1142>0,VLOOKUP(H1142,Set!$A$2:$B$4,2,FALSE),\"\")","v":""},{"$nulls":6},{"$f":"IF(O1142>0,VLOOKUP(O1142,Set!$H$2:$J$16,2,FALSE),\"\")","v":""}]
[{"$nulls":8},{"$f":"IF(H1143>0,VLOOKUP(H1143,Set!$A$2:$B$4,2,FALSE),\"\")","v":""},{"$nulls":6},{"$f":"IF(O1143>0,VLOOKUP(O1143,Set!$H$2:$J$16,2,FALSE),\"\")","v":""}]
[{"$nulls":8},{"$f":"IF(H1144>0,VLOOKUP(H1144,Set!$A$2:$B$4,2,FALSE),\"\")","v":""},{"$nulls":6},{"$f":"IF(O1144>0,VLOOKUP(O1144,Set!$H$2:$J$16,2,FALSE),\"\")","v":""}]
[{"$nulls":8},{"$f":"IF(H1145>0,VLOOKUP(H1145,Set!$A$2:$B$4,2,FALSE),\"\")","v":""},{"$nulls":6},{"$f":"IF(O1145>0,VLOOKUP(O1145,Set!$H$2:$J$16,2,FALSE),\"\")","v":""}]
[{"$nulls":8},{"$f":"IF(H1146>0,VLOOKUP(H1146,Set!$A$2:$B$4,2,FALSE),\"\")","v":""},{"$nulls":6},{"$f":"IF(O1146>0,VLOOKUP(O1146,Set!$H$2:$J$16,2,FALSE),\"\")","v":""}]
[{"$nulls":8},{"$f":"IF(H1147>0,VLOOKUP(H1147,Set!$A$2:$B$4,2,FALSE),\"\")","v":""},{"$nulls":6},{"$f":"IF(O1147>0,VLOOKUP(O1147,Set!$H$2:$J$16,2,FALSE),\"\")","v":""}]
[{"$nulls":8},{"$f":"IF(H1148>0,VLOOKUP(H1148,Set!$A$2:$B$4,2,FALSE),\"\")","v":""},{"$nulls":6},{"$f":"IF(O1148>0,VLOOKUP(O1148,Set!$H$2:$J$16,2,FALSE),\"\")","v":""}]
[{"$nulls":8},{"$f":"IF(H1149>0,VLOOKUP(H1149,Set!$A$2:$B$4,2,FALSE),\"\")","v":""},{"$nulls":6},{"$f":"IF(O1149>0,VLOOKUP(O1149,Set!$H$2:$J$16,2,FALSE),\"\")","v":""}]
[{"$nulls":8},{"$f":"IF(H1150>0,VLOOKUP(H1150,Set!$A$2:$B$4,2,FALSE),\"\")","v":""},{"$nulls":6},{"$f":"IF(O1150>0,VLOOKUP(O1150,Set!$H$2:$J$16,2,FALSE),\"\")","v":""}]
[{"$nulls":8},{"$f":"IF(H1151>0,VLOOKUP(H1151,Set!$A$2:$B$4,2,FALSE),\"\")","v":""},{"$nulls":6},{"$f":"IF(O1151>0,VLOOKUP(O1151,Set!$H$2:$J$16,2,FALSE),\"\")","v":""}]
[{"$nulls":8},{"$f":"IF(H1152>0,VLOOKUP(H1152,Set!$A$2:$B$4,2,FALSE),\"\")","v":""},{"$nulls":6},{"$f":"IF(O1152>0,VLOOKUP(O1152,Set!$H$2:$J$16,2,FALSE),\"\")","v":""}]
[{"$nulls":8},{"$f":"IF(H1153>0,VLOOKUP(H1153,Set!$A$2:$B$4,2,FALSE),\"\")","v":""},{"$nulls":6},{"$f":"IF(O1153>0,VLOOKUP(O1153,Set!$H$2:$J$16,2,FALSE),\"\")","v":""}]
[{"$nulls":8},{"$f":"IF(H1154>0,VLOOKUP(H1154,Set!$A$2:$B$4,2,FALSE),\"\")","v":""},{"$nulls":6},{"$f":"IF(O1154>0,VLOOKUP(O1154,Set!$H$2:$J$16,2,FALSE),\"\")","v":""}]
[{"$nulls":8},{"$f":"IF(H1155>0,VLOOKUP(H1155,Set!$A$2:$B$4,2,FALSE),\"\")","v":""},{"$nulls":6},{"$f":"IF(O1155>0,VLOOKUP(O1155,Set!$H$2:$J$16,2,FALSE),\"\")","v":""}]
[{"$nulls":8},{"$f":"IF(H1156>0,VLOOKUP(H1156,Set!$A$2:$B$4,2,FALSE),\"\")","v":""},{"$nulls":6},{"$f":"IF(O1156>0,VLOOKUP(O1156,Set!$H$2:$J$16,2,FALSE),\"\")","v":""}]
[{"$nulls":8},{"$f":"IF(H1157>0,VLOOKUP(H1157,Set!$A$2:$B$4,2,FALSE),\"\")","v":""},{"$nulls":6},{"$f":"IF(O1157>0,VLOOKUP(O1157,Set!$H$2:$J$16,2,FALSE),\"\")","v":""}]
[{"$nulls":8},{"$f":"IF(H1158>0,VLOOKUP(H1158,Set!$A$2:$B$4,2,FALSE),\"\")","v":""},{"$nulls":6},{"$f":"IF(O1158>0,VLOOKUP(O1158,Set!$H$2:$J$16,2,FALSE),\"\")","v":""}]
[{"$nulls":8},{"$f":"IF(H1159>0,VLOOKUP(H1159,Set!$A$2:$B$4,2,FALSE),\"\")","v":""},{"$nulls":6},{"$f":"IF(O1159>0,VLOOKUP(O1159,Set!$H$2:$J$16,2,FALSE),\"\")","v":""}]
[{"$nulls":8},{"$f":"IF(H1160>0,VLOOKUP(H1160,Set!$A$2:$B$4,2,FALSE),\"\")","v":""},{"$nulls":6},{"$f":"IF(O1160>0,VLOOKUP(O1160,Set!$H$2:$J$16,2,FALSE),\"\")","v":""}]
[{"$nulls":8},{"$f":"IF(H1161>0,VLOOKUP(H1161,Set!$A$2:$B$4,2,FALSE),\"\")","v":""},{"$nulls":6},{"$f":"IF(O1161>0,VLOOKUP(O1161,Set!$H$2:$J$16,2,FALSE),\"\")","v":""}]
[{"$nulls":8},{"$f":"IF(H1162>0,VLOOKUP(H1162,Set!$A$2:$B$4,2,FALSE),\"\")","v":""},{"$nulls":6},{"$f":"IF(O1162>0,VLOOKUP(O1162,Set!$H$2:$J$16,2,FALSE),\"\")","v":""}]
[{"$nulls":8},{"$f":"IF(H1163>0,VLOOKUP(H1163,Set!$A$2:$B$4,2,FALSE),\"\")","v":""},{"$nulls":6},{"$f":"IF(O1163>0,VLOOKUP(O1163,Set!$H$2:$J$16,2,FALSE),\"\")","v":""}]
[{"$nulls":8},{"$f":"IF(H1164>0,VLOOKUP(H1164,Set!$A$2:$B$4,2,FALSE),\"\")","v":""},{"$nulls":6},{"$f":"IF(O1164>0,VLOOKUP(O1164,Set!$H$2:$J$16,2,FALSE),\"\")","v":""}]
[{"$nulls":8},{"$f":"IF(H1165>0,VLOOKUP(H1165,Set!$A$2:$B$4,2,FALSE),\"\")","v":""},{"$nulls":6},{"$f":"IF(O1165>0,VLOOKUP(O1165,Set!$H$2:$J$16,2,FALSE),\"\")","v":""}]
[{"$nulls":8},{"$f":"IF(H1166>0,VLOOKUP(H1166,Set!$A$2:$B$4,2,FALSE),\"\")","v":""},{"$nulls":6},{"$f":"IF(O1166>0,VLOOKUP(O1166,Set!$H$2:$J$16,2,FALSE),\"\")","v":""}]
[{"$nulls":8},{"$f":"IF(H1167>0,VLOOKUP(H1167,Set!$A$2:$B$4,2,FALSE),\"\")","v":""},{"$nulls":6},{"$f":"IF(O1167>0,VLOOKUP(O1167,Set!$H$2:$J$16,2,FALSE),\"\")","v":""}]
[{"$nulls":8},{"$f":"IF(H1168>0,VLOOKUP(H1168,Set!$A$2:$B$4,2,FALSE),\"\")","v":""},{"$nulls":6},{"$f":"IF(O1168>0,VLOOKUP(O1168,Set!$H$2:$J$16,2,FALSE),\"\")","v":""}]
[{"$nulls":8},{"$f":"IF(H1169>0,VLOOKUP(H1169,Set!$A$2:$B$4,2,FALSE),\"\")","v":""},{"$nulls":6},{"$f":"IF(O1169>0,VLOOKUP(O1169,Set!$H$2:$J$16,2,FALSE),\"\")","v":""}]
[{"$nulls":8},{"$f":"IF(H1170>0,VLOOKUP(H1170,Set!$A$2:$B$4,2,FALSE),\"\")","v":""},{"$nulls":6},{"$f":"IF(O1170>0,VLOOKUP(O1170,Set!$H$2:$J$16,2,FALSE),\"\")","v":""}]
[{"$nulls":8},{"$f":"IF(H1171>0,VLOOKUP(H1171,Set!$A$2:$B$4,2,FALSE),\"\")","v":""},{"$nulls":6},{"$f":"IF(O1171>0,VLOOKUP(O1171,Set!$H$2:$J$16,2,FALSE),\"\")","v":""}]
[{"$nulls":8},{"$f":"IF(H1172>0,VLOOKUP(H1172,Set!$A$2:$B$4,2,FALSE),\"\")","v":""},{"$nulls":6},{"$f":"IF(O1172>0,VLOOKUP(O1172,Set!$H$2:$J$16,2,FALSE),\"\")","v":""}]
[{"$nulls":8},{"$f":"IF(H1173>0,VLOOKUP(H1173,Set!$A$2:$B$4,2,FALSE),\"\")","v":""},{"$nulls":6},{"$f":"IF(O1173>0,VLOOKUP(O1173,Set!$H$2:$J$16,2,FALSE),\"\")","v":""}]
[{"$nulls":8},{"$f":"IF(H1174>0,VLOOKUP(H1174,Set!$A$2:$B$4,2,FALSE),\"\")","v":""},{"$nulls":6},{"$f":"IF(O1174>0,VLOOKUP(O1174,Set!$H$2:$J$16,2,FALSE),\"\")","v":""}]
[{"$nulls":8},{"$f":"IF(H1175>0,VLOOKUP(H1175,Set!$A$2:$B$4,2,FALSE),\"\")","v":""},{"$nulls":6},{"$f":"IF(O1175>0,VLOOKUP(O1175,Set!$H$2:$J$16,2,FALSE),\"\")","v":""}]
[{"$nulls":8},{"$f":"IF(H1176>0,VLOOKUP(H1176,Set!$A$2:$B$4,2,FALSE),\"\")","v":""},{"$nulls":6},{"$f":"IF(O1176>0,VLOOKUP(O1176,Set!$H$2:$J$16,2,FALSE),\"\")","v":""}]
[{"$nulls":8},{"$f":"IF(H1177>0,VLOOKUP(H1177,Set!$A$2:$B$4,2,FALSE),\"\")","v":""},{"$nulls":6},{"$f":"IF(O1177>0,VLOOKUP(O1177,Set!$H$2:$J$16,2,FALSE),\"\")","v":""}]
[{"$nulls":8},{"$f":"IF(H1178>0,VLOOKUP(H1178,Set!$A$2:$B$4,2,FALSE),\"\")","v":""},{"$nulls":6},{"$f":"IF(O1178>0,VLOOKUP(O1178,Set!$H$2:$J$16,2,FALSE),\"\")","v":""}]
[{"$nulls":8},{"$f":"IF(H1179>0,VLOOKUP(H1179,Set!$A$2:$B$4,2,FALSE),\"\")","v":""},{"$nulls":6},{"$f":"IF(O1179>0,VLOOKUP(O1179,Set!$H$2:$J$16,2,FALSE),\"\")","v":""}]
[{"$nulls":8},{"$f":"IF(H1180>0,VLOOKUP(H1180,Set!$A$2:$B$4,2,FALSE),\"\")","v":""},{"$nulls":6},{"$f":"IF(O1180>0,VLOOKUP(O1180,Set!$H$2:$J$16,2,FALSE),\"\")","v":""}]
[{"$nulls":8},{"$f":"IF(H1181>0,VLOOKUP(H1181,Set!$A$2:$B$4,2,FALSE),\"\")","v":""},{"$nulls":6},{"$f":"IF(O1181>0,VLOOKUP(O1181,Set!$H$2:$J$16,2,FALSE),\"\")","v":""}]
[{"$nulls":8},{"$f":"IF(H1182>0,VLOOKUP(H1182,Set!$A$2:$B$4,2,FALSE),\"\")","v":""},{"$nulls":6},{"$f":"IF(O1182>0,VLOOKUP(O1182,Set!$H$2:$J$16,2,FALSE),\"\")","v":""}]
[{"$nulls":8},{"$f":"IF(H1183>0,VLOOKUP(H1183,Set!$A$2:$B$4,2,FALSE),\"\")","v":""},{"$nulls":6},{"$f":"IF(O1183>0,VLOOKUP(O1183,Set!$H$2:$J$16,2,FALSE),\"\")","v":""}]
[{"$nulls":8},{"$f":"IF(H1184>0,VLOOKUP(H1184,Set!$A$2:$B$4,2,FALSE),\"\")","v":""},{"$nulls":6},{"$f":"IF(O1184>0,VLOOKUP(O1184,Set!$H$2:$J$16,2,FALSE),\"\")","v":""}]
[{"$nulls":8},{"$f":"IF(H1185>0,VLOOKUP(H1185,Set!$A$2:$B$4,2,FALSE),\"\")","v":""},{"$nulls":6},{"$f":"IF(O1185>0,VLOOKUP(O1185,Set!$H$2:$J$16,2,FALSE),\"\")","v":""}]
[{"$nulls":8},{"$f":"IF(H1186>0,VLOOKUP(H1186,Set!$A$2:$B$4,2,FALSE),\"\")","v":""},{"$nulls":6},{"$f":"IF(O1186>0,VLOOKUP(O1186,Set!$H$2:$J$16,2,FALSE),\"\")","v":""}]
[{"$nulls":8},{"$f":"IF(H1187>0,VLOOKUP(H1187,Set!$A$2:$B$4,2,FALSE),\"\")","v":""},{"$nulls":6},{"$f":"IF(O1187>0,VLOOKUP(O1187,Set!$H$2:$J$16,2,FALSE),\"\")","v":""}]
[{"$nulls":8},{"$f":"IF(H1188>0,VLOOKUP(H1188,Set!$A$2:$B$4,2,FALSE),\"\")","v":""},{"$nulls":6},{"$f":"IF(O1188>0,VLOOKUP(O1188,Set!$H$2:$J$16,2,FALSE),\"\")","v":""}]
[{"$nulls":8},{"$f":"IF(H1189>0,VLOOKUP(H1189,Set!$A$2:$B$4,2,FALSE),\"\")","v":""},{"$nulls":6},{"$f":"IF(O1189>0,VLOOKUP(O1189,Set!$H$2:$J$16,2,FALSE),\"\")","v":""}]
[{"$nulls":8},{"$f":"IF(H1190>0,VLOOKUP(H1190,Set!$A$2:$B$4,2,FALSE),\"\")","v":""},{"$nulls":6},{"$f":"IF(O1190>0,VLOOKUP(O1190,Set!$H$2:$J$16,2,FALSE),\"\")","v":""}]
[{"$nulls":8},{"$f":"IF(H1191>0,VLOOKUP(H1191,Set!$A$2:$B$4,2,FALSE),\"\")","v":""},{"$nulls":6},{"$f":"IF(O1191>0,VLOOKUP(O1191,Set!$H$2:$J$16,2,FALSE),\"\")","v":""}]
[{"$nulls":8},{"$f":"IF(H1192>0,VLOOKUP(H1192,Set!$A$2:$B$4,2,FALSE),\"\")","v":""},{"$nulls":6},{"$f":"IF(O1192>0,VLOOKUP(O1192,Set!$H$2:$J$16,2,FALSE),\"\")","v":""}]
[{"$nulls":8},{"$f":"IF(H1193>0,VLOOKUP(H1193,Set!$A$2:$B$4,2,FALSE),\"\")","v":""},{"$nulls":6},{"$f":"IF(O1193>0,VLOOKUP(O1193,Set!$H$2:$J$16,2,FALSE),\"\")","v":""}]
[{"$nulls":8},{"$f":"IF(H1194>0,VLOOKUP(H1194,Set!$A$2:$B$4,2,FALSE),\"\")","v":""},{"$nulls":6},{"$f":"IF(O1194>0,VLOOKUP(O1194,Set!$H$2:$J$16,2,FALSE),\"\")","v":""}]
[{"$nulls":8},{"$f":"IF(H1195>0,VLOOKUP(H1195,Set!$A$2:$B$4,2,FALSE),\"\")","v":""},{"$nulls":6},{"$f":"IF(O1195>0,VLOOKUP(O1195,Set!$H$2:$J$16,2,FALSE),\"\")","v":""}]
[{"$nulls":8},{"$f":"IF(H1196>0,VLOOKUP(H1196,Set!$A$2:$B$4,2,FALSE),\"\")","v":""},{"$nulls":6},{"$f":"IF(O1196>0,VLOOKUP(O1196,Set!$H$2:$J$16,2,FALSE),\"\")","v":""}]
[{"$nulls":8},{"$f":"IF(H1197>0,VLOOKUP(H1197,Set!$A$2:$B$4,2,FALSE),\"\")","v":""},{"$nulls":6},{"$f":"IF(O1197>0,VLOOKUP(O1197,Set!$H$2:$J$16,2,FALSE),\"\")","v":""}]
[{"$nulls":8},{"$f":"IF(H1198>0,VLOOKUP(H1198,Set!$A$2:$B$4,2,FALSE),\"\")","v":""},{"$nulls":6},{"$f":"IF(O1198>0,VLOOKUP(O1198,Set!$H$2:$J$16,2,FALSE),\"\")","v":""}]
[{"$nulls":8},{"$f":"IF(H1199>0,VLOOKUP(H1199,Set!$A$2:$B$4,2,FALSE),\"\")","v":""},{"$nulls":6},{"$f":"IF(O1199>0,VLOOKUP(O1199,Set!$H$2:$J$16,2,FALSE),\"\")","v":""}]
[{"$nulls":8},{"$f":"IF(H1200>0,VLOOKUP(H1200,Set!$A$2:$B$4,2,FALSE),\"\")","v":""},{"$nulls":6},{"$f":"IF(O1200>0,VLOOKUP(O1200,Set!$H$2:$J$16,2,FALSE),\"\")","v":""}]
[{"$nulls":8},{"$f":"IF(H1201>0,VLOOKUP(H1201,Set!$A$2:$B$4,2,FALSE),\"\")","v":""},{"$nulls":6},{"$f":"IF(O1201>0,VLOOKUP(O1201,Set!$H$2:$J$16,2,FALSE),\"\")","v":""}]
[{"$nulls":8},{"$f":"IF(H1202>0,VLOOKUP(H1202,Set!$A$2:$B$4,2,FALSE),\"\")","v":""},{"$nulls":6},{"$f":"IF(O1202>0,VLOOKUP(O1202,Set!$H$2:$J$16,2,FALSE),\"\")","v":""}]
[{"$nulls":8},{"$f":"IF(H1203>0,VLOOKUP(H1203,Set!$A$2:$B$4,2,FALSE),\"\")","v":""},{"$nulls":6},{"$f":"IF(O1203>0,VLOOKUP(O1203,Set!$H$2:$J$16,2,FALSE),\"\")","v":""}]
[{"$nulls":8},{"$f":"IF(H1204>0,VLOOKUP(H1204,Set!$A$2:$B$4,2,FALSE),\"\")","v":""},{"$nulls":6},{"$f":"IF(O1204>0,VLOOKUP(O1204,Set!$H$2:$J$16,2,FALSE),\"\")","v":""}]
[{"$nulls":8},{"$f":"IF(H1205>0,VLOOKUP(H1205,Set!$A$2:$B$4,2,FALSE),\"\")","v":""},{"$nulls":6},{"$f":"IF(O1205>0,VLOOKUP(O1205,Set!$H$2:$J$16,2,FALSE),\"\")","v":""}]
[{"$nulls":8},{"$f":"IF(H1206>0,VLOOKUP(H1206,Set!$A$2:$B$4,2,FALSE),\"\")","v":""},{"$nulls":6},{"$f":"IF(O1206>0,VLOOKUP(O1206,Set!$H$2:$J$16,2,FALSE),\"\")","v":""}]
[{"$nulls":8},{"$f":"IF(H1207>0,VLOOKUP(H1207,Set!$A$2:$B$4,2,FALSE),\"\")","v":""},{"$nulls":6},{"$f":"IF(O1207>0,VLOOKUP(O1207,Set!$H$2:$J$16,2,FALSE),\"\")","v":""}]
[{"$nulls":8},{"$f":"IF(H1208>0,VLOOKUP(H1208,Set!$A$2:$B$4,2,FALSE),\"\")","v":""},{"$nulls":6},{"$f":"IF(O1208>0,VLOOKUP(O1208,Set!$H$2:$J$16,2,FALSE),\"\")","v":""}]
[{"$nulls":8},{"$f":"IF(H1209>0,VLOOKUP(H1209,Set!$A$2:$B$4,2,FALSE),\"\")","v":""},{"$nulls":6},{"$f":"IF(O1209>0,VLOOKUP(O1209,Set!$H$2:$J$16,2,FALSE),\"\")","v":""}]
[{"$nulls":8},{"$f":"IF(H1210>0,VLOOKUP(H1210,Set!$A$2:$B$4,2,FALSE),\"\")","v":""},{"$nulls":6},{"$f":"IF(O1210>0,VLOOKUP(O1210,Set!$H$2:$J$16,2,FALSE),\"\")","v":""}]
[{"$nulls":8},{"$f":"IF(H1211>0,VLOOKUP(H1211,Set!$A$2:$B$4,2,FALSE),\"\")","v":""},{"$nulls":6},{"$f":"IF(O1211>0,VLOOKUP(O1211,Set!$H$2:$J$16,2,FALSE),\"\")","v":""}]
[{"$nulls":8},{"$f":"IF(H1212>0,VLOOKUP(H1212,Set!$A$2:$B$4,2,FALSE),\"\")","v":""},{"$nulls":6},{"$f":"IF(O1212>0,VLOOKUP(O1212,Set!$H$2:$J$16,2,FALSE),\"\")","v":""}]
[{"$nulls":8},{"$f":"IF(H1213>0,VLOOKUP(H1213,Set!$A$2:$B$4,2,FALSE),\"\")","v":""},{"$nulls":6},{"$f":"IF(O1213>0,VLOOKUP(O1213,Set!$H$2:$J$16,2,FALSE),\"\")","v":""}]
[{"$nulls":8},{"$f":"IF(H1214>0,VLOOKUP(H1214,Set!$A$2:$B$4,2,FALSE),\"\")","v":""},{"$nulls":6},{"$f":"IF(O1214>0,VLOOKUP(O1214,Set!$H$2:$J$16,2,FALSE),\"\")","v":""}]
[{"$nulls":8},{"$f":"IF(H1215>0,VLOOKUP(H1215,Set!$A$2:$B$4,2,FALSE),\"\")","v":""},{"$nulls":6},{"$f":"IF(O1215>0,VLOOKUP(O1215,Set!$H$2:$J$16,2,FALSE),\"\")","v":""}]
[{"$nulls":8},{"$f":"IF(H1216>0,VLOOKUP(H1216,Set!$A$2:$B$4,2,FALSE),\"\")","v":""},{"$nulls":6},{"$f":"IF(O1216>0,VLOOKUP(O1216,Set!$H$2:$J$16,2,FALSE),\"\")","v":""}]
[{"$nulls":8},{"$f":"IF(H1217>0,VLOOKUP(H1217,Set!$A$2:$B$4,2,FALSE),\"\")","v":""},{"$nulls":6},{"$f":"IF(O1217>0,VLOOKUP(O1217,Set!$H$2:$J$16,2,FALSE),\"\")","v":""}]
[{"$nulls":8},{"$f":"IF(H1218>0,VLOOKUP(H1218,Set!$A$2:$B$4,2,FALSE),\"\")","v":""},{"$nulls":6},{"$f":"IF(O1218>0,VLOOKUP(O1218,Set!$H$2:$J$16,2,FALSE),\"\")","v":""}]
[{"$nulls":8},{"$f":"IF(H1219>0,VLOOKUP(H1219,Set!$A$2:$B$4,2,FALSE),\"\")","v":""},{"$nulls":6},{"$f":"IF(O1219>0,VLOOKUP(O1219,Set!$H$2:$J$16,2,FALSE),\"\")","v":""}]
[{"$nulls":8},{"$f":"IF(H1220>0,VLOOKUP(H1220,Set!$A$2:$B$4,2,FALSE),\"\")","v":""},{"$nulls":6},{"$f":"IF(O1220>0,VLOOKUP(O1220,Set!$H$2:$J$16,2,FALSE),\"\")","v":""}]
[{"$nulls":8},{"$f":"IF(H1221>0,VLOOKUP(H1221,Set!$A$2:$B$4,2,FALSE),\"\")","v":""},{"$nulls":6},{"$f":"IF(O1221>0,VLOOKUP(O1221,Set!$H$2:$J$16,2,FALSE),\"\")","v":""}]
[{"$nulls":8},{"$f":"IF(H1222>0,VLOOKUP(H1222,Set!$A$2:$B$4,2,FALSE),\"\")","v":""},{"$nulls":6},{"$f":"IF(O1222>0,VLOOKUP(O1222,Set!$H$2:$J$16,2,FALSE),\"\")","v":""}]
[{"$nulls":8},{"$f":"IF(H1223>0,VLOOKUP(H1223,Set!$A$2:$B$4,2,FALSE),\"\")","v":""},{"$nulls":6},{"$f":"IF(O1223>0,VLOOKUP(O1223,Set!$H$2:$J$16,2,FALSE),\"\")","v":""}]
[{"$nulls":8},{"$f":"IF(H1224>0,VLOOKUP(H1224,Set!$A$2:$B$4,2,FALSE),\"\")","v":""},{"$nulls":6},{"$f":"IF(O1224>0,VLOOKUP(O1224,Set!$H$2:$J$16,2,FALSE),\"\")","v":""}]
[{"$nulls":8},{"$f":"IF(H1225>0,VLOOKUP(H1225,Set!$A$2:$B$4,2,FALSE),\"\")","v":""},{"$nulls":6},{"$f":"IF(O1225>0,VLOOKUP(O1225,Set!$H$2:$J$16,2,FALSE),\"\")","v":""}]
[{"$nulls":8},{"$f":"IF(H1226>0,VLOOKUP(H1226,Set!$A$2:$B$4,2,FALSE),\"\")","v":""},{"$nulls":6},{"$f":"IF(O1226>0,VLOOKUP(O1226,Set!$H$2:$J$16,2,FALSE),\"\")","v":""}]
[{"$nulls":8},{"$f":"IF(H1227>0,VLOOKUP(H1227,Set!$A$2:$B$4,2,FALSE),\"\")","v":""},{"$nulls":6},{"$f":"IF(O1227>0,VLOOKUP(O1227,Set!$H$2:$J$16,2,FALSE),\"\")","v":""}]
[{"$nulls":8},{"$f":"IF(H1228>0,VLOOKUP(H1228,Set!$A$2:$B$4,2,FALSE),\"\")","v":""},{"$nulls":6},{"$f":"IF(O1228>0,VLOOKUP(O1228,Set!$H$2:$J$16,2,FALSE),\"\")","v":""}]
[{"$nulls":8},{"$f":"IF(H1229>0,VLOOKUP(H1229,Set!$A$2:$B$4,2,FALSE),\"\")","v":""},{"$nulls":6},{"$f":"IF(O1229>0,VLOOKUP(O1229,Set!$H$2:$J$16,2,FALSE),\"\")","v":""}]
[{"$nulls":8},{"$f":"IF(H1230>0,VLOOKUP(H1230,Set!$A$2:$B$4,2,FALSE),\"\")","v":""},{"$nulls":6},{"$f":"IF(O1230>0,VLOOKUP(O1230,Set!$H$2:$J$16,2,FALSE),\"\")","v":""}]
[{"$nulls":8},{"$f":"IF(H1231>0,VLOOKUP(H1231,Set!$A$2:$B$4,2,FALSE),\"\")","v":""},{"$nulls":6},{"$f":"IF(O1231>0,VLOOKUP(O1231,Set!$H$2:$J$16,2,FALSE),\"\")","v":""}]
[{"$nulls":8},{"$f":"IF(H1232>0,VLOOKUP(H1232,Set!$A$2:$B$4,2,FALSE),\"\")","v":""},{"$nulls":6},{"$f":"IF(O1232>0,VLOOKUP(O1232,Set!$H$2:$J$16,2,FALSE),\"\")","v":""}]
[{"$nulls":8},{"$f":"IF(H1233>0,VLOOKUP(H1233,Set!$A$2:$B$4,2,FALSE),\"\")","v":""},{"$nulls":6},{"$f":"IF(O1233>0,VLOOKUP(O1233,Set!$H$2:$J$16,2,FALSE),\"\")","v":""}]
[{"$nulls":8},{"$f":"IF(H1234>0,VLOOKUP(H1234,Set!$A$2:$B$4,2,FALSE),\"\")","v":""},{"$nulls":6},{"$f":"IF(O1234>0,VLOOKUP(O1234,Set!$H$2:$J$16,2,FALSE),\"\")","v":""}]
[{"$nulls":8},{"$f":"IF(H1235>0,VLOOKUP(H1235,Set!$A$2:$B$4,2,FALSE),\"\")","v":""},{"$nulls":6},{"$f":"IF(O1235>0,VLOOKUP(O1235,Set!$H$2:$J$16,2,FALSE),\"\")","v":""}]
[{"$nulls":8},{"$f":"IF(H1236>0,VLOOKUP(H1236,Set!$A$2:$B$4,2,FALSE),\"\")","v":""},{"$nulls":6},{"$f":"IF(O1236>0,VLOOKUP(O1236,Set!$H$2:$J$16,2,FALSE),\"\")","v":""}]
[{"$nulls":8},{"$f":"IF(H1237>0,VLOOKUP(H1237,Set!$A$2:$B$4,2,FALSE),\"\")","v":""},{"$nulls":6},{"$f":"IF(O1237>0,VLOOKUP(O1237,Set!$H$2:$J$16,2,FALSE),\"\")","v":""}]
[{"$nulls":8},{"$f":"IF(H1238>0,VLOOKUP(H1238,Set!$A$2:$B$4,2,FALSE),\"\")","v":""},{"$nulls":6},{"$f":"IF(O1238>0,VLOOKUP(O1238,Set!$H$2:$J$16,2,FALSE),\"\")","v":""}]
[{"$nulls":8},{"$f":"IF(H1239>0,VLOOKUP(H1239,Set!$A$2:$B$4,2,FALSE),\"\")","v":""},{"$nulls":6},{"$f":"IF(O1239>0,VLOOKUP(O1239,Set!$H$2:$J$16,2,FALSE),\"\")","v":""}]
[{"$nulls":8},{"$f":"IF(H1240>0,VLOOKUP(H1240,Set!$A$2:$B$4,2,FALSE),\"\")","v":""},{"$nulls":6},{"$f":"IF(O1240>0,VLOOKUP(O1240,Set!$H$2:$J$16,2,FALSE),\"\")","v":""}]
[{"$nulls":8},{"$f":"IF(H1241>0,VLOOKUP(H1241,Set!$A$2:$B$4,2,FALSE),\"\")","v":""},{"$nulls":6},{"$f":"IF(O1241>0,VLOOKUP(O1241,Set!$H$2:$J$16,2,FALSE),\"\")","v":""}]
[{"$nulls":8},{"$f":"IF(H1242>0,VLOOKUP(H1242,Set!$A$2:$B$4,2,FALSE),\"\")","v":""},{"$nulls":6},{"$f":"IF(O1242>0,VLOOKUP(O1242,Set!$H$2:$J$16,2,FALSE),\"\")","v":""}]
[{"$nulls":8},{"$f":"IF(H1243>0,VLOOKUP(H1243,Set!$A$2:$B$4,2,FALSE),\"\")","v":""},{"$nulls":6},{"$f":"IF(O1243>0,VLOOKUP(O1243,Set!$H$2:$J$16,2,FALSE),\"\")","v":""}]
[{"$nulls":8},{"$f":"IF(H1244>0,VLOOKUP(H1244,Set!$A$2:$B$4,2,FALSE),\"\")","v":""},{"$nulls":6},{"$f":"IF(O1244>0,VLOOKUP(O1244,Set!$H$2:$J$16,2,FALSE),\"\")","v":""}]
[{"$nulls":8},{"$f":"IF(H1245>0,VLOOKUP(H1245,Set!$A$2:$B$4,2,FALSE),\"\")","v":""},{"$nulls":6},{"$f":"IF(O1245>0,VLOOKUP(O1245,Set!$H$2:$J$16,2,FALSE),\"\")","v":""}]
[{"$nulls":8},{"$f":"IF(H1246>0,VLOOKUP(H1246,Set!$A$2:$B$4,2,FALSE),\"\")","v":""},{"$nulls":6},{"$f":"IF(O1246>0,VLOOKUP(O1246,Set!$H$2:$J$16,2,FALSE),\"\")","v":""}]
[{"$nulls":8},{"$f":"IF(H1247>0,VLOOKUP(H1247,Set!$A$2:$B$4,2,FALSE),\"\")","v":""},{"$nulls":6},{"$f":"IF(O1247>0,VLOOKUP(O1247,Set!$H$2:$J$16,2,FALSE),\"\")","v":""}]
[{"$nulls":8},{"$f":"IF(H1248>0,VLOOKUP(H1248,Set!$A$2:$B$4,2,FALSE),\"\")","v":""},{"$nulls":6},{"$f":"IF(O1248>0,VLOOKUP(O1248,Set!$H$2:$J$16,2,FALSE),\"\")","v":""}]
[{"$nulls":8},{"$f":"IF(H1249>0,VLOOKUP(H1249,Set!$A$2:$B$4,2,FALSE),\"\")","v":""},{"$nulls":6},{"$f":"IF(O1249>0,VLOOKUP(O1249,Set!$H$2:$J$16,2,FALSE),\"\")","v":""}]
[{"$nulls":8},{"$f":"IF(H1250>0,VLOOKUP(H1250,Set!$A$2:$B$4,2,FALSE),\"\")","v":""},{"$nulls":6},{"$f":"IF(O1250>0,VLOOKUP(O1250,Set!$H$2:$J$16,2,FALSE),\"\")","v":""}]
[{"$nulls":8},{"$f":"IF(H1251>0,VLOOKUP(H1251,Set!$A$2:$B$4,2,FALSE),\"\")","v":""},{"$nulls":6},{"$f":"IF(O1251>0,VLOOKUP(O1251,Set!$H$2:$J$16,2,FALSE),\"\")","v":""}]
[{"$nulls":8},{"$f":"IF(H1252>0,VLOOKUP(H1252,Set!$A$2:$B$4,2,FALSE),\"\")","v":""},{"$nulls":6},{"$f":"IF(O1252>0,VLOOKUP(O1252,Set!$H$2:$J$16,2,FALSE),\"\")","v":""}]
[{"$nulls":8},{"$f":"IF(H1253>0,VLOOKUP(H1253,Set!$A$2:$B$4,2,FALSE),\"\")","v":""},{"$nulls":6},{"$f":"IF(O1253>0,VLOOKUP(O1253,Set!$H$2:$J$16,2,FALSE),\"\")","v":""}]
[{"$nulls":8},{"$f":"IF(H1254>0,VLOOKUP(H1254,Set!$A$2:$B$4,2,FALSE),\"\")","v":""},{"$nulls":6},{"$f":"IF(O1254>0,VLOOKUP(O1254,Set!$H$2:$J$16,2,FALSE),\"\")","v":""}]
[{"$nulls":8},{"$f":"IF(H1255>0,VLOOKUP(H1255,Set!$A$2:$B$4,2,FALSE),\"\")","v":""},{"$nulls":6},{"$f":"IF(O1255>0,VLOOKUP(O1255,Set!$H$2:$J$16,2,FALSE),\"\")","v":""}]
[{"$nulls":8},{"$f":"IF(H1256>0,VLOOKUP(H1256,Set!$A$2:$B$4,2,FALSE),\"\")","v":""},{"$nulls":6},{"$f":"IF(O1256>0,VLOOKUP(O1256,Set!$H$2:$J$16,2,FALSE),\"\")","v":""}]
[{"$nulls":8},{"$f":"IF(H1257>0,VLOOKUP(H1257,Set!$A$2:$B$4,2,FALSE),\"\")","v":""},{"$nulls":6},{"$f":"IF(O1257>0,VLOOKUP(O1257,Set!$H$2:$J$16,2,FALSE),\"\")","v":""}]
[{"$nulls":8},{"$f":"IF(H1258>0,VLOOKUP(H1258,Set!$A$2:$B$4,2,FALSE),\"\")","v":""},{"$nulls":6},{"$f":"IF(O1258>0,VLOOKUP(O1258,Set!$H$2:$J$16,2,FALSE),\"\")","v":""}]
[{"$nulls":8},{"$f":"IF(H1259>0,VLOOKUP(H1259,Set!$A$2:$B$4,2,FALSE),\"\")","v":""},{"$nulls":6},{"$f":"IF(O1259>0,VLOOKUP(O1259,Set!$H$2:$J$16,2,FALSE),\"\")","v":""}]
[{"$nulls":8},{"$f":"IF(H1260>0,VLOOKUP(H1260,Set!$A$2:$B$4,2,FALSE),\"\")","v":""},{"$nulls":6},{"$f":"IF(O1260>0,VLOOKUP(O1260,Set!$H$2:$J$16,2,FALSE),\"\")","v":""}]
[{"$nulls":8},{"$f":"IF(H1261>0,VLOOKUP(H1261,Set!$A$2:$B$4,2,FALSE),\"\")","v":""},{"$nulls":6},{"$f":"IF(O1261>0,VLOOKUP(O1261,Set!$H$2:$J$16,2,FALSE),\"\")","v":""}]
[{"$nulls":8},{"$f":"IF(H1262>0,VLOOKUP(H1262,Set!$A$2:$B$4,2,FALSE),\"\")","v":""},{"$nulls":6},{"$f":"IF(O1262>0,VLOOKUP(O1262,Set!$H$2:$J$16,2,FALSE),\"\")","v":""}]
[{"$nulls":8},{"$f":"IF(H1263>0,VLOOKUP(H1263,Set!$A$2:$B$4,2,FALSE),\"\")","v":""},{"$nulls":6},{"$f":"IF(O1263>0,VLOOKUP(O1263,Set!$H$2:$J$16,2,FALSE),\"\")","v":""}]
[{"$nulls":8},{"$f":"IF(H1264>0,VLOOKUP(H1264,Set!$A$2:$B$4,2,FALSE),\"\")","v":""},{"$nulls":6},{"$f":"IF(O1264>0,VLOOKUP(O1264,Set!$H$2:$J$16,2,FALSE),\"\")","v":""}]
[{"$nulls":8},{"$f":"IF(H1265>0,VLOOKUP(H1265,Set!$A$2:$B$4,2,FALSE),\"\")","v":""},{"$nulls":6},{"$f":"IF(O1265>0,VLOOKUP(O1265,Set!$H$2:$J$16,2,FALSE),\"\")","v":""}]
[{"$nulls":8},{"$f":"IF(H1266>0,VLOOKUP(H1266,Set!$A$2:$B$4,2,FALSE),\"\")","v":""},{"$nulls":6},{"$f":"IF(O1266>0,VLOOKUP(O1266,Set!$H$2:$J$16,2,FALSE),\"\")","v":""}]
[{"$nulls":8},{"$f":"IF(H1267>0,VLOOKUP(H1267,Set!$A$2:$B$4,2,FALSE),\"\")","v":""},{"$nulls":6},{"$f":"IF(O1267>0,VLOOKUP(O1267,Set!$H$2:$J$16,2,FALSE),\"\")","v":""}]
[{"$nulls":8},{"$f":"IF(H1268>0,VLOOKUP(H1268,Set!$A$2:$B$4,2,FALSE),\"\")","v":""},{"$nulls":6},{"$f":"IF(O1268>0,VLOOKUP(O1268,Set!$H$2:$J$16,2,FALSE),\"\")","v":""}]
[{"$nulls":8},{"$f":"IF(H1269>0,VLOOKUP(H1269,Set!$A$2:$B$4,2,FALSE),\"\")","v":""},{"$nulls":6},{"$f":"IF(O1269>0,VLOOKUP(O1269,Set!$H$2:$J$16,2,FALSE),\"\")","v":""}]
[{"$nulls":8},{"$f":"IF(H1270>0,VLOOKUP(H1270,Set!$A$2:$B$4,2,FALSE),\"\")","v":""},{"$nulls":6},{"$f":"IF(O1270>0,VLOOKUP(O1270,Set!$H$2:$J$16,2,FALSE),\"\")","v":""}]
[{"$nulls":8},{"$f":"IF(H1271>0,VLOOKUP(H1271,Set!$A$2:$B$4,2,FALSE),\"\")","v":""},{"$nulls":6},{"$f":"IF(O1271>0,VLOOKUP(O1271,Set!$H$2:$J$16,2,FALSE),\"\")","v":""}]
[{"$nulls":8},{"$f":"IF(H1272>0,VLOOKUP(H1272,Set!$A$2:$B$4,2,FALSE),\"\")","v":""},{"$nulls":6},{"$f":"IF(O1272>0,VLOOKUP(O1272,Set!$H$2:$J$16,2,FALSE),\"\")","v":""}]
[{"$nulls":8},{"$f":"IF(H1273>0,VLOOKUP(H1273,Set!$A$2:$B$4,2,FALSE),\"\")","v":""},{"$nulls":6},{"$f":"IF(O1273>0,VLOOKUP(O1273,Set!$H$2:$J$16,2,FALSE),\"\")","v":""}]
[{"$nulls":8},{"$f":"IF(H1274>0,VLOOKUP(H1274,Set!$A$2:$B$4,2,FALSE),\"\")","v":""},{"$nulls":6},{"$f":"IF(O1274>0,VLOOKUP(O1274,Set!$H$2:$J$16,2,FALSE),\"\")","v":""}]
[{"$nulls":8},{"$f":"IF(H1275>0,VLOOKUP(H1275,Set!$A$2:$B$4,2,FALSE),\"\")","v":""},{"$nulls":6},{"$f":"IF(O1275>0,VLOOKUP(O1275,Set!$H$2:$J$16,2,FALSE),\"\")","v":""}]
[{"$nulls":8},{"$f":"IF(H1276>0,VLOOKUP(H1276,Set!$A$2:$B$4,2,FALSE),\"\")","v":""},{"$nulls":6},{"$f":"IF(O1276>0,VLOOKUP(O1276,Set!$H$2:$J$16,2,FALSE),\"\")","v":""}]
[{"$nulls":8},{"$f":"IF(H1277>0,VLOOKUP(H1277,Set!$A$2:$B$4,2,FALSE),\"\")","v":""},{"$nulls":6},{"$f":"IF(O1277>0,VLOOKUP(O1277,Set!$H$2:$J$16,2,FALSE),\"\")","v":""}]
[{"$nulls":8},{"$f":"IF(H1278>0,VLOOKUP(H1278,Set!$A$2:$B$4,2,FALSE),\"\")","v":""},{"$nulls":6},{"$f":"IF(O1278>0,VLOOKUP(O1278,Set!$H$2:$J$16,2,FALSE),\"\")","v":""}]
[{"$nulls":8},{"$f":"IF(H1279>0,VLOOKUP(H1279,Set!$A$2:$B$4,2,FALSE),\"\")","v":""},{"$nulls":6},{"$f":"IF(O1279>0,VLOOKUP(O1279,Set!$H$2:$J$16,2,FALSE),\"\")","v":""}]
[{"$nulls":8},{"$f":"IF(H1280>0,VLOOKUP(H1280,Set!$A$2:$B$4,2,FALSE),\"\")","v":""},{"$nulls":6},{"$f":"IF(O1280>0,VLOOKUP(O1280,Set!$H$2:$J$16,2,FALSE),\"\")","v":""}]
[{"$nulls":8},{"$f":"IF(H1281>0,VLOOKUP(H1281,Set!$A$2:$B$4,2,FALSE),\"\")","v":""},{"$nulls":6},{"$f":"IF(O1281>0,VLOOKUP(O1281,Set!$H$2:$J$16,2,FALSE),\"\")","v":""}]
[{"$nulls":8},{"$f":"IF(H1282>0,VLOOKUP(H1282,Set!$A$2:$B$4,2,FALSE),\"\")","v":""},{"$nulls":6},{"$f":"IF(O1282>0,VLOOKUP(O1282,Set!$H$2:$J$16,2,FALSE),\"\")","v":""}]
[{"$nulls":8},{"$f":"IF(H1283>0,VLOOKUP(H1283,Set!$A$2:$B$4,2,FALSE),\"\")","v":""},{"$nulls":6},{"$f":"IF(O1283>0,VLOOKUP(O1283,Set!$H$2:$J$16,2,FALSE),\"\")","v":""}]
[{"$nulls":8},{"$f":"IF(H1284>0,VLOOKUP(H1284,Set!$A$2:$B$4,2,FALSE),\"\")","v":""},{"$nulls":6},{"$f":"IF(O1284>0,VLOOKUP(O1284,Set!$H$2:$J$16,2,FALSE),\"\")","v":""}]
[{"$nulls":8},{"$f":"IF(H1285>0,VLOOKUP(H1285,Set!$A$2:$B$4,2,FALSE),\"\")","v":""},{"$nulls":6},{"$f":"IF(O1285>0,VLOOKUP(O1285,Set!$H$2:$J$16,2,FALSE),\"\")","v":""}]
[{"$nulls":8},{"$f":"IF(H1286>0,VLOOKUP(H1286,Set!$A$2:$B$4,2,FALSE),\"\")","v":""},{"$nulls":6},{"$f":"IF(O1286>0,VLOOKUP(O1286,Set!$H$2:$J$16,2,FALSE),\"\")","v":""}]
[{"$nulls":8},{"$f":"IF(H1287>0,VLOOKUP(H1287,Set!$A$2:$B$4,2,FALSE),\"\")","v":""},{"$nulls":6},{"$f":"IF(O1287>0,VLOOKUP(O1287,Set!$H$2:$J$16,2,FALSE),\"\")","v":""}]
[{"$nulls":8},{"$f":"IF(H1288>0,VLOOKUP(H1288,Set!$A$2:$B$4,2,FALSE),\"\")","v":""},{"$nulls":6},{"$f":"IF(O1288>0,VLOOKUP(O1288,Set!$H$2:$J$16,2,FALSE),\"\")","v":""}]
[{"$nulls":8},{"$f":"IF(H1289>0,VLOOKUP(H1289,Set!$A$2:$B$4,2,FALSE),\"\")","v":""},{"$nulls":6},{"$f":"IF(O1289>0,VLOOKUP(O1289,Set!$H$2:$J$16,2,FALSE),\"\")","v":""}]
[{"$nulls":8},{"$f":"IF(H1290>0,VLOOKUP(H1290,Set!$A$2:$B$4,2,FALSE),\"\")","v":""},{"$nulls":6},{"$f":"IF(O1290>0,VLOOKUP(O1290,Set!$H$2:$J$16,2,FALSE),\"\")","v":""}]
[{"$nulls":8},{"$f":"IF(H1291>0,VLOOKUP(H1291,Set!$A$2:$B$4,2,FALSE),\"\")","v":""},{"$nulls":6},{"$f":"IF(O1291>0,VLOOKUP(O1291,Set!$H$2:$J$16,2,FALSE),\"\")","v":""}]
[{"$nulls":8},{"$f":"IF(H1292>0,VLOOKUP(H1292,Set!$A$2:$B$4,2,FALSE),\"\")","v":""},{"$nulls":6},{"$f":"IF(O1292>0,VLOOKUP(O1292,Set!$H$2:$J$16,2,FALSE),\"\")","v":""}]
[{"$nulls":8},{"$f":"IF(H1293>0,VLOOKUP(H1293,Set!$A$2:$B$4,2,FALSE),\"\")","v":""},{"$nulls":6},{"$f":"IF(O1293>0,VLOOKUP(O1293,Set!$H$2:$J$16,2,FALSE),\"\")","v":""}]
[{"$nulls":8},{"$f":"IF(H1294>0,VLOOKUP(H1294,Set!$A$2:$B$4,2,FALSE),\"\")","v":""},{"$nulls":6},{"$f":"IF(O1294>0,VLOOKUP(O1294,Set!$H$2:$J$16,2,FALSE),\"\")","v":""}]
[{"$nulls":8},{"$f":"IF(H1295>0,VLOOKUP(H1295,Set!$A$2:$B$4,2,FALSE),\"\")","v":""},{"$nulls":6},{"$f":"IF(O1295>0,VLOOKUP(O1295,Set!$H$2:$J$16,2,FALSE),\"\")","v":""}]
[{"$nulls":8},{"$f":"IF(H1296>0,VLOOKUP(H1296,Set!$A$2:$B$4,2,FALSE),\"\")","v":""},{"$nulls":6},{"$f":"IF(O1296>0,VLOOKUP(O1296,Set!$H$2:$J$16,2,FALSE),\"\")","v":""}]
[{"$nulls":8},{"$f":"IF(H1297>0,VLOOKUP(H1297,Set!$A$2:$B$4,2,FALSE),\"\")","v":""},{"$nulls":6},{"$f":"IF(O1297>0,VLOOKUP(O1297,Set!$H$2:$J$16,2,FALSE),\"\")","v":""}]
[{"$nulls":8},{"$f":"IF(H1298>0,VLOOKUP(H1298,Set!$A$2:$B$4,2,FALSE),\"\")","v":""},{"$nulls":6},{"$f":"IF(O1298>0,VLOOKUP(O1298,Set!$H$2:$J$16,2,FALSE),\"\")","v":""}]
[{"$nulls":8},{"$f":"IF(H1299>0,VLOOKUP(H1299,Set!$A$2:$B$4,2,FALSE),\"\")","v":""},{"$nulls":6},{"$f":"IF(O1299>0,VLOOKUP(O1299,Set!$H$2:$J$16,2,FALSE),\"\")","v":""}]
[{"$nulls":8},{"$f":"IF(H1300>0,VLOOKUP(H1300,Set!$A$2:$B$4,2,FALSE),\"\")","v":""},{"$nulls":6},{"$f":"IF(O1300>0,VLOOKUP(O1300,Set!$H$2:$J$16,2,FALSE),\"\")","v":""}]
[{"$nulls":8},{"$f":"IF(H1301>0,VLOOKUP(H1301,Set!$A$2:$B$4,2,FALSE),\"\")","v":""},{"$nulls":6},{"$f":"IF(O1301>0,VLOOKUP(O1301,Set!$H$2:$J$16,2,FALSE),\"\")","v":""}]
[{"$nulls":8},{"$f":"IF(H1302>0,VLOOKUP(H1302,Set!$A$2:$B$4,2,FALSE),\"\")","v":""},{"$nulls":6},{"$f":"IF(O1302>0,VLOOKUP(O1302,Set!$H$2:$J$16,2,FALSE),\"\")","v":""}]
[{"$nulls":8},{"$f":"IF(H1303>0,VLOOKUP(H1303,Set!$A$2:$B$4,2,FALSE),\"\")","v":""},{"$nulls":6},{"$f":"IF(O1303>0,VLOOKUP(O1303,Set!$H$2:$J$16,2,FALSE),\"\")","v":""}]
[{"$nulls":8},{"$f":"IF(H1304>0,VLOOKUP(H1304,Set!$A$2:$B$4,2,FALSE),\"\")","v":""},{"$nulls":6},{"$f":"IF(O1304>0,VLOOKUP(O1304,Set!$H$2:$J$16,2,FALSE),\"\")","v":""}]
[{"$nulls":8},{"$f":"IF(H1305>0,VLOOKUP(H1305,Set!$A$2:$B$4,2,FALSE),\"\")","v":""},{"$nulls":6},{"$f":"IF(O1305>0,VLOOKUP(O1305,Set!$H$2:$J$16,2,FALSE),\"\")","v":""}]
[{"$nulls":8},{"$f":"IF(H1306>0,VLOOKUP(H1306,Set!$A$2:$B$4,2,FALSE),\"\")","v":""},{"$nulls":6},{"$f":"IF(O1306>0,VLOOKUP(O1306,Set!$H$2:$J$16,2,FALSE),\"\")","v":""}]
[{"$nulls":8},{"$f":"IF(H1307>0,VLOOKUP(H1307,Set!$A$2:$B$4,2,FALSE),\"\")","v":""},{"$nulls":6},{"$f":"IF(O1307>0,VLOOKUP(O1307,Set!$H$2:$J$16,2,FALSE),\"\")","v":""}]
[{"$nulls":8},{"$f":"IF(H1308>0,VLOOKUP(H1308,Set!$A$2:$B$4,2,FALSE),\"\")","v":""},{"$nulls":6},{"$f":"IF(O1308>0,VLOOKUP(O1308,Set!$H$2:$J$16,2,FALSE),\"\")","v":""}]
[{"$nulls":8},{"$f":"IF(H1309>0,VLOOKUP(H1309,Set!$A$2:$B$4,2,FALSE),\"\")","v":""},{"$nulls":6},{"$f":"IF(O1309>0,VLOOKUP(O1309,Set!$H$2:$J$16,2,FALSE),\"\")","v":""}]
[{"$nulls":8},{"$f":"IF(H1310>0,VLOOKUP(H1310,Set!$A$2:$B$4,2,FALSE),\"\")","v":""},{"$nulls":6},{"$f":"IF(O1310>0,VLOOKUP(O1310,Set!$H$2:$J$16,2,FALSE),\"\")","v":""}]
[{"$nulls":8},{"$f":"IF(H1311>0,VLOOKUP(H1311,Set!$A$2:$B$4,2,FALSE),\"\")","v":""},{"$nulls":6},{"$f":"IF(O1311>0,VLOOKUP(O1311,Set!$H$2:$J$16,2,FALSE),\"\")","v":""}]
[{"$nulls":8},{"$f":"IF(H1312>0,VLOOKUP(H1312,Set!$A$2:$B$4,2,FALSE),\"\")","v":""},{"$nulls":6},{"$f":"IF(O1312>0,VLOOKUP(O1312,Set!$H$2:$J$16,2,FALSE),\"\")","v":""}]
[{"$nulls":8},{"$f":"IF(H1313>0,VLOOKUP(H1313,Set!$A$2:$B$4,2,FALSE),\"\")","v":""},{"$nulls":6},{"$f":"IF(O1313>0,VLOOKUP(O1313,Set!$H$2:$J$16,2,FALSE),\"\")","v":""}]
[{"$nulls":8},{"$f":"IF(H1314>0,VLOOKUP(H1314,Set!$A$2:$B$4,2,FALSE),\"\")","v":""},{"$nulls":6},{"$f":"IF(O1314>0,VLOOKUP(O1314,Set!$H$2:$J$16,2,FALSE),\"\")","v":""}]
[{"$nulls":8},{"$f":"IF(H1315>0,VLOOKUP(H1315,Set!$A$2:$B$4,2,FALSE),\"\")","v":""},{"$nulls":6},{"$f":"IF(O1315>0,VLOOKUP(O1315,Set!$H$2:$J$16,2,FALSE),\"\")","v":""}]
[{"$nulls":8},{"$f":"IF(H1316>0,VLOOKUP(H1316,Set!$A$2:$B$4,2,FALSE),\"\")","v":""},{"$nulls":6},{"$f":"IF(O1316>0,VLOOKUP(O1316,Set!$H$2:$J$16,2,FALSE),\"\")","v":""}]
[{"$nulls":8},{"$f":"IF(H1317>0,VLOOKUP(H1317,Set!$A$2:$B$4,2,FALSE),\"\")","v":""},{"$nulls":6},{"$f":"IF(O1317>0,VLOOKUP(O1317,Set!$H$2:$J$16,2,FALSE),\"\")","v":""}]
[{"$nulls":8},{"$f":"IF(H1318>0,VLOOKUP(H1318,Set!$A$2:$B$4,2,FALSE),\"\")","v":""},{"$nulls":6},{"$f":"IF(O1318>0,VLOOKUP(O1318,Set!$H$2:$J$16,2,FALSE),\"\")","v":""}]
[{"$nulls":8},{"$f":"IF(H1319>0,VLOOKUP(H1319,Set!$A$2:$B$4,2,FALSE),\"\")","v":""},{"$nulls":6},{"$f":"IF(O1319>0,VLOOKUP(O1319,Set!$H$2:$J$16,2,FALSE),\"\")","v":""}]
[{"$nulls":8},{"$f":"IF(H1320>0,VLOOKUP(H1320,Set!$A$2:$B$4,2,FALSE),\"\")","v":""},{"$nulls":6},{"$f":"IF(O1320>0,VLOOKUP(O1320,Set!$H$2:$J$16,2,FALSE),\"\")","v":""}]
[{"$nulls":8},{"$f":"IF(H1321>0,VLOOKUP(H1321,Set!$A$2:$B$4,2,FALSE),\"\")","v":""},{"$nulls":6},{"$f":"IF(O1321>0,VLOOKUP(O1321,Set!$H$2:$J$16,2,FALSE),\"\")","v":""}]
[{"$nulls":8},{"$f":"IF(H1322>0,VLOOKUP(H1322,Set!$A$2:$B$4,2,FALSE),\"\")","v":""},{"$nulls":6},{"$f":"IF(O1322>0,VLOOKUP(O1322,Set!$H$2:$J$16,2,FALSE),\"\")","v":""}]
[{"$nulls":8},{"$f":"IF(H1323>0,VLOOKUP(H1323,Set!$A$2:$B$4,2,FALSE),\"\")","v":""},{"$nulls":6},{"$f":"IF(O1323>0,VLOOKUP(O1323,Set!$H$2:$J$16,2,FALSE),\"\")","v":""}]
[{"$nulls":8},{"$f":"IF(H1324>0,VLOOKUP(H1324,Set!$A$2:$B$4,2,FALSE),\"\")","v":""},{"$nulls":6},{"$f":"IF(O1324>0,VLOOKUP(O1324,Set!$H$2:$J$16,2,FALSE),\"\")","v":""}]
[{"$nulls":8},{"$f":"IF(H1325>0,VLOOKUP(H1325,Set!$A$2:$B$4,2,FALSE),\"\")","v":""},{"$nulls":6},{"$f":"IF(O1325>0,VLOOKUP(O1325,Set!$H$2:$J$16,2,FALSE),\"\")","v":""}]
[{"$nulls":8},{"$f":"IF(H1326>0,VLOOKUP(H1326,Set!$A$2:$B$4,2,FALSE),\"\")","v":""},{"$nulls":6},{"$f":"IF(O1326>0,VLOOKUP(O1326,Set!$H$2:$J$16,2,FALSE),\"\")","v":""}]
[{"$nulls":8},{"$f":"IF(H1327>0,VLOOKUP(H1327,Set!$A$2:$B$4,2,FALSE),\"\")","v":""},{"$nulls":6},{"$f":"IF(O1327>0,VLOOKUP(O1327,Set!$H$2:$J$16,2,FALSE),\"\")","v":""}]
[{"$nulls":8},{"$f":"IF(H1328>0,VLOOKUP(H1328,Set!$A$2:$B$4,2,FALSE),\"\")","v":""},{"$nulls":6},{"$f":"IF(O1328>0,VLOOKUP(O1328,Set!$H$2:$J$16,2,FALSE),\"\")","v":""}]
[{"$nulls":8},{"$f":"IF(H1329>0,VLOOKUP(H1329,Set!$A$2:$B$4,2,FALSE),\"\")","v":""},{"$nulls":6},{"$f":"IF(O1329>0,VLOOKUP(O1329,Set!$H$2:$J$16,2,FALSE),\"\")","v":""}]
[{"$nulls":8},{"$f":"IF(H1330>0,VLOOKUP(H1330,Set!$A$2:$B$4,2,FALSE),\"\")","v":""},{"$nulls":6},{"$f":"IF(O1330>0,VLOOKUP(O1330,Set!$H$2:$J$16,2,FALSE),\"\")","v":""}]
[{"$nulls":8},{"$f":"IF(H1331>0,VLOOKUP(H1331,Set!$A$2:$B$4,2,FALSE),\"\")","v":""},{"$nulls":6},{"$f":"IF(O1331>0,VLOOKUP(O1331,Set!$H$2:$J$16,2,FALSE),\"\")","v":""}]
[{"$nulls":8},{"$f":"IF(H1332>0,VLOOKUP(H1332,Set!$A$2:$B$4,2,FALSE),\"\")","v":""},{"$nulls":6},{"$f":"IF(O1332>0,VLOOKUP(O1332,Set!$H$2:$J$16,2,FALSE),\"\")","v":""}]
[{"$nulls":8},{"$f":"IF(H1333>0,VLOOKUP(H1333,Set!$A$2:$B$4,2,FALSE),\"\")","v":""},{"$nulls":6},{"$f":"IF(O1333>0,VLOOKUP(O1333,Set!$H$2:$J$16,2,FALSE),\"\")","v":""}]
[{"$nulls":8},{"$f":"IF(H1334>0,VLOOKUP(H1334,Set!$A$2:$B$4,2,FALSE),\"\")","v":""},{"$nulls":6},{"$f":"IF(O1334>0,VLOOKUP(O1334,Set!$H$2:$J$16,2,FALSE),\"\")","v":""}]
[{"$nulls":8},{"$f":"IF(H1335>0,VLOOKUP(H1335,Set!$A$2:$B$4,2,FALSE),\"\")","v":""},{"$nulls":6},{"$f":"IF(O1335>0,VLOOKUP(O1335,Set!$H$2:$J$16,2,FALSE),\"\")","v":""}]
[{"$nulls":8},{"$f":"IF(H1336>0,VLOOKUP(H1336,Set!$A$2:$B$4,2,FALSE),\"\")","v":""},{"$nulls":6},{"$f":"IF(O1336>0,VLOOKUP(O1336,Set!$H$2:$J$16,2,FALSE),\"\")","v":""}]
[{"$nulls":8},{"$f":"IF(H1337>0,VLOOKUP(H1337,Set!$A$2:$B$4,2,FALSE),\"\")","v":""},{"$nulls":6},{"$f":"IF(O1337>0,VLOOKUP(O1337,Set!$H$2:$J$16,2,FALSE),\"\")","v":""}]
[{"$nulls":8},{"$f":"IF(H1338>0,VLOOKUP(H1338,Set!$A$2:$B$4,2,FALSE),\"\")","v":""},{"$nulls":6},{"$f":"IF(O1338>0,VLOOKUP(O1338,Set!$H$2:$J$16,2,FALSE),\"\")","v":""}]
[{"$nulls":8},{"$f":"IF(H1339>0,VLOOKUP(H1339,Set!$A$2:$B$4,2,FALSE),\"\")","v":""},{"$nulls":6},{"$f":"IF(O1339>0,VLOOKUP(O1339,Set!$H$2:$J$16,2,FALSE),\"\")","v":""}]
[{"$nulls":8},{"$f":"IF(H1340>0,VLOOKUP(H1340,Set!$A$2:$B$4,2,FALSE),\"\")","v":""},{"$nulls":6},{"$f":"IF(O1340>0,VLOOKUP(O1340,Set!$H$2:$J$16,2,FALSE),\"\")","v":""}]
[{"$nulls":8},{"$f":"IF(H1341>0,VLOOKUP(H1341,Set!$A$2:$B$4,2,FALSE),\"\")","v":""},{"$nulls":6},{"$f":"IF(O1341>0,VLOOKUP(O1341,Set!$H$2:$J$16,2,FALSE),\"\")","v":""}]
[{"$nulls":8},{"$f":"IF(H1342>0,VLOOKUP(H1342,Set!$A$2:$B$4,2,FALSE),\"\")","v":""},{"$nulls":6},{"$f":"IF(O1342>0,VLOOKUP(O1342,Set!$H$2:$J$16,2,FALSE),\"\")","v":""}]
[{"$nulls":8},{"$f":"IF(H1343>0,VLOOKUP(H1343,Set!$A$2:$B$4,2,FALSE),\"\")","v":""},{"$nulls":6},{"$f":"IF(O1343>0,VLOOKUP(O1343,Set!$H$2:$J$16,2,FALSE),\"\")","v":""}]
[{"$nulls":8},{"$f":"IF(H1344>0,VLOOKUP(H1344,Set!$A$2:$B$4,2,FALSE),\"\")","v":""},{"$nulls":6},{"$f":"IF(O1344>0,VLOOKUP(O1344,Set!$H$2:$J$16,2,FALSE),\"\")","v":""}]
[{"$nulls":8},{"$f":"IF(H1345>0,VLOOKUP(H1345,Set!$A$2:$B$4,2,FALSE),\"\")","v":""},{"$nulls":6},{"$f":"IF(O1345>0,VLOOKUP(O1345,Set!$H$2:$J$16,2,FALSE),\"\")","v":""}]
[{"$nulls":8},{"$f":"IF(H1346>0,VLOOKUP(H1346,Set!$A$2:$B$4,2,FALSE),\"\")","v":""},{"$nulls":6},{"$f":"IF(O1346>0,VLOOKUP(O1346,Set!$H$2:$J$16,2,FALSE),\"\")","v":""}]
[{"$nulls":8},{"$f":"IF(H1347>0,VLOOKUP(H1347,Set!$A$2:$B$4,2,FALSE),\"\")","v":""},{"$nulls":6},{"$f":"IF(O1347>0,VLOOKUP(O1347,Set!$H$2:$J$16,2,FALSE),\"\")","v":""}]
[{"$nulls":8},{"$f":"IF(H1348>0,VLOOKUP(H1348,Set!$A$2:$B$4,2,FALSE),\"\")","v":""},{"$nulls":6},{"$f":"IF(O1348>0,VLOOKUP(O1348,Set!$H$2:$J$16,2,FALSE),\"\")","v":""}]
[{"$nulls":8},{"$f":"IF(H1349>0,VLOOKUP(H1349,Set!$A$2:$B$4,2,FALSE),\"\")","v":""},{"$nulls":6},{"$f":"IF(O1349>0,VLOOKUP(O1349,Set!$H$2:$J$16,2,FALSE),\"\")","v":""}]
[{"$nulls":8},{"$f":"IF(H1350>0,VLOOKUP(H1350,Set!$A$2:$B$4,2,FALSE),\"\")","v":""},{"$nulls":6},{"$f":"IF(O1350>0,VLOOKUP(O1350,Set!$H$2:$J$16,2,FALSE),\"\")","v":""}]
[{"$nulls":8},{"$f":"IF(H1351>0,VLOOKUP(H1351,Set!$A$2:$B$4,2,FALSE),\"\")","v":""},{"$nulls":6},{"$f":"IF(O1351>0,VLOOKUP(O1351,Set!$H$2:$J$16,2,FALSE),\"\")","v":""}]
[{"$nulls":8},{"$f":"IF(H1352>0,VLOOKUP(H1352,Set!$A$2:$B$4,2,FALSE),\"\")","v":""},{"$nulls":6},{"$f":"IF(O1352>0,VLOOKUP(O1352,Set!$H$2:$J$16,2,FALSE),\"\")","v":""}]
[{"$nulls":8},{"$f":"IF(H1353>0,VLOOKUP(H1353,Set!$A$2:$B$4,2,FALSE),\"\")","v":""},{"$nulls":6},{"$f":"IF(O1353>0,VLOOKUP(O1353,Set!$H$2:$J$16,2,FALSE),\"\")","v":""}]
[{"$nulls":8},{"$f":"IF(H1354>0,VLOOKUP(H1354,Set!$A$2:$B$4,2,FALSE),\"\")","v":""},{"$nulls":6},{"$f":"IF(O1354>0,VLOOKUP(O1354,Set!$H$2:$J$16,2,FALSE),\"\")","v":""}]
[{"$nulls":8},{"$f":"IF(H1355>0,VLOOKUP(H1355,Set!$A$2:$B$4,2,FALSE),\"\")","v":""},{"$nulls":6},{"$f":"IF(O1355>0,VLOOKUP(O1355,Set!$H$2:$J$16,2,FALSE),\"\")","v":""}]
[{"$nulls":8},{"$f":"IF(H1356>0,VLOOKUP(H1356,Set!$A$2:$B$4,2,FALSE),\"\")","v":""},{"$nulls":6},{"$f":"IF(O1356>0,VLOOKUP(O1356,Set!$H$2:$J$16,2,FALSE),\"\")","v":""}]
[{"$nulls":8},{"$f":"IF(H1357>0,VLOOKUP(H1357,Set!$A$2:$B$4,2,FALSE),\"\")","v":""},{"$nulls":6},{"$f":"IF(O1357>0,VLOOKUP(O1357,Set!$H$2:$J$16,2,FALSE),\"\")","v":""}]
[{"$nulls":8},{"$f":"IF(H1358>0,VLOOKUP(H1358,Set!$A$2:$B$4,2,FALSE),\"\")","v":""},{"$nulls":6},{"$f":"IF(O1358>0,VLOOKUP(O1358,Set!$H$2:$J$16,2,FALSE),\"\")","v":""}]
[{"$nulls":8},{"$f":"IF(H1359>0,VLOOKUP(H1359,Set!$A$2:$B$4,2,FALSE),\"\")","v":""},{"$nulls":6},{"$f":"IF(O1359>0,VLOOKUP(O1359,Set!$H$2:$J$16,2,FALSE),\"\")","v":""}]
[{"$nulls":8},{"$f":"IF(H1360>0,VLOOKUP(H1360,Set!$A$2:$B$4,2,FALSE),\"\")","v":""},{"$nulls":6},{"$f":"IF(O1360>0,VLOOKUP(O1360,Set!$H$2:$J$16,2,FALSE),\"\")","v":""}]
[{"$nulls":8},{"$f":"IF(H1361>0,VLOOKUP(H1361,Set!$A$2:$B$4,2,FALSE),\"\")","v":""},{"$nulls":6},{"$f":"IF(O1361>0,VLOOKUP(O1361,Set!$H$2:$J$16,2,FALSE),\"\")","v":""}]
[{"$nulls":8},{"$f":"IF(H1362>0,VLOOKUP(H1362,Set!$A$2:$B$4,2,FALSE),\"\")","v":""},{"$nulls":6},{"$f":"IF(O1362>0,VLOOKUP(O1362,Set!$H$2:$J$16,2,FALSE),\"\")","v":""}]
[{"$nulls":8},{"$f":"IF(H1363>0,VLOOKUP(H1363,Set!$A$2:$B$4,2,FALSE),\"\")","v":""},{"$nulls":6},{"$f":"IF(O1363>0,VLOOKUP(O1363,Set!$H$2:$J$16,2,FALSE),\"\")","v":""}]
[{"$nulls":8},{"$f":"IF(H1364>0,VLOOKUP(H1364,Set!$A$2:$B$4,2,FALSE),\"\")","v":""},{"$nulls":6},{"$f":"IF(O1364>0,VLOOKUP(O1364,Set!$H$2:$J$16,2,FALSE),\"\")","v":""}]
[{"$nulls":8},{"$f":"IF(H1365>0,VLOOKUP(H1365,Set!$A$2:$B$4,2,FALSE),\"\")","v":""},{"$nulls":6},{"$f":"IF(O1365>0,VLOOKUP(O1365,Set!$H$2:$J$16,2,FALSE),\"\")","v":""}]
[{"$nulls":8},{"$f":"IF(H1366>0,VLOOKUP(H1366,Set!$A$2:$B$4,2,FALSE),\"\")","v":""},{"$nulls":6},{"$f":"IF(O1366>0,VLOOKUP(O1366,Set!$H$2:$J$16,2,FALSE),\"\")","v":""}]
[{"$nulls":8},{"$f":"IF(H1367>0,VLOOKUP(H1367,Set!$A$2:$B$4,2,FALSE),\"\")","v":""},{"$nulls":6},{"$f":"IF(O1367>0,VLOOKUP(O1367,Set!$H$2:$J$16,2,FALSE),\"\")","v":""}]
[{"$nulls":8},{"$f":"IF(H1368>0,VLOOKUP(H1368,Set!$A$2:$B$4,2,FALSE),\"\")","v":""},{"$nulls":6},{"$f":"IF(O1368>0,VLOOKUP(O1368,Set!$H$2:$J$16,2,FALSE),\"\")","v":""}]
[{"$nulls":8},{"$f":"IF(H1369>0,VLOOKUP(H1369,Set!$A$2:$B$4,2,FALSE),\"\")","v":""},{"$nulls":6},{"$f":"IF(O1369>0,VLOOKUP(O1369,Set!$H$2:$J$16,2,FALSE),\"\")","v":""}]
[{"$nulls":8},{"$f":"IF(H1370>0,VLOOKUP(H1370,Set!$A$2:$B$4,2,FALSE),\"\")","v":""},{"$nulls":6},{"$f":"IF(O1370>0,VLOOKUP(O1370,Set!$H$2:$J$16,2,FALSE),\"\")","v":""}]
[{"$nulls":8},{"$f":"IF(H1371>0,VLOOKUP(H1371,Set!$A$2:$B$4,2,FALSE),\"\")","v":""},{"$nulls":6},{"$f":"IF(O1371>0,VLOOKUP(O1371,Set!$H$2:$J$16,2,FALSE),\"\")","v":""}]
[{"$nulls":8},{"$f":"IF(H1372>0,VLOOKUP(H1372,Set!$A$2:$B$4,2,FALSE),\"\")","v":""},{"$nulls":6},{"$f":"IF(O1372>0,VLOOKUP(O1372,Set!$H$2:$J$16,2,FALSE),\"\")","v":""}]
[{"$nulls":8},{"$f":"IF(H1373>0,VLOOKUP(H1373,Set!$A$2:$B$4,2,FALSE),\"\")","v":""},{"$nulls":6},{"$f":"IF(O1373>0,VLOOKUP(O1373,Set!$H$2:$J$16,2,FALSE),\"\")","v":""}]
[{"$nulls":8},{"$f":"IF(H1374>0,VLOOKUP(H1374,Set!$A$2:$B$4,2,FALSE),\"\")","v":""},{"$nulls":6},{"$f":"IF(O1374>0,VLOOKUP(O1374,Set!$H$2:$J$16,2,FALSE),\"\")","v":""}]
[{"$nulls":8},{"$f":"IF(H1375>0,VLOOKUP(H1375,Set!$A$2:$B$4,2,FALSE),\"\")","v":""},{"$nulls":6},{"$f":"IF(O1375>0,VLOOKUP(O1375,Set!$H$2:$J$16,2,FALSE),\"\")","v":""}]
[{"$nulls":8},{"$f":"IF(H1376>0,VLOOKUP(H1376,Set!$A$2:$B$4,2,FALSE),\"\")","v":""},{"$nulls":6},{"$f":"IF(O1376>0,VLOOKUP(O1376,Set!$H$2:$J$16,2,FALSE),\"\")","v":""}]
[{"$nulls":8},{"$f":"IF(H1377>0,VLOOKUP(H1377,Set!$A$2:$B$4,2,FALSE),\"\")","v":""},{"$nulls":6},{"$f":"IF(O1377>0,VLOOKUP(O1377,Set!$H$2:$J$16,2,FALSE),\"\")","v":""}]
[{"$nulls":8},{"$f":"IF(H1378>0,VLOOKUP(H1378,Set!$A$2:$B$4,2,FALSE),\"\")","v":""},{"$nulls":6},{"$f":"IF(O1378>0,VLOOKUP(O1378,Set!$H$2:$J$16,2,FALSE),\"\")","v":""}]
[{"$nulls":8},{"$f":"IF(H1379>0,VLOOKUP(H1379,Set!$A$2:$B$4,2,FALSE),\"\")","v":""},{"$nulls":6},{"$f":"IF(O1379>0,VLOOKUP(O1379,Set!$H$2:$J$16,2,FALSE),\"\")","v":""}]
[{"$nulls":8},{"$f":"IF(H1380>0,VLOOKUP(H1380,Set!$A$2:$B$4,2,FALSE),\"\")","v":""},{"$nulls":6},{"$f":"IF(O1380>0,VLOOKUP(O1380,Set!$H$2:$J$16,2,FALSE),\"\")","v":""}]
[{"$nulls":8},{"$f":"IF(H1381>0,VLOOKUP(H1381,Set!$A$2:$B$4,2,FALSE),\"\")","v":""},{"$nulls":6},{"$f":"IF(O1381>0,VLOOKUP(O1381,Set!$H$2:$J$16,2,FALSE),\"\")","v":""}]
[{"$nulls":8},{"$f":"IF(H1382>0,VLOOKUP(H1382,Set!$A$2:$B$4,2,FALSE),\"\")","v":""},{"$nulls":6},{"$f":"IF(O1382>0,VLOOKUP(O1382,Set!$H$2:$J$16,2,FALSE),\"\")","v":""}]
[{"$nulls":8},{"$f":"IF(H1383>0,VLOOKUP(H1383,Set!$A$2:$B$4,2,FALSE),\"\")","v":""},{"$nulls":6},{"$f":"IF(O1383>0,VLOOKUP(O1383,Set!$H$2:$J$16,2,FALSE),\"\")","v":""}]
[{"$nulls":8},{"$f":"IF(H1384>0,VLOOKUP(H1384,Set!$A$2:$B$4,2,FALSE),\"\")","v":""},{"$nulls":6},{"$f":"IF(O1384>0,VLOOKUP(O1384,Set!$H$2:$J$16,2,FALSE),\"\")","v":""}]
[{"$nulls":8},{"$f":"IF(H1385>0,VLOOKUP(H1385,Set!$A$2:$B$4,2,FALSE),\"\")","v":""},{"$nulls":6},{"$f":"IF(O1385>0,VLOOKUP(O1385,Set!$H$2:$J$16,2,FALSE),\"\")","v":""}]
[{"$nulls":8},{"$f":"IF(H1386>0,VLOOKUP(H1386,Set!$A$2:$B$4,2,FALSE),\"\")","v":""},{"$nulls":6},{"$f":"IF(O1386>0,VLOOKUP(O1386,Set!$H$2:$J$16,2,FALSE),\"\")","v":""}]
[{"$nulls":8},{"$f":"IF(H1387>0,VLOOKUP(H1387,Set!$A$2:$B$4,2,FALSE),\"\")","v":""},{"$nulls":6},{"$f":"IF(O1387>0,VLOOKUP(O1387,Set!$H$2:$J$16,2,FALSE),\"\")","v":""}]
[{"$nulls":8},{"$f":"IF(H1388>0,VLOOKUP(H1388,Set!$A$2:$B$4,2,FALSE),\"\")","v":""},{"$nulls":6},{"$f":"IF(O1388>0,VLOOKUP(O1388,Set!$H$2:$J$16,2,FALSE),\"\")","v":""}]
[{"$nulls":8},{"$f":"IF(H1389>0,VLOOKUP(H1389,Set!$A$2:$B$4,2,FALSE),\"\")","v":""},{"$nulls":6},{"$f":"IF(O1389>0,VLOOKUP(O1389,Set!$H$2:$J$16,2,FALSE),\"\")","v":""}]
[{"$nulls":8},{"$f":"IF(H1390>0,VLOOKUP(H1390,Set!$A$2:$B$4,2,FALSE),\"\")","v":""},{"$nulls":6},{"$f":"IF(O1390>0,VLOOKUP(O1390,Set!$H$2:$J$16,2,FALSE),\"\")","v":""}]
[{"$nulls":8},{"$f":"IF(H1391>0,VLOOKUP(H1391,Set!$A$2:$B$4,2,FALSE),\"\")","v":""},{"$nulls":6},{"$f":"IF(O1391>0,VLOOKUP(O1391,Set!$H$2:$J$16,2,FALSE),\"\")","v":""}]
[{"$nulls":8},{"$f":"IF(H1392>0,VLOOKUP(H1392,Set!$A$2:$B$4,2,FALSE),\"\")","v":""},{"$nulls":6},{"$f":"IF(O1392>0,VLOOKUP(O1392,Set!$H$2:$J$16,2,FALSE),\"\")","v":""}]
[{"$nulls":8},{"$f":"IF(H1393>0,VLOOKUP(H1393,Set!$A$2:$B$4,2,FALSE),\"\")","v":""},{"$nulls":6},{"$f":"IF(O1393>0,VLOOKUP(O1393,Set!$H$2:$J$16,2,FALSE),\"\")","v":""}]
[{"$nulls":8},{"$f":"IF(H1394>0,VLOOKUP(H1394,Set!$A$2:$B$4,2,FALSE),\"\")","v":""},{"$nulls":6},{"$f":"IF(O1394>0,VLOOKUP(O1394,Set!$H$2:$J$16,2,FALSE),\"\")","v":""}]
[{"$nulls":8},{"$f":"IF(H1395>0,VLOOKUP(H1395,Set!$A$2:$B$4,2,FALSE),\"\")","v":""},{"$nulls":6},{"$f":"IF(O1395>0,VLOOKUP(O1395,Set!$H$2:$J$16,2,FALSE),\"\")","v":""}]
[{"$nulls":8},{"$f":"IF(H1396>0,VLOOKUP(H1396,Set!$A$2:$B$4,2,FALSE),\"\")","v":""},{"$nulls":6},{"$f":"IF(O1396>0,VLOOKUP(O1396,Set!$H$2:$J$16,2,FALSE),\"\")","v":""}]
[{"$nulls":8},{"$f":"IF(H1397>0,VLOOKUP(H1397,Set!$A$2:$B$4,2,FALSE),\"\")","v":""},{"$nulls":6},{"$f":"IF(O1397>0,VLOOKUP(O1397,Set!$H$2:$J$16,2,FALSE),\"\")","v":""}]
[{"$nulls":8},{"$f":"IF(H1398>0,VLOOKUP(H1398,Set!$A$2:$B$4,2,FALSE),\"\")","v":""},{"$nulls":6},{"$f":"IF(O1398>0,VLOOKUP(O1398,Set!$H$2:$J$16,2,FALSE),\"\")","v":""}]
[{"$nulls":8},{"$f":"IF(H1399>0,VLOOKUP(H1399,Set!$A$2:$B$4,2,FALSE),\"\")","v":""},{"$nulls":6},{"$f":"IF(O1399>0,VLOOKUP(O1399,Set!$H$2:$J$16,2,FALSE),\"\")","v":""}]
[{"$nulls":8},{"$f":"IF(H1400>0,VLOOKUP(H1400,Set!$A$2:$B$4,2,FALSE),\"\")","v":""},{"$nulls":6},{"$f":"IF(O1400>0,VLOOKUP(O1400,Set!$H$2:$J$16,2,FALSE),\"\")","v":""}]
[{"$nulls":8},{"$f":"IF(H1401>0,VLOOKUP(H1401,Set!$A$2:$B$4,2,FALSE),\"\")","v":""},{"$nulls":6},{"$f":"IF(O1401>0,VLOOKUP(O1401,Set!$H$2:$J$16,2,FALSE),\"\")","v":""}]
[{"$nulls":8},{"$f":"IF(H1402>0,VLOOKUP(H1402,Set!$A$2:$B$4,2,FALSE),\"\")","v":""},{"$nulls":6},{"$f":"IF(O1402>0,VLOOKUP(O1402,Set!$H$2:$J$16,2,FALSE),\"\")","v":""}]
[{"$nulls":8},{"$f":"IF(H1403>0,VLOOKUP(H1403,Set!$A$2:$B$4,2,FALSE),\"\")","v":""},{"$nulls":6},{"$f":"IF(O1403>0,VLOOKUP(O1403,Set!$H$2:$J$16,2,FALSE),\"\")","v":""}]
[{"$nulls":8},{"$f":"IF(H1404>0,VLOOKUP(H1404,Set!$A$2:$B$4,2,FALSE),\"\")","v":""},{"$nulls":6},{"$f":"IF(O1404>0,VLOOKUP(O1404,Set!$H$2:$J$16,2,FALSE),\"\")","v":""}]
[{"$nulls":8},{"$f":"IF(H1405>0,VLOOKUP(H1405,Set!$A$2:$B$4,2,FALSE),\"\")","v":""},{"$nulls":6},{"$f":"IF(O1405>0,VLOOKUP(O1405,Set!$H$2:$J$16,2,FALSE),\"\")","v":""}]
[{"$nulls":8},{"$f":"IF(H1406>0,VLOOKUP(H1406,Set!$A$2:$B$4,2,FALSE),\"\")","v":""},{"$nulls":6},{"$f":"IF(O1406>0,VLOOKUP(O1406,Set!$H$2:$J$16,2,FALSE),\"\")","v":""}]
[{"$nulls":8},{"$f":"IF(H1407>0,VLOOKUP(H1407,Set!$A$2:$B$4,2,FALSE),\"\")","v":""},{"$nulls":6},{"$f":"IF(O1407>0,VLOOKUP(O1407,Set!$H$2:$J$16,2,FALSE),\"\")","v":""}]
[{"$nulls":8},{"$f":"IF(H1408>0,VLOOKUP(H1408,Set!$A$2:$B$4,2,FALSE),\"\")","v":""},{"$nulls":6},{"$f":"IF(O1408>0,VLOOKUP(O1408,Set!$H$2:$J$16,2,FALSE),\"\")","v":""}]
[{"$nulls":8},{"$f":"IF(H1409>0,VLOOKUP(H1409,Set!$A$2:$B$4,2,FALSE),\"\")","v":""},{"$nulls":6},{"$f":"IF(O1409>0,VLOOKUP(O1409,Set!$H$2:$J$16,2,FALSE),\"\")","v":""}]
[{"$nulls":8},{"$f":"IF(H1410>0,VLOOKUP(H1410,Set!$A$2:$B$4,2,FALSE),\"\")","v":""},{"$nulls":6},{"$f":"IF(O1410>0,VLOOKUP(O1410,Set!$H$2:$J$16,2,FALSE),\"\")","v":""}]
[{"$nulls":8},{"$f":"IF(H1411>0,VLOOKUP(H1411,Set!$A$2:$B$4,2,FALSE),\"\")","v":""},{"$nulls":6},{"$f":"IF(O1411>0,VLOOKUP(O1411,Set!$H$2:$J$16,2,FALSE),\"\")","v":""}]
[{"$nulls":8},{"$f":"IF(H1412>0,VLOOKUP(H1412,Set!$A$2:$B$4,2,FALSE),\"\")","v":""},{"$nulls":6},{"$f":"IF(O1412>0,VLOOKUP(O1412,Set!$H$2:$J$16,2,FALSE),\"\")","v":""}]
[{"$nulls":8},{"$f":"IF(H1413>0,VLOOKUP(H1413,Set!$A$2:$B$4,2,FALSE),\"\")","v":""},{"$nulls":6},{"$f":"IF(O1413>0,VLOOKUP(O1413,Set!$H$2:$J$16,2,FALSE),\"\")","v":""}]
[{"$nulls":8},{"$f":"IF(H1414>0,VLOOKUP(H1414,Set!$A$2:$B$4,2,FALSE),\"\")","v":""},{"$nulls":6},{"$f":"IF(O1414>0,VLOOKUP(O1414,Set!$H$2:$J$16,2,FALSE),\"\")","v":""}]
[{"$nulls":8},{"$f":"IF(H1415>0,VLOOKUP(H1415,Set!$A$2:$B$4,2,FALSE),\"\")","v":""},{"$nulls":6},{"$f":"IF(O1415>0,VLOOKUP(O1415,Set!$H$2:$J$16,2,FALSE),\"\")","v":""}]
[{"$nulls":8},{"$f":"IF(H1416>0,VLOOKUP(H1416,Set!$A$2:$B$4,2,FALSE),\"\")","v":""},{"$nulls":6},{"$f":"IF(O1416>0,VLOOKUP(O1416,Set!$H$2:$J$16,2,FALSE),\"\")","v":""}]
[{"$nulls":8},{"$f":"IF(H1417>0,VLOOKUP(H1417,Set!$A$2:$B$4,2,FALSE),\"\")","v":""},{"$nulls":6},{"$f":"IF(O1417>0,VLOOKUP(O1417,Set!$H$2:$J$16,2,FALSE),\"\")","v":""}]
[{"$nulls":8},{"$f":"IF(H1418>0,VLOOKUP(H1418,Set!$A$2:$B$4,2,FALSE),\"\")","v":""},{"$nulls":6},{"$f":"IF(O1418>0,VLOOKUP(O1418,Set!$H$2:$J$16,2,FALSE),\"\")","v":""}]
[{"$nulls":8},{"$f":"IF(H1419>0,VLOOKUP(H1419,Set!$A$2:$B$4,2,FALSE),\"\")","v":""},{"$nulls":6},{"$f":"IF(O1419>0,VLOOKUP(O1419,Set!$H$2:$J$16,2,FALSE),\"\")","v":""}]
[{"$nulls":8},{"$f":"IF(H1420>0,VLOOKUP(H1420,Set!$A$2:$B$4,2,FALSE),\"\")","v":""},{"$nulls":6},{"$f":"IF(O1420>0,VLOOKUP(O1420,Set!$H$2:$J$16,2,FALSE),\"\")","v":""}]
[{"$nulls":8},{"$f":"IF(H1421>0,VLOOKUP(H1421,Set!$A$2:$B$4,2,FALSE),\"\")","v":""},{"$nulls":6},{"$f":"IF(O1421>0,VLOOKUP(O1421,Set!$H$2:$J$16,2,FALSE),\"\")","v":""}]
[{"$nulls":8},{"$f":"IF(H1422>0,VLOOKUP(H1422,Set!$A$2:$B$4,2,FALSE),\"\")","v":""},{"$nulls":6},{"$f":"IF(O1422>0,VLOOKUP(O1422,Set!$H$2:$J$16,2,FALSE),\"\")","v":""}]
[{"$nulls":8},{"$f":"IF(H1423>0,VLOOKUP(H1423,Set!$A$2:$B$4,2,FALSE),\"\")","v":""},{"$nulls":6},{"$f":"IF(O1423>0,VLOOKUP(O1423,Set!$H$2:$J$16,2,FALSE),\"\")","v":""}]
[{"$nulls":8},{"$f":"IF(H1424>0,VLOOKUP(H1424,Set!$A$2:$B$4,2,FALSE),\"\")","v":""},{"$nulls":6},{"$f":"IF(O1424>0,VLOOKUP(O1424,Set!$H$2:$J$16,2,FALSE),\"\")","v":""}]
[{"$nulls":8},{"$f":"IF(H1425>0,VLOOKUP(H1425,Set!$A$2:$B$4,2,FALSE),\"\")","v":""},{"$nulls":6},{"$f":"IF(O1425>0,VLOOKUP(O1425,Set!$H$2:$J$16,2,FALSE),\"\")","v":""}]
[{"$nulls":8},{"$f":"IF(H1426>0,VLOOKUP(H1426,Set!$A$2:$B$4,2,FALSE),\"\")","v":""},{"$nulls":6},{"$f":"IF(O1426>0,VLOOKUP(O1426,Set!$H$2:$J$16,2,FALSE),\"\")","v":""}]
[{"$nulls":8},{"$f":"IF(H1427>0,VLOOKUP(H1427,Set!$A$2:$B$4,2,FALSE),\"\")","v":""},{"$nulls":6},{"$f":"IF(O1427>0,VLOOKUP(O1427,Set!$H$2:$J$16,2,FALSE),\"\")","v":""}]
[{"$nulls":8},{"$f":"IF(H1428>0,VLOOKUP(H1428,Set!$A$2:$B$4,2,FALSE),\"\")","v":""},{"$nulls":6},{"$f":"IF(O1428>0,VLOOKUP(O1428,Set!$H$2:$J$16,2,FALSE),\"\")","v":""}]
[{"$nulls":8},{"$f":"IF(H1429>0,VLOOKUP(H1429,Set!$A$2:$B$4,2,FALSE),\"\")","v":""},{"$nulls":6},{"$f":"IF(O1429>0,VLOOKUP(O1429,Set!$H$2:$J$16,2,FALSE),\"\")","v":""}]
[{"$nulls":8},{"$f":"IF(H1430>0,VLOOKUP(H1430,Set!$A$2:$B$4,2,FALSE),\"\")","v":""},{"$nulls":6},{"$f":"IF(O1430>0,VLOOKUP(O1430,Set!$H$2:$J$16,2,FALSE),\"\")","v":""}]
[{"$nulls":8},{"$f":"IF(H1431>0,VLOOKUP(H1431,Set!$A$2:$B$4,2,FALSE),\"\")","v":""},{"$nulls":6},{"$f":"IF(O1431>0,VLOOKUP(O1431,Set!$H$2:$J$16,2,FALSE),\"\")","v":""}]
[{"$nulls":8},{"$f":"IF(H1432>0,VLOOKUP(H1432,Set!$A$2:$B$4,2,FALSE),\"\")","v":""},{"$nulls":6},{"$f":"IF(O1432>0,VLOOKUP(O1432,Set!$H$2:$J$16,2,FALSE),\"\")","v":""}]
[{"$nulls":8},{"$f":"IF(H1433>0,VLOOKUP(H1433,Set!$A$2:$B$4,2,FALSE),\"\")","v":""},{"$nulls":6},{"$f":"IF(O1433>0,VLOOKUP(O1433,Set!$H$2:$J$16,2,FALSE),\"\")","v":""}]
[{"$nulls":8},{"$f":"IF(H1434>0,VLOOKUP(H1434,Set!$A$2:$B$4,2,FALSE),\"\")","v":""},{"$nulls":6},{"$f":"IF(O1434>0,VLOOKUP(O1434,Set!$H$2:$J$16,2,FALSE),\"\")","v":""}]
[{"$nulls":8},{"$f":"IF(H1435>0,VLOOKUP(H1435,Set!$A$2:$B$4,2,FALSE),\"\")","v":""},{"$nulls":6},{"$f":"IF(O1435>0,VLOOKUP(O1435,Set!$H$2:$J$16,2,FALSE),\"\")","v":""}]
[{"$nulls":8},{"$f":"IF(H1436>0,VLOOKUP(H1436,Set!$A$2:$B$4,2,FALSE),\"\")","v":""},{"$nulls":6},{"$f":"IF(O1436>0,VLOOKUP(O1436,Set!$H$2:$J$16,2,FALSE),\"\")","v":""}]
[{"$nulls":8},{"$f":"IF(H1437>0,VLOOKUP(H1437,Set!$A$2:$B$4,2,FALSE),\"\")","v":""},{"$nulls":6},{"$f":"IF(O1437>0,VLOOKUP(O1437,Set!$H$2:$J$16,2,FALSE),\"\")","v":""}]
[{"$nulls":8},{"$f":"IF(H1438>0,VLOOKUP(H1438,Set!$A$2:$B$4,2,FALSE),\"\")","v":""},{"$nulls":6},{"$f":"IF(O1438>0,VLOOKUP(O1438,Set!$H$2:$J$16,2,FALSE),\"\")","v":""}]
[{"$nulls":8},{"$f":"IF(H1439>0,VLOOKUP(H1439,Set!$A$2:$B$4,2,FALSE),\"\")","v":""},{"$nulls":6},{"$f":"IF(O1439>0,VLOOKUP(O1439,Set!$H$2:$J$16,2,FALSE),\"\")","v":""}]
[{"$nulls":8},{"$f":"IF(H1440>0,VLOOKUP(H1440,Set!$A$2:$B$4,2,FALSE),\"\")","v":""},{"$nulls":6},{"$f":"IF(O1440>0,VLOOKUP(O1440,Set!$H$2:$J$16,2,FALSE),\"\")","v":""}]
[{"$nulls":8},{"$f":"IF(H1441>0,VLOOKUP(H1441,Set!$A$2:$B$4,2,FALSE),\"\")","v":""},{"$nulls":6},{"$f":"IF(O1441>0,VLOOKUP(O1441,Set!$H$2:$J$16,2,FALSE),\"\")","v":""}]
[{"$nulls":8},{"$f":"IF(H1442>0,VLOOKUP(H1442,Set!$A$2:$B$4,2,FALSE),\"\")","v":""},{"$nulls":6},{"$f":"IF(O1442>0,VLOOKUP(O1442,Set!$H$2:$J$16,2,FALSE),\"\")","v":""}]
[{"$nulls":8},{"$f":"IF(H1443>0,VLOOKUP(H1443,Set!$A$2:$B$4,2,FALSE),\"\")","v":""},{"$nulls":6},{"$f":"IF(O1443>0,VLOOKUP(O1443,Set!$H$2:$J$16,2,FALSE),\"\")","v":""}]
[{"$nulls":8},{"$f":"IF(H1444>0,VLOOKUP(H1444,Set!$A$2:$B$4,2,FALSE),\"\")","v":""},{"$nulls":6},{"$f":"IF(O1444>0,VLOOKUP(O1444,Set!$H$2:$J$16,2,FALSE),\"\")","v":""}]
[{"$nulls":8},{"$f":"IF(H1445>0,VLOOKUP(H1445,Set!$A$2:$B$4,2,FALSE),\"\")","v":""},{"$nulls":6},{"$f":"IF(O1445>0,VLOOKUP(O1445,Set!$H$2:$J$16,2,FALSE),\"\")","v":""}]
[{"$nulls":8},{"$f":"IF(H1446>0,VLOOKUP(H1446,Set!$A$2:$B$4,2,FALSE),\"\")","v":""},{"$nulls":6},{"$f":"IF(O1446>0,VLOOKUP(O1446,Set!$H$2:$J$16,2,FALSE),\"\")","v":""}]
[{"$nulls":8},{"$f":"IF(H1447>0,VLOOKUP(H1447,Set!$A$2:$B$4,2,FALSE),\"\")","v":""},{"$nulls":6},{"$f":"IF(O1447>0,VLOOKUP(O1447,Set!$H$2:$J$16,2,FALSE),\"\")","v":""}]
[{"$nulls":8},{"$f":"IF(H1448>0,VLOOKUP(H1448,Set!$A$2:$B$4,2,FALSE),\"\")","v":""},{"$nulls":6},{"$f":"IF(O1448>0,VLOOKUP(O1448,Set!$H$2:$J$16,2,FALSE),\"\")","v":""}]
[{"$nulls":8},{"$f":"IF(H1449>0,VLOOKUP(H1449,Set!$A$2:$B$4,2,FALSE),\"\")","v":""},{"$nulls":6},{"$f":"IF(O1449>0,VLOOKUP(O1449,Set!$H$2:$J$16,2,FALSE),\"\")","v":""}]
[{"$nulls":8},{"$f":"IF(H1450>0,VLOOKUP(H1450,Set!$A$2:$B$4,2,FALSE),\"\")","v":""},{"$nulls":6},{"$f":"IF(O1450>0,VLOOKUP(O1450,Set!$H$2:$J$16,2,FALSE),\"\")","v":""}]
[{"$nulls":8},{"$f":"IF(H1451>0,VLOOKUP(H1451,Set!$A$2:$B$4,2,FALSE),\"\")","v":""},{"$nulls":6},{"$f":"IF(O1451>0,VLOOKUP(O1451,Set!$H$2:$J$16,2,FALSE),\"\")","v":""}]
[{"$nulls":8},{"$f":"IF(H1452>0,VLOOKUP(H1452,Set!$A$2:$B$4,2,FALSE),\"\")","v":""},{"$nulls":6},{"$f":"IF(O1452>0,VLOOKUP(O1452,Set!$H$2:$J$16,2,FALSE),\"\")","v":""}]
[{"$nulls":8},{"$f":"IF(H1453>0,VLOOKUP(H1453,Set!$A$2:$B$4,2,FALSE),\"\")","v":""},{"$nulls":6},{"$f":"IF(O1453>0,VLOOKUP(O1453,Set!$H$2:$J$16,2,FALSE),\"\")","v":""}]
[{"$nulls":8},{"$f":"IF(H1454>0,VLOOKUP(H1454,Set!$A$2:$B$4,2,FALSE),\"\")","v":""},{"$nulls":6},{"$f":"IF(O1454>0,VLOOKUP(O1454,Set!$H$2:$J$16,2,FALSE),\"\")","v":""}]
[{"$nulls":8},{"$f":"IF(H1455>0,VLOOKUP(H1455,Set!$A$2:$B$4,2,FALSE),\"\")","v":""},{"$nulls":6},{"$f":"IF(O1455>0,VLOOKUP(O1455,Set!$H$2:$J$16,2,FALSE),\"\")","v":""}]
[{"$nulls":8},{"$f":"IF(H1456>0,VLOOKUP(H1456,Set!$A$2:$B$4,2,FALSE),\"\")","v":""},{"$nulls":6},{"$f":"IF(O1456>0,VLOOKUP(O1456,Set!$H$2:$J$16,2,FALSE),\"\")","v":""}]
[{"$nulls":8},{"$f":"IF(H1457>0,VLOOKUP(H1457,Set!$A$2:$B$4,2,FALSE),\"\")","v":""},{"$nulls":6},{"$f":"IF(O1457>0,VLOOKUP(O1457,Set!$H$2:$J$16,2,FALSE),\"\")","v":""}]
[{"$nulls":8},{"$f":"IF(H1458>0,VLOOKUP(H1458,Set!$A$2:$B$4,2,FALSE),\"\")","v":""},{"$nulls":6},{"$f":"IF(O1458>0,VLOOKUP(O1458,Set!$H$2:$J$16,2,FALSE),\"\")","v":""}]
[{"$nulls":8},{"$f":"IF(H1459>0,VLOOKUP(H1459,Set!$A$2:$B$4,2,FALSE),\"\")","v":""},{"$nulls":6},{"$f":"IF(O1459>0,VLOOKUP(O1459,Set!$H$2:$J$16,2,FALSE),\"\")","v":""}]
[{"$nulls":8},{"$f":"IF(H1460>0,VLOOKUP(H1460,Set!$A$2:$B$4,2,FALSE),\"\")","v":""},{"$nulls":6},{"$f":"IF(O1460>0,VLOOKUP(O1460,Set!$H$2:$J$16,2,FALSE),\"\")","v":""}]
[{"$nulls":8},{"$f":"IF(H1461>0,VLOOKUP(H1461,Set!$A$2:$B$4,2,FALSE),\"\")","v":""},{"$nulls":6},{"$f":"IF(O1461>0,VLOOKUP(O1461,Set!$H$2:$J$16,2,FALSE),\"\")","v":""}]
[{"$nulls":8},{"$f":"IF(H1462>0,VLOOKUP(H1462,Set!$A$2:$B$4,2,FALSE),\"\")","v":""},{"$nulls":6},{"$f":"IF(O1462>0,VLOOKUP(O1462,Set!$H$2:$J$16,2,FALSE),\"\")","v":""}]
[{"$nulls":8},{"$f":"IF(H1463>0,VLOOKUP(H1463,Set!$A$2:$B$4,2,FALSE),\"\")","v":""},{"$nulls":6},{"$f":"IF(O1463>0,VLOOKUP(O1463,Set!$H$2:$J$16,2,FALSE),\"\")","v":""}]
[{"$nulls":8},{"$f":"IF(H1464>0,VLOOKUP(H1464,Set!$A$2:$B$4,2,FALSE),\"\")","v":""},{"$nulls":6},{"$f":"IF(O1464>0,VLOOKUP(O1464,Set!$H$2:$J$16,2,FALSE),\"\")","v":""}]
[{"$nulls":8},{"$f":"IF(H1465>0,VLOOKUP(H1465,Set!$A$2:$B$4,2,FALSE),\"\")","v":""},{"$nulls":6},{"$f":"IF(O1465>0,VLOOKUP(O1465,Set!$H$2:$J$16,2,FALSE),\"\")","v":""}]
[{"$nulls":8},{"$f":"IF(H1466>0,VLOOKUP(H1466,Set!$A$2:$B$4,2,FALSE),\"\")","v":""},{"$nulls":6},{"$f":"IF(O1466>0,VLOOKUP(O1466,Set!$H$2:$J$16,2,FALSE),\"\")","v":""}]
[{"$nulls":8},{"$f":"IF(H1467>0,VLOOKUP(H1467,Set!$A$2:$B$4,2,FALSE),\"\")","v":""},{"$nulls":6},{"$f":"IF(O1467>0,VLOOKUP(O1467,Set!$H$2:$J$16,2,FALSE),\"\")","v":""}]
[{"$nulls":8},{"$f":"IF(H1468>0,VLOOKUP(H1468,Set!$A$2:$B$4,2,FALSE),\"\")","v":""},{"$nulls":6},{"$f":"IF(O1468>0,VLOOKUP(O1468,Set!$H$2:$J$16,2,FALSE),\"\")","v":""}]
[{"$nulls":8},{"$f":"IF(H1469>0,VLOOKUP(H1469,Set!$A$2:$B$4,2,FALSE),\"\")","v":""},{"$nulls":6},{"$f":"IF(O1469>0,VLOOKUP(O1469,Set!$H$2:$J$16,2,FALSE),\"\")","v":""}]
[{"$nulls":8},{"$f":"IF(H1470>0,VLOOKUP(H1470,Set!$A$2:$B$4,2,FALSE),\"\")","v":""},{"$nulls":6},{"$f":"IF(O1470>0,VLOOKUP(O1470,Set!$H$2:$J$16,2,FALSE),\"\")","v":""}]
[{"$nulls":8},{"$f":"IF(H1471>0,VLOOKUP(H1471,Set!$A$2:$B$4,2,FALSE),\"\")","v":""},{"$nulls":6},{"$f":"IF(O1471>0,VLOOKUP(O1471,Set!$H$2:$J$16,2,FALSE),\"\")","v":""}]
[{"$nulls":8},{"$f":"IF(H1472>0,VLOOKUP(H1472,Set!$A$2:$B$4,2,FALSE),\"\")","v":""},{"$nulls":6},{"$f":"IF(O1472>0,VLOOKUP(O1472,Set!$H$2:$J$16,2,FALSE),\"\")","v":""}]
[{"$nulls":8},{"$f":"IF(H1473>0,VLOOKUP(H1473,Set!$A$2:$B$4,2,FALSE),\"\")","v":""},{"$nulls":6},{"$f":"IF(O1473>0,VLOOKUP(O1473,Set!$H$2:$J$16,2,FALSE),\"\")","v":""}]
[{"$nulls":8},{"$f":"IF(H1474>0,VLOOKUP(H1474,Set!$A$2:$B$4,2,FALSE),\"\")","v":""},{"$nulls":6},{"$f":"IF(O1474>0,VLOOKUP(O1474,Set!$H$2:$J$16,2,FALSE),\"\")","v":""}]
[{"$nulls":8},{"$f":"IF(H1475>0,VLOOKUP(H1475,Set!$A$2:$B$4,2,FALSE),\"\")","v":""},{"$nulls":6},{"$f":"IF(O1475>0,VLOOKUP(O1475,Set!$H$2:$J$16,2,FALSE),\"\")","v":""}]
[{"$nulls":8},{"$f":"IF(H1476>0,VLOOKUP(H1476,Set!$A$2:$B$4,2,FALSE),\"\")","v":""},{"$nulls":6},{"$f":"IF(O1476>0,VLOOKUP(O1476,Set!$H$2:$J$16,2,FALSE),\"\")","v":""}]
[{"$nulls":8},{"$f":"IF(H1477>0,VLOOKUP(H1477,Set!$A$2:$B$4,2,FALSE),\"\")","v":""},{"$nulls":6},{"$f":"IF(O1477>0,VLOOKUP(O1477,Set!$H$2:$J$16,2,FALSE),\"\")","v":""}]
[{"$nulls":8},{"$f":"IF(H1478>0,VLOOKUP(H1478,Set!$A$2:$B$4,2,FALSE),\"\")","v":""},{"$nulls":6},{"$f":"IF(O1478>0,VLOOKUP(O1478,Set!$H$2:$J$16,2,FALSE),\"\")","v":""}]
[{"$nulls":8},{"$f":"IF(H1479>0,VLOOKUP(H1479,Set!$A$2:$B$4,2,FALSE),\"\")","v":""},{"$nulls":6},{"$f":"IF(O1479>0,VLOOKUP(O1479,Set!$H$2:$J$16,2,FALSE),\"\")","v":""}]
[{"$nulls":8},{"$f":"IF(H1480>0,VLOOKUP(H1480,Set!$A$2:$B$4,2,FALSE),\"\")","v":""},{"$nulls":6},{"$f":"IF(O1480>0,VLOOKUP(O1480,Set!$H$2:$J$16,2,FALSE),\"\")","v":""}]
[{"$nulls":8},{"$f":"IF(H1481>0,VLOOKUP(H1481,Set!$A$2:$B$4,2,FALSE),\"\")","v":""},{"$nulls":6},{"$f":"IF(O1481>0,VLOOKUP(O1481,Set!$H$2:$J$16,2,FALSE),\"\")","v":""}]
[{"$nulls":8},{"$f":"IF(H1482>0,VLOOKUP(H1482,Set!$A$2:$B$4,2,FALSE),\"\")","v":""},{"$nulls":6},{"$f":"IF(O1482>0,VLOOKUP(O1482,Set!$H$2:$J$16,2,FALSE),\"\")","v":""}]
[{"$nulls":8},{"$f":"IF(H1483>0,VLOOKUP(H1483,Set!$A$2:$B$4,2,FALSE),\"\")","v":""},{"$nulls":6},{"$f":"IF(O1483>0,VLOOKUP(O1483,Set!$H$2:$J$16,2,FALSE),\"\")","v":""}]
[{"$nulls":8},{"$f":"IF(H1484>0,VLOOKUP(H1484,Set!$A$2:$B$4,2,FALSE),\"\")","v":""},{"$nulls":6},{"$f":"IF(O1484>0,VLOOKUP(O1484,Set!$H$2:$J$16,2,FALSE),\"\")","v":""}]
[{"$nulls":8},{"$f":"IF(H1485>0,VLOOKUP(H1485,Set!$A$2:$B$4,2,FALSE),\"\")","v":""},{"$nulls":6},{"$f":"IF(O1485>0,VLOOKUP(O1485,Set!$H$2:$J$16,2,FALSE),\"\")","v":""}]
[{"$nulls":8},{"$f":"IF(H1486>0,VLOOKUP(H1486,Set!$A$2:$B$4,2,FALSE),\"\")","v":""},{"$nulls":6},{"$f":"IF(O1486>0,VLOOKUP(O1486,Set!$H$2:$J$16,2,FALSE),\"\")","v":""}]
[{"$nulls":8},{"$f":"IF(H1487>0,VLOOKUP(H1487,Set!$A$2:$B$4,2,FALSE),\"\")","v":""},{"$nulls":6},{"$f":"IF(O1487>0,VLOOKUP(O1487,Set!$H$2:$J$16,2,FALSE),\"\")","v":""}]
[{"$nulls":8},{"$f":"IF(H1488>0,VLOOKUP(H1488,Set!$A$2:$B$4,2,FALSE),\"\")","v":""},{"$nulls":6},{"$f":"IF(O1488>0,VLOOKUP(O1488,Set!$H$2:$J$16,2,FALSE),\"\")","v":""}]
[{"$nulls":8},{"$f":"IF(H1489>0,VLOOKUP(H1489,Set!$A$2:$B$4,2,FALSE),\"\")","v":""},{"$nulls":6},{"$f":"IF(O1489>0,VLOOKUP(O1489,Set!$H$2:$J$16,2,FALSE),\"\")","v":""}]
[{"$nulls":8},{"$f":"IF(H1490>0,VLOOKUP(H1490,Set!$A$2:$B$4,2,FALSE),\"\")","v":""},{"$nulls":6},{"$f":"IF(O1490>0,VLOOKUP(O1490,Set!$H$2:$J$16,2,FALSE),\"\")","v":""}]
[{"$nulls":8},{"$f":"IF(H1491>0,VLOOKUP(H1491,Set!$A$2:$B$4,2,FALSE),\"\")","v":""},{"$nulls":6},{"$f":"IF(O1491>0,VLOOKUP(O1491,Set!$H$2:$J$16,2,FALSE),\"\")","v":""}]
[{"$nulls":8},{"$f":"IF(H1492>0,VLOOKUP(H1492,Set!$A$2:$B$4,2,FALSE),\"\")","v":""},{"$nulls":6},{"$f":"IF(O1492>0,VLOOKUP(O1492,Set!$H$2:$J$16,2,FALSE),\"\")","v":""}]
[{"$nulls":8},{"$f":"IF(H1493>0,VLOOKUP(H1493,Set!$A$2:$B$4,2,FALSE),\"\")","v":""},{"$nulls":6},{"$f":"IF(O1493>0,VLOOKUP(O1493,Set!$H$2:$J$16,2,FALSE),\"\")","v":""}]
[{"$nulls":8},{"$f":"IF(H1494>0,VLOOKUP(H1494,Set!$A$2:$B$4,2,FALSE),\"\")","v":""},{"$nulls":6},{"$f":"IF(O1494>0,VLOOKUP(O1494,Set!$H$2:$J$16,2,FALSE),\"\")","v":""}]
[{"$nulls":8},{"$f":"IF(H1495>0,VLOOKUP(H1495,Set!$A$2:$B$4,2,FALSE),\"\")","v":""},{"$nulls":6},{"$f":"IF(O1495>0,VLOOKUP(O1495,Set!$H$2:$J$16,2,FALSE),\"\")","v":""}]
[{"$nulls":8},{"$f":"IF(H1496>0,VLOOKUP(H1496,Set!$A$2:$B$4,2,FALSE),\"\")","v":""},{"$nulls":6},{"$f":"IF(O1496>0,VLOOKUP(O1496,Set!$H$2:$J$16,2,FALSE),\"\")","v":""}]
[{"$nulls":8},{"$f":"IF(H1497>0,VLOOKUP(H1497,Set!$A$2:$B$4,2,FALSE),\"\")","v":""},{"$nulls":6},{"$f":"IF(O1497>0,VLOOKUP(O1497,Set!$H$2:$J$16,2,FALSE),\"\")","v":""}]
[{"$nulls":8},{"$f":"IF(H1498>0,VLOOKUP(H1498,Set!$A$2:$B$4,2,FALSE),\"\")","v":""},{"$nulls":6},{"$f":"IF(O1498>0,VLOOKUP(O1498,Set!$H$2:$J$16,2,FALSE),\"\")","v":""}]
[{"$nulls":8},{"$f":"IF(H1499>0,VLOOKUP(H1499,Set!$A$2:$B$4,2,FALSE),\"\")","v":""},{"$nulls":6},{"$f":"IF(O1499>0,VLOOKUP(O1499,Set!$H$2:$J$16,2,FALSE),\"\")","v":""}]
[{"$nulls":8},{"$f":"IF(H1500>0,VLOOKUP(H1500,Set!$A$2:$B$4,2,FALSE),\"\")","v":""},{"$nulls":6},{"$f":"IF(O1500>0,VLOOKUP(O1500,Set!$H$2:$J$16,2,FALSE),\"\")","v":""}]
[{"$nulls":8},{"$f":"IF(H1501>0,VLOOKUP(H1501,Set!$A$2:$B$4,2,FALSE),\"\")","v":""},{"$nulls":6},{"$f":"IF(O1501>0,VLOOKUP(O1501,Set!$H$2:$J$16,2,FALSE),\"\")","v":""}]
[{"$nulls":8},{"$f":"IF(H1502>0,VLOOKUP(H1502,Set!$A$2:$B$4,2,FALSE),\"\")","v":""},{"$nulls":6},{"$f":"IF(O1502>0,VLOOKUP(O1502,Set!$H$2:$J$16,2,FALSE),\"\")","v":""}]
[{"$nulls":8},{"$f":"IF(H1503>0,VLOOKUP(H1503,Set!$A$2:$B$4,2,FALSE),\"\")","v":""},{"$nulls":6},{"$f":"IF(O1503>0,VLOOKUP(O1503,Set!$H$2:$J$16,2,FALSE),\"\")","v":""}]
[{"$nulls":8},{"$f":"IF(H1504>0,VLOOKUP(H1504,Set!$A$2:$B$4,2,FALSE),\"\")","v":""},{"$nulls":6},{"$f":"IF(O1504>0,VLOOKUP(O1504,Set!$H$2:$J$16,2,FALSE),\"\")","v":""}]
[{"$nulls":8},{"$f":"IF(H1505>0,VLOOKUP(H1505,Set!$A$2:$B$4,2,FALSE),\"\")","v":""},{"$nulls":6},{"$f":"IF(O1505>0,VLOOKUP(O1505,Set!$H$2:$J$16,2,FALSE),\"\")","v":""}]
[{"$nulls":8},{"$f":"IF(H1506>0,VLOOKUP(H1506,Set!$A$2:$B$4,2,FALSE),\"\")","v":""},{"$nulls":6},{"$f":"IF(O1506>0,VLOOKUP(O1506,Set!$H$2:$J$16,2,FALSE),\"\")","v":""}]
[{"$nulls":8},{"$f":"IF(H1507>0,VLOOKUP(H1507,Set!$A$2:$B$4,2,FALSE),\"\")","v":""},{"$nulls":6},{"$f":"IF(O1507>0,VLOOKUP(O1507,Set!$H$2:$J$16,2,FALSE),\"\")","v":""}]
[{"$nulls":8},{"$f":"IF(H1508>0,VLOOKUP(H1508,Set!$A$2:$B$4,2,FALSE),\"\")","v":""},{"$nulls":6},{"$f":"IF(O1508>0,VLOOKUP(O1508,Set!$H$2:$J$16,2,FALSE),\"\")","v":""}]
[{"$nulls":8},{"$f":"IF(H1509>0,VLOOKUP(H1509,Set!$A$2:$B$4,2,FALSE),\"\")","v":""},{"$nulls":6},{"$f":"IF(O1509>0,VLOOKUP(O1509,Set!$H$2:$J$16,2,FALSE),\"\")","v":""}]
[{"$nulls":8},{"$f":"IF(H1510>0,VLOOKUP(H1510,Set!$A$2:$B$4,2,FALSE),\"\")","v":""},{"$nulls":6},{"$f":"IF(O1510>0,VLOOKUP(O1510,Set!$H$2:$J$16,2,FALSE),\"\")","v":""}]
[{"$nulls":8},{"$f":"IF(H1511>0,VLOOKUP(H1511,Set!$A$2:$B$4,2,FALSE),\"\")","v":""},{"$nulls":6},{"$f":"IF(O1511>0,VLOOKUP(O1511,Set!$H$2:$J$16,2,FALSE),\"\")","v":""}]
[{"$nulls":8},{"$f":"IF(H1512>0,VLOOKUP(H1512,Set!$A$2:$B$4,2,FALSE),\"\")","v":""},{"$nulls":6},{"$f":"IF(O1512>0,VLOOKUP(O1512,Set!$H$2:$J$16,2,FALSE),\"\")","v":""}]
[{"$nulls":8},{"$f":"IF(H1513>0,VLOOKUP(H1513,Set!$A$2:$B$4,2,FALSE),\"\")","v":""},{"$nulls":6},{"$f":"IF(O1513>0,VLOOKUP(O1513,Set!$H$2:$J$16,2,FALSE),\"\")","v":""}]
[{"$nulls":8},{"$f":"IF(H1514>0,VLOOKUP(H1514,Set!$A$2:$B$4,2,FALSE),\"\")","v":""},{"$nulls":6},{"$f":"IF(O1514>0,VLOOKUP(O1514,Set!$H$2:$J$16,2,FALSE),\"\")","v":""}]
[{"$nulls":8},{"$f":"IF(H1515>0,VLOOKUP(H1515,Set!$A$2:$B$4,2,FALSE),\"\")","v":""},{"$nulls":6},{"$f":"IF(O1515>0,VLOOKUP(O1515,Set!$H$2:$J$16,2,FALSE),\"\")","v":""}]
[{"$nulls":8},{"$f":"IF(H1516>0,VLOOKUP(H1516,Set!$A$2:$B$4,2,FALSE),\"\")","v":""},{"$nulls":6},{"$f":"IF(O1516>0,VLOOKUP(O1516,Set!$H$2:$J$16,2,FALSE),\"\")","v":""}]
[{"$nulls":8},{"$f":"IF(H1517>0,VLOOKUP(H1517,Set!$A$2:$B$4,2,FALSE),\"\")","v":""},{"$nulls":6},{"$f":"IF(O1517>0,VLOOKUP(O1517,Set!$H$2:$J$16,2,FALSE),\"\")","v":""}]
[{"$nulls":8},{"$f":"IF(H1518>0,VLOOKUP(H1518,Set!$A$2:$B$4,2,FALSE),\"\")","v":""},{"$nulls":6},{"$f":"IF(O1518>0,VLOOKUP(O1518,Set!$H$2:$J$16,2,FALSE),\"\")","v":""}]
[{"$nulls":8},{"$f":"IF(H1519>0,VLOOKUP(H1519,Set!$A$2:$B$4,2,FALSE),\"\")","v":""},{"$nulls":6},{"$f":"IF(O1519>0,VLOOKUP(O1519,Set!$H$2:$J$16,2,FALSE),\"\")","v":""}]
[{"$nulls":8},{"$f":"IF(H1520>0,VLOOKUP(H1520,Set!$A$2:$B$4,2,FALSE),\"\")","v":""},{"$nulls":6},{"$f":"IF(O1520>0,VLOOKUP(O1520,Set!$H$2:$J$16,2,FALSE),\"\")","v":""}]
[{"$nulls":8},{"$f":"IF(H1521>0,VLOOKUP(H1521,Set!$A$2:$B$4,2,FALSE),\"\")","v":""},{"$nulls":6},{"$f":"IF(O1521>0,VLOOKUP(O1521,Set!$H$2:$J$16,2,FALSE),\"\")","v":""}]
[{"$nulls":8},{"$f":"IF(H1522>0,VLOOKUP(H1522,Set!$A$2:$B$4,2,FALSE),\"\")","v":""},{"$nulls":6},{"$f":"IF(O1522>0,VLOOKUP(O1522,Set!$H$2:$J$16,2,FALSE),\"\")","v":""}]
[{"$nulls":8},{"$f":"IF(H1523>0,VLOOKUP(H1523,Set!$A$2:$B$4,2,FALSE),\"\")","v":""},{"$nulls":6},{"$f":"IF(O1523>0,VLOOKUP(O1523,Set!$H$2:$J$16,2,FALSE),\"\")","v":""}]
[{"$nulls":8},{"$f":"IF(H1524>0,VLOOKUP(H1524,Set!$A$2:$B$4,2,FALSE),\"\")","v":""},{"$nulls":6},{"$f":"IF(O1524>0,VLOOKUP(O1524,Set!$H$2:$J$16,2,FALSE),\"\")","v":""}]
[{"$nulls":8},{"$f":"IF(H1525>0,VLOOKUP(H1525,Set!$A$2:$B$4,2,FALSE),\"\")","v":""},{"$nulls":6},{"$f":"IF(O1525>0,VLOOKUP(O1525,Set!$H$2:$J$16,2,FALSE),\"\")","v":""}]
[{"$nulls":8},{"$f":"IF(H1526>0,VLOOKUP(H1526,Set!$A$2:$B$4,2,FALSE),\"\")","v":""},{"$nulls":6},{"$f":"IF(O1526>0,VLOOKUP(O1526,Set!$H$2:$J$16,2,FALSE),\"\")","v":""}]
[{"$nulls":8},{"$f":"IF(H1527>0,VLOOKUP(H1527,Set!$A$2:$B$4,2,FALSE),\"\")","v":""},{"$nulls":6},{"$f":"IF(O1527>0,VLOOKUP(O1527,Set!$H$2:$J$16,2,FALSE),\"\")","v":""}]
[{"$nulls":8},{"$f":"IF(H1528>0,VLOOKUP(H1528,Set!$A$2:$B$4,2,FALSE),\"\")","v":""},{"$nulls":6},{"$f":"IF(O1528>0,VLOOKUP(O1528,Set!$H$2:$J$16,2,FALSE),\"\")","v":""}]
[{"$nulls":8},{"$f":"IF(H1529>0,VLOOKUP(H1529,Set!$A$2:$B$4,2,FALSE),\"\")","v":""},{"$nulls":6},{"$f":"IF(O1529>0,VLOOKUP(O1529,Set!$H$2:$J$16,2,FALSE),\"\")","v":""}]
[{"$nulls":8},{"$f":"IF(H1530>0,VLOOKUP(H1530,Set!$A$2:$B$4,2,FALSE),\"\")","v":""},{"$nulls":6},{"$f":"IF(O1530>0,VLOOKUP(O1530,Set!$H$2:$J$16,2,FALSE),\"\")","v":""}]
[{"$nulls":8},{"$f":"IF(H1531>0,VLOOKUP(H1531,Set!$A$2:$B$4,2,FALSE),\"\")","v":""},{"$nulls":6},{"$f":"IF(O1531>0,VLOOKUP(O1531,Set!$H$2:$J$16,2,FALSE),\"\")","v":""}]
[{"$nulls":8},{"$f":"IF(H1532>0,VLOOKUP(H1532,Set!$A$2:$B$4,2,FALSE),\"\")","v":""},{"$nulls":6},{"$f":"IF(O1532>0,VLOOKUP(O1532,Set!$H$2:$J$16,2,FALSE),\"\")","v":""}]
[{"$nulls":8},{"$f":"IF(H1533>0,VLOOKUP(H1533,Set!$A$2:$B$4,2,FALSE),\"\")","v":""},{"$nulls":6},{"$f":"IF(O1533>0,VLOOKUP(O1533,Set!$H$2:$J$16,2,FALSE),\"\")","v":""}]
[{"$nulls":8},{"$f":"IF(H1534>0,VLOOKUP(H1534,Set!$A$2:$B$4,2,FALSE),\"\")","v":""},{"$nulls":6},{"$f":"IF(O1534>0,VLOOKUP(O1534,Set!$H$2:$J$16,2,FALSE),\"\")","v":""}]
[{"$nulls":8},{"$f":"IF(H1535>0,VLOOKUP(H1535,Set!$A$2:$B$4,2,FALSE),\"\")","v":""},{"$nulls":6},{"$f":"IF(O1535>0,VLOOKUP(O1535,Set!$H$2:$J$16,2,FALSE),\"\")","v":""}]
[{"$nulls":8},{"$f":"IF(H1536>0,VLOOKUP(H1536,Set!$A$2:$B$4,2,FALSE),\"\")","v":""},{"$nulls":6},{"$f":"IF(O1536>0,VLOOKUP(O1536,Set!$H$2:$J$16,2,FALSE),\"\")","v":""}]
[{"$nulls":8},{"$f":"IF(H1537>0,VLOOKUP(H1537,Set!$A$2:$B$4,2,FALSE),\"\")","v":""},{"$nulls":6},{"$f":"IF(O1537>0,VLOOKUP(O1537,Set!$H$2:$J$16,2,FALSE),\"\")","v":""}]
[{"$nulls":8},{"$f":"IF(H1538>0,VLOOKUP(H1538,Set!$A$2:$B$4,2,FALSE),\"\")","v":""},{"$nulls":6},{"$f":"IF(O1538>0,VLOOKUP(O1538,Set!$H$2:$J$16,2,FALSE),\"\")","v":""}]
[{"$nulls":8},{"$f":"IF(H1539>0,VLOOKUP(H1539,Set!$A$2:$B$4,2,FALSE),\"\")","v":""},{"$nulls":6},{"$f":"IF(O1539>0,VLOOKUP(O1539,Set!$H$2:$J$16,2,FALSE),\"\")","v":""}]
[{"$nulls":8},{"$f":"IF(H1540>0,VLOOKUP(H1540,Set!$A$2:$B$4,2,FALSE),\"\")","v":""},{"$nulls":6},{"$f":"IF(O1540>0,VLOOKUP(O1540,Set!$H$2:$J$16,2,FALSE),\"\")","v":""}]
[{"$nulls":8},{"$f":"IF(H1541>0,VLOOKUP(H1541,Set!$A$2:$B$4,2,FALSE),\"\")","v":""},{"$nulls":6},{"$f":"IF(O1541>0,VLOOKUP(O1541,Set!$H$2:$J$16,2,FALSE),\"\")","v":""}]
[{"$nulls":8},{"$f":"IF(H1542>0,VLOOKUP(H1542,Set!$A$2:$B$4,2,FALSE),\"\")","v":""},{"$nulls":6},{"$f":"IF(O1542>0,VLOOKUP(O1542,Set!$H$2:$J$16,2,FALSE),\"\")","v":""}]
[{"$nulls":8},{"$f":"IF(H1543>0,VLOOKUP(H1543,Set!$A$2:$B$4,2,FALSE),\"\")","v":""},{"$nulls":6},{"$f":"IF(O1543>0,VLOOKUP(O1543,Set!$H$2:$J$16,2,FALSE),\"\")","v":""}]
[{"$nulls":8},{"$f":"IF(H1544>0,VLOOKUP(H1544,Set!$A$2:$B$4,2,FALSE),\"\")","v":""},{"$nulls":6},{"$f":"IF(O1544>0,VLOOKUP(O1544,Set!$H$2:$J$16,2,FALSE),\"\")","v":""}]
[{"$nulls":8},{"$f":"IF(H1545>0,VLOOKUP(H1545,Set!$A$2:$B$4,2,FALSE),\"\")","v":""},{"$nulls":6},{"$f":"IF(O1545>0,VLOOKUP(O1545,Set!$H$2:$J$16,2,FALSE),\"\")","v":""}]
[{"$nulls":8},{"$f":"IF(H1546>0,VLOOKUP(H1546,Set!$A$2:$B$4,2,FALSE),\"\")","v":""},{"$nulls":6},{"$f":"IF(O1546>0,VLOOKUP(O1546,Set!$H$2:$J$16,2,FALSE),\"\")","v":""}]
[{"$nulls":8},{"$f":"IF(H1547>0,VLOOKUP(H1547,Set!$A$2:$B$4,2,FALSE),\"\")","v":""},{"$nulls":6},{"$f":"IF(O1547>0,VLOOKUP(O1547,Set!$H$2:$J$16,2,FALSE),\"\")","v":""}]
[{"$nulls":8},{"$f":"IF(H1548>0,VLOOKUP(H1548,Set!$A$2:$B$4,2,FALSE),\"\")","v":""},{"$nulls":6},{"$f":"IF(O1548>0,VLOOKUP(O1548,Set!$H$2:$J$16,2,FALSE),\"\")","v":""}]
[{"$nulls":8},{"$f":"IF(H1549>0,VLOOKUP(H1549,Set!$A$2:$B$4,2,FALSE),\"\")","v":""},{"$nulls":6},{"$f":"IF(O1549>0,VLOOKUP(O1549,Set!$H$2:$J$16,2,FALSE),\"\")","v":""}]
[{"$nulls":8},{"$f":"IF(H1550>0,VLOOKUP(H1550,Set!$A$2:$B$4,2,FALSE),\"\")","v":""},{"$nulls":6},{"$f":"IF(O1550>0,VLOOKUP(O1550,Set!$H$2:$J$16,2,FALSE),\"\")","v":""}]
[{"$nulls":8},{"$f":"IF(H1551>0,VLOOKUP(H1551,Set!$A$2:$B$4,2,FALSE),\"\")","v":""},{"$nulls":6},{"$f":"IF(O1551>0,VLOOKUP(O1551,Set!$H$2:$J$16,2,FALSE),\"\")","v":""}]
[{"$nulls":8},{"$f":"IF(H1552>0,VLOOKUP(H1552,Set!$A$2:$B$4,2,FALSE),\"\")","v":""},{"$nulls":6},{"$f":"IF(O1552>0,VLOOKUP(O1552,Set!$H$2:$J$16,2,FALSE),\"\")","v":""}]
[{"$nulls":8},{"$f":"IF(H1553>0,VLOOKUP(H1553,Set!$A$2:$B$4,2,FALSE),\"\")","v":""},{"$nulls":6},{"$f":"IF(O1553>0,VLOOKUP(O1553,Set!$H$2:$J$16,2,FALSE),\"\")","v":""}]
[{"$nulls":8},{"$f":"IF(H1554>0,VLOOKUP(H1554,Set!$A$2:$B$4,2,FALSE),\"\")","v":""},{"$nulls":6},{"$f":"IF(O1554>0,VLOOKUP(O1554,Set!$H$2:$J$16,2,FALSE),\"\")","v":""}]
[{"$nulls":8},{"$f":"IF(H1555>0,VLOOKUP(H1555,Set!$A$2:$B$4,2,FALSE),\"\")","v":""},{"$nulls":6},{"$f":"IF(O1555>0,VLOOKUP(O1555,Set!$H$2:$J$16,2,FALSE),\"\")","v":""}]
[{"$nulls":8},{"$f":"IF(H1556>0,VLOOKUP(H1556,Set!$A$2:$B$4,2,FALSE),\"\")","v":""},{"$nulls":6},{"$f":"IF(O1556>0,VLOOKUP(O1556,Set!$H$2:$J$16,2,FALSE),\"\")","v":""}]
[{"$nulls":8},{"$f":"IF(H1557>0,VLOOKUP(H1557,Set!$A$2:$B$4,2,FALSE),\"\")","v":""},{"$nulls":6},{"$f":"IF(O1557>0,VLOOKUP(O1557,Set!$H$2:$J$16,2,FALSE),\"\")","v":""}]
[{"$nulls":8},{"$f":"IF(H1558>0,VLOOKUP(H1558,Set!$A$2:$B$4,2,FALSE),\"\")","v":""},{"$nulls":6},{"$f":"IF(O1558>0,VLOOKUP(O1558,Set!$H$2:$J$16,2,FALSE),\"\")","v":""}]
[{"$nulls":8},{"$f":"IF(H1559>0,VLOOKUP(H1559,Set!$A$2:$B$4,2,FALSE),\"\")","v":""},{"$nulls":6},{"$f":"IF(O1559>0,VLOOKUP(O1559,Set!$H$2:$J$16,2,FALSE),\"\")","v":""}]
[{"$nulls":8},{"$f":"IF(H1560>0,VLOOKUP(H1560,Set!$A$2:$B$4,2,FALSE),\"\")","v":""},{"$nulls":6},{"$f":"IF(O1560>0,VLOOKUP(O1560,Set!$H$2:$J$16,2,FALSE),\"\")","v":""}]
[{"$nulls":8},{"$f":"IF(H1561>0,VLOOKUP(H1561,Set!$A$2:$B$4,2,FALSE),\"\")","v":""},{"$nulls":6},{"$f":"IF(O1561>0,VLOOKUP(O1561,Set!$H$2:$J$16,2,FALSE),\"\")","v":""}]
[{"$nulls":8},{"$f":"IF(H1562>0,VLOOKUP(H1562,Set!$A$2:$B$4,2,FALSE),\"\")","v":""},{"$nulls":6},{"$f":"IF(O1562>0,VLOOKUP(O1562,Set!$H$2:$J$16,2,FALSE),\"\")","v":""}]
[{"$nulls":8},{"$f":"IF(H1563>0,VLOOKUP(H1563,Set!$A$2:$B$4,2,FALSE),\"\")","v":""},{"$nulls":6},{"$f":"IF(O1563>0,VLOOKUP(O1563,Set!$H$2:$J$16,2,FALSE),\"\")","v":""}]
[{"$nulls":8},{"$f":"IF(H1564>0,VLOOKUP(H1564,Set!$A$2:$B$4,2,FALSE),\"\")","v":""},{"$nulls":6},{"$f":"IF(O1564>0,VLOOKUP(O1564,Set!$H$2:$J$16,2,FALSE),\"\")","v":""}]
[{"$nulls":8},{"$f":"IF(H1565>0,VLOOKUP(H1565,Set!$A$2:$B$4,2,FALSE),\"\")","v":""},{"$nulls":6},{"$f":"IF(O1565>0,VLOOKUP(O1565,Set!$H$2:$J$16,2,FALSE),\"\")","v":""}]
[{"$nulls":8},{"$f":"IF(H1566>0,VLOOKUP(H1566,Set!$A$2:$B$4,2,FALSE),\"\")","v":""},{"$nulls":6},{"$f":"IF(O1566>0,VLOOKUP(O1566,Set!$H$2:$J$16,2,FALSE),\"\")","v":""}]
[{"$nulls":8},{"$f":"IF(H1567>0,VLOOKUP(H1567,Set!$A$2:$B$4,2,FALSE),\"\")","v":""},{"$nulls":6},{"$f":"IF(O1567>0,VLOOKUP(O1567,Set!$H$2:$J$16,2,FALSE),\"\")","v":""}]
[{"$nulls":8},{"$f":"IF(H1568>0,VLOOKUP(H1568,Set!$A$2:$B$4,2,FALSE),\"\")","v":""},{"$nulls":6},{"$f":"IF(O1568>0,VLOOKUP(O1568,Set!$H$2:$J$16,2,FALSE),\"\")","v":""}]
[{"$nulls":8},{"$f":"IF(H1569>0,VLOOKUP(H1569,Set!$A$2:$B$4,2,FALSE),\"\")","v":""},{"$nulls":6},{"$f":"IF(O1569>0,VLOOKUP(O1569,Set!$H$2:$J$16,2,FALSE),\"\")","v":""}]
[{"$nulls":8},{"$f":"IF(H1570>0,VLOOKUP(H1570,Set!$A$2:$B$4,2,FALSE),\"\")","v":""},{"$nulls":6},{"$f":"IF(O1570>0,VLOOKUP(O1570,Set!$H$2:$J$16,2,FALSE),\"\")","v":""}]
[{"$nulls":8},{"$f":"IF(H1571>0,VLOOKUP(H1571,Set!$A$2:$B$4,2,FALSE),\"\")","v":""},{"$nulls":6},{"$f":"IF(O1571>0,VLOOKUP(O1571,Set!$H$2:$J$16,2,FALSE),\"\")","v":""}]
[{"$nulls":8},{"$f":"IF(H1572>0,VLOOKUP(H1572,Set!$A$2:$B$4,2,FALSE),\"\")","v":""},{"$nulls":6},{"$f":"IF(O1572>0,VLOOKUP(O1572,Set!$H$2:$J$16,2,FALSE),\"\")","v":""}]
[{"$nulls":8},{"$f":"IF(H1573>0,VLOOKUP(H1573,Set!$A$2:$B$4,2,FALSE),\"\")","v":""},{"$nulls":6},{"$f":"IF(O1573>0,VLOOKUP(O1573,Set!$H$2:$J$16,2,FALSE),\"\")","v":""}]
[{"$nulls":8},{"$f":"IF(H1574>0,VLOOKUP(H1574,Set!$A$2:$B$4,2,FALSE),\"\")","v":""},{"$nulls":6},{"$f":"IF(O1574>0,VLOOKUP(O1574,Set!$H$2:$J$16,2,FALSE),\"\")","v":""}]
[{"$nulls":8},{"$f":"IF(H1575>0,VLOOKUP(H1575,Set!$A$2:$B$4,2,FALSE),\"\")","v":""},{"$nulls":6},{"$f":"IF(O1575>0,VLOOKUP(O1575,Set!$H$2:$J$16,2,FALSE),\"\")","v":""}]
[{"$nulls":8},{"$f":"IF(H1576>0,VLOOKUP(H1576,Set!$A$2:$B$4,2,FALSE),\"\")","v":""},{"$nulls":6},{"$f":"IF(O1576>0,VLOOKUP(O1576,Set!$H$2:$J$16,2,FALSE),\"\")","v":""}]
[{"$nulls":8},{"$f":"IF(H1577>0,VLOOKUP(H1577,Set!$A$2:$B$4,2,FALSE),\"\")","v":""},{"$nulls":6},{"$f":"IF(O1577>0,VLOOKUP(O1577,Set!$H$2:$J$16,2,FALSE),\"\")","v":""}]
[{"$nulls":8},{"$f":"IF(H1578>0,VLOOKUP(H1578,Set!$A$2:$B$4,2,FALSE),\"\")","v":""},{"$nulls":6},{"$f":"IF(O1578>0,VLOOKUP(O1578,Set!$H$2:$J$16,2,FALSE),\"\")","v":""}]
[{"$nulls":8},{"$f":"IF(H1579>0,VLOOKUP(H1579,Set!$A$2:$B$4,2,FALSE),\"\")","v":""},{"$nulls":6},{"$f":"IF(O1579>0,VLOOKUP(O1579,Set!$H$2:$J$16,2,FALSE),\"\")","v":""}]
[{"$nulls":8},{"$f":"IF(H1580>0,VLOOKUP(H1580,Set!$A$2:$B$4,2,FALSE),\"\")","v":""},{"$nulls":6},{"$f":"IF(O1580>0,VLOOKUP(O1580,Set!$H$2:$J$16,2,FALSE),\"\")","v":""}]
[{"$nulls":8},{"$f":"IF(H1581>0,VLOOKUP(H1581,Set!$A$2:$B$4,2,FALSE),\"\")","v":""},{"$nulls":6},{"$f":"IF(O1581>0,VLOOKUP(O1581,Set!$H$2:$J$16,2,FALSE),\"\")","v":""}]
[{"$nulls":8},{"$f":"IF(H1582>0,VLOOKUP(H1582,Set!$A$2:$B$4,2,FALSE),\"\")","v":""},{"$nulls":6},{"$f":"IF(O1582>0,VLOOKUP(O1582,Set!$H$2:$J$16,2,FALSE),\"\")","v":""}]
[{"$nulls":8},{"$f":"IF(H1583>0,VLOOKUP(H1583,Set!$A$2:$B$4,2,FALSE),\"\")","v":""},{"$nulls":6},{"$f":"IF(O1583>0,VLOOKUP(O1583,Set!$H$2:$J$16,2,FALSE),\"\")","v":""}]
[{"$nulls":8},{"$f":"IF(H1584>0,VLOOKUP(H1584,Set!$A$2:$B$4,2,FALSE),\"\")","v":""},{"$nulls":6},{"$f":"IF(O1584>0,VLOOKUP(O1584,Set!$H$2:$J$16,2,FALSE),\"\")","v":""}]
[{"$nulls":8},{"$f":"IF(H1585>0,VLOOKUP(H1585,Set!$A$2:$B$4,2,FALSE),\"\")","v":""},{"$nulls":6},{"$f":"IF(O1585>0,VLOOKUP(O1585,Set!$H$2:$J$16,2,FALSE),\"\")","v":""}]
[{"$nulls":8},{"$f":"IF(H1586>0,VLOOKUP(H1586,Set!$A$2:$B$4,2,FALSE),\"\")","v":""},{"$nulls":6},{"$f":"IF(O1586>0,VLOOKUP(O1586,Set!$H$2:$J$16,2,FALSE),\"\")","v":""}]
[{"$nulls":8},{"$f":"IF(H1587>0,VLOOKUP(H1587,Set!$A$2:$B$4,2,FALSE),\"\")","v":""},{"$nulls":6},{"$f":"IF(O1587>0,VLOOKUP(O1587,Set!$H$2:$J$16,2,FALSE),\"\")","v":""}]
[{"$nulls":8},{"$f":"IF(H1588>0,VLOOKUP(H1588,Set!$A$2:$B$4,2,FALSE),\"\")","v":""},{"$nulls":6},{"$f":"IF(O1588>0,VLOOKUP(O1588,Set!$H$2:$J$16,2,FALSE),\"\")","v":""}]
[{"$nulls":8},{"$f":"IF(H1589>0,VLOOKUP(H1589,Set!$A$2:$B$4,2,FALSE),\"\")","v":""},{"$nulls":6},{"$f":"IF(O1589>0,VLOOKUP(O1589,Set!$H$2:$J$16,2,FALSE),\"\")","v":""}]
[{"$nulls":8},{"$f":"IF(H1590>0,VLOOKUP(H1590,Set!$A$2:$B$4,2,FALSE),\"\")","v":""},{"$nulls":6},{"$f":"IF(O1590>0,VLOOKUP(O1590,Set!$H$2:$J$16,2,FALSE),\"\")","v":""}]
[{"$nulls":8},{"$f":"IF(H1591>0,VLOOKUP(H1591,Set!$A$2:$B$4,2,FALSE),\"\")","v":""},{"$nulls":6},{"$f":"IF(O1591>0,VLOOKUP(O1591,Set!$H$2:$J$16,2,FALSE),\"\")","v":""}]
[{"$nulls":8},{"$f":"IF(H1592>0,VLOOKUP(H1592,Set!$A$2:$B$4,2,FALSE),\"\")","v":""},{"$nulls":6},{"$f":"IF(O1592>0,VLOOKUP(O1592,Set!$H$2:$J$16,2,FALSE),\"\")","v":""}]
[{"$nulls":8},{"$f":"IF(H1593>0,VLOOKUP(H1593,Set!$A$2:$B$4,2,FALSE),\"\")","v":""},{"$nulls":6},{"$f":"IF(O1593>0,VLOOKUP(O1593,Set!$H$2:$J$16,2,FALSE),\"\")","v":""}]
[{"$nulls":8},{"$f":"IF(H1594>0,VLOOKUP(H1594,Set!$A$2:$B$4,2,FALSE),\"\")","v":""},{"$nulls":6},{"$f":"IF(O1594>0,VLOOKUP(O1594,Set!$H$2:$J$16,2,FALSE),\"\")","v":""}]
[{"$nulls":8},{"$f":"IF(H1595>0,VLOOKUP(H1595,Set!$A$2:$B$4,2,FALSE),\"\")","v":""},{"$nulls":6},{"$f":"IF(O1595>0,VLOOKUP(O1595,Set!$H$2:$J$16,2,FALSE),\"\")","v":""}]
[{"$nulls":8},{"$f":"IF(H1596>0,VLOOKUP(H1596,Set!$A$2:$B$4,2,FALSE),\"\")","v":""},{"$nulls":6},{"$f":"IF(O1596>0,VLOOKUP(O1596,Set!$H$2:$J$16,2,FALSE),\"\")","v":""}]
[{"$nulls":8},{"$f":"IF(H1597>0,VLOOKUP(H1597,Set!$A$2:$B$4,2,FALSE),\"\")","v":""},{"$nulls":6},{"$f":"IF(O1597>0,VLOOKUP(O1597,Set!$H$2:$J$16,2,FALSE),\"\")","v":""}]
[{"$nulls":8},{"$f":"IF(H1598>0,VLOOKUP(H1598,Set!$A$2:$B$4,2,FALSE),\"\")","v":""},{"$nulls":6},{"$f":"IF(O1598>0,VLOOKUP(O1598,Set!$H$2:$J$16,2,FALSE),\"\")","v":""}]
[{"$nulls":8},{"$f":"IF(H1599>0,VLOOKUP(H1599,Set!$A$2:$B$4,2,FALSE),\"\")","v":""},{"$nulls":6},{"$f":"IF(O1599>0,VLOOKUP(O1599,Set!$H$2:$J$16,2,FALSE),\"\")","v":""}]
[{"$nulls":8},{"$f":"IF(H1600>0,VLOOKUP(H1600,Set!$A$2:$B$4,2,FALSE),\"\")","v":""},{"$nulls":6},{"$f":"IF(O1600>0,VLOOKUP(O1600,Set!$H$2:$J$16,2,FALSE),\"\")","v":""}]
[{"$nulls":8},{"$f":"IF(H1601>0,VLOOKUP(H1601,Set!$A$2:$B$4,2,FALSE),\"\")","v":""},{"$nulls":6},{"$f":"IF(O1601>0,VLOOKUP(O1601,Set!$H$2:$J$16,2,FALSE),\"\")","v":""}]
[{"$nulls":8},{"$f":"IF(H1602>0,VLOOKUP(H1602,Set!$A$2:$B$4,2,FALSE),\"\")","v":""},{"$nulls":6},{"$f":"IF(O1602>0,VLOOKUP(O1602,Set!$H$2:$J$16,2,FALSE),\"\")","v":""}]
[{"$nulls":8},{"$f":"IF(H1603>0,VLOOKUP(H1603,Set!$A$2:$B$4,2,FALSE),\"\")","v":""},{"$nulls":6},{"$f":"IF(O1603>0,VLOOKUP(O1603,Set!$H$2:$J$16,2,FALSE),\"\")","v":""}]
[{"$nulls":8},{"$f":"IF(H1604>0,VLOOKUP(H1604,Set!$A$2:$B$4,2,FALSE),\"\")","v":""},{"$nulls":6},{"$f":"IF(O1604>0,VLOOKUP(O1604,Set!$H$2:$J$16,2,FALSE),\"\")","v":""}]
[{"$nulls":8},{"$f":"IF(H1605>0,VLOOKUP(H1605,Set!$A$2:$B$4,2,FALSE),\"\")","v":""},{"$nulls":6},{"$f":"IF(O1605>0,VLOOKUP(O1605,Set!$H$2:$J$16,2,FALSE),\"\")","v":""}]
[{"$nulls":8},{"$f":"IF(H1606>0,VLOOKUP(H1606,Set!$A$2:$B$4,2,FALSE),\"\")","v":""},{"$nulls":6},{"$f":"IF(O1606>0,VLOOKUP(O1606,Set!$H$2:$J$16,2,FALSE),\"\")","v":""}]
[{"$nulls":8},{"$f":"IF(H1607>0,VLOOKUP(H1607,Set!$A$2:$B$4,2,FALSE),\"\")","v":""},{"$nulls":6},{"$f":"IF(O1607>0,VLOOKUP(O1607,Set!$H$2:$J$16,2,FALSE),\"\")","v":""}]
[{"$nulls":8},{"$f":"IF(H1608>0,VLOOKUP(H1608,Set!$A$2:$B$4,2,FALSE),\"\")","v":""},{"$nulls":6},{"$f":"IF(O1608>0,VLOOKUP(O1608,Set!$H$2:$J$16,2,FALSE),\"\")","v":""}]
[{"$nulls":8},{"$f":"IF(H1609>0,VLOOKUP(H1609,Set!$A$2:$B$4,2,FALSE),\"\")","v":""},{"$nulls":6},{"$f":"IF(O1609>0,VLOOKUP(O1609,Set!$H$2:$J$16,2,FALSE),\"\")","v":""}]
[{"$nulls":8},{"$f":"IF(H1610>0,VLOOKUP(H1610,Set!$A$2:$B$4,2,FALSE),\"\")","v":""},{"$nulls":6},{"$f":"IF(O1610>0,VLOOKUP(O1610,Set!$H$2:$J$16,2,FALSE),\"\")","v":""}]
[{"$nulls":8},{"$f":"IF(H1611>0,VLOOKUP(H1611,Set!$A$2:$B$4,2,FALSE),\"\")","v":""},{"$nulls":6},{"$f":"IF(O1611>0,VLOOKUP(O1611,Set!$H$2:$J$16,2,FALSE),\"\")","v":""}]
[{"$nulls":8},{"$f":"IF(H1612>0,VLOOKUP(H1612,Set!$A$2:$B$4,2,FALSE),\"\")","v":""},{"$nulls":6},{"$f":"IF(O1612>0,VLOOKUP(O1612,Set!$H$2:$J$16,2,FALSE),\"\")","v":""}]
[{"$nulls":8},{"$f":"IF(H1613>0,VLOOKUP(H1613,Set!$A$2:$B$4,2,FALSE),\"\")","v":""},{"$nulls":6},{"$f":"IF(O1613>0,VLOOKUP(O1613,Set!$H$2:$J$16,2,FALSE),\"\")","v":""}]
[{"$nulls":8},{"$f":"IF(H1614>0,VLOOKUP(H1614,Set!$A$2:$B$4,2,FALSE),\"\")","v":""},{"$nulls":6},{"$f":"IF(O1614>0,VLOOKUP(O1614,Set!$H$2:$J$16,2,FALSE),\"\")","v":""}]
[{"$nulls":8},{"$f":"IF(H1615>0,VLOOKUP(H1615,Set!$A$2:$B$4,2,FALSE),\"\")","v":""},{"$nulls":6},{"$f":"IF(O1615>0,VLOOKUP(O1615,Set!$H$2:$J$16,2,FALSE),\"\")","v":""}]
[{"$nulls":8},{"$f":"IF(H1616>0,VLOOKUP(H1616,Set!$A$2:$B$4,2,FALSE),\"\")","v":""},{"$nulls":6},{"$f":"IF(O1616>0,VLOOKUP(O1616,Set!$H$2:$J$16,2,FALSE),\"\")","v":""}]
[{"$nulls":8},{"$f":"IF(H1617>0,VLOOKUP(H1617,Set!$A$2:$B$4,2,FALSE),\"\")","v":""},{"$nulls":6},{"$f":"IF(O1617>0,VLOOKUP(O1617,Set!$H$2:$J$16,2,FALSE),\"\")","v":""}]
[{"$nulls":8},{"$f":"IF(H1618>0,VLOOKUP(H1618,Set!$A$2:$B$4,2,FALSE),\"\")","v":""},{"$nulls":6},{"$f":"IF(O1618>0,VLOOKUP(O1618,Set!$H$2:$J$16,2,FALSE),\"\")","v":""}]
[{"$nulls":8},{"$f":"IF(H1619>0,VLOOKUP(H1619,Set!$A$2:$B$4,2,FALSE),\"\")","v":""},{"$nulls":6},{"$f":"IF(O1619>0,VLOOKUP(O1619,Set!$H$2:$J$16,2,FALSE),\"\")","v":""}]
[{"$nulls":8},{"$f":"IF(H1620>0,VLOOKUP(H1620,Set!$A$2:$B$4,2,FALSE),\"\")","v":""},{"$nulls":6},{"$f":"IF(O1620>0,VLOOKUP(O1620,Set!$H$2:$J$16,2,FALSE),\"\")","v":""}]
[{"$nulls":8},{"$f":"IF(H1621>0,VLOOKUP(H1621,Set!$A$2:$B$4,2,FALSE),\"\")","v":""},{"$nulls":6},{"$f":"IF(O1621>0,VLOOKUP(O1621,Set!$H$2:$J$16,2,FALSE),\"\")","v":""}]
[{"$nulls":8},{"$f":"IF(H1622>0,VLOOKUP(H1622,Set!$A$2:$B$4,2,FALSE),\"\")","v":""},{"$nulls":6},{"$f":"IF(O1622>0,VLOOKUP(O1622,Set!$H$2:$J$16,2,FALSE),\"\")","v":""}]
[{"$nulls":8},{"$f":"IF(H1623>0,VLOOKUP(H1623,Set!$A$2:$B$4,2,FALSE),\"\")","v":""},{"$nulls":6},{"$f":"IF(O1623>0,VLOOKUP(O1623,Set!$H$2:$J$16,2,FALSE),\"\")","v":""}]
[{"$nulls":8},{"$f":"IF(H1624>0,VLOOKUP(H1624,Set!$A$2:$B$4,2,FALSE),\"\")","v":""},{"$nulls":6},{"$f":"IF(O1624>0,VLOOKUP(O1624,Set!$H$2:$J$16,2,FALSE),\"\")","v":""}]
[{"$nulls":8},{"$f":"IF(H1625>0,VLOOKUP(H1625,Set!$A$2:$B$4,2,FALSE),\"\")","v":""},{"$nulls":6},{"$f":"IF(O1625>0,VLOOKUP(O1625,Set!$H$2:$J$16,2,FALSE),\"\")","v":""}]
[{"$nulls":8},{"$f":"IF(H1626>0,VLOOKUP(H1626,Set!$A$2:$B$4,2,FALSE),\"\")","v":""},{"$nulls":6},{"$f":"IF(O1626>0,VLOOKUP(O1626,Set!$H$2:$J$16,2,FALSE),\"\")","v":""}]
[{"$nulls":8},{"$f":"IF(H1627>0,VLOOKUP(H1627,Set!$A$2:$B$4,2,FALSE),\"\")","v":""},{"$nulls":6},{"$f":"IF(O1627>0,VLOOKUP(O1627,Set!$H$2:$J$16,2,FALSE),\"\")","v":""}]
[{"$nulls":8},{"$f":"IF(H1628>0,VLOOKUP(H1628,Set!$A$2:$B$4,2,FALSE),\"\")","v":""},{"$nulls":6},{"$f":"IF(O1628>0,VLOOKUP(O1628,Set!$H$2:$J$16,2,FALSE),\"\")","v":""}]
[{"$nulls":8},{"$f":"IF(H1629>0,VLOOKUP(H1629,Set!$A$2:$B$4,2,FALSE),\"\")","v":""},{"$nulls":6},{"$f":"IF(O1629>0,VLOOKUP(O1629,Set!$H$2:$J$16,2,FALSE),\"\")","v":""}]
[{"$nulls":8},{"$f":"IF(H1630>0,VLOOKUP(H1630,Set!$A$2:$B$4,2,FALSE),\"\")","v":""},{"$nulls":6},{"$f":"IF(O1630>0,VLOOKUP(O1630,Set!$H$2:$J$16,2,FALSE),\"\")","v":""}]
[{"$nulls":8},{"$f":"IF(H1631>0,VLOOKUP(H1631,Set!$A$2:$B$4,2,FALSE),\"\")","v":""},{"$nulls":6},{"$f":"IF(O1631>0,VLOOKUP(O1631,Set!$H$2:$J$16,2,FALSE),\"\")","v":""}]
[{"$nulls":8},{"$f":"IF(H1632>0,VLOOKUP(H1632,Set!$A$2:$B$4,2,FALSE),\"\")","v":""},{"$nulls":6},{"$f":"IF(O1632>0,VLOOKUP(O1632,Set!$H$2:$J$16,2,FALSE),\"\")","v":""}]
[{"$nulls":8},{"$f":"IF(H1633>0,VLOOKUP(H1633,Set!$A$2:$B$4,2,FALSE),\"\")","v":""},{"$nulls":6},{"$f":"IF(O1633>0,VLOOKUP(O1633,Set!$H$2:$J$16,2,FALSE),\"\")","v":""}]
[{"$nulls":8},{"$f":"IF(H1634>0,VLOOKUP(H1634,Set!$A$2:$B$4,2,FALSE),\"\")","v":""},{"$nulls":6},{"$f":"IF(O1634>0,VLOOKUP(O1634,Set!$H$2:$J$16,2,FALSE),\"\")","v":""}]
[{"$nulls":8},{"$f":"IF(H1635>0,VLOOKUP(H1635,Set!$A$2:$B$4,2,FALSE),\"\")","v":""},{"$nulls":6},{"$f":"IF(O1635>0,VLOOKUP(O1635,Set!$H$2:$J$16,2,FALSE),\"\")","v":""}]
[{"$nulls":8},{"$f":"IF(H1636>0,VLOOKUP(H1636,Set!$A$2:$B$4,2,FALSE),\"\")","v":""},{"$nulls":6},{"$f":"IF(O1636>0,VLOOKUP(O1636,Set!$H$2:$J$16,2,FALSE),\"\")","v":""}]
[{"$nulls":8},{"$f":"IF(H1637>0,VLOOKUP(H1637,Set!$A$2:$B$4,2,FALSE),\"\")","v":""},{"$nulls":6},{"$f":"IF(O1637>0,VLOOKUP(O1637,Set!$H$2:$J$16,2,FALSE),\"\")","v":""}]
[{"$nulls":8},{"$f":"IF(H1638>0,VLOOKUP(H1638,Set!$A$2:$B$4,2,FALSE),\"\")","v":""},{"$nulls":6},{"$f":"IF(O1638>0,VLOOKUP(O1638,Set!$H$2:$J$16,2,FALSE),\"\")","v":""}]
[{"$nulls":8},{"$f":"IF(H1639>0,VLOOKUP(H1639,Set!$A$2:$B$4,2,FALSE),\"\")","v":""},{"$nulls":6},{"$f":"IF(O1639>0,VLOOKUP(O1639,Set!$H$2:$J$16,2,FALSE),\"\")","v":""}]
[{"$nulls":8},{"$f":"IF(H1640>0,VLOOKUP(H1640,Set!$A$2:$B$4,2,FALSE),\"\")","v":""},{"$nulls":6},{"$f":"IF(O1640>0,VLOOKUP(O1640,Set!$H$2:$J$16,2,FALSE),\"\")","v":""}]
[{"$nulls":8},{"$f":"IF(H1641>0,VLOOKUP(H1641,Set!$A$2:$B$4,2,FALSE),\"\")","v":""},{"$nulls":6},{"$f":"IF(O1641>0,VLOOKUP(O1641,Set!$H$2:$J$16,2,FALSE),\"\")","v":""}]
[{"$nulls":8},{"$f":"IF(H1642>0,VLOOKUP(H1642,Set!$A$2:$B$4,2,FALSE),\"\")","v":""},{"$nulls":6},{"$f":"IF(O1642>0,VLOOKUP(O1642,Set!$H$2:$J$16,2,FALSE),\"\")","v":""}]
[{"$nulls":8},{"$f":"IF(H1643>0,VLOOKUP(H1643,Set!$A$2:$B$4,2,FALSE),\"\")","v":""},{"$nulls":6},{"$f":"IF(O1643>0,VLOOKUP(O1643,Set!$H$2:$J$16,2,FALSE),\"\")","v":""}]
[{"$nulls":8},{"$f":"IF(H1644>0,VLOOKUP(H1644,Set!$A$2:$B$4,2,FALSE),\"\")","v":""},{"$nulls":6},{"$f":"IF(O1644>0,VLOOKUP(O1644,Set!$H$2:$J$16,2,FALSE),\"\")","v":""}]
[{"$nulls":8},{"$f":"IF(H1645>0,VLOOKUP(H1645,Set!$A$2:$B$4,2,FALSE),\"\")","v":""},{"$nulls":6},{"$f":"IF(O1645>0,VLOOKUP(O1645,Set!$H$2:$J$16,2,FALSE),\"\")","v":""}]
[{"$nulls":8},{"$f":"IF(H1646>0,VLOOKUP(H1646,Set!$A$2:$B$4,2,FALSE),\"\")","v":""},{"$nulls":6},{"$f":"IF(O1646>0,VLOOKUP(O1646,Set!$H$2:$J$16,2,FALSE),\"\")","v":""}]
[{"$nulls":8},{"$f":"IF(H1647>0,VLOOKUP(H1647,Set!$A$2:$B$4,2,FALSE),\"\")","v":""},{"$nulls":6},{"$f":"IF(O1647>0,VLOOKUP(O1647,Set!$H$2:$J$16,2,FALSE),\"\")","v":""}]
[{"$nulls":8},{"$f":"IF(H1648>0,VLOOKUP(H1648,Set!$A$2:$B$4,2,FALSE),\"\")","v":""},{"$nulls":6},{"$f":"IF(O1648>0,VLOOKUP(O1648,Set!$H$2:$J$16,2,FALSE),\"\")","v":""}]
[{"$nulls":8},{"$f":"IF(H1649>0,VLOOKUP(H1649,Set!$A$2:$B$4,2,FALSE),\"\")","v":""},{"$nulls":6},{"$f":"IF(O1649>0,VLOOKUP(O1649,Set!$H$2:$J$16,2,FALSE),\"\")","v":""}]
[{"$nulls":8},{"$f":"IF(H1650>0,VLOOKUP(H1650,Set!$A$2:$B$4,2,FALSE),\"\")","v":""},{"$nulls":6},{"$f":"IF(O1650>0,VLOOKUP(O1650,Set!$H$2:$J$16,2,FALSE),\"\")","v":""}]
[{"$nulls":8},{"$f":"IF(H1651>0,VLOOKUP(H1651,Set!$A$2:$B$4,2,FALSE),\"\")","v":""},{"$nulls":6},{"$f":"IF(O1651>0,VLOOKUP(O1651,Set!$H$2:$J$16,2,FALSE),\"\")","v":""}]
[{"$nulls":8},{"$f":"IF(H1652>0,VLOOKUP(H1652,Set!$A$2:$B$4,2,FALSE),\"\")","v":""},{"$nulls":6},{"$f":"IF(O1652>0,VLOOKUP(O1652,Set!$H$2:$J$16,2,FALSE),\"\")","v":""}]
[{"$nulls":8},{"$f":"IF(H1653>0,VLOOKUP(H1653,Set!$A$2:$B$4,2,FALSE),\"\")","v":""},{"$nulls":6},{"$f":"IF(O1653>0,VLOOKUP(O1653,Set!$H$2:$J$16,2,FALSE),\"\")","v":""}]
[{"$nulls":8},{"$f":"IF(H1654>0,VLOOKUP(H1654,Set!$A$2:$B$4,2,FALSE),\"\")","v":""},{"$nulls":6},{"$f":"IF(O1654>0,VLOOKUP(O1654,Set!$H$2:$J$16,2,FALSE),\"\")","v":""}]
[{"$nulls":8},{"$f":"IF(H1655>0,VLOOKUP(H1655,Set!$A$2:$B$4,2,FALSE),\"\")","v":""},{"$nulls":6},{"$f":"IF(O1655>0,VLOOKUP(O1655,Set!$H$2:$J$16,2,FALSE),\"\")","v":""}]
[{"$nulls":8},{"$f":"IF(H1656>0,VLOOKUP(H1656,Set!$A$2:$B$4,2,FALSE),\"\")","v":""},{"$nulls":6},{"$f":"IF(O1656>0,VLOOKUP(O1656,Set!$H$2:$J$16,2,FALSE),\"\")","v":""}]
[{"$nulls":8},{"$f":"IF(H1657>0,VLOOKUP(H1657,Set!$A$2:$B$4,2,FALSE),\"\")","v":""},{"$nulls":6},{"$f":"IF(O1657>0,VLOOKUP(O1657,Set!$H$2:$J$16,2,FALSE),\"\")","v":""}]
[{"$nulls":8},{"$f":"IF(H1658>0,VLOOKUP(H1658,Set!$A$2:$B$4,2,FALSE),\"\")","v":""},{"$nulls":6},{"$f":"IF(O1658>0,VLOOKUP(O1658,Set!$H$2:$J$16,2,FALSE),\"\")","v":""}]
[{"$nulls":8},{"$f":"IF(H1659>0,VLOOKUP(H1659,Set!$A$2:$B$4,2,FALSE),\"\")","v":""},{"$nulls":6},{"$f":"IF(O1659>0,VLOOKUP(O1659,Set!$H$2:$J$16,2,FALSE),\"\")","v":""}]
[{"$nulls":8},{"$f":"IF(H1660>0,VLOOKUP(H1660,Set!$A$2:$B$4,2,FALSE),\"\")","v":""},{"$nulls":6},{"$f":"IF(O1660>0,VLOOKUP(O1660,Set!$H$2:$J$16,2,FALSE),\"\")","v":""}]
[{"$nulls":8},{"$f":"IF(H1661>0,VLOOKUP(H1661,Set!$A$2:$B$4,2,FALSE),\"\")","v":""},{"$nulls":6},{"$f":"IF(O1661>0,VLOOKUP(O1661,Set!$H$2:$J$16,2,FALSE),\"\")","v":""}]
[{"$nulls":8},{"$f":"IF(H1662>0,VLOOKUP(H1662,Set!$A$2:$B$4,2,FALSE),\"\")","v":""},{"$nulls":6},{"$f":"IF(O1662>0,VLOOKUP(O1662,Set!$H$2:$J$16,2,FALSE),\"\")","v":""}]
[{"$nulls":8},{"$f":"IF(H1663>0,VLOOKUP(H1663,Set!$A$2:$B$4,2,FALSE),\"\")","v":""},{"$nulls":6},{"$f":"IF(O1663>0,VLOOKUP(O1663,Set!$H$2:$J$16,2,FALSE),\"\")","v":""}]
[{"$nulls":8},{"$f":"IF(H1664>0,VLOOKUP(H1664,Set!$A$2:$B$4,2,FALSE),\"\")","v":""},{"$nulls":6},{"$f":"IF(O1664>0,VLOOKUP(O1664,Set!$H$2:$J$16,2,FALSE),\"\")","v":""}]
[{"$nulls":8},{"$f":"IF(H1665>0,VLOOKUP(H1665,Set!$A$2:$B$4,2,FALSE),\"\")","v":""},{"$nulls":6},{"$f":"IF(O1665>0,VLOOKUP(O1665,Set!$H$2:$J$16,2,FALSE),\"\")","v":""}]
[{"$nulls":8},{"$f":"IF(H1666>0,VLOOKUP(H1666,Set!$A$2:$B$4,2,FALSE),\"\")","v":""},{"$nulls":6},{"$f":"IF(O1666>0,VLOOKUP(O1666,Set!$H$2:$J$16,2,FALSE),\"\")","v":""}]
[{"$nulls":8},{"$f":"IF(H1667>0,VLOOKUP(H1667,Set!$A$2:$B$4,2,FALSE),\"\")","v":""},{"$nulls":6},{"$f":"IF(O1667>0,VLOOKUP(O1667,Set!$H$2:$J$16,2,FALSE),\"\")","v":""}]
[{"$nulls":8},{"$f":"IF(H1668>0,VLOOKUP(H1668,Set!$A$2:$B$4,2,FALSE),\"\")","v":""},{"$nulls":6},{"$f":"IF(O1668>0,VLOOKUP(O1668,Set!$H$2:$J$16,2,FALSE),\"\")","v":""}]
[{"$nulls":8},{"$f":"IF(H1669>0,VLOOKUP(H1669,Set!$A$2:$B$4,2,FALSE),\"\")","v":""},{"$nulls":6},{"$f":"IF(O1669>0,VLOOKUP(O1669,Set!$H$2:$J$16,2,FALSE),\"\")","v":""}]
[{"$nulls":8},{"$f":"IF(H1670>0,VLOOKUP(H1670,Set!$A$2:$B$4,2,FALSE),\"\")","v":""},{"$nulls":6},{"$f":"IF(O1670>0,VLOOKUP(O1670,Set!$H$2:$J$16,2,FALSE),\"\")","v":""}]
[{"$nulls":8},{"$f":"IF(H1671>0,VLOOKUP(H1671,Set!$A$2:$B$4,2,FALSE),\"\")","v":""},{"$nulls":6},{"$f":"IF(O1671>0,VLOOKUP(O1671,Set!$H$2:$J$16,2,FALSE),\"\")","v":""}]
[{"$nulls":8},{"$f":"IF(H1672>0,VLOOKUP(H1672,Set!$A$2:$B$4,2,FALSE),\"\")","v":""},{"$nulls":6},{"$f":"IF(O1672>0,VLOOKUP(O1672,Set!$H$2:$J$16,2,FALSE),\"\")","v":""}]
[{"$nulls":8},{"$f":"IF(H1673>0,VLOOKUP(H1673,Set!$A$2:$B$4,2,FALSE),\"\")","v":""},{"$nulls":6},{"$f":"IF(O1673>0,VLOOKUP(O1673,Set!$H$2:$J$16,2,FALSE),\"\")","v":""}]
[{"$nulls":8},{"$f":"IF(H1674>0,VLOOKUP(H1674,Set!$A$2:$B$4,2,FALSE),\"\")","v":""},{"$nulls":6},{"$f":"IF(O1674>0,VLOOKUP(O1674,Set!$H$2:$J$16,2,FALSE),\"\")","v":""}]
[{"$nulls":8},{"$f":"IF(H1675>0,VLOOKUP(H1675,Set!$A$2:$B$4,2,FALSE),\"\")","v":""},{"$nulls":6},{"$f":"IF(O1675>0,VLOOKUP(O1675,Set!$H$2:$J$16,2,FALSE),\"\")","v":""}]
[{"$nulls":8},{"$f":"IF(H1676>0,VLOOKUP(H1676,Set!$A$2:$B$4,2,FALSE),\"\")","v":""},{"$nulls":6},{"$f":"IF(O1676>0,VLOOKUP(O1676,Set!$H$2:$J$16,2,FALSE),\"\")","v":""}]
[{"$nulls":8},{"$f":"IF(H1677>0,VLOOKUP(H1677,Set!$A$2:$B$4,2,FALSE),\"\")","v":""},{"$nulls":6},{"$f":"IF(O1677>0,VLOOKUP(O1677,Set!$H$2:$J$16,2,FALSE),\"\")","v":""}]
[{"$nulls":8},{"$f":"IF(H1678>0,VLOOKUP(H1678,Set!$A$2:$B$4,2,FALSE),\"\")","v":""},{"$nulls":6},{"$f":"IF(O1678>0,VLOOKUP(O1678,Set!$H$2:$J$16,2,FALSE),\"\")","v":""}]
[{"$nulls":8},{"$f":"IF(H1679>0,VLOOKUP(H1679,Set!$A$2:$B$4,2,FALSE),\"\")","v":""},{"$nulls":6},{"$f":"IF(O1679>0,VLOOKUP(O1679,Set!$H$2:$J$16,2,FALSE),\"\")","v":""}]
[{"$nulls":8},{"$f":"IF(H1680>0,VLOOKUP(H1680,Set!$A$2:$B$4,2,FALSE),\"\")","v":""},{"$nulls":6},{"$f":"IF(O1680>0,VLOOKUP(O1680,Set!$H$2:$J$16,2,FALSE),\"\")","v":""}]
[{"$nulls":8},{"$f":"IF(H1681>0,VLOOKUP(H1681,Set!$A$2:$B$4,2,FALSE),\"\")","v":""},{"$nulls":6},{"$f":"IF(O1681>0,VLOOKUP(O1681,Set!$H$2:$J$16,2,FALSE),\"\")","v":""}]
[{"$nulls":8},{"$f":"IF(H1682>0,VLOOKUP(H1682,Set!$A$2:$B$4,2,FALSE),\"\")","v":""},{"$nulls":6},{"$f":"IF(O1682>0,VLOOKUP(O1682,Set!$H$2:$J$16,2,FALSE),\"\")","v":""}]
[{"$nulls":8},{"$f":"IF(H1683>0,VLOOKUP(H1683,Set!$A$2:$B$4,2,FALSE),\"\")","v":""},{"$nulls":6},{"$f":"IF(O1683>0,VLOOKUP(O1683,Set!$H$2:$J$16,2,FALSE),\"\")","v":""}]
[{"$nulls":8},{"$f":"IF(H1684>0,VLOOKUP(H1684,Set!$A$2:$B$4,2,FALSE),\"\")","v":""},{"$nulls":6},{"$f":"IF(O1684>0,VLOOKUP(O1684,Set!$H$2:$J$16,2,FALSE),\"\")","v":""}]
[{"$nulls":8},{"$f":"IF(H1685>0,VLOOKUP(H1685,Set!$A$2:$B$4,2,FALSE),\"\")","v":""},{"$nulls":6},{"$f":"IF(O1685>0,VLOOKUP(O1685,Set!$H$2:$J$16,2,FALSE),\"\")","v":""}]
[{"$nulls":8},{"$f":"IF(H1686>0,VLOOKUP(H1686,Set!$A$2:$B$4,2,FALSE),\"\")","v":""},{"$nulls":6},{"$f":"IF(O1686>0,VLOOKUP(O1686,Set!$H$2:$J$16,2,FALSE),\"\")","v":""}]
[{"$nulls":8},{"$f":"IF(H1687>0,VLOOKUP(H1687,Set!$A$2:$B$4,2,FALSE),\"\")","v":""},{"$nulls":6},{"$f":"IF(O1687>0,VLOOKUP(O1687,Set!$H$2:$J$16,2,FALSE),\"\")","v":""}]
[{"$nulls":8},{"$f":"IF(H1688>0,VLOOKUP(H1688,Set!$A$2:$B$4,2,FALSE),\"\")","v":""},{"$nulls":6},{"$f":"IF(O1688>0,VLOOKUP(O1688,Set!$H$2:$J$16,2,FALSE),\"\")","v":""}]
[{"$nulls":8},{"$f":"IF(H1689>0,VLOOKUP(H1689,Set!$A$2:$B$4,2,FALSE),\"\")","v":""},{"$nulls":6},{"$f":"IF(O1689>0,VLOOKUP(O1689,Set!$H$2:$J$16,2,FALSE),\"\")","v":""}]
[{"$nulls":8},{"$f":"IF(H1690>0,VLOOKUP(H1690,Set!$A$2:$B$4,2,FALSE),\"\")","v":""},{"$nulls":6},{"$f":"IF(O1690>0,VLOOKUP(O1690,Set!$H$2:$J$16,2,FALSE),\"\")","v":""}]
[{"$nulls":8},{"$f":"IF(H1691>0,VLOOKUP(H1691,Set!$A$2:$B$4,2,FALSE),\"\")","v":""},{"$nulls":6},{"$f":"IF(O1691>0,VLOOKUP(O1691,Set!$H$2:$J$16,2,FALSE),\"\")","v":""}]
[{"$nulls":8},{"$f":"IF(H1692>0,VLOOKUP(H1692,Set!$A$2:$B$4,2,FALSE),\"\")","v":""},{"$nulls":6},{"$f":"IF(O1692>0,VLOOKUP(O1692,Set!$H$2:$J$16,2,FALSE),\"\")","v":""}]
[{"$nulls":8},{"$f":"IF(H1693>0,VLOOKUP(H1693,Set!$A$2:$B$4,2,FALSE),\"\")","v":""},{"$nulls":6},{"$f":"IF(O1693>0,VLOOKUP(O1693,Set!$H$2:$J$16,2,FALSE),\"\")","v":""}]
[{"$nulls":8},{"$f":"IF(H1694>0,VLOOKUP(H1694,Set!$A$2:$B$4,2,FALSE),\"\")","v":""},{"$nulls":6},{"$f":"IF(O1694>0,VLOOKUP(O1694,Set!$H$2:$J$16,2,FALSE),\"\")","v":""}]
[{"$nulls":8},{"$f":"IF(H1695>0,VLOOKUP(H1695,Set!$A$2:$B$4,2,FALSE),\"\")","v":""},{"$nulls":6},{"$f":"IF(O1695>0,VLOOKUP(O1695,Set!$H$2:$J$16,2,FALSE),\"\")","v":""}]
[{"$nulls":8},{"$f":"IF(H1696>0,VLOOKUP(H1696,Set!$A$2:$B$4,2,FALSE),\"\")","v":""},{"$nulls":6},{"$f":"IF(O1696>0,VLOOKUP(O1696,Set!$H$2:$J$16,2,FALSE),\"\")","v":""}]
[{"$nulls":8},{"$f":"IF(H1697>0,VLOOKUP(H1697,Set!$A$2:$B$4,2,FALSE),\"\")","v":""},{"$nulls":6},{"$f":"IF(O1697>0,VLOOKUP(O1697,Set!$H$2:$J$16,2,FALSE),\"\")","v":""}]
[{"$nulls":8},{"$f":"IF(H1698>0,VLOOKUP(H1698,Set!$A$2:$B$4,2,FALSE),\"\")","v":""},{"$nulls":6},{"$f":"IF(O1698>0,VLOOKUP(O1698,Set!$H$2:$J$16,2,FALSE),\"\")","v":""}]
[{"$nulls":8},{"$f":"IF(H1699>0,VLOOKUP(H1699,Set!$A$2:$B$4,2,FALSE),\"\")","v":""},{"$nulls":6},{"$f":"IF(O1699>0,VLOOKUP(O1699,Set!$H$2:$J$16,2,FALSE),\"\")","v":""}]
[{"$nulls":8},{"$f":"IF(H1700>0,VLOOKUP(H1700,Set!$A$2:$B$4,2,FALSE),\"\")","v":""},{"$nulls":6},{"$f":"IF(O1700>0,VLOOKUP(O1700,Set!$H$2:$J$16,2,FALSE),\"\")","v":""}]
[{"$nulls":8},{"$f":"IF(H1701>0,VLOOKUP(H1701,Set!$A$2:$B$4,2,FALSE),\"\")","v":""},{"$nulls":6},{"$f":"IF(O1701>0,VLOOKUP(O1701,Set!$H$2:$J$16,2,FALSE),\"\")","v":""}]
[{"$nulls":8},{"$f":"IF(H1702>0,VLOOKUP(H1702,Set!$A$2:$B$4,2,FALSE),\"\")","v":""},{"$nulls":6},{"$f":"IF(O1702>0,VLOOKUP(O1702,Set!$H$2:$J$16,2,FALSE),\"\")","v":""}]
[{"$nulls":8},{"$f":"IF(H1703>0,VLOOKUP(H1703,Set!$A$2:$B$4,2,FALSE),\"\")","v":""},{"$nulls":6},{"$f":"IF(O1703>0,VLOOKUP(O1703,Set!$H$2:$J$16,2,FALSE),\"\")","v":""}]
[{"$nulls":8},{"$f":"IF(H1704>0,VLOOKUP(H1704,Set!$A$2:$B$4,2,FALSE),\"\")","v":""},{"$nulls":6},{"$f":"IF(O1704>0,VLOOKUP(O1704,Set!$H$2:$J$16,2,FALSE),\"\")","v":""}]
[{"$nulls":8},{"$f":"IF(H1705>0,VLOOKUP(H1705,Set!$A$2:$B$4,2,FALSE),\"\")","v":""},{"$nulls":6},{"$f":"IF(O1705>0,VLOOKUP(O1705,Set!$H$2:$J$16,2,FALSE),\"\")","v":""}]
[{"$nulls":8},{"$f":"IF(H1706>0,VLOOKUP(H1706,Set!$A$2:$B$4,2,FALSE),\"\")","v":""},{"$nulls":6},{"$f":"IF(O1706>0,VLOOKUP(O1706,Set!$H$2:$J$16,2,FALSE),\"\")","v":""}]
[{"$nulls":8},{"$f":"IF(H1707>0,VLOOKUP(H1707,Set!$A$2:$B$4,2,FALSE),\"\")","v":""},{"$nulls":6},{"$f":"IF(O1707>0,VLOOKUP(O1707,Set!$H$2:$J$16,2,FALSE),\"\")","v":""}]
[{"$nulls":8},{"$f":"IF(H1708>0,VLOOKUP(H1708,Set!$A$2:$B$4,2,FALSE),\"\")","v":""},{"$nulls":6},{"$f":"IF(O1708>0,VLOOKUP(O1708,Set!$H$2:$J$16,2,FALSE),\"\")","v":""}]
[{"$nulls":8},{"$f":"IF(H1709>0,VLOOKUP(H1709,Set!$A$2:$B$4,2,FALSE),\"\")","v":""},{"$nulls":6},{"$f":"IF(O1709>0,VLOOKUP(O1709,Set!$H$2:$J$16,2,FALSE),\"\")","v":""}]
[{"$nulls":8},{"$f":"IF(H1710>0,VLOOKUP(H1710,Set!$A$2:$B$4,2,FALSE),\"\")","v":""},{"$nulls":6},{"$f":"IF(O1710>0,VLOOKUP(O1710,Set!$H$2:$J$16,2,FALSE),\"\")","v":""}]
[{"$nulls":8},{"$f":"IF(H1711>0,VLOOKUP(H1711,Set!$A$2:$B$4,2,FALSE),\"\")","v":""},{"$nulls":6},{"$f":"IF(O1711>0,VLOOKUP(O1711,Set!$H$2:$J$16,2,FALSE),\"\")","v":""}]
[{"$nulls":8},{"$f":"IF(H1712>0,VLOOKUP(H1712,Set!$A$2:$B$4,2,FALSE),\"\")","v":""},{"$nulls":6},{"$f":"IF(O1712>0,VLOOKUP(O1712,Set!$H$2:$J$16,2,FALSE),\"\")","v":""}]
[{"$nulls":8},{"$f":"IF(H1713>0,VLOOKUP(H1713,Set!$A$2:$B$4,2,FALSE),\"\")","v":""},{"$nulls":6},{"$f":"IF(O1713>0,VLOOKUP(O1713,Set!$H$2:$J$16,2,FALSE),\"\")","v":""}]
[{"$nulls":8},{"$f":"IF(H1714>0,VLOOKUP(H1714,Set!$A$2:$B$4,2,FALSE),\"\")","v":""},{"$nulls":6},{"$f":"IF(O1714>0,VLOOKUP(O1714,Set!$H$2:$J$16,2,FALSE),\"\")","v":""}]
[{"$nulls":8},{"$f":"IF(H1715>0,VLOOKUP(H1715,Set!$A$2:$B$4,2,FALSE),\"\")","v":""},{"$nulls":6},{"$f":"IF(O1715>0,VLOOKUP(O1715,Set!$H$2:$J$16,2,FALSE),\"\")","v":""}]
[{"$nulls":8},{"$f":"IF(H1716>0,VLOOKUP(H1716,Set!$A$2:$B$4,2,FALSE),\"\")","v":""},{"$nulls":6},{"$f":"IF(O1716>0,VLOOKUP(O1716,Set!$H$2:$J$16,2,FALSE),\"\")","v":""}]
[{"$nulls":8},{"$f":"IF(H1717>0,VLOOKUP(H1717,Set!$A$2:$B$4,2,FALSE),\"\")","v":""},{"$nulls":6},{"$f":"IF(O1717>0,VLOOKUP(O1717,Set!$H$2:$J$16,2,FALSE),\"\")","v":""}]
[{"$nulls":8},{"$f":"IF(H1718>0,VLOOKUP(H1718,Set!$A$2:$B$4,2,FALSE),\"\")","v":""},{"$nulls":6},{"$f":"IF(O1718>0,VLOOKUP(O1718,Set!$H$2:$J$16,2,FALSE),\"\")","v":""}]
[{"$nulls":8},{"$f":"IF(H1719>0,VLOOKUP(H1719,Set!$A$2:$B$4,2,FALSE),\"\")","v":""},{"$nulls":6},{"$f":"IF(O1719>0,VLOOKUP(O1719,Set!$H$2:$J$16,2,FALSE),\"\")","v":""}]
[{"$nulls":8},{"$f":"IF(H1720>0,VLOOKUP(H1720,Set!$A$2:$B$4,2,FALSE),\"\")","v":""},{"$nulls":6},{"$f":"IF(O1720>0,VLOOKUP(O1720,Set!$H$2:$J$16,2,FALSE),\"\")","v":""}]
[{"$nulls":8},{"$f":"IF(H1721>0,VLOOKUP(H1721,Set!$A$2:$B$4,2,FALSE),\"\")","v":""},{"$nulls":6},{"$f":"IF(O1721>0,VLOOKUP(O1721,Set!$H$2:$J$16,2,FALSE),\"\")","v":""}]
[{"$nulls":8},{"$f":"IF(H1722>0,VLOOKUP(H1722,Set!$A$2:$B$4,2,FALSE),\"\")","v":""},{"$nulls":6},{"$f":"IF(O1722>0,VLOOKUP(O1722,Set!$H$2:$J$16,2,FALSE),\"\")","v":""}]
[{"$nulls":8},{"$f":"IF(H1723>0,VLOOKUP(H1723,Set!$A$2:$B$4,2,FALSE),\"\")","v":""},{"$nulls":6},{"$f":"IF(O1723>0,VLOOKUP(O1723,Set!$H$2:$J$16,2,FALSE),\"\")","v":""}]
[{"$nulls":8},{"$f":"IF(H1724>0,VLOOKUP(H1724,Set!$A$2:$B$4,2,FALSE),\"\")","v":""},{"$nulls":6},{"$f":"IF(O1724>0,VLOOKUP(O1724,Set!$H$2:$J$16,2,FALSE),\"\")","v":""}]
[{"$nulls":8},{"$f":"IF(H1725>0,VLOOKUP(H1725,Set!$A$2:$B$4,2,FALSE),\"\")","v":""},{"$nulls":6},{"$f":"IF(O1725>0,VLOOKUP(O1725,Set!$H$2:$J$16,2,FALSE),\"\")","v":""}]
[{"$nulls":8},{"$f":"IF(H1726>0,VLOOKUP(H1726,Set!$A$2:$B$4,2,FALSE),\"\")","v":""},{"$nulls":6},{"$f":"IF(O1726>0,VLOOKUP(O1726,Set!$H$2:$J$16,2,FALSE),\"\")","v":""}]
[{"$nulls":8},{"$f":"IF(H1727>0,VLOOKUP(H1727,Set!$A$2:$B$4,2,FALSE),\"\")","v":""},{"$nulls":6},{"$f":"IF(O1727>0,VLOOKUP(O1727,Set!$H$2:$J$16,2,FALSE),\"\")","v":""}]
[{"$nulls":8},{"$f":"IF(H1728>0,VLOOKUP(H1728,Set!$A$2:$B$4,2,FALSE),\"\")","v":""},{"$nulls":6},{"$f":"IF(O1728>0,VLOOKUP(O1728,Set!$H$2:$J$16,2,FALSE),\"\")","v":""}]
[{"$nulls":8},{"$f":"IF(H1729>0,VLOOKUP(H1729,Set!$A$2:$B$4,2,FALSE),\"\")","v":""},{"$nulls":6},{"$f":"IF(O1729>0,VLOOKUP(O1729,Set!$H$2:$J$16,2,FALSE),\"\")","v":""}]
[{"$nulls":8},{"$f":"IF(H1730>0,VLOOKUP(H1730,Set!$A$2:$B$4,2,FALSE),\"\")","v":""},{"$nulls":6},{"$f":"IF(O1730>0,VLOOKUP(O1730,Set!$H$2:$J$16,2,FALSE),\"\")","v":""}]
[{"$nulls":8},{"$f":"IF(H1731>0,VLOOKUP(H1731,Set!$A$2:$B$4,2,FALSE),\"\")","v":""},{"$nulls":6},{"$f":"IF(O1731>0,VLOOKUP(O1731,Set!$H$2:$J$16,2,FALSE),\"\")","v":""}]
[{"$nulls":8},{"$f":"IF(H1732>0,VLOOKUP(H1732,Set!$A$2:$B$4,2,FALSE),\"\")","v":""},{"$nulls":6},{"$f":"IF(O1732>0,VLOOKUP(O1732,Set!$H$2:$J$16,2,FALSE),\"\")","v":""}]
[{"$nulls":8},{"$f":"IF(H1733>0,VLOOKUP(H1733,Set!$A$2:$B$4,2,FALSE),\"\")","v":""},{"$nulls":6},{"$f":"IF(O1733>0,VLOOKUP(O1733,Set!$H$2:$J$16,2,FALSE),\"\")","v":""}]
[{"$nulls":8},{"$f":"IF(H1734>0,VLOOKUP(H1734,Set!$A$2:$B$4,2,FALSE),\"\")","v":""},{"$nulls":6},{"$f":"IF(O1734>0,VLOOKUP(O1734,Set!$H$2:$J$16,2,FALSE),\"\")","v":""}]
[{"$nulls":8},{"$f":"IF(H1735>0,VLOOKUP(H1735,Set!$A$2:$B$4,2,FALSE),\"\")","v":""},{"$nulls":6},{"$f":"IF(O1735>0,VLOOKUP(O1735,Set!$H$2:$J$16,2,FALSE),\"\")","v":""}]
[{"$nulls":8},{"$f":"IF(H1736>0,VLOOKUP(H1736,Set!$A$2:$B$4,2,FALSE),\"\")","v":""},{"$nulls":6},{"$f":"IF(O1736>0,VLOOKUP(O1736,Set!$H$2:$J$16,2,FALSE),\"\")","v":""}]
[{"$nulls":8},{"$f":"IF(H1737>0,VLOOKUP(H1737,Set!$A$2:$B$4,2,FALSE),\"\")","v":""},{"$nulls":6},{"$f":"IF(O1737>0,VLOOKUP(O1737,Set!$H$2:$J$16,2,FALSE),\"\")","v":""}]
[{"$nulls":8},{"$f":"IF(H1738>0,VLOOKUP(H1738,Set!$A$2:$B$4,2,FALSE),\"\")","v":""},{"$nulls":6},{"$f":"IF(O1738>0,VLOOKUP(O1738,Set!$H$2:$J$16,2,FALSE),\"\")","v":""}]
[{"$nulls":8},{"$f":"IF(H1739>0,VLOOKUP(H1739,Set!$A$2:$B$4,2,FALSE),\"\")","v":""},{"$nulls":6},{"$f":"IF(O1739>0,VLOOKUP(O1739,Set!$H$2:$J$16,2,FALSE),\"\")","v":""}]
[{"$nulls":8},{"$f":"IF(H1740>0,VLOOKUP(H1740,Set!$A$2:$B$4,2,FALSE),\"\")","v":""},{"$nulls":6},{"$f":"IF(O1740>0,VLOOKUP(O1740,Set!$H$2:$J$16,2,FALSE),\"\")","v":""}]
[{"$nulls":8},{"$f":"IF(H1741>0,VLOOKUP(H1741,Set!$A$2:$B$4,2,FALSE),\"\")","v":""},{"$nulls":6},{"$f":"IF(O1741>0,VLOOKUP(O1741,Set!$H$2:$J$16,2,FALSE),\"\")","v":""}]
[{"$nulls":8},{"$f":"IF(H1742>0,VLOOKUP(H1742,Set!$A$2:$B$4,2,FALSE),\"\")","v":""},{"$nulls":6},{"$f":"IF(O1742>0,VLOOKUP(O1742,Set!$H$2:$J$16,2,FALSE),\"\")","v":""}]
[{"$nulls":8},{"$f":"IF(H1743>0,VLOOKUP(H1743,Set!$A$2:$B$4,2,FALSE),\"\")","v":""},{"$nulls":6},{"$f":"IF(O1743>0,VLOOKUP(O1743,Set!$H$2:$J$16,2,FALSE),\"\")","v":""}]
[{"$nulls":8},{"$f":"IF(H1744>0,VLOOKUP(H1744,Set!$A$2:$B$4,2,FALSE),\"\")","v":""},{"$nulls":6},{"$f":"IF(O1744>0,VLOOKUP(O1744,Set!$H$2:$J$16,2,FALSE),\"\")","v":""}]
[{"$nulls":8},{"$f":"IF(H1745>0,VLOOKUP(H1745,Set!$A$2:$B$4,2,FALSE),\"\")","v":""},{"$nulls":6},{"$f":"IF(O1745>0,VLOOKUP(O1745,Set!$H$2:$J$16,2,FALSE),\"\")","v":""}]
[{"$nulls":8},{"$f":"IF(H1746>0,VLOOKUP(H1746,Set!$A$2:$B$4,2,FALSE),\"\")","v":""},{"$nulls":6},{"$f":"IF(O1746>0,VLOOKUP(O1746,Set!$H$2:$J$16,2,FALSE),\"\")","v":""}]
[{"$nulls":8},{"$f":"IF(H1747>0,VLOOKUP(H1747,Set!$A$2:$B$4,2,FALSE),\"\")","v":""},{"$nulls":6},{"$f":"IF(O1747>0,VLOOKUP(O1747,Set!$H$2:$J$16,2,FALSE),\"\")","v":""}]
[{"$nulls":8},{"$f":"IF(H1748>0,VLOOKUP(H1748,Set!$A$2:$B$4,2,FALSE),\"\")","v":""},{"$nulls":6},{"$f":"IF(O1748>0,VLOOKUP(O1748,Set!$H$2:$J$16,2,FALSE),\"\")","v":""}]
[{"$nulls":8},{"$f":"IF(H1749>0,VLOOKUP(H1749,Set!$A$2:$B$4,2,FALSE),\"\")","v":""},{"$nulls":6},{"$f":"IF(O1749>0,VLOOKUP(O1749,Set!$H$2:$J$16,2,FALSE),\"\")","v":""}]
[{"$nulls":8},{"$f":"IF(H1750>0,VLOOKUP(H1750,Set!$A$2:$B$4,2,FALSE),\"\")","v":""},{"$nulls":6},{"$f":"IF(O1750>0,VLOOKUP(O1750,Set!$H$2:$J$16,2,FALSE),\"\")","v":""}]
[{"$nulls":8},{"$f":"IF(H1751>0,VLOOKUP(H1751,Set!$A$2:$B$4,2,FALSE),\"\")","v":""},{"$nulls":6},{"$f":"IF(O1751>0,VLOOKUP(O1751,Set!$H$2:$J$16,2,FALSE),\"\")","v":""}]
[{"$nulls":8},{"$f":"IF(H1752>0,VLOOKUP(H1752,Set!$A$2:$B$4,2,FALSE),\"\")","v":""},{"$nulls":6},{"$f":"IF(O1752>0,VLOOKUP(O1752,Set!$H$2:$J$16,2,FALSE),\"\")","v":""}]
[{"$nulls":8},{"$f":"IF(H1753>0,VLOOKUP(H1753,Set!$A$2:$B$4,2,FALSE),\"\")","v":""},{"$nulls":6},{"$f":"IF(O1753>0,VLOOKUP(O1753,Set!$H$2:$J$16,2,FALSE),\"\")","v":""}]
[{"$nulls":8},{"$f":"IF(H1754>0,VLOOKUP(H1754,Set!$A$2:$B$4,2,FALSE),\"\")","v":""},{"$nulls":6},{"$f":"IF(O1754>0,VLOOKUP(O1754,Set!$H$2:$J$16,2,FALSE),\"\")","v":""}]
[{"$nulls":8},{"$f":"IF(H1755>0,VLOOKUP(H1755,Set!$A$2:$B$4,2,FALSE),\"\")","v":""},{"$nulls":6},{"$f":"IF(O1755>0,VLOOKUP(O1755,Set!$H$2:$J$16,2,FALSE),\"\")","v":""}]
[{"$nulls":8},{"$f":"IF(H1756>0,VLOOKUP(H1756,Set!$A$2:$B$4,2,FALSE),\"\")","v":""},{"$nulls":6},{"$f":"IF(O1756>0,VLOOKUP(O1756,Set!$H$2:$J$16,2,FALSE),\"\")","v":""}]
[{"$nulls":8},{"$f":"IF(H1757>0,VLOOKUP(H1757,Set!$A$2:$B$4,2,FALSE),\"\")","v":""},{"$nulls":6},{"$f":"IF(O1757>0,VLOOKUP(O1757,Set!$H$2:$J$16,2,FALSE),\"\")","v":""}]
[{"$nulls":8},{"$f":"IF(H1758>0,VLOOKUP(H1758,Set!$A$2:$B$4,2,FALSE),\"\")","v":""},{"$nulls":6},{"$f":"IF(O1758>0,VLOOKUP(O1758,Set!$H$2:$J$16,2,FALSE),\"\")","v":""}]
[{"$nulls":8},{"$f":"IF(H1759>0,VLOOKUP(H1759,Set!$A$2:$B$4,2,FALSE),\"\")","v":""},{"$nulls":6},{"$f":"IF(O1759>0,VLOOKUP(O1759,Set!$H$2:$J$16,2,FALSE),\"\")","v":""}]
[{"$nulls":8},{"$f":"IF(H1760>0,VLOOKUP(H1760,Set!$A$2:$B$4,2,FALSE),\"\")","v":""},{"$nulls":6},{"$f":"IF(O1760>0,VLOOKUP(O1760,Set!$H$2:$J$16,2,FALSE),\"\")","v":""}]
[{"$nulls":8},{"$f":"IF(H1761>0,VLOOKUP(H1761,Set!$A$2:$B$4,2,FALSE),\"\")","v":""},{"$nulls":6},{"$f":"IF(O1761>0,VLOOKUP(O1761,Set!$H$2:$J$16,2,FALSE),\"\")","v":""}]
[{"$nulls":8},{"$f":"IF(H1762>0,VLOOKUP(H1762,Set!$A$2:$B$4,2,FALSE),\"\")","v":""},{"$nulls":6},{"$f":"IF(O1762>0,VLOOKUP(O1762,Set!$H$2:$J$16,2,FALSE),\"\")","v":""}]
[{"$nulls":8},{"$f":"IF(H1763>0,VLOOKUP(H1763,Set!$A$2:$B$4,2,FALSE),\"\")","v":""},{"$nulls":6},{"$f":"IF(O1763>0,VLOOKUP(O1763,Set!$H$2:$J$16,2,FALSE),\"\")","v":""}]
[{"$nulls":8},{"$f":"IF(H1764>0,VLOOKUP(H1764,Set!$A$2:$B$4,2,FALSE),\"\")","v":""},{"$nulls":6},{"$f":"IF(O1764>0,VLOOKUP(O1764,Set!$H$2:$J$16,2,FALSE),\"\")","v":""}]
[{"$nulls":8},{"$f":"IF(H1765>0,VLOOKUP(H1765,Set!$A$2:$B$4,2,FALSE),\"\")","v":""},{"$nulls":6},{"$f":"IF(O1765>0,VLOOKUP(O1765,Set!$H$2:$J$16,2,FALSE),\"\")","v":""}]
[{"$nulls":8},{"$f":"IF(H1766>0,VLOOKUP(H1766,Set!$A$2:$B$4,2,FALSE),\"\")","v":""},{"$nulls":6},{"$f":"IF(O1766>0,VLOOKUP(O1766,Set!$H$2:$J$16,2,FALSE),\"\")","v":""}]
[{"$nulls":8},{"$f":"IF(H1767>0,VLOOKUP(H1767,Set!$A$2:$B$4,2,FALSE),\"\")","v":""},{"$nulls":6},{"$f":"IF(O1767>0,VLOOKUP(O1767,Set!$H$2:$J$16,2,FALSE),\"\")","v":""}]
[{"$nulls":8},{"$f":"IF(H1768>0,VLOOKUP(H1768,Set!$A$2:$B$4,2,FALSE),\"\")","v":""},{"$nulls":6},{"$f":"IF(O1768>0,VLOOKUP(O1768,Set!$H$2:$J$16,2,FALSE),\"\")","v":""}]
[{"$nulls":8},{"$f":"IF(H1769>0,VLOOKUP(H1769,Set!$A$2:$B$4,2,FALSE),\"\")","v":""},{"$nulls":6},{"$f":"IF(O1769>0,VLOOKUP(O1769,Set!$H$2:$J$16,2,FALSE),\"\")","v":""}]
[{"$nulls":8},{"$f":"IF(H1770>0,VLOOKUP(H1770,Set!$A$2:$B$4,2,FALSE),\"\")","v":""},{"$nulls":6},{"$f":"IF(O1770>0,VLOOKUP(O1770,Set!$H$2:$J$16,2,FALSE),\"\")","v":""}]
[{"$nulls":8},{"$f":"IF(H1771>0,VLOOKUP(H1771,Set!$A$2:$B$4,2,FALSE),\"\")","v":""},{"$nulls":6},{"$f":"IF(O1771>0,VLOOKUP(O1771,Set!$H$2:$J$16,2,FALSE),\"\")","v":""}]
[{"$nulls":8},{"$f":"IF(H1772>0,VLOOKUP(H1772,Set!$A$2:$B$4,2,FALSE),\"\")","v":""},{"$nulls":6},{"$f":"IF(O1772>0,VLOOKUP(O1772,Set!$H$2:$J$16,2,FALSE),\"\")","v":""}]
[{"$nulls":8},{"$f":"IF(H1773>0,VLOOKUP(H1773,Set!$A$2:$B$4,2,FALSE),\"\")","v":""},{"$nulls":6},{"$f":"IF(O1773>0,VLOOKUP(O1773,Set!$H$2:$J$16,2,FALSE),\"\")","v":""}]
[{"$nulls":8},{"$f":"IF(H1774>0,VLOOKUP(H1774,Set!$A$2:$B$4,2,FALSE),\"\")","v":""},{"$nulls":6},{"$f":"IF(O1774>0,VLOOKUP(O1774,Set!$H$2:$J$16,2,FALSE),\"\")","v":""}]
[{"$nulls":8},{"$f":"IF(H1775>0,VLOOKUP(H1775,Set!$A$2:$B$4,2,FALSE),\"\")","v":""},{"$nulls":6},{"$f":"IF(O1775>0,VLOOKUP(O1775,Set!$H$2:$J$16,2,FALSE),\"\")","v":""}]
[{"$nulls":8},{"$f":"IF(H1776>0,VLOOKUP(H1776,Set!$A$2:$B$4,2,FALSE),\"\")","v":""},{"$nulls":6},{"$f":"IF(O1776>0,VLOOKUP(O1776,Set!$H$2:$J$16,2,FALSE),\"\")","v":""}]
[{"$nulls":8},{"$f":"IF(H1777>0,VLOOKUP(H1777,Set!$A$2:$B$4,2,FALSE),\"\")","v":""},{"$nulls":6},{"$f":"IF(O1777>0,VLOOKUP(O1777,Set!$H$2:$J$16,2,FALSE),\"\")","v":""}]
[{"$nulls":8},{"$f":"IF(H1778>0,VLOOKUP(H1778,Set!$A$2:$B$4,2,FALSE),\"\")","v":""},{"$nulls":6},{"$f":"IF(O1778>0,VLOOKUP(O1778,Set!$H$2:$J$16,2,FALSE),\"\")","v":""}]
[{"$nulls":8},{"$f":"IF(H1779>0,VLOOKUP(H1779,Set!$A$2:$B$4,2,FALSE),\"\")","v":""},{"$nulls":6},{"$f":"IF(O1779>0,VLOOKUP(O1779,Set!$H$2:$J$16,2,FALSE),\"\")","v":""}]
[{"$nulls":8},{"$f":"IF(H1780>0,VLOOKUP(H1780,Set!$A$2:$B$4,2,FALSE),\"\")","v":""},{"$nulls":6},{"$f":"IF(O1780>0,VLOOKUP(O1780,Set!$H$2:$J$16,2,FALSE),\"\")","v":""}]
[{"$nulls":8},{"$f":"IF(H1781>0,VLOOKUP(H1781,Set!$A$2:$B$4,2,FALSE),\"\")","v":""},{"$nulls":6},{"$f":"IF(O1781>0,VLOOKUP(O1781,Set!$H$2:$J$16,2,FALSE),\"\")","v":""}]
[{"$nulls":8},{"$f":"IF(H1782>0,VLOOKUP(H1782,Set!$A$2:$B$4,2,FALSE),\"\")","v":""},{"$nulls":6},{"$f":"IF(O1782>0,VLOOKUP(O1782,Set!$H$2:$J$16,2,FALSE),\"\")","v":""}]
[{"$nulls":8},{"$f":"IF(H1783>0,VLOOKUP(H1783,Set!$A$2:$B$4,2,FALSE),\"\")","v":""},{"$nulls":6},{"$f":"IF(O1783>0,VLOOKUP(O1783,Set!$H$2:$J$16,2,FALSE),\"\")","v":""}]
[{"$nulls":8},{"$f":"IF(H1784>0,VLOOKUP(H1784,Set!$A$2:$B$4,2,FALSE),\"\")","v":""},{"$nulls":6},{"$f":"IF(O1784>0,VLOOKUP(O1784,Set!$H$2:$J$16,2,FALSE),\"\")","v":""}]
[{"$nulls":8},{"$f":"IF(H1785>0,VLOOKUP(H1785,Set!$A$2:$B$4,2,FALSE),\"\")","v":""},{"$nulls":6},{"$f":"IF(O1785>0,VLOOKUP(O1785,Set!$H$2:$J$16,2,FALSE),\"\")","v":""}]
[{"$nulls":8},{"$f":"IF(H1786>0,VLOOKUP(H1786,Set!$A$2:$B$4,2,FALSE),\"\")","v":""},{"$nulls":6},{"$f":"IF(O1786>0,VLOOKUP(O1786,Set!$H$2:$J$16,2,FALSE),\"\")","v":""}]
[{"$nulls":8},{"$f":"IF(H1787>0,VLOOKUP(H1787,Set!$A$2:$B$4,2,FALSE),\"\")","v":""},{"$nulls":6},{"$f":"IF(O1787>0,VLOOKUP(O1787,Set!$H$2:$J$16,2,FALSE),\"\")","v":""}]
[{"$nulls":8},{"$f":"IF(H1788>0,VLOOKUP(H1788,Set!$A$2:$B$4,2,FALSE),\"\")","v":""},{"$nulls":6},{"$f":"IF(O1788>0,VLOOKUP(O1788,Set!$H$2:$J$16,2,FALSE),\"\")","v":""}]
[{"$nulls":8},{"$f":"IF(H1789>0,VLOOKUP(H1789,Set!$A$2:$B$4,2,FALSE),\"\")","v":""},{"$nulls":6},{"$f":"IF(O1789>0,VLOOKUP(O1789,Set!$H$2:$J$16,2,FALSE),\"\")","v":""}]
[{"$nulls":8},{"$f":"IF(H1790>0,VLOOKUP(H1790,Set!$A$2:$B$4,2,FALSE),\"\")","v":""},{"$nulls":6},{"$f":"IF(O1790>0,VLOOKUP(O1790,Set!$H$2:$J$16,2,FALSE),\"\")","v":""}]
[{"$nulls":8},{"$f":"IF(H1791>0,VLOOKUP(H1791,Set!$A$2:$B$4,2,FALSE),\"\")","v":""},{"$nulls":6},{"$f":"IF(O1791>0,VLOOKUP(O1791,Set!$H$2:$J$16,2,FALSE),\"\")","v":""}]
[{"$nulls":8},{"$f":"IF(H1792>0,VLOOKUP(H1792,Set!$A$2:$B$4,2,FALSE),\"\")","v":""},{"$nulls":6},{"$f":"IF(O1792>0,VLOOKUP(O1792,Set!$H$2:$J$16,2,FALSE),\"\")","v":""}]
[{"$nulls":8},{"$f":"IF(H1793>0,VLOOKUP(H1793,Set!$A$2:$B$4,2,FALSE),\"\")","v":""},{"$nulls":6},{"$f":"IF(O1793>0,VLOOKUP(O1793,Set!$H$2:$J$16,2,FALSE),\"\")","v":""}]
[{"$nulls":8},{"$f":"IF(H1794>0,VLOOKUP(H1794,Set!$A$2:$B$4,2,FALSE),\"\")","v":""},{"$nulls":6},{"$f":"IF(O1794>0,VLOOKUP(O1794,Set!$H$2:$J$16,2,FALSE),\"\")","v":""}]
[{"$nulls":8},{"$f":"IF(H1795>0,VLOOKUP(H1795,Set!$A$2:$B$4,2,FALSE),\"\")","v":""},{"$nulls":6},{"$f":"IF(O1795>0,VLOOKUP(O1795,Set!$H$2:$J$16,2,FALSE),\"\")","v":""}]
[{"$nulls":8},{"$f":"IF(H1796>0,VLOOKUP(H1796,Set!$A$2:$B$4,2,FALSE),\"\")","v":""},{"$nulls":6},{"$f":"IF(O1796>0,VLOOKUP(O1796,Set!$H$2:$J$16,2,FALSE),\"\")","v":""}]
[{"$nulls":8},{"$f":"IF(H1797>0,VLOOKUP(H1797,Set!$A$2:$B$4,2,FALSE),\"\")","v":""},{"$nulls":6},{"$f":"IF(O1797>0,VLOOKUP(O1797,Set!$H$2:$J$16,2,FALSE),\"\")","v":""}]
[{"$nulls":8},{"$f":"IF(H1798>0,VLOOKUP(H1798,Set!$A$2:$B$4,2,FALSE),\"\")","v":""},{"$nulls":6},{"$f":"IF(O1798>0,VLOOKUP(O1798,Set!$H$2:$J$16,2,FALSE),\"\")","v":""}]
[{"$nulls":8},{"$f":"IF(H1799>0,VLOOKUP(H1799,Set!$A$2:$B$4,2,FALSE),\"\")","v":""},{"$nulls":6},{"$f":"IF(O1799>0,VLOOKUP(O1799,Set!$H$2:$J$16,2,FALSE),\"\")","v":""}]
[{"$nulls":8},{"$f":"IF(H1800>0,VLOOKUP(H1800,Set!$A$2:$B$4,2,FALSE),\"\")","v":""},{"$nulls":6},{"$f":"IF(O1800>0,VLOOKUP(O1800,Set!$H$2:$J$16,2,FALSE),\"\")","v":""}]
[{"$nulls":8},{"$f":"IF(H1801>0,VLOOKUP(H1801,Set!$A$2:$B$4,2,FALSE),\"\")","v":""},{"$nulls":6},{"$f":"IF(O1801>0,VLOOKUP(O1801,Set!$H$2:$J$16,2,FALSE),\"\")","v":""}]
[{"$nulls":8},{"$f":"IF(H1802>0,VLOOKUP(H1802,Set!$A$2:$B$4,2,FALSE),\"\")","v":""},{"$nulls":6},{"$f":"IF(O1802>0,VLOOKUP(O1802,Set!$H$2:$J$16,2,FALSE),\"\")","v":""}]
[{"$nulls":8},{"$f":"IF(H1803>0,VLOOKUP(H1803,Set!$A$2:$B$4,2,FALSE),\"\")","v":""},{"$nulls":6},{"$f":"IF(O1803>0,VLOOKUP(O1803,Set!$H$2:$J$16,2,FALSE),\"\")","v":""}]
[{"$nulls":8},{"$f":"IF(H1804>0,VLOOKUP(H1804,Set!$A$2:$B$4,2,FALSE),\"\")","v":""},{"$nulls":6},{"$f":"IF(O1804>0,VLOOKUP(O1804,Set!$H$2:$J$16,2,FALSE),\"\")","v":""}]
[{"$nulls":8},{"$f":"IF(H1805>0,VLOOKUP(H1805,Set!$A$2:$B$4,2,FALSE),\"\")","v":""},{"$nulls":6},{"$f":"IF(O1805>0,VLOOKUP(O1805,Set!$H$2:$J$16,2,FALSE),\"\")","v":""}]
[{"$nulls":8},{"$f":"IF(H1806>0,VLOOKUP(H1806,Set!$A$2:$B$4,2,FALSE),\"\")","v":""},{"$nulls":6},{"$f":"IF(O1806>0,VLOOKUP(O1806,Set!$H$2:$J$16,2,FALSE),\"\")","v":""}]
[{"$nulls":8},{"$f":"IF(H1807>0,VLOOKUP(H1807,Set!$A$2:$B$4,2,FALSE),\"\")","v":""},{"$nulls":6},{"$f":"IF(O1807>0,VLOOKUP(O1807,Set!$H$2:$J$16,2,FALSE),\"\")","v":""}]
[{"$nulls":8},{"$f":"IF(H1808>0,VLOOKUP(H1808,Set!$A$2:$B$4,2,FALSE),\"\")","v":""},{"$nulls":6},{"$f":"IF(O1808>0,VLOOKUP(O1808,Set!$H$2:$J$16,2,FALSE),\"\")","v":""}]
[{"$nulls":8},{"$f":"IF(H1809>0,VLOOKUP(H1809,Set!$A$2:$B$4,2,FALSE),\"\")","v":""},{"$nulls":6},{"$f":"IF(O1809>0,VLOOKUP(O1809,Set!$H$2:$J$16,2,FALSE),\"\")","v":""}]
[{"$nulls":8},{"$f":"IF(H1810>0,VLOOKUP(H1810,Set!$A$2:$B$4,2,FALSE),\"\")","v":""},{"$nulls":6},{"$f":"IF(O1810>0,VLOOKUP(O1810,Set!$H$2:$J$16,2,FALSE),\"\")","v":""}]
[{"$nulls":8},{"$f":"IF(H1811>0,VLOOKUP(H1811,Set!$A$2:$B$4,2,FALSE),\"\")","v":""},{"$nulls":6},{"$f":"IF(O1811>0,VLOOKUP(O1811,Set!$H$2:$J$16,2,FALSE),\"\")","v":""}]
[{"$nulls":8},{"$f":"IF(H1812>0,VLOOKUP(H1812,Set!$A$2:$B$4,2,FALSE),\"\")","v":""},{"$nulls":6},{"$f":"IF(O1812>0,VLOOKUP(O1812,Set!$H$2:$J$16,2,FALSE),\"\")","v":""}]
[{"$nulls":8},{"$f":"IF(H1813>0,VLOOKUP(H1813,Set!$A$2:$B$4,2,FALSE),\"\")","v":""},{"$nulls":6},{"$f":"IF(O1813>0,VLOOKUP(O1813,Set!$H$2:$J$16,2,FALSE),\"\")","v":""}]
[{"$nulls":8},{"$f":"IF(H1814>0,VLOOKUP(H1814,Set!$A$2:$B$4,2,FALSE),\"\")","v":""},{"$nulls":6},{"$f":"IF(O1814>0,VLOOKUP(O1814,Set!$H$2:$J$16,2,FALSE),\"\")","v":""}]
[{"$nulls":8},{"$f":"IF(H1815>0,VLOOKUP(H1815,Set!$A$2:$B$4,2,FALSE),\"\")","v":""},{"$nulls":6},{"$f":"IF(O1815>0,VLOOKUP(O1815,Set!$H$2:$J$16,2,FALSE),\"\")","v":""}]
[{"$nulls":8},{"$f":"IF(H1816>0,VLOOKUP(H1816,Set!$A$2:$B$4,2,FALSE),\"\")","v":""},{"$nulls":6},{"$f":"IF(O1816>0,VLOOKUP(O1816,Set!$H$2:$J$16,2,FALSE),\"\")","v":""}]
[{"$nulls":8},{"$f":"IF(H1817>0,VLOOKUP(H1817,Set!$A$2:$B$4,2,FALSE),\"\")","v":""},{"$nulls":6},{"$f":"IF(O1817>0,VLOOKUP(O1817,Set!$H$2:$J$16,2,FALSE),\"\")","v":""}]
[{"$nulls":8},{"$f":"IF(H1818>0,VLOOKUP(H1818,Set!$A$2:$B$4,2,FALSE),\"\")","v":""},{"$nulls":6},{"$f":"IF(O1818>0,VLOOKUP(O1818,Set!$H$2:$J$16,2,FALSE),\"\")","v":""}]
[{"$nulls":8},{"$f":"IF(H1819>0,VLOOKUP(H1819,Set!$A$2:$B$4,2,FALSE),\"\")","v":""},{"$nulls":6},{"$f":"IF(O1819>0,VLOOKUP(O1819,Set!$H$2:$J$16,2,FALSE),\"\")","v":""}]
[{"$nulls":8},{"$f":"IF(H1820>0,VLOOKUP(H1820,Set!$A$2:$B$4,2,FALSE),\"\")","v":""},{"$nulls":6},{"$f":"IF(O1820>0,VLOOKUP(O1820,Set!$H$2:$J$16,2,FALSE),\"\")","v":""}]
[{"$nulls":8},{"$f":"IF(H1821>0,VLOOKUP(H1821,Set!$A$2:$B$4,2,FALSE),\"\")","v":""},{"$nulls":6},{"$f":"IF(O1821>0,VLOOKUP(O1821,Set!$H$2:$J$16,2,FALSE),\"\")","v":""}]
[{"$nulls":8},{"$f":"IF(H1822>0,VLOOKUP(H1822,Set!$A$2:$B$4,2,FALSE),\"\")","v":""},{"$nulls":6},{"$f":"IF(O1822>0,VLOOKUP(O1822,Set!$H$2:$J$16,2,FALSE),\"\")","v":""}]
[{"$nulls":8},{"$f":"IF(H1823>0,VLOOKUP(H1823,Set!$A$2:$B$4,2,FALSE),\"\")","v":""},{"$nulls":6},{"$f":"IF(O1823>0,VLOOKUP(O1823,Set!$H$2:$J$16,2,FALSE),\"\")","v":""}]
[{"$nulls":8},{"$f":"IF(H1824>0,VLOOKUP(H1824,Set!$A$2:$B$4,2,FALSE),\"\")","v":""},{"$nulls":6},{"$f":"IF(O1824>0,VLOOKUP(O1824,Set!$H$2:$J$16,2,FALSE),\"\")","v":""}]
[{"$nulls":8},{"$f":"IF(H1825>0,VLOOKUP(H1825,Set!$A$2:$B$4,2,FALSE),\"\")","v":""},{"$nulls":6},{"$f":"IF(O1825>0,VLOOKUP(O1825,Set!$H$2:$J$16,2,FALSE),\"\")","v":""}]
[{"$nulls":8},{"$f":"IF(H1826>0,VLOOKUP(H1826,Set!$A$2:$B$4,2,FALSE),\"\")","v":""},{"$nulls":6},{"$f":"IF(O1826>0,VLOOKUP(O1826,Set!$H$2:$J$16,2,FALSE),\"\")","v":""}]
[{"$nulls":8},{"$f":"IF(H1827>0,VLOOKUP(H1827,Set!$A$2:$B$4,2,FALSE),\"\")","v":""},{"$nulls":6},{"$f":"IF(O1827>0,VLOOKUP(O1827,Set!$H$2:$J$16,2,FALSE),\"\")","v":""}]
[{"$nulls":8},{"$f":"IF(H1828>0,VLOOKUP(H1828,Set!$A$2:$B$4,2,FALSE),\"\")","v":""},{"$nulls":6},{"$f":"IF(O1828>0,VLOOKUP(O1828,Set!$H$2:$J$16,2,FALSE),\"\")","v":""}]
[{"$nulls":8},{"$f":"IF(H1829>0,VLOOKUP(H1829,Set!$A$2:$B$4,2,FALSE),\"\")","v":""},{"$nulls":6},{"$f":"IF(O1829>0,VLOOKUP(O1829,Set!$H$2:$J$16,2,FALSE),\"\")","v":""}]
[{"$nulls":8},{"$f":"IF(H1830>0,VLOOKUP(H1830,Set!$A$2:$B$4,2,FALSE),\"\")","v":""},{"$nulls":6},{"$f":"IF(O1830>0,VLOOKUP(O1830,Set!$H$2:$J$16,2,FALSE),\"\")","v":""}]
[{"$nulls":8},{"$f":"IF(H1831>0,VLOOKUP(H1831,Set!$A$2:$B$4,2,FALSE),\"\")","v":""},{"$nulls":6},{"$f":"IF(O1831>0,VLOOKUP(O1831,Set!$H$2:$J$16,2,FALSE),\"\")","v":""}]
[{"$nulls":8},{"$f":"IF(H1832>0,VLOOKUP(H1832,Set!$A$2:$B$4,2,FALSE),\"\")","v":""},{"$nulls":6},{"$f":"IF(O1832>0,VLOOKUP(O1832,Set!$H$2:$J$16,2,FALSE),\"\")","v":""}]
[{"$nulls":8},{"$f":"IF(H1833>0,VLOOKUP(H1833,Set!$A$2:$B$4,2,FALSE),\"\")","v":""},{"$nulls":6},{"$f":"IF(O1833>0,VLOOKUP(O1833,Set!$H$2:$J$16,2,FALSE),\"\")","v":""}]
[{"$nulls":8},{"$f":"IF(H1834>0,VLOOKUP(H1834,Set!$A$2:$B$4,2,FALSE),\"\")","v":""},{"$nulls":6},{"$f":"IF(O1834>0,VLOOKUP(O1834,Set!$H$2:$J$16,2,FALSE),\"\")","v":""}]
[{"$nulls":8},{"$f":"IF(H1835>0,VLOOKUP(H1835,Set!$A$2:$B$4,2,FALSE),\"\")","v":""},{"$nulls":6},{"$f":"IF(O1835>0,VLOOKUP(O1835,Set!$H$2:$J$16,2,FALSE),\"\")","v":""}]
[{"$nulls":8},{"$f":"IF(H1836>0,VLOOKUP(H1836,Set!$A$2:$B$4,2,FALSE),\"\")","v":""},{"$nulls":6},{"$f":"IF(O1836>0,VLOOKUP(O1836,Set!$H$2:$J$16,2,FALSE),\"\")","v":""}]
[{"$nulls":8},{"$f":"IF(H1837>0,VLOOKUP(H1837,Set!$A$2:$B$4,2,FALSE),\"\")","v":""},{"$nulls":6},{"$f":"IF(O1837>0,VLOOKUP(O1837,Set!$H$2:$J$16,2,FALSE),\"\")","v":""}]
[{"$nulls":8},{"$f":"IF(H1838>0,VLOOKUP(H1838,Set!$A$2:$B$4,2,FALSE),\"\")","v":""},{"$nulls":6},{"$f":"IF(O1838>0,VLOOKUP(O1838,Set!$H$2:$J$16,2,FALSE),\"\")","v":""}]
[{"$nulls":8},{"$f":"IF(H1839>0,VLOOKUP(H1839,Set!$A$2:$B$4,2,FALSE),\"\")","v":""},{"$nulls":6},{"$f":"IF(O1839>0,VLOOKUP(O1839,Set!$H$2:$J$16,2,FALSE),\"\")","v":""}]
[{"$nulls":8},{"$f":"IF(H1840>0,VLOOKUP(H1840,Set!$A$2:$B$4,2,FALSE),\"\")","v":""},{"$nulls":6},{"$f":"IF(O1840>0,VLOOKUP(O1840,Set!$H$2:$J$16,2,FALSE),\"\")","v":""}]
[{"$nulls":8},{"$f":"IF(H1841>0,VLOOKUP(H1841,Set!$A$2:$B$4,2,FALSE),\"\")","v":""},{"$nulls":6},{"$f":"IF(O1841>0,VLOOKUP(O1841,Set!$H$2:$J$16,2,FALSE),\"\")","v":""}]
[{"$nulls":8},{"$f":"IF(H1842>0,VLOOKUP(H1842,Set!$A$2:$B$4,2,FALSE),\"\")","v":""},{"$nulls":6},{"$f":"IF(O1842>0,VLOOKUP(O1842,Set!$H$2:$J$16,2,FALSE),\"\")","v":""}]
[{"$nulls":8},{"$f":"IF(H1843>0,VLOOKUP(H1843,Set!$A$2:$B$4,2,FALSE),\"\")","v":""},{"$nulls":6},{"$f":"IF(O1843>0,VLOOKUP(O1843,Set!$H$2:$J$16,2,FALSE),\"\")","v":""}]
[{"$nulls":8},{"$f":"IF(H1844>0,VLOOKUP(H1844,Set!$A$2:$B$4,2,FALSE),\"\")","v":""},{"$nulls":6},{"$f":"IF(O1844>0,VLOOKUP(O1844,Set!$H$2:$J$16,2,FALSE),\"\")","v":""}]
[{"$nulls":8},{"$f":"IF(H1845>0,VLOOKUP(H1845,Set!$A$2:$B$4,2,FALSE),\"\")","v":""},{"$nulls":6},{"$f":"IF(O1845>0,VLOOKUP(O1845,Set!$H$2:$J$16,2,FALSE),\"\")","v":""}]
[{"$nulls":8},{"$f":"IF(H1846>0,VLOOKUP(H1846,Set!$A$2:$B$4,2,FALSE),\"\")","v":""},{"$nulls":6},{"$f":"IF(O1846>0,VLOOKUP(O1846,Set!$H$2:$J$16,2,FALSE),\"\")","v":""}]
[{"$nulls":8},{"$f":"IF(H1847>0,VLOOKUP(H1847,Set!$A$2:$B$4,2,FALSE),\"\")","v":""},{"$nulls":6},{"$f":"IF(O1847>0,VLOOKUP(O1847,Set!$H$2:$J$16,2,FALSE),\"\")","v":""}]
[{"$nulls":8},{"$f":"IF(H1848>0,VLOOKUP(H1848,Set!$A$2:$B$4,2,FALSE),\"\")","v":""},{"$nulls":6},{"$f":"IF(O1848>0,VLOOKUP(O1848,Set!$H$2:$J$16,2,FALSE),\"\")","v":""}]
[{"$nulls":8},{"$f":"IF(H1849>0,VLOOKUP(H1849,Set!$A$2:$B$4,2,FALSE),\"\")","v":""},{"$nulls":6},{"$f":"IF(O1849>0,VLOOKUP(O1849,Set!$H$2:$J$16,2,FALSE),\"\")","v":""}]
[{"$nulls":8},{"$f":"IF(H1850>0,VLOOKUP(H1850,Set!$A$2:$B$4,2,FALSE),\"\")","v":""},{"$nulls":6},{"$f":"IF(O1850>0,VLOOKUP(O1850,Set!$H$2:$J$16,2,FALSE),\"\")","v":""}]
[{"$nulls":8},{"$f":"IF(H1851>0,VLOOKUP(H1851,Set!$A$2:$B$4,2,FALSE),\"\")","v":""},{"$nulls":6},{"$f":"IF(O1851>0,VLOOKUP(O1851,Set!$H$2:$J$16,2,FALSE),\"\")","v":""}]
[{"$nulls":8},{"$f":"IF(H1852>0,VLOOKUP(H1852,Set!$A$2:$B$4,2,FALSE),\"\")","v":""},{"$nulls":6},{"$f":"IF(O1852>0,VLOOKUP(O1852,Set!$H$2:$J$16,2,FALSE),\"\")","v":""}]
[{"$nulls":8},{"$f":"IF(H1853>0,VLOOKUP(H1853,Set!$A$2:$B$4,2,FALSE),\"\")","v":""},{"$nulls":6},{"$f":"IF(O1853>0,VLOOKUP(O1853,Set!$H$2:$J$16,2,FALSE),\"\")","v":""}]
[{"$nulls":8},{"$f":"IF(H1854>0,VLOOKUP(H1854,Set!$A$2:$B$4,2,FALSE),\"\")","v":""},{"$nulls":6},{"$f":"IF(O1854>0,VLOOKUP(O1854,Set!$H$2:$J$16,2,FALSE),\"\")","v":""}]
[{"$nulls":8},{"$f":"IF(H1855>0,VLOOKUP(H1855,Set!$A$2:$B$4,2,FALSE),\"\")","v":""},{"$nulls":6},{"$f":"IF(O1855>0,VLOOKUP(O1855,Set!$H$2:$J$16,2,FALSE),\"\")","v":""}]
[{"$nulls":8},{"$f":"IF(H1856>0,VLOOKUP(H1856,Set!$A$2:$B$4,2,FALSE),\"\")","v":""},{"$nulls":6},{"$f":"IF(O1856>0,VLOOKUP(O1856,Set!$H$2:$J$16,2,FALSE),\"\")","v":""}]
[{"$nulls":8},{"$f":"IF(H1857>0,VLOOKUP(H1857,Set!$A$2:$B$4,2,FALSE),\"\")","v":""},{"$nulls":6},{"$f":"IF(O1857>0,VLOOKUP(O1857,Set!$H$2:$J$16,2,FALSE),\"\")","v":""}]
[{"$nulls":8},{"$f":"IF(H1858>0,VLOOKUP(H1858,Set!$A$2:$B$4,2,FALSE),\"\")","v":""},{"$nulls":6},{"$f":"IF(O1858>0,VLOOKUP(O1858,Set!$H$2:$J$16,2,FALSE),\"\")","v":""}]
[{"$nulls":8},{"$f":"IF(H1859>0,VLOOKUP(H1859,Set!$A$2:$B$4,2,FALSE),\"\")","v":""},{"$nulls":6},{"$f":"IF(O1859>0,VLOOKUP(O1859,Set!$H$2:$J$16,2,FALSE),\"\")","v":""}]
[{"$nulls":8},{"$f":"IF(H1860>0,VLOOKUP(H1860,Set!$A$2:$B$4,2,FALSE),\"\")","v":""},{"$nulls":6},{"$f":"IF(O1860>0,VLOOKUP(O1860,Set!$H$2:$J$16,2,FALSE),\"\")","v":""}]
[{"$nulls":8},{"$f":"IF(H1861>0,VLOOKUP(H1861,Set!$A$2:$B$4,2,FALSE),\"\")","v":""},{"$nulls":6},{"$f":"IF(O1861>0,VLOOKUP(O1861,Set!$H$2:$J$16,2,FALSE),\"\")","v":""}]
[{"$nulls":8},{"$f":"IF(H1862>0,VLOOKUP(H1862,Set!$A$2:$B$4,2,FALSE),\"\")","v":""},{"$nulls":6},{"$f":"IF(O1862>0,VLOOKUP(O1862,Set!$H$2:$J$16,2,FALSE),\"\")","v":""}]
[{"$nulls":8},{"$f":"IF(H1863>0,VLOOKUP(H1863,Set!$A$2:$B$4,2,FALSE),\"\")","v":""},{"$nulls":6},{"$f":"IF(O1863>0,VLOOKUP(O1863,Set!$H$2:$J$16,2,FALSE),\"\")","v":""}]
[{"$nulls":8},{"$f":"IF(H1864>0,VLOOKUP(H1864,Set!$A$2:$B$4,2,FALSE),\"\")","v":""},{"$nulls":6},{"$f":"IF(O1864>0,VLOOKUP(O1864,Set!$H$2:$J$16,2,FALSE),\"\")","v":""}]
[{"$nulls":8},{"$f":"IF(H1865>0,VLOOKUP(H1865,Set!$A$2:$B$4,2,FALSE),\"\")","v":""},{"$nulls":6},{"$f":"IF(O1865>0,VLOOKUP(O1865,Set!$H$2:$J$16,2,FALSE),\"\")","v":""}]
[{"$nulls":8},{"$f":"IF(H1866>0,VLOOKUP(H1866,Set!$A$2:$B$4,2,FALSE),\"\")","v":""},{"$nulls":6},{"$f":"IF(O1866>0,VLOOKUP(O1866,Set!$H$2:$J$16,2,FALSE),\"\")","v":""}]
[{"$nulls":8},{"$f":"IF(H1867>0,VLOOKUP(H1867,Set!$A$2:$B$4,2,FALSE),\"\")","v":""},{"$nulls":6},{"$f":"IF(O1867>0,VLOOKUP(O1867,Set!$H$2:$J$16,2,FALSE),\"\")","v":""}]
[{"$nulls":8},{"$f":"IF(H1868>0,VLOOKUP(H1868,Set!$A$2:$B$4,2,FALSE),\"\")","v":""},{"$nulls":6},{"$f":"IF(O1868>0,VLOOKUP(O1868,Set!$H$2:$J$16,2,FALSE),\"\")","v":""}]
[{"$nulls":8},{"$f":"IF(H1869>0,VLOOKUP(H1869,Set!$A$2:$B$4,2,FALSE),\"\")","v":""},{"$nulls":6},{"$f":"IF(O1869>0,VLOOKUP(O1869,Set!$H$2:$J$16,2,FALSE),\"\")","v":""}]
[{"$nulls":8},{"$f":"IF(H1870>0,VLOOKUP(H1870,Set!$A$2:$B$4,2,FALSE),\"\")","v":""},{"$nulls":6},{"$f":"IF(O1870>0,VLOOKUP(O1870,Set!$H$2:$J$16,2,FALSE),\"\")","v":""}]
[{"$nulls":8},{"$f":"IF(H1871>0,VLOOKUP(H1871,Set!$A$2:$B$4,2,FALSE),\"\")","v":""},{"$nulls":6},{"$f":"IF(O1871>0,VLOOKUP(O1871,Set!$H$2:$J$16,2,FALSE),\"\")","v":""}]
[{"$nulls":8},{"$f":"IF(H1872>0,VLOOKUP(H1872,Set!$A$2:$B$4,2,FALSE),\"\")","v":""},{"$nulls":6},{"$f":"IF(O1872>0,VLOOKUP(O1872,Set!$H$2:$J$16,2,FALSE),\"\")","v":""}]
[{"$nulls":8},{"$f":"IF(H1873>0,VLOOKUP(H1873,Set!$A$2:$B$4,2,FALSE),\"\")","v":""},{"$nulls":6},{"$f":"IF(O1873>0,VLOOKUP(O1873,Set!$H$2:$J$16,2,FALSE),\"\")","v":""}]
[{"$nulls":8},{"$f":"IF(H1874>0,VLOOKUP(H1874,Set!$A$2:$B$4,2,FALSE),\"\")","v":""},{"$nulls":6},{"$f":"IF(O1874>0,VLOOKUP(O1874,Set!$H$2:$J$16,2,FALSE),\"\")","v":""}]
[{"$nulls":8},{"$f":"IF(H1875>0,VLOOKUP(H1875,Set!$A$2:$B$4,2,FALSE),\"\")","v":""},{"$nulls":6},{"$f":"IF(O1875>0,VLOOKUP(O1875,Set!$H$2:$J$16,2,FALSE),\"\")","v":""}]
[{"$nulls":8},{"$f":"IF(H1876>0,VLOOKUP(H1876,Set!$A$2:$B$4,2,FALSE),\"\")","v":""},{"$nulls":6},{"$f":"IF(O1876>0,VLOOKUP(O1876,Set!$H$2:$J$16,2,FALSE),\"\")","v":""}]
[{"$nulls":8},{"$f":"IF(H1877>0,VLOOKUP(H1877,Set!$A$2:$B$4,2,FALSE),\"\")","v":""},{"$nulls":6},{"$f":"IF(O1877>0,VLOOKUP(O1877,Set!$H$2:$J$16,2,FALSE),\"\")","v":""}]
[{"$nulls":8},{"$f":"IF(H1878>0,VLOOKUP(H1878,Set!$A$2:$B$4,2,FALSE),\"\")","v":""},{"$nulls":6},{"$f":"IF(O1878>0,VLOOKUP(O1878,Set!$H$2:$J$16,2,FALSE),\"\")","v":""}]
[{"$nulls":8},{"$f":"IF(H1879>0,VLOOKUP(H1879,Set!$A$2:$B$4,2,FALSE),\"\")","v":""},{"$nulls":6},{"$f":"IF(O1879>0,VLOOKUP(O1879,Set!$H$2:$J$16,2,FALSE),\"\")","v":""}]
[{"$nulls":8},{"$f":"IF(H1880>0,VLOOKUP(H1880,Set!$A$2:$B$4,2,FALSE),\"\")","v":""},{"$nulls":6},{"$f":"IF(O1880>0,VLOOKUP(O1880,Set!$H$2:$J$16,2,FALSE),\"\")","v":""}]
[{"$nulls":8},{"$f":"IF(H1881>0,VLOOKUP(H1881,Set!$A$2:$B$4,2,FALSE),\"\")","v":""},{"$nulls":6},{"$f":"IF(O1881>0,VLOOKUP(O1881,Set!$H$2:$J$16,2,FALSE),\"\")","v":""}]
[{"$nulls":8},{"$f":"IF(H1882>0,VLOOKUP(H1882,Set!$A$2:$B$4,2,FALSE),\"\")","v":""},{"$nulls":6},{"$f":"IF(O1882>0,VLOOKUP(O1882,Set!$H$2:$J$16,2,FALSE),\"\")","v":""}]
[{"$nulls":8},{"$f":"IF(H1883>0,VLOOKUP(H1883,Set!$A$2:$B$4,2,FALSE),\"\")","v":""},{"$nulls":6},{"$f":"IF(O1883>0,VLOOKUP(O1883,Set!$H$2:$J$16,2,FALSE),\"\")","v":""}]
[{"$nulls":8},{"$f":"IF(H1884>0,VLOOKUP(H1884,Set!$A$2:$B$4,2,FALSE),\"\")","v":""},{"$nulls":6},{"$f":"IF(O1884>0,VLOOKUP(O1884,Set!$H$2:$J$16,2,FALSE),\"\")","v":""}]
[{"$nulls":8},{"$f":"IF(H1885>0,VLOOKUP(H1885,Set!$A$2:$B$4,2,FALSE),\"\")","v":""},{"$nulls":6},{"$f":"IF(O1885>0,VLOOKUP(O1885,Set!$H$2:$J$16,2,FALSE),\"\")","v":""}]
[{"$nulls":8},{"$f":"IF(H1886>0,VLOOKUP(H1886,Set!$A$2:$B$4,2,FALSE),\"\")","v":""},{"$nulls":6},{"$f":"IF(O1886>0,VLOOKUP(O1886,Set!$H$2:$J$16,2,FALSE),\"\")","v":""}]
[{"$nulls":8},{"$f":"IF(H1887>0,VLOOKUP(H1887,Set!$A$2:$B$4,2,FALSE),\"\")","v":""},{"$nulls":6},{"$f":"IF(O1887>0,VLOOKUP(O1887,Set!$H$2:$J$16,2,FALSE),\"\")","v":""}]
[{"$nulls":8},{"$f":"IF(H1888>0,VLOOKUP(H1888,Set!$A$2:$B$4,2,FALSE),\"\")","v":""},{"$nulls":6},{"$f":"IF(O1888>0,VLOOKUP(O1888,Set!$H$2:$J$16,2,FALSE),\"\")","v":""}]
[{"$nulls":8},{"$f":"IF(H1889>0,VLOOKUP(H1889,Set!$A$2:$B$4,2,FALSE),\"\")","v":""},{"$nulls":6},{"$f":"IF(O1889>0,VLOOKUP(O1889,Set!$H$2:$J$16,2,FALSE),\"\")","v":""}]
[{"$nulls":8},{"$f":"IF(H1890>0,VLOOKUP(H1890,Set!$A$2:$B$4,2,FALSE),\"\")","v":""},{"$nulls":6},{"$f":"IF(O1890>0,VLOOKUP(O1890,Set!$H$2:$J$16,2,FALSE),\"\")","v":""}]
[{"$nulls":8},{"$f":"IF(H1891>0,VLOOKUP(H1891,Set!$A$2:$B$4,2,FALSE),\"\")","v":""},{"$nulls":6},{"$f":"IF(O1891>0,VLOOKUP(O1891,Set!$H$2:$J$16,2,FALSE),\"\")","v":""}]
[{"$nulls":8},{"$f":"IF(H1892>0,VLOOKUP(H1892,Set!$A$2:$B$4,2,FALSE),\"\")","v":""},{"$nulls":6},{"$f":"IF(O1892>0,VLOOKUP(O1892,Set!$H$2:$J$16,2,FALSE),\"\")","v":""}]
[{"$nulls":8},{"$f":"IF(H1893>0,VLOOKUP(H1893,Set!$A$2:$B$4,2,FALSE),\"\")","v":""},{"$nulls":6},{"$f":"IF(O1893>0,VLOOKUP(O1893,Set!$H$2:$J$16,2,FALSE),\"\")","v":""}]
[{"$nulls":8},{"$f":"IF(H1894>0,VLOOKUP(H1894,Set!$A$2:$B$4,2,FALSE),\"\")","v":""},{"$nulls":6},{"$f":"IF(O1894>0,VLOOKUP(O1894,Set!$H$2:$J$16,2,FALSE),\"\")","v":""}]
[{"$nulls":8},{"$f":"IF(H1895>0,VLOOKUP(H1895,Set!$A$2:$B$4,2,FALSE),\"\")","v":""},{"$nulls":6},{"$f":"IF(O1895>0,VLOOKUP(O1895,Set!$H$2:$J$16,2,FALSE),\"\")","v":""}]
[{"$nulls":8},{"$f":"IF(H1896>0,VLOOKUP(H1896,Set!$A$2:$B$4,2,FALSE),\"\")","v":""},{"$nulls":6},{"$f":"IF(O1896>0,VLOOKUP(O1896,Set!$H$2:$J$16,2,FALSE),\"\")","v":""}]
[{"$nulls":8},{"$f":"IF(H1897>0,VLOOKUP(H1897,Set!$A$2:$B$4,2,FALSE),\"\")","v":""},{"$nulls":6},{"$f":"IF(O1897>0,VLOOKUP(O1897,Set!$H$2:$J$16,2,FALSE),\"\")","v":""}]
[{"$nulls":8},{"$f":"IF(H1898>0,VLOOKUP(H1898,Set!$A$2:$B$4,2,FALSE),\"\")","v":""},{"$nulls":6},{"$f":"IF(O1898>0,VLOOKUP(O1898,Set!$H$2:$J$16,2,FALSE),\"\")","v":""}]
[{"$nulls":8},{"$f":"IF(H1899>0,VLOOKUP(H1899,Set!$A$2:$B$4,2,FALSE),\"\")","v":""},{"$nulls":6},{"$f":"IF(O1899>0,VLOOKUP(O1899,Set!$H$2:$J$16,2,FALSE),\"\")","v":""}]
[{"$nulls":8},{"$f":"IF(H1900>0,VLOOKUP(H1900,Set!$A$2:$B$4,2,FALSE),\"\")","v":""},{"$nulls":6},{"$f":"IF(O1900>0,VLOOKUP(O1900,Set!$H$2:$J$16,2,FALSE),\"\")","v":""}]
[{"$nulls":8},{"$f":"IF(H1901>0,VLOOKUP(H1901,Set!$A$2:$B$4,2,FALSE),\"\")","v":""},{"$nulls":6},{"$f":"IF(O1901>0,VLOOKUP(O1901,Set!$H$2:$J$16,2,FALSE),\"\")","v":""}]
[{"$nulls":8},{"$f":"IF(H1902>0,VLOOKUP(H1902,Set!$A$2:$B$4,2,FALSE),\"\")","v":""},{"$nulls":6},{"$f":"IF(O1902>0,VLOOKUP(O1902,Set!$H$2:$J$16,2,FALSE),\"\")","v":""}]
[{"$nulls":8},{"$f":"IF(H1903>0,VLOOKUP(H1903,Set!$A$2:$B$4,2,FALSE),\"\")","v":""},{"$nulls":6},{"$f":"IF(O1903>0,VLOOKUP(O1903,Set!$H$2:$J$16,2,FALSE),\"\")","v":""}]
[{"$nulls":8},{"$f":"IF(H1904>0,VLOOKUP(H1904,Set!$A$2:$B$4,2,FALSE),\"\")","v":""},{"$nulls":6},{"$f":"IF(O1904>0,VLOOKUP(O1904,Set!$H$2:$J$16,2,FALSE),\"\")","v":""}]
[{"$nulls":8},{"$f":"IF(H1905>0,VLOOKUP(H1905,Set!$A$2:$B$4,2,FALSE),\"\")","v":""},{"$nulls":6},{"$f":"IF(O1905>0,VLOOKUP(O1905,Set!$H$2:$J$16,2,FALSE),\"\")","v":""}]
[{"$nulls":8},{"$f":"IF(H1906>0,VLOOKUP(H1906,Set!$A$2:$B$4,2,FALSE),\"\")","v":""},{"$nulls":6},{"$f":"IF(O1906>0,VLOOKUP(O1906,Set!$H$2:$J$16,2,FALSE),\"\")","v":""}]
[{"$nulls":8},{"$f":"IF(H1907>0,VLOOKUP(H1907,Set!$A$2:$B$4,2,FALSE),\"\")","v":""},{"$nulls":6},{"$f":"IF(O1907>0,VLOOKUP(O1907,Set!$H$2:$J$16,2,FALSE),\"\")","v":""}]
[{"$nulls":8},{"$f":"IF(H1908>0,VLOOKUP(H1908,Set!$A$2:$B$4,2,FALSE),\"\")","v":""},{"$nulls":6},{"$f":"IF(O1908>0,VLOOKUP(O1908,Set!$H$2:$J$16,2,FALSE),\"\")","v":""}]
[{"$nulls":8},{"$f":"IF(H1909>0,VLOOKUP(H1909,Set!$A$2:$B$4,2,FALSE),\"\")","v":""},{"$nulls":6},{"$f":"IF(O1909>0,VLOOKUP(O1909,Set!$H$2:$J$16,2,FALSE),\"\")","v":""}]
[{"$nulls":8},{"$f":"IF(H1910>0,VLOOKUP(H1910,Set!$A$2:$B$4,2,FALSE),\"\")","v":""},{"$nulls":6},{"$f":"IF(O1910>0,VLOOKUP(O1910,Set!$H$2:$J$16,2,FALSE),\"\")","v":""}]
[{"$nulls":8},{"$f":"IF(H1911>0,VLOOKUP(H1911,Set!$A$2:$B$4,2,FALSE),\"\")","v":""},{"$nulls":6},{"$f":"IF(O1911>0,VLOOKUP(O1911,Set!$H$2:$J$16,2,FALSE),\"\")","v":""}]
[{"$nulls":8},{"$f":"IF(H1912>0,VLOOKUP(H1912,Set!$A$2:$B$4,2,FALSE),\"\")","v":""},{"$nulls":6},{"$f":"IF(O1912>0,VLOOKUP(O1912,Set!$H$2:$J$16,2,FALSE),\"\")","v":""}]
[{"$nulls":8},{"$f":"IF(H1913>0,VLOOKUP(H1913,Set!$A$2:$B$4,2,FALSE),\"\")","v":""},{"$nulls":6},{"$f":"IF(O1913>0,VLOOKUP(O1913,Set!$H$2:$J$16,2,FALSE),\"\")","v":""}]
[{"$nulls":8},{"$f":"IF(H1914>0,VLOOKUP(H1914,Set!$A$2:$B$4,2,FALSE),\"\")","v":""},{"$nulls":6},{"$f":"IF(O1914>0,VLOOKUP(O1914,Set!$H$2:$J$16,2,FALSE),\"\")","v":""}]
[{"$nulls":8},{"$f":"IF(H1915>0,VLOOKUP(H1915,Set!$A$2:$B$4,2,FALSE),\"\")","v":""},{"$nulls":6},{"$f":"IF(O1915>0,VLOOKUP(O1915,Set!$H$2:$J$16,2,FALSE),\"\")","v":""}]
[{"$nulls":8},{"$f":"IF(H1916>0,VLOOKUP(H1916,Set!$A$2:$B$4,2,FALSE),\"\")","v":""},{"$nulls":6},{"$f":"IF(O1916>0,VLOOKUP(O1916,Set!$H$2:$J$16,2,FALSE),\"\")","v":""}]
[{"$nulls":8},{"$f":"IF(H1917>0,VLOOKUP(H1917,Set!$A$2:$B$4,2,FALSE),\"\")","v":""},{"$nulls":6},{"$f":"IF(O1917>0,VLOOKUP(O1917,Set!$H$2:$J$16,2,FALSE),\"\")","v":""}]
[{"$nulls":8},{"$f":"IF(H1918>0,VLOOKUP(H1918,Set!$A$2:$B$4,2,FALSE),\"\")","v":""},{"$nulls":6},{"$f":"IF(O1918>0,VLOOKUP(O1918,Set!$H$2:$J$16,2,FALSE),\"\")","v":""}]
[{"$nulls":8},{"$f":"IF(H1919>0,VLOOKUP(H1919,Set!$A$2:$B$4,2,FALSE),\"\")","v":""},{"$nulls":6},{"$f":"IF(O1919>0,VLOOKUP(O1919,Set!$H$2:$J$16,2,FALSE),\"\")","v":""}]
[{"$nulls":8},{"$f":"IF(H1920>0,VLOOKUP(H1920,Set!$A$2:$B$4,2,FALSE),\"\")","v":""},{"$nulls":6},{"$f":"IF(O1920>0,VLOOKUP(O1920,Set!$H$2:$J$16,2,FALSE),\"\")","v":""}]
[{"$nulls":8},{"$f":"IF(H1921>0,VLOOKUP(H1921,Set!$A$2:$B$4,2,FALSE),\"\")","v":""},{"$nulls":6},{"$f":"IF(O1921>0,VLOOKUP(O1921,Set!$H$2:$J$16,2,FALSE),\"\")","v":""}]
[{"$nulls":8},{"$f":"IF(H1922>0,VLOOKUP(H1922,Set!$A$2:$B$4,2,FALSE),\"\")","v":""},{"$nulls":6},{"$f":"IF(O1922>0,VLOOKUP(O1922,Set!$H$2:$J$16,2,FALSE),\"\")","v":""}]
[{"$nulls":8},{"$f":"IF(H1923>0,VLOOKUP(H1923,Set!$A$2:$B$4,2,FALSE),\"\")","v":""},{"$nulls":6},{"$f":"IF(O1923>0,VLOOKUP(O1923,Set!$H$2:$J$16,2,FALSE),\"\")","v":""}]
[{"$nulls":8},{"$f":"IF(H1924>0,VLOOKUP(H1924,Set!$A$2:$B$4,2,FALSE),\"\")","v":""},{"$nulls":6},{"$f":"IF(O1924>0,VLOOKUP(O1924,Set!$H$2:$J$16,2,FALSE),\"\")","v":""}]
[{"$nulls":8},{"$f":"IF(H1925>0,VLOOKUP(H1925,Set!$A$2:$B$4,2,FALSE),\"\")","v":""},{"$nulls":6},{"$f":"IF(O1925>0,VLOOKUP(O1925,Set!$H$2:$J$16,2,FALSE),\"\")","v":""}]
[{"$nulls":8},{"$f":"IF(H1926>0,VLOOKUP(H1926,Set!$A$2:$B$4,2,FALSE),\"\")","v":""},{"$nulls":6},{"$f":"IF(O1926>0,VLOOKUP(O1926,Set!$H$2:$J$16,2,FALSE),\"\")","v":""}]
[{"$nulls":8},{"$f":"IF(H1927>0,VLOOKUP(H1927,Set!$A$2:$B$4,2,FALSE),\"\")","v":""},{"$nulls":6},{"$f":"IF(O1927>0,VLOOKUP(O1927,Set!$H$2:$J$16,2,FALSE),\"\")","v":""}]
[{"$nulls":8},{"$f":"IF(H1928>0,VLOOKUP(H1928,Set!$A$2:$B$4,2,FALSE),\"\")","v":""},{"$nulls":6},{"$f":"IF(O1928>0,VLOOKUP(O1928,Set!$H$2:$J$16,2,FALSE),\"\")","v":""}]
[{"$nulls":8},{"$f":"IF(H1929>0,VLOOKUP(H1929,Set!$A$2:$B$4,2,FALSE),\"\")","v":""},{"$nulls":6},{"$f":"IF(O1929>0,VLOOKUP(O1929,Set!$H$2:$J$16,2,FALSE),\"\")","v":""}]
[{"$nulls":8},{"$f":"IF(H1930>0,VLOOKUP(H1930,Set!$A$2:$B$4,2,FALSE),\"\")","v":""},{"$nulls":6},{"$f":"IF(O1930>0,VLOOKUP(O1930,Set!$H$2:$J$16,2,FALSE),\"\")","v":""}]
[{"$nulls":8},{"$f":"IF(H1931>0,VLOOKUP(H1931,Set!$A$2:$B$4,2,FALSE),\"\")","v":""},{"$nulls":6},{"$f":"IF(O1931>0,VLOOKUP(O1931,Set!$H$2:$J$16,2,FALSE),\"\")","v":""}]
[{"$nulls":8},{"$f":"IF(H1932>0,VLOOKUP(H1932,Set!$A$2:$B$4,2,FALSE),\"\")","v":""},{"$nulls":6},{"$f":"IF(O1932>0,VLOOKUP(O1932,Set!$H$2:$J$16,2,FALSE),\"\")","v":""}]
[{"$nulls":8},{"$f":"IF(H1933>0,VLOOKUP(H1933,Set!$A$2:$B$4,2,FALSE),\"\")","v":""},{"$nulls":6},{"$f":"IF(O1933>0,VLOOKUP(O1933,Set!$H$2:$J$16,2,FALSE),\"\")","v":""}]
[{"$nulls":8},{"$f":"IF(H1934>0,VLOOKUP(H1934,Set!$A$2:$B$4,2,FALSE),\"\")","v":""},{"$nulls":6},{"$f":"IF(O1934>0,VLOOKUP(O1934,Set!$H$2:$J$16,2,FALSE),\"\")","v":""}]
[{"$nulls":8},{"$f":"IF(H1935>0,VLOOKUP(H1935,Set!$A$2:$B$4,2,FALSE),\"\")","v":""},{"$nulls":6},{"$f":"IF(O1935>0,VLOOKUP(O1935,Set!$H$2:$J$16,2,FALSE),\"\")","v":""}]
[{"$nulls":8},{"$f":"IF(H1936>0,VLOOKUP(H1936,Set!$A$2:$B$4,2,FALSE),\"\")","v":""},{"$nulls":6},{"$f":"IF(O1936>0,VLOOKUP(O1936,Set!$H$2:$J$16,2,FALSE),\"\")","v":""}]
[{"$nulls":8},{"$f":"IF(H1937>0,VLOOKUP(H1937,Set!$A$2:$B$4,2,FALSE),\"\")","v":""},{"$nulls":6},{"$f":"IF(O1937>0,VLOOKUP(O1937,Set!$H$2:$J$16,2,FALSE),\"\")","v":""}]
[{"$nulls":8},{"$f":"IF(H1938>0,VLOOKUP(H1938,Set!$A$2:$B$4,2,FALSE),\"\")","v":""},{"$nulls":6},{"$f":"IF(O1938>0,VLOOKUP(O1938,Set!$H$2:$J$16,2,FALSE),\"\")","v":""}]
[{"$nulls":8},{"$f":"IF(H1939>0,VLOOKUP(H1939,Set!$A$2:$B$4,2,FALSE),\"\")","v":""},{"$nulls":6},{"$f":"IF(O1939>0,VLOOKUP(O1939,Set!$H$2:$J$16,2,FALSE),\"\")","v":""}]
[{"$nulls":8},{"$f":"IF(H1940>0,VLOOKUP(H1940,Set!$A$2:$B$4,2,FALSE),\"\")","v":""},{"$nulls":6},{"$f":"IF(O1940>0,VLOOKUP(O1940,Set!$H$2:$J$16,2,FALSE),\"\")","v":""}]
[{"$nulls":8},{"$f":"IF(H1941>0,VLOOKUP(H1941,Set!$A$2:$B$4,2,FALSE),\"\")","v":""},{"$nulls":6},{"$f":"IF(O1941>0,VLOOKUP(O1941,Set!$H$2:$J$16,2,FALSE),\"\")","v":""}]
[{"$nulls":8},{"$f":"IF(H1942>0,VLOOKUP(H1942,Set!$A$2:$B$4,2,FALSE),\"\")","v":""},{"$nulls":6},{"$f":"IF(O1942>0,VLOOKUP(O1942,Set!$H$2:$J$16,2,FALSE),\"\")","v":""}]
[{"$nulls":8},{"$f":"IF(H1943>0,VLOOKUP(H1943,Set!$A$2:$B$4,2,FALSE),\"\")","v":""},{"$nulls":6},{"$f":"IF(O1943>0,VLOOKUP(O1943,Set!$H$2:$J$16,2,FALSE),\"\")","v":""}]
[{"$nulls":8},{"$f":"IF(H1944>0,VLOOKUP(H1944,Set!$A$2:$B$4,2,FALSE),\"\")","v":""},{"$nulls":6},{"$f":"IF(O1944>0,VLOOKUP(O1944,Set!$H$2:$J$16,2,FALSE),\"\")","v":""}]
[{"$nulls":8},{"$f":"IF(H1945>0,VLOOKUP(H1945,Set!$A$2:$B$4,2,FALSE),\"\")","v":""},{"$nulls":6},{"$f":"IF(O1945>0,VLOOKUP(O1945,Set!$H$2:$J$16,2,FALSE),\"\")","v":""}]
[{"$nulls":8},{"$f":"IF(H1946>0,VLOOKUP(H1946,Set!$A$2:$B$4,2,FALSE),\"\")","v":""},{"$nulls":6},{"$f":"IF(O1946>0,VLOOKUP(O1946,Set!$H$2:$J$16,2,FALSE),\"\")","v":""}]
[{"$nulls":8},{"$f":"IF(H1947>0,VLOOKUP(H1947,Set!$A$2:$B$4,2,FALSE),\"\")","v":""},{"$nulls":6},{"$f":"IF(O1947>0,VLOOKUP(O1947,Set!$H$2:$J$16,2,FALSE),\"\")","v":""}]
[{"$nulls":8},{"$f":"IF(H1948>0,VLOOKUP(H1948,Set!$A$2:$B$4,2,FALSE),\"\")","v":""},{"$nulls":6},{"$f":"IF(O1948>0,VLOOKUP(O1948,Set!$H$2:$J$16,2,FALSE),\"\")","v":""}]
[{"$nulls":8},{"$f":"IF(H1949>0,VLOOKUP(H1949,Set!$A$2:$B$4,2,FALSE),\"\")","v":""},{"$nulls":6},{"$f":"IF(O1949>0,VLOOKUP(O1949,Set!$H$2:$J$16,2,FALSE),\"\")","v":""}]
[{"$nulls":8},{"$f":"IF(H1950>0,VLOOKUP(H1950,Set!$A$2:$B$4,2,FALSE),\"\")","v":""},{"$nulls":6},{"$f":"IF(O1950>0,VLOOKUP(O1950,Set!$H$2:$J$16,2,FALSE),\"\")","v":""}]
[{"$nulls":8},{"$f":"IF(H1951>0,VLOOKUP(H1951,Set!$A$2:$B$4,2,FALSE),\"\")","v":""},{"$nulls":6},{"$f":"IF(O1951>0,VLOOKUP(O1951,Set!$H$2:$J$16,2,FALSE),\"\")","v":""}]
[{"$nulls":8},{"$f":"IF(H1952>0,VLOOKUP(H1952,Set!$A$2:$B$4,2,FALSE),\"\")","v":""},{"$nulls":6},{"$f":"IF(O1952>0,VLOOKUP(O1952,Set!$H$2:$J$16,2,FALSE),\"\")","v":""}]
[{"$nulls":8},{"$f":"IF(H1953>0,VLOOKUP(H1953,Set!$A$2:$B$4,2,FALSE),\"\")","v":""},{"$nulls":6},{"$f":"IF(O1953>0,VLOOKUP(O1953,Set!$H$2:$J$16,2,FALSE),\"\")","v":""}]
[{"$nulls":8},{"$f":"IF(H1954>0,VLOOKUP(H1954,Set!$A$2:$B$4,2,FALSE),\"\")","v":""},{"$nulls":6},{"$f":"IF(O1954>0,VLOOKUP(O1954,Set!$H$2:$J$16,2,FALSE),\"\")","v":""}]
[{"$nulls":8},{"$f":"IF(H1955>0,VLOOKUP(H1955,Set!$A$2:$B$4,2,FALSE),\"\")","v":""},{"$nulls":6},{"$f":"IF(O1955>0,VLOOKUP(O1955,Set!$H$2:$J$16,2,FALSE),\"\")","v":""}]
[{"$nulls":8},{"$f":"IF(H1956>0,VLOOKUP(H1956,Set!$A$2:$B$4,2,FALSE),\"\")","v":""},{"$nulls":6},{"$f":"IF(O1956>0,VLOOKUP(O1956,Set!$H$2:$J$16,2,FALSE),\"\")","v":""}]
[{"$nulls":8},{"$f":"IF(H1957>0,VLOOKUP(H1957,Set!$A$2:$B$4,2,FALSE),\"\")","v":""},{"$nulls":6},{"$f":"IF(O1957>0,VLOOKUP(O1957,Set!$H$2:$J$16,2,FALSE),\"\")","v":""}]
[{"$nulls":8},{"$f":"IF(H1958>0,VLOOKUP(H1958,Set!$A$2:$B$4,2,FALSE),\"\")","v":""},{"$nulls":6},{"$f":"IF(O1958>0,VLOOKUP(O1958,Set!$H$2:$J$16,2,FALSE),\"\")","v":""}]
[{"$nulls":8},{"$f":"IF(H1959>0,VLOOKUP(H1959,Set!$A$2:$B$4,2,FALSE),\"\")","v":""},{"$nulls":6},{"$f":"IF(O1959>0,VLOOKUP(O1959,Set!$H$2:$J$16,2,FALSE),\"\")","v":""}]
[{"$nulls":8},{"$f":"IF(H1960>0,VLOOKUP(H1960,Set!$A$2:$B$4,2,FALSE),\"\")","v":""},{"$nulls":6},{"$f":"IF(O1960>0,VLOOKUP(O1960,Set!$H$2:$J$16,2,FALSE),\"\")","v":""}]
[{"$nulls":8},{"$f":"IF(H1961>0,VLOOKUP(H1961,Set!$A$2:$B$4,2,FALSE),\"\")","v":""},{"$nulls":6},{"$f":"IF(O1961>0,VLOOKUP(O1961,Set!$H$2:$J$16,2,FALSE),\"\")","v":""}]
[{"$nulls":8},{"$f":"IF(H1962>0,VLOOKUP(H1962,Set!$A$2:$B$4,2,FALSE),\"\")","v":""},{"$nulls":6},{"$f":"IF(O1962>0,VLOOKUP(O1962,Set!$H$2:$J$16,2,FALSE),\"\")","v":""}]
[{"$nulls":8},{"$f":"IF(H1963>0,VLOOKUP(H1963,Set!$A$2:$B$4,2,FALSE),\"\")","v":""},{"$nulls":6},{"$f":"IF(O1963>0,VLOOKUP(O1963,Set!$H$2:$J$16,2,FALSE),\"\")","v":""}]
[{"$nulls":8},{"$f":"IF(H1964>0,VLOOKUP(H1964,Set!$A$2:$B$4,2,FALSE),\"\")","v":""},{"$nulls":6},{"$f":"IF(O1964>0,VLOOKUP(O1964,Set!$H$2:$J$16,2,FALSE),\"\")","v":""}]
[{"$nulls":8},{"$f":"IF(H1965>0,VLOOKUP(H1965,Set!$A$2:$B$4,2,FALSE),\"\")","v":""},{"$nulls":6},{"$f":"IF(O1965>0,VLOOKUP(O1965,Set!$H$2:$J$16,2,FALSE),\"\")","v":""}]
[{"$nulls":8},{"$f":"IF(H1966>0,VLOOKUP(H1966,Set!$A$2:$B$4,2,FALSE),\"\")","v":""},{"$nulls":6},{"$f":"IF(O1966>0,VLOOKUP(O1966,Set!$H$2:$J$16,2,FALSE),\"\")","v":""}]
[{"$nulls":8},{"$f":"IF(H1967>0,VLOOKUP(H1967,Set!$A$2:$B$4,2,FALSE),\"\")","v":""},{"$nulls":6},{"$f":"IF(O1967>0,VLOOKUP(O1967,Set!$H$2:$J$16,2,FALSE),\"\")","v":""}]
[{"$nulls":8},{"$f":"IF(H1968>0,VLOOKUP(H1968,Set!$A$2:$B$4,2,FALSE),\"\")","v":""},{"$nulls":6},{"$f":"IF(O1968>0,VLOOKUP(O1968,Set!$H$2:$J$16,2,FALSE),\"\")","v":""}]
[{"$nulls":8},{"$f":"IF(H1969>0,VLOOKUP(H1969,Set!$A$2:$B$4,2,FALSE),\"\")","v":""},{"$nulls":6},{"$f":"IF(O1969>0,VLOOKUP(O1969,Set!$H$2:$J$16,2,FALSE),\"\")","v":""}]
[{"$nulls":8},{"$f":"IF(H1970>0,VLOOKUP(H1970,Set!$A$2:$B$4,2,FALSE),\"\")","v":""},{"$nulls":6},{"$f":"IF(O1970>0,VLOOKUP(O1970,Set!$H$2:$J$16,2,FALSE),\"\")","v":""}]
[{"$nulls":8},{"$f":"IF(H1971>0,VLOOKUP(H1971,Set!$A$2:$B$4,2,FALSE),\"\")","v":""},{"$nulls":6},{"$f":"IF(O1971>0,VLOOKUP(O1971,Set!$H$2:$J$16,2,FALSE),\"\")","v":""}]
[{"$nulls":8},{"$f":"IF(H1972>0,VLOOKUP(H1972,Set!$A$2:$B$4,2,FALSE),\"\")","v":""},{"$nulls":6},{"$f":"IF(O1972>0,VLOOKUP(O1972,Set!$H$2:$J$16,2,FALSE),\"\")","v":""}]
[{"$nulls":8},{"$f":"IF(H1973>0,VLOOKUP(H1973,Set!$A$2:$B$4,2,FALSE),\"\")","v":""},{"$nulls":6},{"$f":"IF(O1973>0,VLOOKUP(O1973,Set!$H$2:$J$16,2,FALSE),\"\")","v":""}]
[{"$nulls":8},{"$f":"IF(H1974>0,VLOOKUP(H1974,Set!$A$2:$B$4,2,FALSE),\"\")","v":""},{"$nulls":6},{"$f":"IF(O1974>0,VLOOKUP(O1974,Set!$H$2:$J$16,2,FALSE),\"\")","v":""}]
[{"$nulls":8},{"$f":"IF(H1975>0,VLOOKUP(H1975,Set!$A$2:$B$4,2,FALSE),\"\")","v":""},{"$nulls":6},{"$f":"IF(O1975>0,VLOOKUP(O1975,Set!$H$2:$J$16,2,FALSE),\"\")","v":""}]
[{"$nulls":8},{"$f":"IF(H1976>0,VLOOKUP(H1976,Set!$A$2:$B$4,2,FALSE),\"\")","v":""},{"$nulls":6},{"$f":"IF(O1976>0,VLOOKUP(O1976,Set!$H$2:$J$16,2,FALSE),\"\")","v":""}]
[{"$nulls":8},{"$f":"IF(H1977>0,VLOOKUP(H1977,Set!$A$2:$B$4,2,FALSE),\"\")","v":""},{"$nulls":6},{"$f":"IF(O1977>0,VLOOKUP(O1977,Set!$H$2:$J$16,2,FALSE),\"\")","v":""}]
[{"$nulls":8},{"$f":"IF(H1978>0,VLOOKUP(H1978,Set!$A$2:$B$4,2,FALSE),\"\")","v":""},{"$nulls":6},{"$f":"IF(O1978>0,VLOOKUP(O1978,Set!$H$2:$J$16,2,FALSE),\"\")","v":""}]
[{"$nulls":8},{"$f":"IF(H1979>0,VLOOKUP(H1979,Set!$A$2:$B$4,2,FALSE),\"\")","v":""},{"$nulls":6},{"$f":"IF(O1979>0,VLOOKUP(O1979,Set!$H$2:$J$16,2,FALSE),\"\")","v":""}]
[{"$nulls":8},{"$f":"IF(H1980>0,VLOOKUP(H1980,Set!$A$2:$B$4,2,FALSE),\"\")","v":""},{"$nulls":6},{"$f":"IF(O1980>0,VLOOKUP(O1980,Set!$H$2:$J$16,2,FALSE),\"\")","v":""}]
[{"$nulls":8},{"$f":"IF(H1981>0,VLOOKUP(H1981,Set!$A$2:$B$4,2,FALSE),\"\")","v":""},{"$nulls":6},{"$f":"IF(O1981>0,VLOOKUP(O1981,Set!$H$2:$J$16,2,FALSE),\"\")","v":""}]
[{"$nulls":8},{"$f":"IF(H1982>0,VLOOKUP(H1982,Set!$A$2:$B$4,2,FALSE),\"\")","v":""},{"$nulls":6},{"$f":"IF(O1982>0,VLOOKUP(O1982,Set!$H$2:$J$16,2,FALSE),\"\")","v":""}]
[{"$nulls":8},{"$f":"IF(H1983>0,VLOOKUP(H1983,Set!$A$2:$B$4,2,FALSE),\"\")","v":""},{"$nulls":6},{"$f":"IF(O1983>0,VLOOKUP(O1983,Set!$H$2:$J$16,2,FALSE),\"\")","v":""}]
[{"$nulls":8},{"$f":"IF(H1984>0,VLOOKUP(H1984,Set!$A$2:$B$4,2,FALSE),\"\")","v":""},{"$nulls":6},{"$f":"IF(O1984>0,VLOOKUP(O1984,Set!$H$2:$J$16,2,FALSE),\"\")","v":""}]
[{"$nulls":8},{"$f":"IF(H1985>0,VLOOKUP(H1985,Set!$A$2:$B$4,2,FALSE),\"\")","v":""},{"$nulls":6},{"$f":"IF(O1985>0,VLOOKUP(O1985,Set!$H$2:$J$16,2,FALSE),\"\")","v":""}]
[{"$nulls":8},{"$f":"IF(H1986>0,VLOOKUP(H1986,Set!$A$2:$B$4,2,FALSE),\"\")","v":""},{"$nulls":6},{"$f":"IF(O1986>0,VLOOKUP(O1986,Set!$H$2:$J$16,2,FALSE),\"\")","v":""}]
[{"$nulls":8},{"$f":"IF(H1987>0,VLOOKUP(H1987,Set!$A$2:$B$4,2,FALSE),\"\")","v":""},{"$nulls":6},{"$f":"IF(O1987>0,VLOOKUP(O1987,Set!$H$2:$J$16,2,FALSE),\"\")","v":""}]
[{"$nulls":8},{"$f":"IF(H1988>0,VLOOKUP(H1988,Set!$A$2:$B$4,2,FALSE),\"\")","v":""},{"$nulls":6},{"$f":"IF(O1988>0,VLOOKUP(O1988,Set!$H$2:$J$16,2,FALSE),\"\")","v":""}]
[{"$nulls":8},{"$f":"IF(H1989>0,VLOOKUP(H1989,Set!$A$2:$B$4,2,FALSE),\"\")","v":""},{"$nulls":6},{"$f":"IF(O1989>0,VLOOKUP(O1989,Set!$H$2:$J$16,2,FALSE),\"\")","v":""}]
[{"$nulls":8},{"$f":"IF(H1990>0,VLOOKUP(H1990,Set!$A$2:$B$4,2,FALSE),\"\")","v":""},{"$nulls":6},{"$f":"IF(O1990>0,VLOOKUP(O1990,Set!$H$2:$J$16,2,FALSE),\"\")","v":""}]
[{"$nulls":8},{"$f":"IF(H1991>0,VLOOKUP(H1991,Set!$A$2:$B$4,2,FALSE),\"\")","v":""},{"$nulls":6},{"$f":"IF(O1991>0,VLOOKUP(O1991,Set!$H$2:$J$16,2,FALSE),\"\")","v":""}]
[{"$nulls":8},{"$f":"IF(H1992>0,VLOOKUP(H1992,Set!$A$2:$B$4,2,FALSE),\"\")","v":""},{"$nulls":6},{"$f":"IF(O1992>0,VLOOKUP(O1992,Set!$H$2:$J$16,2,FALSE),\"\")","v":""}]
[{"$nulls":8},{"$f":"IF(H1993>0,VLOOKUP(H1993,Set!$A$2:$B$4,2,FALSE),\"\")","v":""},{"$nulls":6},{"$f":"IF(O1993>0,VLOOKUP(O1993,Set!$H$2:$J$16,2,FALSE),\"\")","v":""}]
[{"$nulls":8},{"$f":"IF(H1994>0,VLOOKUP(H1994,Set!$A$2:$B$4,2,FALSE),\"\")","v":""},{"$nulls":6},{"$f":"IF(O1994>0,VLOOKUP(O1994,Set!$H$2:$J$16,2,FALSE),\"\")","v":""}]
[{"$nulls":8},{"$f":"IF(H1995>0,VLOOKUP(H1995,Set!$A$2:$B$4,2,FALSE),\"\")","v":""},{"$nulls":6},{"$f":"IF(O1995>0,VLOOKUP(O1995,Set!$H$2:$J$16,2,FALSE),\"\")","v":""}]
[{"$nulls":8},{"$f":"IF(H1996>0,VLOOKUP(H1996,Set!$A$2:$B$4,2,FALSE),\"\")","v":""},{"$nulls":6},{"$f":"IF(O1996>0,VLOOKUP(O1996,Set!$H$2:$J$16,2,FALSE),\"\")","v":""}]
[{"$nulls":8},{"$f":"IF(H1997>0,VLOOKUP(H1997,Set!$A$2:$B$4,2,FALSE),\"\")","v":""},{"$nulls":6},{"$f":"IF(O1997>0,VLOOKUP(O1997,Set!$H$2:$J$16,2,FALSE),\"\")","v":""}]
[{"$nulls":8},{"$f":"IF(H1998>0,VLOOKUP(H1998,Set!$A$2:$B$4,2,FALSE),\"\")","v":""},{"$nulls":6},{"$f":"IF(O1998>0,VLOOKUP(O1998,Set!$H$2:$J$16,2,FALSE),\"\")","v":""}]
[{"$nulls":8},{"$f":"IF(H1999>0,VLOOKUP(H1999,Set!$A$2:$B$4,2,FALSE),\"\")","v":""},{"$nulls":6},{"$f":"IF(O1999>0,VLOOKUP(O1999,Set!$H$2:$J$16,2,FALSE),\"\")","v":""}]
[{"$nulls":8},{"$f":"IF(H2000>0,VLOOKUP(H2000,Set!$A$2:$B$4,2,FALSE),\"\")","v":""},{"$nulls":6},{"$f":"IF(O2000>0,VLOOKUP(O2000,Set!$H$2:$J$16,2,FALSE),\"\")","v":""}]
[{"$nulls":8},{"$f":"IF(H2001>0,VLOOKUP(H2001,Set!$A$2:$B$4,2,FALSE),\"\")","v":""},{"$nulls":6},{"$f":"IF(O2001>0,VLOOKUP(O2001,Set!$H$2:$J$16,2,FALSE),\"\")","v":""}]

{"sheet":"Set","index":1,"n_rows":24,"n_cols":10,"rows_kept":24,"cut":false,"hidden":true,"merged":[]}
["Rēķina veidi",null,null,"Valūta",null,"Samksas termiņs",null,"PVN kodi","Kods","Nosaukums"]
["Kredītrēķins","KR",null,"BGN",null,"00",null,"Bez PVN","B","Bez PVN "]
["Priekšapmaksas rēķins","PRR",null,"BYR",null,"01",null,"Pakalpojumi no ES","ESPA","Pakalpojumi no Eiropas Savienības"]
["Rēķins","IREK",null,"CHF",null,"02",null,"5% Preces no ES","ESPR05","Preces no Eiropas Savienības 5%"]
[null,null,null,"CNY",null,"03",null,"12% Preces no ES","ESPR12","Preces no Eiropas Savienības 12%"]
[null,null,null,"CZK",null,"04",null,"21% Preces no ES","ESPR21","Preces no Eiropas Savienības 21%"]
[null,null,null,"DKK",null,"05",null,"ES izņemts PVN reģ. nr.","EU","Eiropas savienībā izņemts PVN reģistrācijas nr."]
[null,null,null,"EUR",null,"06",null,"12 %","P12","PVN priekšnodokļa 12%"]
[null,null,null,"GBP",null,"07",null,"21 %","P21","PVN priekšnodokļa 21%"]
[null,null,null,"HRK",null,"08",null,"5 %","P5","PVN priekšnodokļa 5%"]
[null,null,null,"HUF",null,"09",null,"Vieglo TL iegāde un imports","PC","Vieglo transportlīdzekļu iegāde un imports"]
[null,null,null,"NOK",null,"10",null,"R1","R1","Reverss PVN kokmateriālu piegādei 141.p."]
[null,null,null,"PLN",null,"11",null,"R2","R2","Reverss PVN metāllūžņu piegādei 143.p."]
[null,null,null,"RUB",null,"12",null,"R3","R3","Reverss PVN būvniecības pakalpojumiem 142.p."]
[null,null,null,"SEK",null,"13",null,"R4","R4","Reverss PVN mobilo telefonu u.c. piegādei 143.1.p."]
[null,null,null,"USD",null,"14",null,"R5","R5","Reverss PVN graudaugu un tehnisko kultūru piegādei 143.2.p."]
[{"$nulls":5},"15",null,"R6","R6","Reverss PVN dārgmetālu sakausējumu piegādei 143.3.p."]
[{"$nulls":5},"16",null,"R7","R7","Reverss PVN metālizstrādājumu piegādei 143.4.p."]
[{"$nulls":5},"17",null,"R8","R8","Reverss PVN sadzīves elektronisko iekārtu piegādei 143.5.p."]
[{"$nulls":5},"18",null,"R9","R9","Reverss PVN būvizstrādājumu piegādei 142.p."]
[{"$nulls":5},"19"]
[{"$nulls":5},"20"]
[{"$nulls":5},"21"]
[{"$nulls":5},"30"]