{"text_format":"2","workbook":"xlsx","n_sheets":2,"sheets":["Sheet1","Set"],"not_rendered":{"charts":0,"images":0,"macros":0,"external_links":0,"defined_names":4,"comments":0,"pivot_tables":0},"unopened":[],"bounds":{"document_bytes":16777216,"sheet_cells":100000,"run_cost":"one","rows_first":2000,"rows_last":500,"rows_between":2000,"halvings":0,"cell_chars":16384,"cell_head_chars":4096},"cells_cut":0,"cells_raw":0,"read":"whole","date_system":"1900"}

{"sheet":"Sheet1","index":0,"n_rows":425,"n_cols":23,"rows_kept":425,"cut":false,"hidden":false,"merged":[[1,5,2,5],[1,8,2,8],[1,17,2,17]]}
[null,2,3,4,5,6,7,8,9,10,11,12,13,14,15,16,17,18,19,20,21,22,23]
[1,"Obligāts","Obligāts","Obligāts","Nemainīt","Pārbaude","Obligāts","Nemainīt","Pārbaude",{"$nulls":6},"Obligāts","Nemainīt","Pārbaude","bez mērvienības","bez mērvienības","bez mērvienības","bez mērvienības","bez mērvienības"]
[null,"Kods, bez atstarpēm","Artikula nosaukums","Artikula tips. Ievadi no izvēlnes. (noliktavas, ja vēlies uzskaitīt noliktavā)","TipsValue",null,"Mērvienība. Ievadi vērtību no izvēlnes","Mērvienības vērtība",null,"Artikula īsais kods","Komentārs. Informatīvs teksts","Artikula grupa. Ja vēlas izmantot, sākumā jāsagatavo Artikulu grupas MONEO sistēmā","Pārdošanas cena par vienību EUR","Svītru kods","Klase. Ja vēlas izmantot, sākumā jāsagatavo Artikulu klases MONEO sistēmā","Vai artikuls tiks uzskaitīts ar partijas/sērijas numuru?  Ievadi Jā/Nē","Sērijas artikuls (Value)",null,"Neto svars","Bruto svars","Platums","Gratums","Augstums"]
[1,"123ABCD","Skrūves","Noliktavas",{"$f":"IF(D4>0,VLOOKUP(D4,Set!$K$2:$L$4,2,FALSE),\"\")","v":1},null,"iepakojumi",{"$f":"IF(G4>0,VLOOKUP(G4,Set!$B$2:$C$13,2,FALSE),\"\")","v":"IEP"},{"$nulls":4},1.08,null,null,"Jā",{"$f":"IF(P4>0,VLOOKUP(P4,Set!$G$2:$H$3,2,FALSE),\"\")","v":1}]
[{"$nulls":4},{"$f":"IF(D5>0,VLOOKUP(D5,Set!$K$2:$L$4,2,FALSE),\"\")","v":""},null,null,{"$f":"IF(G5>0,VLOOKUP(G5,Set!$B$2:$C$13,2,FALSE),\"\")","v":""},{"$nulls":8},{"$f":"IF(P5>0,VLOOKUP(P5,Set!$G$2:$H$3,2,FALSE),\"\")","v":""}]
[{"$nulls":4},{"$f":"IF(D6>0,VLOOKUP(D6,Set!$K$2:$L$4,2,FALSE),\"\")","v":""},null,null,{"$f":"IF(G6>0,VLOOKUP(G6,Set!$B$2:$C$13,2,FALSE),\"\")","v":""},{"$nulls":8},{"$f":"IF(P6>0,VLOOKUP(P6,Set!$G$2:$H$3,2,FALSE),\"\")","v":""}]
[{"$nulls":4},{"$f":"IF(D7>0,VLOOKUP(D7,Set!$K$2:$L$4,2,FALSE),\"\")","v":""},null,null,{"$f":"IF(G7>0,VLOOKUP(G7,Set!$B$2:$C$13,2,FALSE),\"\")","v":""},{"$nulls":8},{"$f":"IF(P7>0,VLOOKUP(P7,Set!$G$2:$H$3,2,FALSE),\"\")","v":""}]
[{"$nulls":4},{"$f":"IF(D8>0,VLOOKUP(D8,Set!$K$2:$L$4,2,FALSE),\"\")","v":""},null,null,{"$f":"IF(G8>0,VLOOKUP(G8,Set!$B$2:$C$13,2,FALSE),\"\")","v":""},{"$nulls":8},{"$f":"IF(P8>0,VLOOKUP(P8,Set!$G$2:$H$3,2,FALSE),\"\")","v":""}]
[{"$nulls":4},{"$f":"IF(D9>0,VLOOKUP(D9,Set!$K$2:$L$4,2,FALSE),\"\")","v":""},null,null,{"$f":"IF(G9>0,VLOOKUP(G9,Set!$B$2:$C$13,2,FALSE),\"\")","v":""},{"$nulls":8},{"$f":"IF(P9>0,VLOOKUP(P9,Set!$G$2:$H$3,2,FALSE),\"\")","v":""}]
[{"$nulls":4},{"$f":"IF(D10>0,VLOOKUP(D10,Set!$K$2:$L$4,2,FALSE),\"\")","v":""},null,null,{"$f":"IF(G10>0,VLOOKUP(G10,Set!$B$2:$C$13,2,FALSE),\"\")","v":""},{"$nulls":8},{"$f":"IF(P10>0,VLOOKUP(P10,Set!$G$2:$H$3,2,FALSE),\"\")","v":""}]
[{"$nulls":4},{"$f":"IF(D11>0,VLOOKUP(D11,Set!$K$2:$L$4,2,FALSE),\"\")","v":""},null,null,{"$f":"IF(G11>0,VLOOKUP(G11,Set!$B$2:$C$13,2,FALSE),\"\")","v":""},{"$nulls":8},{"$f":"IF(P11>0,VLOOKUP(P11,Set!$G$2:$H$3,2,FALSE),\"\")","v":""}]
[{"$nulls":4},{"$f":"IF(D12>0,VLOOKUP(D12,Set!$K$2:$L$4,2,FALSE),\"\")","v":""},null,null,{"$f":"IF(G12>0,VLOOKUP(G12,Set!$B$2:$C$13,2,FALSE),\"\")","v":""},{"$nulls":8},{"$f":"IF(P12>0,VLOOKUP(P12,Set!$G$2:$H$3,2,FALSE),\"\")","v":""}]
[{"$nulls":4},{"$f":"IF(D13>0,VLOOKUP(D13,Set!$K$2:$L$4,2,FALSE),\"\")","v":""},null,null,{"$f":"IF(G13>0,VLOOKUP(G13,Set!$B$2:$C$13,2,FALSE),\"\")","v":""},{"$nulls":8},{"$f":"IF(P13>0,VLOOKUP(P13,Set!$G$2:$H$3,2,FALSE),\"\")","v":""}]
[{"$nulls":4},{"$f":"IF(D14>0,VLOOKUP(D14,Set!$K$2:$L$4,2,FALSE),\"\")","v":""},null,null,{"$f":"IF(G14>0,VLOOKUP(G14,Set!$B$2:$C$13,2,FALSE),\"\")","v":""},{"$nulls":8},{"$f":"IF(P14>0,VLOOKUP(P14,Set!$G$2:$H$3,2,FALSE),\"\")","v":""}]
[{"$nulls":4},{"$f":"IF(D15>0,VLOOKUP(D15,Set!$K$2:$L$4,2,FALSE),\"\")","v":""},null,null,{"$f":"IF(G15>0,VLOOKUP(G15,Set!$B$2:$C$13,2,FALSE),\"\")","v":""},{"$nulls":8},{"$f":"IF(P15>0,VLOOKUP(P15,Set!$G$2:$H$3,2,FALSE),\"\")","v":""}]
[{"$nulls":4},{"$f":"IF(D16>0,VLOOKUP(D16,Set!$K$2:$L$4,2,FALSE),\"\")","v":""},null,null,{"$f":"IF(G16>0,VLOOKUP(G16,Set!$B$2:$C$13,2,FALSE),\"\")","v":""},{"$nulls":8},{"$f":"IF(P16>0,VLOOKUP(P16,Set!$G$2:$H$3,2,FALSE),\"\")","v":""}]
[{"$nulls":4},{"$f":"IF(D17>0,VLOOKUP(D17,Set!$K$2:$L$4,2,FALSE),\"\")","v":""},null,null,{"$f":"IF(G17>0,VLOOKUP(G17,Set!$B$2:$C$13,2,FALSE),\"\")","v":""},{"$nulls":8},{"$f":"IF(P17>0,VLOOKUP(P17,Set!$G$2:$H$3,2,FALSE),\"\")","v":""}]
[{"$nulls":4},{"$f":"IF(D18>0,VLOOKUP(D18,Set!$K$2:$L$4,2,FALSE),\"\")","v":""},null,null,{"$f":"IF(G18>0,VLOOKUP(G18,Set!$B$2:$C$13,2,FALSE),\"\")","v":""},{"$nulls":8},{"$f":"IF(P18>0,VLOOKUP(P18,Set!$G$2:$H$3,2,FALSE),\"\")","v":""}]
[{"$nulls":4},{"$f":"IF(D19>0,VLOOKUP(D19,Set!$K$2:$L$4,2,FALSE),\"\")","v":""},null,null,{"$f":"IF(G19>0,VLOOKUP(G19,Set!$B$2:$C$13,2,FALSE),\"\")","v":""},{"$nulls":8},{"$f":"IF(P19>0,VLOOKUP(P19,Set!$G$2:$H$3,2,FALSE),\"\")","v":""}]
[{"$nulls":4},{"$f":"IF(D20>0,VLOOKUP(D20,Set!$K$2:$L$4,2,FALSE),\"\")","v":""},null,null,{"$f":"IF(G20>0,VLOOKUP(G20,Set!$B$2:$C$13,2,FALSE),\"\")","v":""},{"$nulls":8},{"$f":"IF(P20>0,VLOOKUP(P20,Set!$G$2:$H$3,2,FALSE),\"\")","v":""}]
[{"$nulls":4},{"$f":"IF(D21>0,VLOOKUP(D21,Set!$K$2:$L$4,2,FALSE),\"\")","v":""},null,null,{"$f":"IF(G21>0,VLOOKUP(G21,Set!$B$2:$C$13,2,FALSE),\"\")","v":""},{"$nulls":8},{"$f":"IF(P21>0,VLOOKUP(P21,Set!$G$2:$H$3,2,FALSE),\"\")","v":""}]
[{"$nulls":4},{"$f":"IF(D22>0,VLOOKUP(D22,Set!$K$2:$L$4,2,FALSE),\"\")","v":""},null,null,{"$f":"IF(G22>0,VLOOKUP(G22,Set!$B$2:$C$13,2,FALSE),\"\")","v":""},{"$nulls":8},{"$f":"IF(P22>0,VLOOKUP(P22,Set!$G$2:$H$3,2,FALSE),\"\")","v":""}]
[{"$nulls":4},{"$f":"IF(D23>0,VLOOKUP(D23,Set!$K$2:$L$4,2,FALSE),\"\")","v":""},null,null,{"$f":"IF(G23>0,VLOOKUP(G23,Set!$B$2:$C$13,2,FALSE),\"\")","v":""},{"$nulls":8},{"$f":"IF(P23>0,VLOOKUP(P23,Set!$G$2:$H$3,2,FALSE),\"\")","v":""}]
[{"$nulls":4},{"$f":"IF(D24>0,VLOOKUP(D24,Set!$K$2:$L$4,2,FALSE),\"\")","v":""},null,null,{"$f":"IF(G24>0,VLOOKUP(G24,Set!$B$2:$C$13,2,FALSE),\"\")","v":""},{"$nulls":8},{"$f":"IF(P24>0,VLOOKUP(P24,Set!$G$2:$H$3,2,FALSE),\"\")","v":""}]
[{"$nulls":4},{"$f":"IF(D25>0,VLOOKUP(D25,Set!$K$2:$L$4,2,FALSE),\"\")","v":""},null,null,{"$f":"IF(G25>0,VLOOKUP(G25,Set!$B$2:$C$13,2,FALSE),\"\")","v":""},{"$nulls":8},{"$f":"IF(P25>0,VLOOKUP(P25,Set!$G$2:$H$3,2,FALSE),\"\")","v":""}]
[{"$nulls":4},{"$f":"IF(D26>0,VLOOKUP(D26,Set!$K$2:$L$4,2,FALSE),\"\")","v":""},null,null,{"$f":"IF(G26>0,VLOOKUP(G26,Set!$B$2:$C$13,2,FALSE),\"\")","v":""},{"$nulls":8},{"$f":"IF(P26>0,VLOOKUP(P26,Set!$G$2:$H$3,2,FALSE),\"\")","v":""}]
[{"$nulls":4},{"$f":"IF(D27>0,VLOOKUP(D27,Set!$K$2:$L$4,2,FALSE),\"\")","v":""},null,null,{"$f":"IF(G27>0,VLOOKUP(G27,Set!$B$2:$C$13,2,FALSE),\"\")","v":""},{"$nulls":8},{"$f":"IF(P27>0,VLOOKUP(P27,Set!$G$2:$H$3,2,FALSE),\"\")","v":""}]
[{"$nulls":4},{"$f":"IF(D28>0,VLOOKUP(D28,Set!$K$2:$L$4,2,FALSE),\"\")","v":""},null,null,{"$f":"IF(G28>0,VLOOKUP(G28,Set!$B$2:$C$13,2,FALSE),\"\")","v":""},{"$nulls":8},{"$f":"IF(P28>0,VLOOKUP(P28,Set!$G$2:$H$3,2,FALSE),\"\")","v":""}]
[{"$nulls":4},{"$f":"IF(D29>0,VLOOKUP(D29,Set!$K$2:$L$4,2,FALSE),\"\")","v":""},null,null,{"$f":"IF(G29>0,VLOOKUP(G29,Set!$B$2:$C$13,2,FALSE),\"\")","v":""},{"$nulls":8},{"$f":"IF(P29>0,VLOOKUP(P29,Set!$G$2:$H$3,2,FALSE),\"\")","v":""}]
[{"$nulls":4},{"$f":"IF(D30>0,VLOOKUP(D30,Set!$K$2:$L$4,2,FALSE),\"\")","v":""},null,null,{"$f":"IF(G30>0,VLOOKUP(G30,Set!$B$2:$C$13,2,FALSE),\"\")","v":""},{"$nulls":8},{"$f":"IF(P30>0,VLOOKUP(P30,Set!$G$2:$H$3,2,FALSE),\"\")","v":""}]
[{"$nulls":4},{"$f":"IF(D31>0,VLOOKUP(D31,Set!$K$2:$L$4,2,FALSE),\"\")","v":""},null,null,{"$f":"IF(G31>0,VLOOKUP(G31,Set!$B$2:$C$13,2,FALSE),\"\")","v":""},{"$nulls":8},{"$f":"IF(P31>0,VLOOKUP(P31,Set!$G$2:$H$3,2,FALSE),\"\")","v":""}]
[{"$nulls":4},{"$f":"IF(D32>0,VLOOKUP(D32,Set!$K$2:$L$4,2,FALSE),\"\")","v":""},null,null,{"$f":"IF(G32>0,VLOOKUP(G32,Set!$B$2:$C$13,2,FALSE),\"\")","v":""},{"$nulls":8},{"$f":"IF(P32>0,VLOOKUP(P32,Set!$G$2:$H$3,2,FALSE),\"\")","v":""}]
[{"$nulls":4},{"$f":"IF(D33>0,VLOOKUP(D33,Set!$K$2:$L$4,2,FALSE),\"\")","v":""},null,null,{"$f":"IF(G33>0,VLOOKUP(G33,Set!$B$2:$C$13,2,FALSE),\"\")","v":""},{"$nulls":8},{"$f":"IF(P33>0,VLOOKUP(P33,Set!$G$2:$H$3,2,FALSE),\"\")","v":""}]
[{"$nulls":4},{"$f":"IF(D34>0,VLOOKUP(D34,Set!$K$2:$L$4,2,FALSE),\"\")","v":""},null,null,{"$f":"IF(G34>0,VLOOKUP(G34,Set!$B$2:$C$13,2,FALSE),\"\")","v":""},{"$nulls":8},{"$f":"IF(P34>0,VLOOKUP(P34,Set!$G$2:$H$3,2,FALSE),\"\")","v":""}]
[{"$nulls":4},{"$f":"IF(D35>0,VLOOKUP(D35,Set!$K$2:$L$4,2,FALSE),\"\")","v":""},null,null,{"$f":"IF(G35>0,VLOOKUP(G35,Set!$B$2:$C$13,2,FALSE),\"\")","v":""},{"$nulls":8},{"$f":"IF(P35>0,VLOOKUP(P35,Set!$G$2:$H$3,2,FALSE),\"\")","v":""}]
[{"$nulls":4},{"$f":"IF(D36>0,VLOOKUP(D36,Set!$K$2:$L$4,2,FALSE),\"\")","v":""},null,null,{"$f":"IF(G36>0,VLOOKUP(G36,Set!$B$2:$C$13,2,FALSE),\"\")","v":""},{"$nulls":8},{"$f":"IF(P36>0,VLOOKUP(P36,Set!$G$2:$H$3,2,FALSE),\"\")","v":""}]
[{"$nulls":4},{"$f":"IF(D37>0,VLOOKUP(D37,Set!$K$2:$L$4,2,FALSE),\"\")","v":""},null,null,{"$f":"IF(G37>0,VLOOKUP(G37,Set!$B$2:$C$13,2,FALSE),\"\")","v":""},{"$nulls":8},{"$f":"IF(P37>0,VLOOKUP(P37,Set!$G$2:$H$3,2,FALSE),\"\")","v":""}]
[{"$nulls":4},{"$f":"IF(D38>0,VLOOKUP(D38,Set!$K$2:$L$4,2,FALSE),\"\")","v":""},null,null,{"$f":"IF(G38>0,VLOOKUP(G38,Set!$B$2:$C$13,2,FALSE),\"\")","v":""},{"$nulls":8},{"$f":"IF(P38>0,VLOOKUP(P38,Set!$G$2:$H$3,2,FALSE),\"\")","v":""}]
[{"$nulls":4},{"$f":"IF(D39>0,VLOOKUP(D39,Set!$K$2:$L$4,2,FALSE),\"\")","v":""},null,null,{"$f":"IF(G39>0,VLOOKUP(G39,Set!$B$2:$C$13,2,FALSE),\"\")","v":""},{"$nulls":8},{"$f":"IF(P39>0,VLOOKUP(P39,Set!$G$2:$H$3,2,FALSE),\"\")","v":""}]
[{"$nulls":4},{"$f":"IF(D40>0,VLOOKUP(D40,Set!$K$2:$L$4,2,FALSE),\"\")","v":""},null,null,{"$f":"IF(G40>0,VLOOKUP(G40,Set!$B$2:$C$13,2,FALSE),\"\")","v":""},{"$nulls":8},{"$f":"IF(P40>0,VLOOKUP(P40,Set!$G$2:$H$3,2,FALSE),\"\")","v":""}]
[{"$nulls":4},{"$f":"IF(D41>0,VLOOKUP(D41,Set!$K$2:$L$4,2,FALSE),\"\")","v":""},null,null,{"$f":"IF(G41>0,VLOOKUP(G41,Set!$B$2:$C$13,2,FALSE),\"\")","v":""},{"$nulls":8},{"$f":"IF(P41>0,VLOOKUP(P41,Set!$G$2:$H$3,2,FALSE),\"\")","v":""}]
[{"$nulls":4},{"$f":"IF(D42>0,VLOOKUP(D42,Set!$K$2:$L$4,2,FALSE),\"\")","v":""},null,null,{"$f":"IF(G42>0,VLOOKUP(G42,Set!$B$2:$C$13,2,FALSE),\"\")","v":""},{"$nulls":8},{"$f":"IF(P42>0,VLOOKUP(P42,Set!$G$2:$H$3,2,FALSE),\"\")","v":""}]
[{"$nulls":4},{"$f":"IF(D43>0,VLOOKUP(D43,Set!$K$2:$L$4,2,FALSE),\"\")","v":""},null,null,{"$f":"IF(G43>0,VLOOKUP(G43,Set!$B$2:$C$13,2,FALSE),\"\")","v":""},{"$nulls":8},{"$f":"IF(P43>0,VLOOKUP(P43,Set!$G$2:$H$3,2,FALSE),\"\")","v":""}]
[{"$nulls":4},{"$f":"IF(D44>0,VLOOKUP(D44,Set!$K$2:$L$4,2,FALSE),\"\")","v":""},null,null,{"$f":"IF(G44>0,VLOOKUP(G44,Set!$B$2:$C$13,2,FALSE),\"\")","v":""},{"$nulls":8},{"$f":"IF(P44>0,VLOOKUP(P44,Set!$G$2:$H$3,2,FALSE),\"\")","v":""}]
[{"$nulls":4},{"$f":"IF(D45>0,VLOOKUP(D45,Set!$K$2:$L$4,2,FALSE),\"\")","v":""},null,null,{"$f":"IF(G45>0,VLOOKUP(G45,Set!$B$2:$C$13,2,FALSE),\"\")","v":""},{"$nulls":8},{"$f":"IF(P45>0,VLOOKUP(P45,Set!$G$2:$H$3,2,FALSE),\"\")","v":""}]
[{"$nulls":4},{"$f":"IF(D46>0,VLOOKUP(D46,Set!$K$2:$L$4,2,FALSE),\"\")","v":""},null,null,{"$f":"IF(G46>0,VLOOKUP(G46,Set!$B$2:$C$13,2,FALSE),\"\")","v":""},{"$nulls":8},{"$f":"IF(P46>0,VLOOKUP(P46,Set!$G$2:$H$3,2,FALSE),\"\")","v":""}]
[{"$nulls":4},{"$f":"IF(D47>0,VLOOKUP(D47,Set!$K$2:$L$4,2,FALSE),\"\")","v":""},null,null,{"$f":"IF(G47>0,VLOOKUP(G47,Set!$B$2:$C$13,2,FALSE),\"\")","v":""},{"$nulls":8},{"$f":"IF(P47>0,VLOOKUP(P47,Set!$G$2:$H$3,2,FALSE),\"\")","v":""}]
[{"$nulls":4},{"$f":"IF(D48>0,VLOOKUP(D48,Set!$K$2:$L$4,2,FALSE),\"\")","v":""},null,null,{"$f":"IF(G48>0,VLOOKUP(G48,Set!$B$2:$C$13,2,FALSE),\"\")","v":""},{"$nulls":8},{"$f":"IF(P48>0,VLOOKUP(P48,Set!$G$2:$H$3,2,FALSE),\"\")","v":""}]
[{"$nulls":4},{"$f":"IF(D49>0,VLOOKUP(D49,Set!$K$2:$L$4,2,FALSE),\"\")","v":""},null,null,{"$f":"IF(G49>0,VLOOKUP(G49,Set!$B$2:$C$13,2,FALSE),\"\")","v":""},{"$nulls":8},{"$f":"IF(P49>0,VLOOKUP(P49,Set!$G$2:$H$3,2,FALSE),\"\")","v":""}]
[{"$nulls":4},{"$f":"IF(D50>0,VLOOKUP(D50,Set!$K$2:$L$4,2,FALSE),\"\")","v":""},null,null,{"$f":"IF(G50>0,VLOOKUP(G50,Set!$B$2:$C$13,2,FALSE),\"\")","v":""},{"$nulls":8},{"$f":"IF(P50>0,VLOOKUP(P50,Set!$G$2:$H$3,2,FALSE),\"\")","v":""}]
[{"$nulls":4},{"$f":"IF(D51>0,VLOOKUP(D51,Set!$K$2:$L$4,2,FALSE),\"\")","v":""},null,null,{"$f":"IF(G51>0,VLOOKUP(G51,Set!$B$2:$C$13,2,FALSE),\"\")","v":""},{"$nulls":8},{"$f":"IF(P51>0,VLOOKUP(P51,Set!$G$2:$H$3,2,FALSE),\"\")","v":""}]
[{"$nulls":4},{"$f":"IF(D52>0,VLOOKUP(D52,Set!$K$2:$L$4,2,FALSE),\"\")","v":""},null,null,{"$f":"IF(G52>0,VLOOKUP(G52,Set!$B$2:$C$13,2,FALSE),\"\")","v":""},{"$nulls":8},{"$f":"IF(P52>0,VLOOKUP(P52,Set!$G$2:$H$3,2,FALSE),\"\")","v":""}]
[{"$nulls":4},{"$f":"IF(D53>0,VLOOKUP(D53,Set!$K$2:$L$4,2,FALSE),\"\")","v":""},null,null,{"$f":"IF(G53>0,VLOOKUP(G53,Set!$B$2:$C$13,2,FALSE),\"\")","v":""},{"$nulls":8},{"$f":"IF(P53>0,VLOOKUP(P53,Set!$G$2:$H$3,2,FALSE),\"\")","v":""}]
[{"$nulls":4},{"$f":"IF(D54>0,VLOOKUP(D54,Set!$K$2:$L$4,2,FALSE),\"\")","v":""},null,null,{"$f":"IF(G54>0,VLOOKUP(G54,Set!$B$2:$C$13,2,FALSE),\"\")","v":""},{"$nulls":8},{"$f":"IF(P54>0,VLOOKUP(P54,Set!$G$2:$H$3,2,FALSE),\"\")","v":""}]
[{"$nulls":4},{"$f":"IF(D55>0,VLOOKUP(D55,Set!$K$2:$L$4,2,FALSE),\"\")","v":""},null,null,{"$f":"IF(G55>0,VLOOKUP(G55,Set!$B$2:$C$13,2,FALSE),\"\")","v":""},{"$nulls":8},{"$f":"IF(P55>0,VLOOKUP(P55,Set!$G$2:$H$3,2,FALSE),\"\")","v":""}]
[{"$nulls":4},{"$f":"IF(D56>0,VLOOKUP(D56,Set!$K$2:$L$4,2,FALSE),\"\")","v":""},null,null,{"$f":"IF(G56>0,VLOOKUP(G56,Set!$B$2:$C$13,2,FALSE),\"\")","v":""},{"$nulls":8},{"$f":"IF(P56>0,VLOOKUP(P56,Set!$G$2:$H$3,2,FALSE),\"\")","v":""}]
[{"$nulls":4},{"$f":"IF(D57>0,VLOOKUP(D57,Set!$K$2:$L$4,2,FALSE),\"\")","v":""},null,null,{"$f":"IF(G57>0,VLOOKUP(G57,Set!$B$2:$C$13,2,FALSE),\"\")","v":""},{"$nulls":8},{"$f":"IF(P57>0,VLOOKUP(P57,Set!$G$2:$H$3,2,FALSE),\"\")","v":""}]
[{"$nulls":4},{"$f":"IF(D58>0,VLOOKUP(D58,Set!$K$2:$L$4,2,FALSE),\"\")","v":""},null,null,{"$f":"IF(G58>0,VLOOKUP(G58,Set!$B$2:$C$13,2,FALSE),\"\")","v":""},{"$nulls":8},{"$f":"IF(P58>0,VLOOKUP(P58,Set!$G$2:$H$3,2,FALSE),\"\")","v":""}]
[{"$nulls":4},{"$f":"IF(D59>0,VLOOKUP(D59,Set!$K$2:$L$4,2,FALSE),\"\")","v":""},null,null,{"$f":"IF(G59>0,VLOOKUP(G59,Set!$B$2:$C$13,2,FALSE),\"\")","v":""},{"$nulls":8},{"$f":"IF(P59>0,VLOOKUP(P59,Set!$G$2:$H$3,2,FALSE),\"\")","v":""}]
[{"$nulls":4},{"$f":"IF(D60>0,VLOOKUP(D60,Set!$K$2:$L$4,2,FALSE),\"\")","v":""},null,null,{"$f":"IF(G60>0,VLOOKUP(G60,Set!$B$2:$C$13,2,FALSE),\"\")","v":""},{"$nulls":8},{"$f":"IF(P60>0,VLOOKUP(P60,Set!$G$2:$H$3,2,FALSE),\"\")","v":""}]
[{"$nulls":4},{"$f":"IF(D61>0,VLOOKUP(D61,Set!$K$2:$L$4,2,FALSE),\"\")","v":""},null,null,{"$f":"IF(G61>0,VLOOKUP(G61,Set!$B$2:$C$13,2,FALSE),\"\")","v":""},{"$nulls":8},{"$f":"IF(P61>0,VLOOKUP(P61,Set!$G$2:$H$3,2,FALSE),\"\")","v":""}]
[{"$nulls":4},{"$f":"IF(D62>0,VLOOKUP(D62,Set!$K$2:$L$4,2,FALSE),\"\")","v":""},null,null,{"$f":"IF(G62>0,VLOOKUP(G62,Set!$B$2:$C$13,2,FALSE),\"\")","v":""},{"$nulls":8},{"$f":"IF(P62>0,VLOOKUP(P62,Set!$G$2:$H$3,2,FALSE),\"\")","v":""}]
[{"$nulls":4},{"$f":"IF(D63>0,VLOOKUP(D63,Set!$K$2:$L$4,2,FALSE),\"\")","v":""},null,null,{"$f":"IF(G63>0,VLOOKUP(G63,Set!$B$2:$C$13,2,FALSE),\"\")","v":""},{"$nulls":8},{"$f":"IF(P63>0,VLOOKUP(P63,Set!$G$2:$H$3,2,FALSE),\"\")","v":""}]
[{"$nulls":4},{"$f":"IF(D64>0,VLOOKUP(D64,Set!$K$2:$L$4,2,FALSE),\"\")","v":""},null,null,{"$f":"IF(G64>0,VLOOKUP(G64,Set!$B$2:$C$13,2,FALSE),\"\")","v":""},{"$nulls":8},{"$f":"IF(P64>0,VLOOKUP(P64,Set!$G$2:$H$3,2,FALSE),\"\")","v":""}]
[{"$nulls":4},{"$f":"IF(D65>0,VLOOKUP(D65,Set!$K$2:$L$4,2,FALSE),\"\")","v":""},null,null,{"$f":"IF(G65>0,VLOOKUP(G65,Set!$B$2:$C$13,2,FALSE),\"\")","v":""},{"$nulls":8},{"$f":"IF(P65>0,VLOOKUP(P65,Set!$G$2:$H$3,2,FALSE),\"\")","v":""}]
[{"$nulls":4},{"$f":"IF(D66>0,VLOOKUP(D66,Set!$K$2:$L$4,2,FALSE),\"\")","v":""},null,null,{"$f":"IF(G66>0,VLOOKUP(G66,Set!$B$2:$C$13,2,FALSE),\"\")","v":""},{"$nulls":8},{"$f":"IF(P66>0,VLOOKUP(P66,Set!$G$2:$H$3,2,FALSE),\"\")","v":""}]
[{"$nulls":4},{"$f":"IF(D67>0,VLOOKUP(D67,Set!$K$2:$L$4,2,FALSE),\"\")","v":""},null,null,{"$f":"IF(G67>0,VLOOKUP(G67,Set!$B$2:$C$13,2,FALSE),\"\")","v":""},{"$nulls":8},{"$f":"IF(P67>0,VLOOKUP(P67,Set!$G$2:$H$3,2,FALSE),\"\")","v":""}]
[{"$nulls":4},{"$f":"IF(D68>0,VLOOKUP(D68,Set!$K$2:$L$4,2,FALSE),\"\")","v":""},null,null,{"$f":"IF(G68>0,VLOOKUP(G68,Set!$B$2:$C$13,2,FALSE),\"\")","v":""},{"$nulls":8},{"$f":"IF(P68>0,VLOOKUP(P68,Set!$G$2:$H$3,2,FALSE),\"\")","v":""}]
[{"$nulls":4},{"$f":"IF(D69>0,VLOOKUP(D69,Set!$K$2:$L$4,2,FALSE),\"\")","v":""},null,null,{"$f":"IF(G69>0,VLOOKUP(G69,Set!$B$2:$C$13,2,FALSE),\"\")","v":""},{"$nulls":8},{"$f":"IF(P69>0,VLOOKUP(P69,Set!$G$2:$H$3,2,FALSE),\"\")","v":""}]
[{"$nulls":4},{"$f":"IF(D70>0,VLOOKUP(D70,Set!$K$2:$L$4,2,FALSE),\"\")","v":""},null,null,{"$f":"IF(G70>0,VLOOKUP(G70,Set!$B$2:$C$13,2,FALSE),\"\")","v":""},{"$nulls":8},{"$f":"IF(P70>0,VLOOKUP(P70,Set!$G$2:$H$3,2,FALSE),\"\")","v":""}]
[{"$nulls":4},{"$f":"IF(D71>0,VLOOKUP(D71,Set!$K$2:$L$4,2,FALSE),\"\")","v":""},null,null,{"$f":"IF(G71>0,VLOOKUP(G71,Set!$B$2:$C$13,2,FALSE),\"\")","v":""},{"$nulls":8},{"$f":"IF(P71>0,VLOOKUP(P71,Set!$G$2:$H$3,2,FALSE),\"\")","v":""}]
[{"$nulls":4},{"$f":"IF(D72>0,VLOOKUP(D72,Set!$K$2:$L$4,2,FALSE),\"\")","v":""},null,null,{"$f":"IF(G72>0,VLOOKUP(G72,Set!$B$2:$C$13,2,FALSE),\"\")","v":""},{"$nulls":8},{"$f":"IF(P72>0,VLOOKUP(P72,Set!$G$2:$H$3,2,FALSE),\"\")","v":""}]
[{"$nulls":4},{"$f":"IF(D73>0,VLOOKUP(D73,Set!$K$2:$L$4,2,FALSE),\"\")","v":""},null,null,{"$f":"IF(G73>0,VLOOKUP(G73,Set!$B$2:$C$13,2,FALSE),\"\")","v":""},{"$nulls":8},{"$f":"IF(P73>0,VLOOKUP(P73,Set!$G$2:$H$3,2,FALSE),\"\")","v":""}]
[{"$nulls":4},{"$f":"IF(D74>0,VLOOKUP(D74,Set!$K$2:$L$4,2,FALSE),\"\")","v":""},null,null,{"$f":"IF(G74>0,VLOOKUP(G74,Set!$B$2:$C$13,2,FALSE),\"\")","v":""},{"$nulls":8},{"$f":"IF(P74>0,VLOOKUP(P74,Set!$G$2:$H$3,2,FALSE),\"\")","v":""}]
[{"$nulls":4},{"$f":"IF(D75>0,VLOOKUP(D75,Set!$K$2:$L$4,2,FALSE),\"\")","v":""},null,null,{"$f":"IF(G75>0,VLOOKUP(G75,Set!$B$2:$C$13,2,FALSE),\"\")","v":""},{"$nulls":8},{"$f":"IF(P75>0,VLOOKUP(P75,Set!$G$2:$H$3,2,FALSE),\"\")","v":""}]
[{"$nulls":4},{"$f":"IF(D76>0,VLOOKUP(D76,Set!$K$2:$L$4,2,FALSE),\"\")","v":""},null,null,{"$f":"IF(G76>0,VLOOKUP(G76,Set!$B$2:$C$13,2,FALSE),\"\")","v":""},{"$nulls":8},{"$f":"IF(P76>0,VLOOKUP(P76,Set!$G$2:$H$3,2,FALSE),\"\")","v":""}]
[{"$nulls":4},{"$f":"IF(D77>0,VLOOKUP(D77,Set!$K$2:$L$4,2,FALSE),\"\")","v":""},null,null,{"$f":"IF(G77>0,VLOOKUP(G77,Set!$B$2:$C$13,2,FALSE),\"\")","v":""},{"$nulls":8},{"$f":"IF(P77>0,VLOOKUP(P77,Set!$G$2:$H$3,2,FALSE),\"\")","v":""}]
[{"$nulls":4},{"$f":"IF(D78>0,VLOOKUP(D78,Set!$K$2:$L$4,2,FALSE),\"\")","v":""},null,null,{"$f":"IF(G78>0,VLOOKUP(G78,Set!$B$2:$C$13,2,FALSE),\"\")","v":""},{"$nulls":8},{"$f":"IF(P78>0,VLOOKUP(P78,Set!$G$2:$H$3,2,FALSE),\"\")","v":""}]
[{"$nulls":4},{"$f":"IF(D79>0,VLOOKUP(D79,Set!$K$2:$L$4,2,FALSE),\"\")","v":""},null,null,{"$f":"IF(G79>0,VLOOKUP(G79,Set!$B$2:$C$13,2,FALSE),\"\")","v":""},{"$nulls":8},{"$f":"IF(P79>0,VLOOKUP(P79,Set!$G$2:$H$3,2,FALSE),\"\")","v":""}]
[{"$nulls":4},{"$f":"IF(D80>0,VLOOKUP(D80,Set!$K$2:$L$4,2,FALSE),\"\")","v":""},null,null,{"$f":"IF(G80>0,VLOOKUP(G80,Set!$B$2:$C$13,2,FALSE),\"\")","v":""},{"$nulls":8},{"$f":"IF(P80>0,VLOOKUP(P80,Set!$G$2:$H$3,2,FALSE),\"\")","v":""}]
[{"$nulls":4},{"$f":"IF(D81>0,VLOOKUP(D81,Set!$K$2:$L$4,2,FALSE),\"\")","v":""},null,null,{"$f":"IF(G81>0,VLOOKUP(G81,Set!$B$2:$C$13,2,FALSE),\"\")","v":""},{"$nulls":8},{"$f":"IF(P81>0,VLOOKUP(P81,Set!$G$2:$H$3,2,FALSE),\"\")","v":""}]
[{"$nulls":4},{"$f":"IF(D82>0,VLOOKUP(D82,Set!$K$2:$L$4,2,FALSE),\"\")","v":""},null,null,{"$f":"IF(G82>0,VLOOKUP(G82,Set!$B$2:$C$13,2,FALSE),\"\")","v":""},{"$nulls":8},{"$f":"IF(P82>0,VLOOKUP(P82,Set!$G$2:$H$3,2,FALSE),\"\")","v":""}]
[{"$nulls":4},{"$f":"IF(D83>0,VLOOKUP(D83,Set!$K$2:$L$4,2,FALSE),\"\")","v":""},null,null,{"$f":"IF(G83>0,VLOOKUP(G83,Set!$B$2:$C$13,2,FALSE),\"\")","v":""},{"$nulls":8},{"$f":"IF(P83>0,VLOOKUP(P83,Set!$G$2:$H$3,2,FALSE),\"\")","v":""}]
[{"$nulls":4},{"$f":"IF(D84>0,VLOOKUP(D84,Set!$K$2:$L$4,2,FALSE),\"\")","v":""},null,null,{"$f":"IF(G84>0,VLOOKUP(G84,Set!$B$2:$C$13,2,FALSE),\"\")","v":""},{"$nulls":8},{"$f":"IF(P84>0,VLOOKUP(P84,Set!$G$2:$H$3,2,FALSE),\"\")","v":""}]
[{"$nulls":4},{"$f":"IF(D85>0,VLOOKUP(D85,Set!$K$2:$L$4,2,FALSE),\"\")","v":""},null,null,{"$f":"IF(G85>0,VLOOKUP(G85,Set!$B$2:$C$13,2,FALSE),\"\")","v":""},{"$nulls":8},{"$f":"IF(P85>0,VLOOKUP(P85,Set!$G$2:$H$3,2,FALSE),\"\")","v":""}]
[{"$nulls":4},{"$f":"IF(D86>0,VLOOKUP(D86,Set!$K$2:$L$4,2,FALSE),\"\")","v":""},null,null,{"$f":"IF(G86>0,VLOOKUP(G86,Set!$B$2:$C$13,2,FALSE),\"\")","v":""},{"$nulls":8},{"$f":"IF(P86>0,VLOOKUP(P86,Set!$G$2:$H$3,2,FALSE),\"\")","v":""}]
[{"$nulls":4},{"$f":"IF(D87>0,VLOOKUP(D87,Set!$K$2:$L$4,2,FALSE),\"\")","v":""},null,null,{"$f":"IF(G87>0,VLOOKUP(G87,Set!$B$2:$C$13,2,FALSE),\"\")","v":""},{"$nulls":8},{"$f":"IF(P87>0,VLOOKUP(P87,Set!$G$2:$H$3,2,FALSE),\"\")","v":""}]
[{"$nulls":4},{"$f":"IF(D88>0,VLOOKUP(D88,Set!$K$2:$L$4,2,FALSE),\"\")","v":""},null,null,{"$f":"IF(G88>0,VLOOKUP(G88,Set!$B$2:$C$13,2,FALSE),\"\")","v":""},{"$nulls":8},{"$f":"IF(P88>0,VLOOKUP(P88,Set!$G$2:$H$3,2,FALSE),\"\")","v":""}]
[{"$nulls":4},{"$f":"IF(D89>0,VLOOKUP(D89,Set!$K$2:$L$4,2,FALSE),\"\")","v":""},null,null,{"$f":"IF(G89>0,VLOOKUP(G89,Set!$B$2:$C$13,2,FALSE),\"\")","v":""},{"$nulls":8},{"$f":"IF(P89>0,VLOOKUP(P89,Set!$G$2:$H$3,2,FALSE),\"\")","v":""}]
[{"$nulls":4},{"$f":"IF(D90>0,VLOOKUP(D90,Set!$K$2:$L$4,2,FALSE),\"\")","v":""},null,null,{"$f":"IF(G90>0,VLOOKUP(G90,Set!$B$2:$C$13,2,FALSE),\"\")","v":""},{"$nulls":8},{"$f":"IF(P90>0,VLOOKUP(P90,Set!$G$2:$H$3,2,FALSE),\"\")","v":""}]
[{"$nulls":4},{"$f":"IF(D91>0,VLOOKUP(D91,Set!$K$2:$L$4,2,FALSE),\"\")","v":""},null,null,{"$f":"IF(G91>0,VLOOKUP(G91,Set!$B$2:$C$13,2,FALSE),\"\")","v":""},{"$nulls":8},{"$f":"IF(P91>0,VLOOKUP(P91,Set!$G$2:$H$3,2,FALSE),\"\")","v":""}]
[{"$nulls":4},{"$f":"IF(D92>0,VLOOKUP(D92,Set!$K$2:$L$4,2,FALSE),\"\")","v":""},null,null,{"$f":"IF(G92>0,VLOOKUP(G92,Set!$B$2:$C$13,2,FALSE),\"\")","v":""},{"$nulls":8},{"$f":"IF(P92>0,VLOOKUP(P92,Set!$G$2:$H$3,2,FALSE),\"\")","v":""}]
[{"$nulls":4},{"$f":"IF(D93>0,VLOOKUP(D93,Set!$K$2:$L$4,2,FALSE),\"\")","v":""},null,null,{"$f":"IF(G93>0,VLOOKUP(G93,Set!$B$2:$C$13,2,FALSE),\"\")","v":""},{"$nulls":8},{"$f":"IF(P93>0,VLOOKUP(P93,Set!$G$2:$H$3,2,FALSE),\"\")","v":""}]
[{"$nulls":4},{"$f":"IF(D94>0,VLOOKUP(D94,Set!$K$2:$L$4,2,FALSE),\"\")","v":""},null,null,{"$f":"IF(G94>0,VLOOKUP(G94,Set!$B$2:$C$13,2,FALSE),\"\")","v":""},{"$nulls":8},{"$f":"IF(P94>0,VLOOKUP(P94,Set!$G$2:$H$3,2,FALSE),\"\")","v":""}]
[{"$nulls":4},{"$f":"IF(D95>0,VLOOKUP(D95,Set!$K$2:$L$4,2,FALSE),\"\")","v":""},null,null,{"$f":"IF(G95>0,VLOOKUP(G95,Set!$B$2:$C$13,2,FALSE),\"\")","v":""},{"$nulls":8},{"$f":"IF(P95>0,VLOOKUP(P95,Set!$G$2:$H$3,2,FALSE),\"\")","v":""}]
[{"$nulls":4},{"$f":"IF(D96>0,VLOOKUP(D96,Set!$K$2:$L$4,2,FALSE),\"\")","v":""},null,null,{"$f":"IF(G96>0,VLOOKUP(G96,Set!$B$2:$C$13,2,FALSE),\"\")","v":""},{"$nulls":8},{"$f":"IF(P96>0,VLOOKUP(P96,Set!$G$2:$H$3,2,FALSE),\"\")","v":""}]
[{"$nulls":4},{"$f":"IF(D97>0,VLOOKUP(D97,Set!$K$2:$L$4,2,FALSE),\"\")","v":""},null,null,{"$f":"IF(G97>0,VLOOKUP(G97,Set!$B$2:$C$13,2,FALSE),\"\")","v":""},{"$nulls":8},{"$f":"IF(P97>0,VLOOKUP(P97,Set!$G$2:$H$3,2,FALSE),\"\")","v":""}]
[{"$nulls":4},{"$f":"IF(D98>0,VLOOKUP(D98,Set!$K$2:$L$4,2,FALSE),\"\")","v":""},null,null,{"$f":"IF(G98>0,VLOOKUP(G98,Set!$B$2:$C$13,2,FALSE),\"\")","v":""},{"$nulls":8},{"$f":"IF(P98>0,VLOOKUP(P98,Set!$G$2:$H$3,2,FALSE),\"\")","v":""}]
[{"$nulls":4},{"$f":"IF(D99>0,VLOOKUP(D99,Set!$K$2:$L$4,2,FALSE),\"\")","v":""},null,null,{"$f":"IF(G99>0,VLOOKUP(G99,Set!$B$2:$C$13,2,FALSE),\"\")","v":""},{"$nulls":8},{"$f":"IF(P99>0,VLOOKUP(P99,Set!$G$2:$H$3,2,FALSE),\"\")","v":""}]
[{"$nulls":4},{"$f":"IF(D100>0,VLOOKUP(D100,Set!$K$2:$L$4,2,FALSE),\"\")","v":""},null,null,{"$f":"IF(G100>0,VLOOKUP(G100,Set!$B$2:$C$13,2,FALSE),\"\")","v":""},{"$nulls":8},{"$f":"IF(P100>0,VLOOKUP(P100,Set!$G$2:$H$3,2,FALSE),\"\")","v":""}]
[{"$nulls":4},{"$f":"IF(D101>0,VLOOKUP(D101,Set!$K$2:$L$4,2,FALSE),\"\")","v":""},null,null,{"$f":"IF(G101>0,VLOOKUP(G101,Set!$B$2:$C$13,2,FALSE),\"\")","v":""},{"$nulls":8},{"$f":"IF(P101>0,VLOOKUP(P101,Set!$G$2:$H$3,2,FALSE),\"\")","v":""}]
[{"$nulls":4},{"$f":"IF(D102>0,VLOOKUP(D102,Set!$K$2:$L$4,2,FALSE),\"\")","v":""},null,null,{"$f":"IF(G102>0,VLOOKUP(G102,Set!$B$2:$C$13,2,FALSE),\"\")","v":""},{"$nulls":8},{"$f":"IF(P102>0,VLOOKUP(P102,Set!$G$2:$H$3,2,FALSE),\"\")","v":""}]
[{"$nulls":4},{"$f":"IF(D103>0,VLOOKUP(D103,Set!$K$2:$L$4,2,FALSE),\"\")","v":""},null,null,{"$f":"IF(G103>0,VLOOKUP(G103,Set!$B$2:$C$13,2,FALSE),\"\")","v":""},{"$nulls":8},{"$f":"IF(P103>0,VLOOKUP(P103,Set!$G$2:$H$3,2,FALSE),\"\")","v":""}]
[{"$nulls":4},{"$f":"IF(D104>0,VLOOKUP(D104,Set!$K$2:$L$4,2,FALSE),\"\")","v":""},null,null,{"$f":"IF(G104>0,VLOOKUP(G104,Set!$B$2:$C$13,2,FALSE),\"\")","v":""},{"$nulls":8},{"$f":"IF(P104>0,VLOOKUP(P104,Set!$G$2:$H$3,2,FALSE),\"\")","v":""}]
[{"$nulls":4},{"$f":"IF(D105>0,VLOOKUP(D105,Set!$K$2:$L$4,2,FALSE),\"\")","v":""},null,null,{"$f":"IF(G105>0,VLOOKUP(G105,Set!$B$2:$C$13,2,FALSE),\"\")","v":""},{"$nulls":8},{"$f":"IF(P105>0,VLOOKUP(P105,Set!$G$2:$H$3,2,FALSE),\"\")","v":""}]
[{"$nulls":4},{"$f":"IF(D106>0,VLOOKUP(D106,Set!$K$2:$L$4,2,FALSE),\"\")","v":""},null,null,{"$f":"IF(G106>0,VLOOKUP(G106,Set!$B$2:$C$13,2,FALSE),\"\")","v":""},{"$nulls":8},{"$f":"IF(P106>0,VLOOKUP(P106,Set!$G$2:$H$3,2,FALSE),\"\")","v":""}]
[{"$nulls":4},{"$f":"IF(D107>0,VLOOKUP(D107,Set!$K$2:$L$4,2,FALSE),\"\")","v":""},null,null,{"$f":"IF(G107>0,VLOOKUP(G107,Set!$B$2:$C$13,2,FALSE),\"\")","v":""},{"$nulls":8},{"$f":"IF(P107>0,VLOOKUP(P107,Set!$G$2:$H$3,2,FALSE),\"\")","v":""}]
[{"$nulls":4},{"$f":"IF(D108>0,VLOOKUP(D108,Set!$K$2:$L$4,2,FALSE),\"\")","v":""},null,null,{"$f":"IF(G108>0,VLOOKUP(G108,Set!$B$2:$C$13,2,FALSE),\"\")","v":""},{"$nulls":8},{"$f":"IF(P108>0,VLOOKUP(P108,Set!$G$2:$H$3,2,FALSE),\"\")","v":""}]
[{"$nulls":4},{"$f":"IF(D109>0,VLOOKUP(D109,Set!$K$2:$L$4,2,FALSE),\"\")","v":""},null,null,{"$f":"IF(G109>0,VLOOKUP(G109,Set!$B$2:$C$13,2,FALSE),\"\")","v":""},{"$nulls":8},{"$f":"IF(P109>0,VLOOKUP(P109,Set!$G$2:$H$3,2,FALSE),\"\")","v":""}]
[{"$nulls":4},{"$f":"IF(D110>0,VLOOKUP(D110,Set!$K$2:$L$4,2,FALSE),\"\")","v":""},null,null,{"$f":"IF(G110>0,VLOOKUP(G110,Set!$B$2:$C$13,2,FALSE),\"\")","v":""},{"$nulls":8},{"$f":"IF(P110>0,VLOOKUP(P110,Set!$G$2:$H$3,2,FALSE),\"\")","v":""}]
[{"$nulls":4},{"$f":"IF(D111>0,VLOOKUP(D111,Set!$K$2:$L$4,2,FALSE),\"\")","v":""},null,null,{"$f":"IF(G111>0,VLOOKUP(G111,Set!$B$2:$C$13,2,FALSE),\"\")","v":""},{"$nulls":8},{"$f":"IF(P111>0,VLOOKUP(P111,Set!$G$2:$H$3,2,FALSE),\"\")","v":""}]
[{"$nulls":4},{"$f":"IF(D112>0,VLOOKUP(D112,Set!$K$2:$L$4,2,FALSE),\"\")","v":""},null,null,{"$f":"IF(G112>0,VLOOKUP(G112,Set!$B$2:$C$13,2,FALSE),\"\")","v":""},{"$nulls":8},{"$f":"IF(P112>0,VLOOKUP(P112,Set!$G$2:$H$3,2,FALSE),\"\")","v":""}]
[{"$nulls":4},{"$f":"IF(D113>0,VLOOKUP(D113,Set!$K$2:$L$4,2,FALSE),\"\")","v":""},null,null,{"$f":"IF(G113>0,VLOOKUP(G113,Set!$B$2:$C$13,2,FALSE),\"\")","v":""},{"$nulls":8},{"$f":"IF(P113>0,VLOOKUP(P113,Set!$G$2:$H$3,2,FALSE),\"\")","v":""}]
[{"$nulls":4},{"$f":"IF(D114>0,VLOOKUP(D114,Set!$K$2:$L$4,2,FALSE),\"\")","v":""},null,null,{"$f":"IF(G114>0,VLOOKUP(G114,Set!$B$2:$C$13,2,FALSE),\"\")","v":""},{"$nulls":8},{"$f":"IF(P114>0,VLOOKUP(P114,Set!$G$2:$H$3,2,FALSE),\"\")","v":""}]
[{"$nulls":4},{"$f":"IF(D115>0,VLOOKUP(D115,Set!$K$2:$L$4,2,FALSE),\"\")","v":""},null,null,{"$f":"IF(G115>0,VLOOKUP(G115,Set!$B$2:$C$13,2,FALSE),\"\")","v":""},{"$nulls":8},{"$f":"IF(P115>0,VLOOKUP(P115,Set!$G$2:$H$3,2,FALSE),\"\")","v":""}]
[{"$nulls":4},{"$f":"IF(D116>0,VLOOKUP(D116,Set!$K$2:$L$4,2,FALSE),\"\")","v":""},null,null,{"$f":"IF(G116>0,VLOOKUP(G116,Set!$B$2:$C$13,2,FALSE),\"\")","v":""},{"$nulls":8},{"$f":"IF(P116>0,VLOOKUP(P116,Set!$G$2:$H$3,2,FALSE),\"\")","v":""}]
[{"$nulls":4},{"$f":"IF(D117>0,VLOOKUP(D117,Set!$K$2:$L$4,2,FALSE),\"\")","v":""},null,null,{"$f":"IF(G117>0,VLOOKUP(G117,Set!$B$2:$C$13,2,FALSE),\"\")","v":""},{"$nulls":8},{"$f":"IF(P117>0,VLOOKUP(P117,Set!$G$2:$H$3,2,FALSE),\"\")","v":""}]
[{"$nulls":4},{"$f":"IF(D118>0,VLOOKUP(D118,Set!$K$2:$L$4,2,FALSE),\"\")","v":""},null,null,{"$f":"IF(G118>0,VLOOKUP(G118,Set!$B$2:$C$13,2,FALSE),\"\")","v":""},{"$nulls":8},{"$f":"IF(P118>0,VLOOKUP(P118,Set!$G$2:$H$3,2,FALSE),\"\")","v":""}]
[{"$nulls":4},{"$f":"IF(D119>0,VLOOKUP(D119,Set!$K$2:$L$4,2,FALSE),\"\")","v":""},null,null,{"$f":"IF(G119>0,VLOOKUP(G119,Set!$B$2:$C$13,2,FALSE),\"\")","v":""},{"$nulls":8},{"$f":"IF(P119>0,VLOOKUP(P119,Set!$G$2:$H$3,2,FALSE),\"\")","v":""}]
[{"$nulls":4},{"$f":"IF(D120>0,VLOOKUP(D120,Set!$K$2:$L$4,2,FALSE),\"\")","v":""},null,null,{"$f":"IF(G120>0,VLOOKUP(G120,Set!$B$2:$C$13,2,FALSE),\"\")","v":""},{"$nulls":8},{"$f":"IF(P120>0,VLOOKUP(P120,Set!$G$2:$H$3,2,FALSE),\"\")","v":""}]
[{"$nulls":4},{"$f":"IF(D121>0,VLOOKUP(D121,Set!$K$2:$L$4,2,FALSE),\"\")","v":""},null,null,{"$f":"IF(G121>0,VLOOKUP(G121,Set!$B$2:$C$13,2,FALSE),\"\")","v":""},{"$nulls":8},{"$f":"IF(P121>0,VLOOKUP(P121,Set!$G$2:$H$3,2,FALSE),\"\")","v":""}]
[{"$nulls":4},{"$f":"IF(D122>0,VLOOKUP(D122,Set!$K$2:$L$4,2,FALSE),\"\")","v":""},null,null,{"$f":"IF(G122>0,VLOOKUP(G122,Set!$B$2:$C$13,2,FALSE),\"\")","v":""},{"$nulls":8},{"$f":"IF(P122>0,VLOOKUP(P122,Set!$G$2:$H$3,2,FALSE),\"\")","v":""}]
[{"$nulls":4},{"$f":"IF(D123>0,VLOOKUP(D123,Set!$K$2:$L$4,2,FALSE),\"\")","v":""},null,null,{"$f":"IF(G123>0,VLOOKUP(G123,Set!$B$2:$C$13,2,FALSE),\"\")","v":""},{"$nulls":8},{"$f":"IF(P123>0,VLOOKUP(P123,Set!$G$2:$H$3,2,FALSE),\"\")","v":""}]
[{"$nulls":4},{"$f":"IF(D124>0,VLOOKUP(D124,Set!$K$2:$L$4,2,FALSE),\"\")","v":""},null,null,{"$f":"IF(G124>0,VLOOKUP(G124,Set!$B$2:$C$13,2,FALSE),\"\")","v":""},{"$nulls":8},{"$f":"IF(P124>0,VLOOKUP(P124,Set!$G$2:$H$3,2,FALSE),\"\")","v":""}]
[{"$nulls":4},{"$f":"IF(D125>0,VLOOKUP(D125,Set!$K$2:$L$4,2,FALSE),\"\")","v":""},null,null,{"$f":"IF(G125>0,VLOOKUP(G125,Set!$B$2:$C$13,2,FALSE),\"\")","v":""},{"$nulls":8},{"$f":"IF(P125>0,VLOOKUP(P125,Set!$G$2:$H$3,2,FALSE),\"\")","v":""}]
[{"$nulls":4},{"$f":"IF(D126>0,VLOOKUP(D126,Set!$K$2:$L$4,2,FALSE),\"\")","v":""},null,null,{"$f":"IF(G126>0,VLOOKUP(G126,Set!$B$2:$C$13,2,FALSE),\"\")","v":""},{"$nulls":8},{"$f":"IF(P126>0,VLOOKUP(P126,Set!$G$2:$H$3,2,FALSE),\"\")","v":""}]
[{"$nulls":4},{"$f":"IF(D127>0,VLOOKUP(D127,Set!$K$2:$L$4,2,FALSE),\"\")","v":""},null,null,{"$f":"IF(G127>0,VLOOKUP(G127,Set!$B$2:$C$13,2,FALSE),\"\")","v":""},{"$nulls":8},{"$f":"IF(P127>0,VLOOKUP(P127,Set!$G$2:$H$3,2,FALSE),\"\")","v":""}]
[{"$nulls":4},{"$f":"IF(D128>0,VLOOKUP(D128,Set!$K$2:$L$4,2,FALSE),\"\")","v":""},null,null,{"$f":"IF(G128>0,VLOOKUP(G128,Set!$B$2:$C$13,2,FALSE),\"\")","v":""},{"$nulls":8},{"$f":"IF(P128>0,VLOOKUP(P128,Set!$G$2:$H$3,2,FALSE),\"\")","v":""}]
[{"$nulls":4},{"$f":"IF(D129>0,VLOOKUP(D129,Set!$K$2:$L$4,2,FALSE),\"\")","v":""},null,null,{"$f":"IF(G129>0,VLOOKUP(G129,Set!$B$2:$C$13,2,FALSE),\"\")","v":""},{"$nulls":8},{"$f":"IF(P129>0,VLOOKUP(P129,Set!$G$2:$H$3,2,FALSE),\"\")","v":""}]
[{"$nulls":4},{"$f":"IF(D130>0,VLOOKUP(D130,Set!$K$2:$L$4,2,FALSE),\"\")","v":""},null,null,{"$f":"IF(G130>0,VLOOKUP(G130,Set!$B$2:$C$13,2,FALSE),\"\")","v":""},{"$nulls":8},{"$f":"IF(P130>0,VLOOKUP(P130,Set!$G$2:$H$3,2,FALSE),\"\")","v":""}]
[{"$nulls":4},{"$f":"IF(D131>0,VLOOKUP(D131,Set!$K$2:$L$4,2,FALSE),\"\")","v":""},null,null,{"$f":"IF(G131>0,VLOOKUP(G131,Set!$B$2:$C$13,2,FALSE),\"\")","v":""},{"$nulls":8},{"$f":"IF(P131>0,VLOOKUP(P131,Set!$G$2:$H$3,2,FALSE),\"\")","v":""}]
[{"$nulls":4},{"$f":"IF(D132>0,VLOOKUP(D132,Set!$K$2:$L$4,2,FALSE),\"\")","v":""},null,null,{"$f":"IF(G132>0,VLOOKUP(G132,Set!$B$2:$C$13,2,FALSE),\"\")","v":""},{"$nulls":8},{"$f":"IF(P132>0,VLOOKUP(P132,Set!$G$2:$H$3,2,FALSE),\"\")","v":""}]
[{"$nulls":4},{"$f":"IF(D133>0,VLOOKUP(D133,Set!$K$2:$L$4,2,FALSE),\"\")","v":""},null,null,{"$f":"IF(G133>0,VLOOKUP(G133,Set!$B$2:$C$13,2,FALSE),\"\")","v":""},{"$nulls":8},{"$f":"IF(P133>0,VLOOKUP(P133,Set!$G$2:$H$3,2,FALSE),\"\")","v":""}]
[{"$nulls":4},{"$f":"IF(D134>0,VLOOKUP(D134,Set!$K$2:$L$4,2,FALSE),\"\")","v":""},null,null,{"$f":"IF(G134>0,VLOOKUP(G134,Set!$B$2:$C$13,2,FALSE),\"\")","v":""},{"$nulls":8},{"$f":"IF(P134>0,VLOOKUP(P134,Set!$G$2:$H$3,2,FALSE),\"\")","v":""}]
[{"$nulls":4},{"$f":"IF(D135>0,VLOOKUP(D135,Set!$K$2:$L$4,2,FALSE),\"\")","v":""},null,null,{"$f":"IF(G135>0,VLOOKUP(G135,Set!$B$2:$C$13,2,FALSE),\"\")","v":""},{"$nulls":8},{"$f":"IF(P135>0,VLOOKUP(P135,Set!$G$2:$H$3,2,FALSE),\"\")","v":""}]
[{"$nulls":4},{"$f":"IF(D136>0,VLOOKUP(D136,Set!$K$2:$L$4,2,FALSE),\"\")","v":""},null,null,{"$f":"IF(G136>0,VLOOKUP(G136,Set!$B$2:$C$13,2,FALSE),\"\")","v":""},{"$nulls":8},{"$f":"IF(P136>0,VLOOKUP(P136,Set!$G$2:$H$3,2,FALSE),\"\")","v":""}]
[{"$nulls":4},{"$f":"IF(D137>0,VLOOKUP(D137,Set!$K$2:$L$4,2,FALSE),\"\")","v":""},null,null,{"$f":"IF(G137>0,VLOOKUP(G137,Set!$B$2:$C$13,2,FALSE),\"\")","v":""},{"$nulls":8},{"$f":"IF(P137>0,VLOOKUP(P137,Set!$G$2:$H$3,2,FALSE),\"\")","v":""}]
[{"$nulls":4},{"$f":"IF(D138>0,VLOOKUP(D138,Set!$K$2:$L$4,2,FALSE),\"\")","v":""},null,null,{"$f":"IF(G138>0,VLOOKUP(G138,Set!$B$2:$C$13,2,FALSE),\"\")","v":""},{"$nulls":8},{"$f":"IF(P138>0,VLOOKUP(P138,Set!$G$2:$H$3,2,FALSE),\"\")","v":""}]
[{"$nulls":4},{"$f":"IF(D139>0,VLOOKUP(D139,Set!$K$2:$L$4,2,FALSE),\"\")","v":""},null,null,{"$f":"IF(G139>0,VLOOKUP(G139,Set!$B$2:$C$13,2,FALSE),\"\")","v":""},{"$nulls":8},{"$f":"IF(P139>0,VLOOKUP(P139,Set!$G$2:$H$3,2,FALSE),\"\")","v":""}]
[{"$nulls":4},{"$f":"IF(D140>0,VLOOKUP(D140,Set!$K$2:$L$4,2,FALSE),\"\")","v":""},null,null,{"$f":"IF(G140>0,VLOOKUP(G140,Set!$B$2:$C$13,2,FALSE),\"\")","v":""},{"$nulls":8},{"$f":"IF(P140>0,VLOOKUP(P140,Set!$G$2:$H$3,2,FALSE),\"\")","v":""}]
[{"$nulls":4},{"$f":"IF(D141>0,VLOOKUP(D141,Set!$K$2:$L$4,2,FALSE),\"\")","v":""},null,null,{"$f":"IF(G141>0,VLOOKUP(G141,Set!$B$2:$C$13,2,FALSE),\"\")","v":""},{"$nulls":8},{"$f":"IF(P141>0,VLOOKUP(P141,Set!$G$2:$H$3,2,FALSE),\"\")","v":""}]
[{"$nulls":4},{"$f":"IF(D142>0,VLOOKUP(D142,Set!$K$2:$L$4,2,FALSE),\"\")","v":""},null,null,{"$f":"IF(G142>0,VLOOKUP(G142,Set!$B$2:$C$13,2,FALSE),\"\")","v":""},{"$nulls":8},{"$f":"IF(P142>0,VLOOKUP(P142,Set!$G$2:$H$3,2,FALSE),\"\")","v":""}]
[{"$nulls":4},{"$f":"IF(D143>0,VLOOKUP(D143,Set!$K$2:$L$4,2,FALSE),\"\")","v":""},null,null,{"$f":"IF(G143>0,VLOOKUP(G143,Set!$B$2:$C$13,2,FALSE),\"\")","v":""},{"$nulls":8},{"$f":"IF(P143>0,VLOOKUP(P143,Set!$G$2:$H$3,2,FALSE),\"\")","v":""}]
[{"$nulls":4},{"$f":"IF(D144>0,VLOOKUP(D144,Set!$K$2:$L$4,2,FALSE),\"\")","v":""},null,null,{"$f":"IF(G144>0,VLOOKUP(G144,Set!$B$2:$C$13,2,FALSE),\"\")","v":""},{"$nulls":8},{"$f":"IF(P144>0,VLOOKUP(P144,Set!$G$2:$H$3,2,FALSE),\"\")","v":""}]
[{"$nulls":4},{"$f":"IF(D145>0,VLOOKUP(D145,Set!$K$2:$L$4,2,FALSE),\"\")","v":""},null,null,{"$f":"IF(G145>0,VLOOKUP(G145,Set!$B$2:$C$13,2,FALSE),\"\")","v":""},{"$nulls":8},{"$f":"IF(P145>0,VLOOKUP(P145,Set!$G$2:$H$3,2,FALSE),\"\")","v":""}]
[{"$nulls":4},{"$f":"IF(D146>0,VLOOKUP(D146,Set!$K$2:$L$4,2,FALSE),\"\")","v":""},null,null,{"$f":"IF(G146>0,VLOOKUP(G146,Set!$B$2:$C$13,2,FALSE),\"\")","v":""},{"$nulls":8},{"$f":"IF(P146>0,VLOOKUP(P146,Set!$G$2:$H$3,2,FALSE),\"\")","v":""}]
[{"$nulls":4},{"$f":"IF(D147>0,VLOOKUP(D147,Set!$K$2:$L$4,2,FALSE),\"\")","v":""},null,null,{"$f":"IF(G147>0,VLOOKUP(G147,Set!$B$2:$C$13,2,FALSE),\"\")","v":""},{"$nulls":8},{"$f":"IF(P147>0,VLOOKUP(P147,Set!$G$2:$H$3,2,FALSE),\"\")","v":""}]
[{"$nulls":4},{"$f":"IF(D148>0,VLOOKUP(D148,Set!$K$2:$L$4,2,FALSE),\"\")","v":""},null,null,{"$f":"IF(G148>0,VLOOKUP(G148,Set!$B$2:$C$13,2,FALSE),\"\")","v":""},{"$nulls":8},{"$f":"IF(P148>0,VLOOKUP(P148,Set!$G$2:$H$3,2,FALSE),\"\")","v":""}]
[{"$nulls":4},{"$f":"IF(D149>0,VLOOKUP(D149,Set!$K$2:$L$4,2,FALSE),\"\")","v":""},null,null,{"$f":"IF(G149>0,VLOOKUP(G149,Set!$B$2:$C$13,2,FALSE),\"\")","v":""},{"$nulls":8},{"$f":"IF(P149>0,VLOOKUP(P149,Set!$G$2:$H$3,2,FALSE),\"\")","v":""}]
[{"$nulls":4},{"$f":"IF(D150>0,VLOOKUP(D150,Set!$K$2:$L$4,2,FALSE),\"\")","v":""},null,null,{"$f":"IF(G150>0,VLOOKUP(G150,Set!$B$2:$C$13,2,FALSE),\"\")","v":""},{"$nulls":8},{"$f":"IF(P150>0,VLOOKUP(P150,Set!$G$2:$H$3,2,FALSE),\"\")","v":""}]
[{"$nulls":4},{"$f":"IF(D151>0,VLOOKUP(D151,Set!$K$2:$L$4,2,FALSE),\"\")","v":""},null,null,{"$f":"IF(G151>0,VLOOKUP(G151,Set!$B$2:$C$13,2,FALSE),\"\")","v":""},{"$nulls":8},{"$f":"IF(P151>0,VLOOKUP(P151,Set!$G$2:$H$3,2,FALSE),\"\")","v":""}]
[{"$nulls":4},{"$f":"IF(D152>0,VLOOKUP(D152,Set!$K$2:$L$4,2,FALSE),\"\")","v":""},null,null,{"$f":"IF(G152>0,VLOOKUP(G152,Set!$B$2:$C$13,2,FALSE),\"\")","v":""},{"$nulls":8},{"$f":"IF(P152>0,VLOOKUP(P152,Set!$G$2:$H$3,2,FALSE),\"\")","v":""}]
[{"$nulls":4},{"$f":"IF(D153>0,VLOOKUP(D153,Set!$K$2:$L$4,2,FALSE),\"\")","v":""},null,null,{"$f":"IF(G153>0,VLOOKUP(G153,Set!$B$2:$C$13,2,FALSE),\"\")","v":""},{"$nulls":8},{"$f":"IF(P153>0,VLOOKUP(P153,Set!$G$2:$H$3,2,FALSE),\"\")","v":""}]
[{"$nulls":4},{"$f":"IF(D154>0,VLOOKUP(D154,Set!$K$2:$L$4,2,FALSE),\"\")","v":""},null,null,{"$f":"IF(G154>0,VLOOKUP(G154,Set!$B$2:$C$13,2,FALSE),\"\")","v":""},{"$nulls":8},{"$f":"IF(P154>0,VLOOKUP(P154,Set!$G$2:$H$3,2,FALSE),\"\")","v":""}]
[{"$nulls":4},{"$f":"IF(D155>0,VLOOKUP(D155,Set!$K$2:$L$4,2,FALSE),\"\")","v":""},null,null,{"$f":"IF(G155>0,VLOOKUP(G155,Set!$B$2:$C$13,2,FALSE),\"\")","v":""},{"$nulls":8},{"$f":"IF(P155>0,VLOOKUP(P155,Set!$G$2:$H$3,2,FALSE),\"\")","v":""}]
[{"$nulls":4},{"$f":"IF(D156>0,VLOOKUP(D156,Set!$K$2:$L$4,2,FALSE),\"\")","v":""},null,null,{"$f":"IF(G156>0,VLOOKUP(G156,Set!$B$2:$C$13,2,FALSE),\"\")","v":""},{"$nulls":8},{"$f":"IF(P156>0,VLOOKUP(P156,Set!$G$2:$H$3,2,FALSE),\"\")","v":""}]
[{"$nulls":4},{"$f":"IF(D157>0,VLOOKUP(D157,Set!$K$2:$L$4,2,FALSE),\"\")","v":""},null,null,{"$f":"IF(G157>0,VLOOKUP(G157,Set!$B$2:$C$13,2,FALSE),\"\")","v":""},{"$nulls":8},{"$f":"IF(P157>0,VLOOKUP(P157,Set!$G$2:$H$3,2,FALSE),\"\")","v":""}]
[{"$nulls":4},{"$f":"IF(D158>0,VLOOKUP(D158,Set!$K$2:$L$4,2,FALSE),\"\")","v":""},null,null,{"$f":"IF(G158>0,VLOOKUP(G158,Set!$B$2:$C$13,2,FALSE),\"\")","v":""},{"$nulls":8},{"$f":"IF(P158>0,VLOOKUP(P158,Set!$G$2:$H$3,2,FALSE),\"\")","v":""}]
[{"$nulls":4},{"$f":"IF(D159>0,VLOOKUP(D159,Set!$K$2:$L$4,2,FALSE),\"\")","v":""},null,null,{"$f":"IF(G159>0,VLOOKUP(G159,Set!$B$2:$C$13,2,FALSE),\"\")","v":""},{"$nulls":8},{"$f":"IF(P159>0,VLOOKUP(P159,Set!$G$2:$H$3,2,FALSE),\"\")","v":""}]
[{"$nulls":4},{"$f":"IF(D160>0,VLOOKUP(D160,Set!$K$2:$L$4,2,FALSE),\"\")","v":""},null,null,{"$f":"IF(G160>0,VLOOKUP(G160,Set!$B$2:$C$13,2,FALSE),\"\")","v":""},{"$nulls":8},{"$f":"IF(P160>0,VLOOKUP(P160,Set!$G$2:$H$3,2,FALSE),\"\")","v":""}]
[{"$nulls":4},{"$f":"IF(D161>0,VLOOKUP(D161,Set!$K$2:$L$4,2,FALSE),\"\")","v":""},null,null,{"$f":"IF(G161>0,VLOOKUP(G161,Set!$B$2:$C$13,2,FALSE),\"\")","v":""},{"$nulls":8},{"$f":"IF(P161>0,VLOOKUP(P161,Set!$G$2:$H$3,2,FALSE),\"\")","v":""}]
[{"$nulls":4},{"$f":"IF(D162>0,VLOOKUP(D162,Set!$K$2:$L$4,2,FALSE),\"\")","v":""},null,null,{"$f":"IF(G162>0,VLOOKUP(G162,Set!$B$2:$C$13,2,FALSE),\"\")","v":""},{"$nulls":8},{"$f":"IF(P162>0,VLOOKUP(P162,Set!$G$2:$H$3,2,FALSE),\"\")","v":""}]
[{"$nulls":4},{"$f":"IF(D163>0,VLOOKUP(D163,Set!$K$2:$L$4,2,FALSE),\"\")","v":""},null,null,{"$f":"IF(G163>0,VLOOKUP(G163,Set!$B$2:$C$13,2,FALSE),\"\")","v":""},{"$nulls":8},{"$f":"IF(P163>0,VLOOKUP(P163,Set!$G$2:$H$3,2,FALSE),\"\")","v":""}]
[{"$nulls":4},{"$f":"IF(D164>0,VLOOKUP(D164,Set!$K$2:$L$4,2,FALSE),\"\")","v":""},null,null,{"$f":"IF(G164>0,VLOOKUP(G164,Set!$B$2:$C$13,2,FALSE),\"\")","v":""},{"$nulls":8},{"$f":"IF(P164>0,VLOOKUP(P164,Set!$G$2:$H$3,2,FALSE),\"\")","v":""}]
[{"$nulls":4},{"$f":"IF(D165>0,VLOOKUP(D165,Set!$K$2:$L$4,2,FALSE),\"\")","v":""},null,null,{"$f":"IF(G165>0,VLOOKUP(G165,Set!$B$2:$C$13,2,FALSE),\"\")","v":""},{"$nulls":8},{"$f":"IF(P165>0,VLOOKUP(P165,Set!$G$2:$H$3,2,FALSE),\"\")","v":""}]
[{"$nulls":4},{"$f":"IF(D166>0,VLOOKUP(D166,Set!$K$2:$L$4,2,FALSE),\"\")","v":""},null,null,{"$f":"IF(G166>0,VLOOKUP(G166,Set!$B$2:$C$13,2,FALSE),\"\")","v":""},{"$nulls":8},{"$f":"IF(P166>0,VLOOKUP(P166,Set!$G$2:$H$3,2,FALSE),\"\")","v":""}]
[{"$nulls":4},{"$f":"IF(D167>0,VLOOKUP(D167,Set!$K$2:$L$4,2,FALSE),\"\")","v":""},null,null,{"$f":"IF(G167>0,VLOOKUP(G167,Set!$B$2:$C$13,2,FALSE),\"\")","v":""},{"$nulls":8},{"$f":"IF(P167>0,VLOOKUP(P167,Set!$G$2:$H$3,2,FALSE),\"\")","v":""}]
[{"$nulls":4},{"$f":"IF(D168>0,VLOOKUP(D168,Set!$K$2:$L$4,2,FALSE),\"\")","v":""},null,null,{"$f":"IF(G168>0,VLOOKUP(G168,Set!$B$2:$C$13,2,FALSE),\"\")","v":""},{"$nulls":8},{"$f":"IF(P168>0,VLOOKUP(P168,Set!$G$2:$H$3,2,FALSE),\"\")","v":""}]
[{"$nulls":4},{"$f":"IF(D169>0,VLOOKUP(D169,Set!$K$2:$L$4,2,FALSE),\"\")","v":""},null,null,{"$f":"IF(G169>0,VLOOKUP(G169,Set!$B$2:$C$13,2,FALSE),\"\")","v":""},{"$nulls":8},{"$f":"IF(P169>0,VLOOKUP(P169,Set!$G$2:$H$3,2,FALSE),\"\")","v":""}]
[{"$nulls":4},{"$f":"IF(D170>0,VLOOKUP(D170,Set!$K$2:$L$4,2,FALSE),\"\")","v":""},null,null,{"$f":"IF(G170>0,VLOOKUP(G170,Set!$B$2:$C$13,2,FALSE),\"\")","v":""},{"$nulls":8},{"$f":"IF(P170>0,VLOOKUP(P170,Set!$G$2:$H$3,2,FALSE),\"\")","v":""}]
[{"$nulls":4},{"$f":"IF(D171>0,VLOOKUP(D171,Set!$K$2:$L$4,2,FALSE),\"\")","v":""},null,null,{"$f":"IF(G171>0,VLOOKUP(G171,Set!$B$2:$C$13,2,FALSE),\"\")","v":""},{"$nulls":8},{"$f":"IF(P171>0,VLOOKUP(P171,Set!$G$2:$H$3,2,FALSE),\"\")","v":""}]
[{"$nulls":4},{"$f":"IF(D172>0,VLOOKUP(D172,Set!$K$2:$L$4,2,FALSE),\"\")","v":""},null,null,{"$f":"IF(G172>0,VLOOKUP(G172,Set!$B$2:$C$13,2,FALSE),\"\")","v":""},{"$nulls":8},{"$f":"IF(P172>0,VLOOKUP(P172,Set!$G$2:$H$3,2,FALSE),\"\")","v":""}]
[{"$nulls":4},{"$f":"IF(D173>0,VLOOKUP(D173,Set!$K$2:$L$4,2,FALSE),\"\")","v":""},null,null,{"$f":"IF(G173>0,VLOOKUP(G173,Set!$B$2:$C$13,2,FALSE),\"\")","v":""},{"$nulls":8},{"$f":"IF(P173>0,VLOOKUP(P173,Set!$G$2:$H$3,2,FALSE),\"\")","v":""}]
[{"$nulls":4},{"$f":"IF(D174>0,VLOOKUP(D174,Set!$K$2:$L$4,2,FALSE),\"\")","v":""},null,null,{"$f":"IF(G174>0,VLOOKUP(G174,Set!$B$2:$C$13,2,FALSE),\"\")","v":""},{"$nulls":8},{"$f":"IF(P174>0,VLOOKUP(P174,Set!$G$2:$H$3,2,FALSE),\"\")","v":""}]
[{"$nulls":4},{"$f":"IF(D175>0,VLOOKUP(D175,Set!$K$2:$L$4,2,FALSE),\"\")","v":""},null,null,{"$f":"IF(G175>0,VLOOKUP(G175,Set!$B$2:$C$13,2,FALSE),\"\")","v":""},{"$nulls":8},{"$f":"IF(P175>0,VLOOKUP(P175,Set!$G$2:$H$3,2,FALSE),\"\")","v":""}]
[{"$nulls":4},{"$f":"IF(D176>0,VLOOKUP(D176,Set!$K$2:$L$4,2,FALSE),\"\")","v":""},null,null,{"$f":"IF(G176>0,VLOOKUP(G176,Set!$B$2:$C$13,2,FALSE),\"\")","v":""},{"$nulls":8},{"$f":"IF(P176>0,VLOOKUP(P176,Set!$G$2:$H$3,2,FALSE),\"\")","v":""}]
[{"$nulls":4},{"$f":"IF(D177>0,VLOOKUP(D177,Set!$K$2:$L$4,2,FALSE),\"\")","v":""},null,null,{"$f":"IF(G177>0,VLOOKUP(G177,Set!$B$2:$C$13,2,FALSE),\"\")","v":""},{"$nulls":8},{"$f":"IF(P177>0,VLOOKUP(P177,Set!$G$2:$H$3,2,FALSE),\"\")","v":""}]
[{"$nulls":4},{"$f":"IF(D178>0,VLOOKUP(D178,Set!$K$2:$L$4,2,FALSE),\"\")","v":""},null,null,{"$f":"IF(G178>0,VLOOKUP(G178,Set!$B$2:$C$13,2,FALSE),\"\")","v":""},{"$nulls":8},{"$f":"IF(P178>0,VLOOKUP(P178,Set!$G$2:$H$3,2,FALSE),\"\")","v":""}]
[{"$nulls":4},{"$f":"IF(D179>0,VLOOKUP(D179,Set!$K$2:$L$4,2,FALSE),\"\")","v":""},null,null,{"$f":"IF(G179>0,VLOOKUP(G179,Set!$B$2:$C$13,2,FALSE),\"\")","v":""},{"$nulls":8},{"$f":"IF(P179>0,VLOOKUP(P179,Set!$G$2:$H$3,2,FALSE),\"\")","v":""}]
[{"$nulls":4},{"$f":"IF(D180>0,VLOOKUP(D180,Set!$K$2:$L$4,2,FALSE),\"\")","v":""},null,null,{"$f":"IF(G180>0,VLOOKUP(G180,Set!$B$2:$C$13,2,FALSE),\"\")","v":""},{"$nulls":8},{"$f":"IF(P180>0,VLOOKUP(P180,Set!$G$2:$H$3,2,FALSE),\"\")","v":""}]
[{"$nulls":4},{"$f":"IF(D181>0,VLOOKUP(D181,Set!$K$2:$L$4,2,FALSE),\"\")","v":""},null,null,{"$f":"IF(G181>0,VLOOKUP(G181,Set!$B$2:$C$13,2,FALSE),\"\")","v":""},{"$nulls":8},{"$f":"IF(P181>0,VLOOKUP(P181,Set!$G$2:$H$3,2,FALSE),\"\")","v":""}]
[{"$nulls":4},{"$f":"IF(D182>0,VLOOKUP(D182,Set!$K$2:$L$4,2,FALSE),\"\")","v":""},null,null,{"$f":"IF(G182>0,VLOOKUP(G182,Set!$B$2:$C$13,2,FALSE),\"\")","v":""},{"$nulls":8},{"$f":"IF(P182>0,VLOOKUP(P182,Set!$G$2:$H$3,2,FALSE),\"\")","v":""}]
[{"$nulls":4},{"$f":"IF(D183>0,VLOOKUP(D183,Set!$K$2:$L$4,2,FALSE),\"\")","v":""},null,null,{"$f":"IF(G183>0,VLOOKUP(G183,Set!$B$2:$C$13,2,FALSE),\"\")","v":""},{"$nulls":8},{"$f":"IF(P183>0,VLOOKUP(P183,Set!$G$2:$H$3,2,FALSE),\"\")","v":""}]
[{"$nulls":4},{"$f":"IF(D184>0,VLOOKUP(D184,Set!$K$2:$L$4,2,FALSE),\"\")","v":""},null,null,{"$f":"IF(G184>0,VLOOKUP(G184,Set!$B$2:$C$13,2,FALSE),\"\")","v":""},{"$nulls":8},{"$f":"IF(P184>0,VLOOKUP(P184,Set!$G$2:$H$3,2,FALSE),\"\")","v":""}]
[{"$nulls":4},{"$f":"IF(D185>0,VLOOKUP(D185,Set!$K$2:$L$4,2,FALSE),\"\")","v":""},null,null,{"$f":"IF(G185>0,VLOOKUP(G185,Set!$B$2:$C$13,2,FALSE),\"\")","v":""},{"$nulls":8},{"$f":"IF(P185>0,VLOOKUP(P185,Set!$G$2:$H$3,2,FALSE),\"\")","v":""}]
[{"$nulls":4},{"$f":"IF(D186>0,VLOOKUP(D186,Set!$K$2:$L$4,2,FALSE),\"\")","v":""},null,null,{"$f":"IF(G186>0,VLOOKUP(G186,Set!$B$2:$C$13,2,FALSE),\"\")","v":""},{"$nulls":8},{"$f":"IF(P186>0,VLOOKUP(P186,Set!$G$2:$H$3,2,FALSE),\"\")","v":""}]
[{"$nulls":4},{"$f":"IF(D187>0,VLOOKUP(D187,Set!$K$2:$L$4,2,FALSE),\"\")","v":""},null,null,{"$f":"IF(G187>0,VLOOKUP(G187,Set!$B$2:$C$13,2,FALSE),\"\")","v":""},{"$nulls":8},{"$f":"IF(P187>0,VLOOKUP(P187,Set!$G$2:$H$3,2,FALSE),\"\")","v":""}]
[{"$nulls":4},{"$f":"IF(D188>0,VLOOKUP(D188,Set!$K$2:$L$4,2,FALSE),\"\")","v":""},null,null,{"$f":"IF(G188>0,VLOOKUP(G188,Set!$B$2:$C$13,2,FALSE),\"\")","v":""},{"$nulls":8},{"$f":"IF(P188>0,VLOOKUP(P188,Set!$G$2:$H$3,2,FALSE),\"\")","v":""}]
[{"$nulls":4},{"$f":"IF(D189>0,VLOOKUP(D189,Set!$K$2:$L$4,2,FALSE),\"\")","v":""},null,null,{"$f":"IF(G189>0,VLOOKUP(G189,Set!$B$2:$C$13,2,FALSE),\"\")","v":""},{"$nulls":8},{"$f":"IF(P189>0,VLOOKUP(P189,Set!$G$2:$H$3,2,FALSE),\"\")","v":""}]
[{"$nulls":4},{"$f":"IF(D190>0,VLOOKUP(D190,Set!$K$2:$L$4,2,FALSE),\"\")","v":""},null,null,{"$f":"IF(G190>0,VLOOKUP(G190,Set!$B$2:$C$13,2,FALSE),\"\")","v":""},{"$nulls":8},{"$f":"IF(P190>0,VLOOKUP(P190,Set!$G$2:$H$3,2,FALSE),\"\")","v":""}]
[{"$nulls":4},{"$f":"IF(D191>0,VLOOKUP(D191,Set!$K$2:$L$4,2,FALSE),\"\")","v":""},null,null,{"$f":"IF(G191>0,VLOOKUP(G191,Set!$B$2:$C$13,2,FALSE),\"\")","v":""},{"$nulls":8},{"$f":"IF(P191>0,VLOOKUP(P191,Set!$G$2:$H$3,2,FALSE),\"\")","v":""}]
[{"$nulls":4},{"$f":"IF(D192>0,VLOOKUP(D192,Set!$K$2:$L$4,2,FALSE),\"\")","v":""},null,null,{"$f":"IF(G192>0,VLOOKUP(G192,Set!$B$2:$C$13,2,FALSE),\"\")","v":""},{"$nulls":8},{"$f":"IF(P192>0,VLOOKUP(P192,Set!$G$2:$H$3,2,FALSE),\"\")","v":""}]
[{"$nulls":4},{"$f":"IF(D193>0,VLOOKUP(D193,Set!$K$2:$L$4,2,FALSE),\"\")","v":""},null,null,{"$f":"IF(G193>0,VLOOKUP(G193,Set!$B$2:$C$13,2,FALSE),\"\")","v":""},{"$nulls":8},{"$f":"IF(P193>0,VLOOKUP(P193,Set!$G$2:$H$3,2,FALSE),\"\")","v":""}]
[{"$nulls":4},{"$f":"IF(D194>0,VLOOKUP(D194,Set!$K$2:$L$4,2,FALSE),\"\")","v":""},null,null,{"$f":"IF(G194>0,VLOOKUP(G194,Set!$B$2:$C$13,2,FALSE),\"\")","v":""},{"$nulls":8},{"$f":"IF(P194>0,VLOOKUP(P194,Set!$G$2:$H$3,2,FALSE),\"\")","v":""}]
[{"$nulls":4},{"$f":"IF(D195>0,VLOOKUP(D195,Set!$K$2:$L$4,2,FALSE),\"\")","v":""},null,null,{"$f":"IF(G195>0,VLOOKUP(G195,Set!$B$2:$C$13,2,FALSE),\"\")","v":""},{"$nulls":8},{"$f":"IF(P195>0,VLOOKUP(P195,Set!$G$2:$H$3,2,FALSE),\"\")","v":""}]
[{"$nulls":4},{"$f":"IF(D196>0,VLOOKUP(D196,Set!$K$2:$L$4,2,FALSE),\"\")","v":""},null,null,{"$f":"IF(G196>0,VLOOKUP(G196,Set!$B$2:$C$13,2,FALSE),\"\")","v":""},{"$nulls":8},{"$f":"IF(P196>0,VLOOKUP(P196,Set!$G$2:$H$3,2,FALSE),\"\")","v":""}]
[{"$nulls":4},{"$f":"IF(D197>0,VLOOKUP(D197,Set!$K$2:$L$4,2,FALSE),\"\")","v":""},null,null,{"$f":"IF(G197>0,VLOOKUP(G197,Set!$B$2:$C$13,2,FALSE),\"\")","v":""},{"$nulls":8},{"$f":"IF(P197>0,VLOOKUP(P197,Set!$G$2:$H$3,2,FALSE),\"\")","v":""}]
[{"$nulls":4},{"$f":"IF(D198>0,VLOOKUP(D198,Set!$K$2:$L$4,2,FALSE),\"\")","v":""},null,null,{"$f":"IF(G198>0,VLOOKUP(G198,Set!$B$2:$C$13,2,FALSE),\"\")","v":""},{"$nulls":8},{"$f":"IF(P198>0,VLOOKUP(P198,Set!$G$2:$H$3,2,FALSE),\"\")","v":""}]
[{"$nulls":4},{"$f":"IF(D199>0,VLOOKUP(D199,Set!$K$2:$L$4,2,FALSE),\"\")","v":""},null,null,{"$f":"IF(G199>0,VLOOKUP(G199,Set!$B$2:$C$13,2,FALSE),\"\")","v":""},{"$nulls":8},{"$f":"IF(P199>0,VLOOKUP(P199,Set!$G$2:$H$3,2,FALSE),\"\")","v":""}]
[{"$nulls":4},{"$f":"IF(D200>0,VLOOKUP(D200,Set!$K$2:$L$4,2,FALSE),\"\")","v":""},null,null,{"$f":"IF(G200>0,VLOOKUP(G200,Set!$B$2:$C$13,2,FALSE),\"\")","v":""},{"$nulls":8},{"$f":"IF(P200>0,VLOOKUP(P200,Set!$G$2:$H$3,2,FALSE),\"\")","v":""}]
[{"$nulls":4},{"$f":"IF(D201>0,VLOOKUP(D201,Set!$K$2:$L$4,2,FALSE),\"\")","v":""},null,null,{"$f":"IF(G201>0,VLOOKUP(G201,Set!$B$2:$C$13,2,FALSE),\"\")","v":""},{"$nulls":8},{"$f":"IF(P201>0,VLOOKUP(P201,Set!$G$2:$H$3,2,FALSE),\"\")","v":""}]
[{"$nulls":4},{"$f":"IF(D202>0,VLOOKUP(D202,Set!$K$2:$L$4,2,FALSE),\"\")","v":""},null,null,{"$f":"IF(G202>0,VLOOKUP(G202,Set!$B$2:$C$13,2,FALSE),\"\")","v":""},{"$nulls":8},{"$f":"IF(P202>0,VLOOKUP(P202,Set!$G$2:$H$3,2,FALSE),\"\")","v":""}]
[{"$nulls":4},{"$f":"IF(D203>0,VLOOKUP(D203,Set!$K$2:$L$4,2,FALSE),\"\")","v":""},null,null,{"$f":"IF(G203>0,VLOOKUP(G203,Set!$B$2:$C$13,2,FALSE),\"\")","v":""},{"$nulls":8},{"$f":"IF(P203>0,VLOOKUP(P203,Set!$G$2:$H$3,2,FALSE),\"\")","v":""}]
[{"$nulls":4},{"$f":"IF(D204>0,VLOOKUP(D204,Set!$K$2:$L$4,2,FALSE),\"\")","v":""},null,null,{"$f":"IF(G204>0,VLOOKUP(G204,Set!$B$2:$C$13,2,FALSE),\"\")","v":""},{"$nulls":8},{"$f":"IF(P204>0,VLOOKUP(P204,Set!$G$2:$H$3,2,FALSE),\"\")","v":""}]
[{"$nulls":4},{"$f":"IF(D205>0,VLOOKUP(D205,Set!$K$2:$L$4,2,FALSE),\"\")","v":""},null,null,{"$f":"IF(G205>0,VLOOKUP(G205,Set!$B$2:$C$13,2,FALSE),\"\")","v":""},{"$nulls":8},{"$f":"IF(P205>0,VLOOKUP(P205,Set!$G$2:$H$3,2,FALSE),\"\")","v":""}]
[{"$nulls":4},{"$f":"IF(D206>0,VLOOKUP(D206,Set!$K$2:$L$4,2,FALSE),\"\")","v":""},null,null,{"$f":"IF(G206>0,VLOOKUP(G206,Set!$B$2:$C$13,2,FALSE),\"\")","v":""},{"$nulls":8},{"$f":"IF(P206>0,VLOOKUP(P206,Set!$G$2:$H$3,2,FALSE),\"\")","v":""}]
[{"$nulls":4},{"$f":"IF(D207>0,VLOOKUP(D207,Set!$K$2:$L$4,2,FALSE),\"\")","v":""},null,null,{"$f":"IF(G207>0,VLOOKUP(G207,Set!$B$2:$C$13,2,FALSE),\"\")","v":""},{"$nulls":8},{"$f":"IF(P207>0,VLOOKUP(P207,Set!$G$2:$H$3,2,FALSE),\"\")","v":""}]
[{"$nulls":4},{"$f":"IF(D208>0,VLOOKUP(D208,Set!$K$2:$L$4,2,FALSE),\"\")","v":""},null,null,{"$f":"IF(G208>0,VLOOKUP(G208,Set!$B$2:$C$13,2,FALSE),\"\")","v":""},{"$nulls":8},{"$f":"IF(P208>0,VLOOKUP(P208,Set!$G$2:$H$3,2,FALSE),\"\")","v":""}]
[{"$nulls":4},{"$f":"IF(D209>0,VLOOKUP(D209,Set!$K$2:$L$4,2,FALSE),\"\")","v":""},null,null,{"$f":"IF(G209>0,VLOOKUP(G209,Set!$B$2:$C$13,2,FALSE),\"\")","v":""},{"$nulls":8},{"$f":"IF(P209>0,VLOOKUP(P209,Set!$G$2:$H$3,2,FALSE),\"\")","v":""}]
[{"$nulls":4},{"$f":"IF(D210>0,VLOOKUP(D210,Set!$K$2:$L$4,2,FALSE),\"\")","v":""},null,null,{"$f":"IF(G210>0,VLOOKUP(G210,Set!$B$2:$C$13,2,FALSE),\"\")","v":""},{"$nulls":8},{"$f":"IF(P210>0,VLOOKUP(P210,Set!$G$2:$H$3,2,FALSE),\"\")","v":""}]
[{"$nulls":4},{"$f":"IF(D211>0,VLOOKUP(D211,Set!$K$2:$L$4,2,FALSE),\"\")","v":""},null,null,{"$f":"IF(G211>0,VLOOKUP(G211,Set!$B$2:$C$13,2,FALSE),\"\")","v":""},{"$nulls":8},{"$f":"IF(P211>0,VLOOKUP(P211,Set!$G$2:$H$3,2,FALSE),\"\")","v":""}]
[{"$nulls":4},{"$f":"IF(D212>0,VLOOKUP(D212,Set!$K$2:$L$4,2,FALSE),\"\")","v":""},null,null,{"$f":"IF(G212>0,VLOOKUP(G212,Set!$B$2:$C$13,2,FALSE),\"\")","v":""},{"$nulls":8},{"$f":"IF(P212>0,VLOOKUP(P212,Set!$G$2:$H$3,2,FALSE),\"\")","v":""}]
[{"$nulls":4},{"$f":"IF(D213>0,VLOOKUP(D213,Set!$K$2:$L$4,2,FALSE),\"\")","v":""},null,null,{"$f":"IF(G213>0,VLOOKUP(G213,Set!$B$2:$C$13,2,FALSE),\"\")","v":""},{"$nulls":8},{"$f":"IF(P213>0,VLOOKUP(P213,Set!$G$2:$H$3,2,FALSE),\"\")","v":""}]
[{"$nulls":4},{"$f":"IF(D214>0,VLOOKUP(D214,Set!$K$2:$L$4,2,FALSE),\"\")","v":""},null,null,{"$f":"IF(G214>0,VLOOKUP(G214,Set!$B$2:$C$13,2,FALSE),\"\")","v":""},{"$nulls":8},{"$f":"IF(P214>0,VLOOKUP(P214,Set!$G$2:$H$3,2,FALSE),\"\")","v":""}]
[{"$nulls":4},{"$f":"IF(D215>0,VLOOKUP(D215,Set!$K$2:$L$4,2,FALSE),\"\")","v":""},null,null,{"$f":"IF(G215>0,VLOOKUP(G215,Set!$B$2:$C$13,2,FALSE),\"\")","v":""},{"$nulls":8},{"$f":"IF(P215>0,VLOOKUP(P215,Set!$G$2:$H$3,2,FALSE),\"\")","v":""}]
[{"$nulls":4},{"$f":"IF(D216>0,VLOOKUP(D216,Set!$K$2:$L$4,2,FALSE),\"\")","v":""},null,null,{"$f":"IF(G216>0,VLOOKUP(G216,Set!$B$2:$C$13,2,FALSE),\"\")","v":""},{"$nulls":8},{"$f":"IF(P216>0,VLOOKUP(P216,Set!$G$2:$H$3,2,FALSE),\"\")","v":""}]
[{"$nulls":4},{"$f":"IF(D217>0,VLOOKUP(D217,Set!$K$2:$L$4,2,FALSE),\"\")","v":""},null,null,{"$f":"IF(G217>0,VLOOKUP(G217,Set!$B$2:$C$13,2,FALSE),\"\")","v":""},{"$nulls":8},{"$f":"IF(P217>0,VLOOKUP(P217,Set!$G$2:$H$3,2,FALSE),\"\")","v":""}]
[{"$nulls":4},{"$f":"IF(D218>0,VLOOKUP(D218,Set!$K$2:$L$4,2,FALSE),\"\")","v":""},null,null,{"$f":"IF(G218>0,VLOOKUP(G218,Set!$B$2:$C$13,2,FALSE),\"\")","v":""},{"$nulls":8},{"$f":"IF(P218>0,VLOOKUP(P218,Set!$G$2:$H$3,2,FALSE),\"\")","v":""}]
[{"$nulls":4},{"$f":"IF(D219>0,VLOOKUP(D219,Set!$K$2:$L$4,2,FALSE),\"\")","v":""},null,null,{"$f":"IF(G219>0,VLOOKUP(G219,Set!$B$2:$C$13,2,FALSE),\"\")","v":""},{"$nulls":8},{"$f":"IF(P219>0,VLOOKUP(P219,Set!$G$2:$H$3,2,FALSE),\"\")","v":""}]
[{"$nulls":4},{"$f":"IF(D220>0,VLOOKUP(D220,Set!$K$2:$L$4,2,FALSE),\"\")","v":""},null,null,{"$f":"IF(G220>0,VLOOKUP(G220,Set!$B$2:$C$13,2,FALSE),\"\")","v":""},{"$nulls":8},{"$f":"IF(P220>0,VLOOKUP(P220,Set!$G$2:$H$3,2,FALSE),\"\")","v":""}]
[{"$nulls":4},{"$f":"IF(D221>0,VLOOKUP(D221,Set!$K$2:$L$4,2,FALSE),\"\")","v":""},null,null,{"$f":"IF(G221>0,VLOOKUP(G221,Set!$B$2:$C$13,2,FALSE),\"\")","v":""},{"$nulls":8},{"$f":"IF(P221>0,VLOOKUP(P221,Set!$G$2:$H$3,2,FALSE),\"\")","v":""}]
[{"$nulls":4},{"$f":"IF(D222>0,VLOOKUP(D222,Set!$K$2:$L$4,2,FALSE),\"\")","v":""},null,null,{"$f":"IF(G222>0,VLOOKUP(G222,Set!$B$2:$C$13,2,FALSE),\"\")","v":""},{"$nulls":8},{"$f":"IF(P222>0,VLOOKUP(P222,Set!$G$2:$H$3,2,FALSE),\"\")","v":""}]
[{"$nulls":4},{"$f":"IF(D223>0,VLOOKUP(D223,Set!$K$2:$L$4,2,FALSE),\"\")","v":""},null,null,{"$f":"IF(G223>0,VLOOKUP(G223,Set!$B$2:$C$13,2,FALSE),\"\")","v":""},{"$nulls":8},{"$f":"IF(P223>0,VLOOKUP(P223,Set!$G$2:$H$3,2,FALSE),\"\")","v":""}]
[{"$nulls":4},{"$f":"IF(D224>0,VLOOKUP(D224,Set!$K$2:$L$4,2,FALSE),\"\")","v":""},null,null,{"$f":"IF(G224>0,VLOOKUP(G224,Set!$B$2:$C$13,2,FALSE),\"\")","v":""},{"$nulls":8},{"$f":"IF(P224>0,VLOOKUP(P224,Set!$G$2:$H$3,2,FALSE),\"\")","v":""}]
[{"$nulls":4},{"$f":"IF(D225>0,VLOOKUP(D225,Set!$K$2:$L$4,2,FALSE),\"\")","v":""},null,null,{"$f":"IF(G225>0,VLOOKUP(G225,Set!$B$2:$C$13,2,FALSE),\"\")","v":""},{"$nulls":8},{"$f":"IF(P225>0,VLOOKUP(P225,Set!$G$2:$H$3,2,FALSE),\"\")","v":""}]
[{"$nulls":4},{"$f":"IF(D226>0,VLOOKUP(D226,Set!$K$2:$L$4,2,FALSE),\"\")","v":""},null,null,{"$f":"IF(G226>0,VLOOKUP(G226,Set!$B$2:$C$13,2,FALSE),\"\")","v":""},{"$nulls":8},{"$f":"IF(P226>0,VLOOKUP(P226,Set!$G$2:$H$3,2,FALSE),\"\")","v":""}]
[{"$nulls":4},{"$f":"IF(D227>0,VLOOKUP(D227,Set!$K$2:$L$4,2,FALSE),\"\")","v":""},null,null,{"$f":"IF(G227>0,VLOOKUP(G227,Set!$B$2:$C$13,2,FALSE),\"\")","v":""},{"$nulls":8},{"$f":"IF(P227>0,VLOOKUP(P227,Set!$G$2:$H$3,2,FALSE),\"\")","v":""}]
[{"$nulls":4},{"$f":"IF(D228>0,VLOOKUP(D228,Set!$K$2:$L$4,2,FALSE),\"\")","v":""},null,null,{"$f":"IF(G228>0,VLOOKUP(G228,Set!$B$2:$C$13,2,FALSE),\"\")","v":""},{"$nulls":8},{"$f":"IF(P228>0,VLOOKUP(P228,Set!$G$2:$H$3,2,FALSE),\"\")","v":""}]
[{"$nulls":4},{"$f":"IF(D229>0,VLOOKUP(D229,Set!$K$2:$L$4,2,FALSE),\"\")","v":""},null,null,{"$f":"IF(G229>0,VLOOKUP(G229,Set!$B$2:$C$13,2,FALSE),\"\")","v":""},{"$nulls":8},{"$f":"IF(P229>0,VLOOKUP(P229,Set!$G$2:$H$3,2,FALSE),\"\")","v":""}]
[{"$nulls":4},{"$f":"IF(D230>0,VLOOKUP(D230,Set!$K$2:$L$4,2,FALSE),\"\")","v":""},null,null,{"$f":"IF(G230>0,VLOOKUP(G230,Set!$B$2:$C$13,2,FALSE),\"\")","v":""},{"$nulls":8},{"$f":"IF(P230>0,VLOOKUP(P230,Set!$G$2:$H$3,2,FALSE),\"\")","v":""}]
[{"$nulls":4},{"$f":"IF(D231>0,VLOOKUP(D231,Set!$K$2:$L$4,2,FALSE),\"\")","v":""},null,null,{"$f":"IF(G231>0,VLOOKUP(G231,Set!$B$2:$C$13,2,FALSE),\"\")","v":""},{"$nulls":8},{"$f":"IF(P231>0,VLOOKUP(P231,Set!$G$2:$H$3,2,FALSE),\"\")","v":""}]
[{"$nulls":4},{"$f":"IF(D232>0,VLOOKUP(D232,Set!$K$2:$L$4,2,FALSE),\"\")","v":""},null,null,{"$f":"IF(G232>0,VLOOKUP(G232,Set!$B$2:$C$13,2,FALSE),\"\")","v":""},{"$nulls":8},{"$f":"IF(P232>0,VLOOKUP(P232,Set!$G$2:$H$3,2,FALSE),\"\")","v":""}]
[{"$nulls":4},{"$f":"IF(D233>0,VLOOKUP(D233,Set!$K$2:$L$4,2,FALSE),\"\")","v":""},null,null,{"$f":"IF(G233>0,VLOOKUP(G233,Set!$B$2:$C$13,2,FALSE),\"\")","v":""},{"$nulls":8},{"$f":"IF(P233>0,VLOOKUP(P233,Set!$G$2:$H$3,2,FALSE),\"\")","v":""}]
[{"$nulls":4},{"$f":"IF(D234>0,VLOOKUP(D234,Set!$K$2:$L$4,2,FALSE),\"\")","v":""},null,null,{"$f":"IF(G234>0,VLOOKUP(G234,Set!$B$2:$C$13,2,FALSE),\"\")","v":""},{"$nulls":8},{"$f":"IF(P234>0,VLOOKUP(P234,Set!$G$2:$H$3,2,FALSE),\"\")","v":""}]
[{"$nulls":4},{"$f":"IF(D235>0,VLOOKUP(D235,Set!$K$2:$L$4,2,FALSE),\"\")","v":""},null,null,{"$f":"IF(G235>0,VLOOKUP(G235,Set!$B$2:$C$13,2,FALSE),\"\")","v":""},{"$nulls":8},{"$f":"IF(P235>0,VLOOKUP(P235,Set!$G$2:$H$3,2,FALSE),\"\")","v":""}]
[{"$nulls":4},{"$f":"IF(D236>0,VLOOKUP(D236,Set!$K$2:$L$4,2,FALSE),\"\")","v":""},null,null,{"$f":"IF(G236>0,VLOOKUP(G236,Set!$B$2:$C$13,2,FALSE),\"\")","v":""},{"$nulls":8},{"$f":"IF(P236>0,VLOOKUP(P236,Set!$G$2:$H$3,2,FALSE),\"\")","v":""}]
[{"$nulls":4},{"$f":"IF(D237>0,VLOOKUP(D237,Set!$K$2:$L$4,2,FALSE),\"\")","v":""},null,null,{"$f":"IF(G237>0,VLOOKUP(G237,Set!$B$2:$C$13,2,FALSE),\"\")","v":""},{"$nulls":8},{"$f":"IF(P237>0,VLOOKUP(P237,Set!$G$2:$H$3,2,FALSE),\"\")","v":""}]
[{"$nulls":4},{"$f":"IF(D238>0,VLOOKUP(D238,Set!$K$2:$L$4,2,FALSE),\"\")","v":""},null,null,{"$f":"IF(G238>0,VLOOKUP(G238,Set!$B$2:$C$13,2,FALSE),\"\")","v":""},{"$nulls":8},{"$f":"IF(P238>0,VLOOKUP(P238,Set!$G$2:$H$3,2,FALSE),\"\")","v":""}]
[{"$nulls":4},{"$f":"IF(D239>0,VLOOKUP(D239,Set!$K$2:$L$4,2,FALSE),\"\")","v":""},null,null,{"$f":"IF(G239>0,VLOOKUP(G239,Set!$B$2:$C$13,2,FALSE),\"\")","v":""},{"$nulls":8},{"$f":"IF(P239>0,VLOOKUP(P239,Set!$G$2:$H$3,2,FALSE),\"\")","v":""}]
[{"$nulls":4},{"$f":"IF(D240>0,VLOOKUP(D240,Set!$K$2:$L$4,2,FALSE),\"\")","v":""},null,null,{"$f":"IF(G240>0,VLOOKUP(G240,Set!$B$2:$C$13,2,FALSE),\"\")","v":""},{"$nulls":8},{"$f":"IF(P240>0,VLOOKUP(P240,Set!$G$2:$H$3,2,FALSE),\"\")","v":""}]
[{"$nulls":4},{"$f":"IF(D241>0,VLOOKUP(D241,Set!$K$2:$L$4,2,FALSE),\"\")","v":""},null,null,{"$f":"IF(G241>0,VLOOKUP(G241,Set!$B$2:$C$13,2,FALSE),\"\")","v":""},{"$nulls":8},{"$f":"IF(P241>0,VLOOKUP(P241,Set!$G$2:$H$3,2,FALSE),\"\")","v":""}]
[{"$nulls":4},{"$f":"IF(D242>0,VLOOKUP(D242,Set!$K$2:$L$4,2,FALSE),\"\")","v":""},null,null,{"$f":"IF(G242>0,VLOOKUP(G242,Set!$B$2:$C$13,2,FALSE),\"\")","v":""},{"$nulls":8},{"$f":"IF(P242>0,VLOOKUP(P242,Set!$G$2:$H$3,2,FALSE),\"\")","v":""}]
[{"$nulls":4},{"$f":"IF(D243>0,VLOOKUP(D243,Set!$K$2:$L$4,2,FALSE),\"\")","v":""},null,null,{"$f":"IF(G243>0,VLOOKUP(G243,Set!$B$2:$C$13,2,FALSE),\"\")","v":""},{"$nulls":8},{"$f":"IF(P243>0,VLOOKUP(P243,Set!$G$2:$H$3,2,FALSE),\"\")","v":""}]
[{"$nulls":4},{"$f":"IF(D244>0,VLOOKUP(D244,Set!$K$2:$L$4,2,FALSE),\"\")","v":""},null,null,{"$f":"IF(G244>0,VLOOKUP(G244,Set!$B$2:$C$13,2,FALSE),\"\")","v":""},{"$nulls":8},{"$f":"IF(P244>0,VLOOKUP(P244,Set!$G$2:$H$3,2,FALSE),\"\")","v":""}]
[{"$nulls":4},{"$f":"IF(D245>0,VLOOKUP(D245,Set!$K$2:$L$4,2,FALSE),\"\")","v":""},null,null,{"$f":"IF(G245>0,VLOOKUP(G245,Set!$B$2:$C$13,2,FALSE),\"\")","v":""},{"$nulls":8},{"$f":"IF(P245>0,VLOOKUP(P245,Set!$G$2:$H$3,2,FALSE),\"\")","v":""}]
[{"$nulls":4},{"$f":"IF(D246>0,VLOOKUP(D246,Set!$K$2:$L$4,2,FALSE),\"\")","v":""},null,null,{"$f":"IF(G246>0,VLOOKUP(G246,Set!$B$2:$C$13,2,FALSE),\"\")","v":""},{"$nulls":8},{"$f":"IF(P246>0,VLOOKUP(P246,Set!$G$2:$H$3,2,FALSE),\"\")","v":""}]
[{"$nulls":4},{"$f":"IF(D247>0,VLOOKUP(D247,Set!$K$2:$L$4,2,FALSE),\"\")","v":""},null,null,{"$f":"IF(G247>0,VLOOKUP(G247,Set!$B$2:$C$13,2,FALSE),\"\")","v":""},{"$nulls":8},{"$f":"IF(P247>0,VLOOKUP(P247,Set!$G$2:$H$3,2,FALSE),\"\")","v":""}]
[{"$nulls":4},{"$f":"IF(D248>0,VLOOKUP(D248,Set!$K$2:$L$4,2,FALSE),\"\")","v":""},null,null,{"$f":"IF(G248>0,VLOOKUP(G248,Set!$B$2:$C$13,2,FALSE),\"\")","v":""},{"$nulls":8},{"$f":"IF(P248>0,VLOOKUP(P248,Set!$G$2:$H$3,2,FALSE),\"\")","v":""}]
[{"$nulls":4},{"$f":"IF(D249>0,VLOOKUP(D249,Set!$K$2:$L$4,2,FALSE),\"\")","v":""},null,null,{"$f":"IF(G249>0,VLOOKUP(G249,Set!$B$2:$C$13,2,FALSE),\"\")","v":""},{"$nulls":8},{"$f":"IF(P249>0,VLOOKUP(P249,Set!$G$2:$H$3,2,FALSE),\"\")","v":""}]
[{"$nulls":4},{"$f":"IF(D250>0,VLOOKUP(D250,Set!$K$2:$L$4,2,FALSE),\"\")","v":""},null,null,{"$f":"IF(G250>0,VLOOKUP(G250,Set!$B$2:$C$13,2,FALSE),\"\")","v":""},{"$nulls":8},{"$f":"IF(P250>0,VLOOKUP(P250,Set!$G$2:$H$3,2,FALSE),\"\")","v":""}]
[{"$nulls":4},{"$f":"IF(D251>0,VLOOKUP(D251,Set!$K$2:$L$4,2,FALSE),\"\")","v":""},null,null,{"$f":"IF(G251>0,VLOOKUP(G251,Set!$B$2:$C$13,2,FALSE),\"\")","v":""},{"$nulls":8},{"$f":"IF(P251>0,VLOOKUP(P251,Set!$G$2:$H$3,2,FALSE),\"\")","v":""}]
[{"$nulls":4},{"$f":"IF(D252>0,VLOOKUP(D252,Set!$K$2:$L$4,2,FALSE),\"\")","v":""},null,null,{"$f":"IF(G252>0,VLOOKUP(G252,Set!$B$2:$C$13,2,FALSE),\"\")","v":""},{"$nulls":8},{"$f":"IF(P252>0,VLOOKUP(P252,Set!$G$2:$H$3,2,FALSE),\"\")","v":""}]
[{"$nulls":4},{"$f":"IF(D253>0,VLOOKUP(D253,Set!$K$2:$L$4,2,FALSE),\"\")","v":""},null,null,{"$f":"IF(G253>0,VLOOKUP(G253,Set!$B$2:$C$13,2,FALSE),\"\")","v":""},{"$nulls":8},{"$f":"IF(P253>0,VLOOKUP(P253,Set!$G$2:$H$3,2,FALSE),\"\")","v":""}]
[{"$nulls":4},{"$f":"IF(D254>0,VLOOKUP(D254,Set!$K$2:$L$4,2,FALSE),\"\")","v":""},null,null,{"$f":"IF(G254>0,VLOOKUP(G254,Set!$B$2:$C$13,2,FALSE),\"\")","v":""},{"$nulls":8},{"$f":"IF(P254>0,VLOOKUP(P254,Set!$G$2:$H$3,2,FALSE),\"\")","v":""}]
[{"$nulls":4},{"$f":"IF(D255>0,VLOOKUP(D255,Set!$K$2:$L$4,2,FALSE),\"\")","v":""},null,null,{"$f":"IF(G255>0,VLOOKUP(G255,Set!$B$2:$C$13,2,FALSE),\"\")","v":""},{"$nulls":8},{"$f":"IF(P255>0,VLOOKUP(P255,Set!$G$2:$H$3,2,FALSE),\"\")","v":""}]
[{"$nulls":4},{"$f":"IF(D256>0,VLOOKUP(D256,Set!$K$2:$L$4,2,FALSE),\"\")","v":""},null,null,{"$f":"IF(G256>0,VLOOKUP(G256,Set!$B$2:$C$13,2,FALSE),\"\")","v":""},{"$nulls":8},{"$f":"IF(P256>0,VLOOKUP(P256,Set!$G$2:$H$3,2,FALSE),\"\")","v":""}]
[{"$nulls":4},{"$f":"IF(D257>0,VLOOKUP(D257,Set!$K$2:$L$4,2,FALSE),\"\")","v":""},null,null,{"$f":"IF(G257>0,VLOOKUP(G257,Set!$B$2:$C$13,2,FALSE),\"\")","v":""},{"$nulls":8},{"$f":"IF(P257>0,VLOOKUP(P257,Set!$G$2:$H$3,2,FALSE),\"\")","v":""}]
[{"$nulls":4},{"$f":"IF(D258>0,VLOOKUP(D258,Set!$K$2:$L$4,2,FALSE),\"\")","v":""},null,null,{"$f":"IF(G258>0,VLOOKUP(G258,Set!$B$2:$C$13,2,FALSE),\"\")","v":""},{"$nulls":8},{"$f":"IF(P258>0,VLOOKUP(P258,Set!$G$2:$H$3,2,FALSE),\"\")","v":""}]
[{"$nulls":4},{"$f":"IF(D259>0,VLOOKUP(D259,Set!$K$2:$L$4,2,FALSE),\"\")","v":""},null,null,{"$f":"IF(G259>0,VLOOKUP(G259,Set!$B$2:$C$13,2,FALSE),\"\")","v":""},{"$nulls":8},{"$f":"IF(P259>0,VLOOKUP(P259,Set!$G$2:$H$3,2,FALSE),\"\")","v":""}]
[{"$nulls":4},{"$f":"IF(D260>0,VLOOKUP(D260,Set!$K$2:$L$4,2,FALSE),\"\")","v":""},null,null,{"$f":"IF(G260>0,VLOOKUP(G260,Set!$B$2:$C$13,2,FALSE),\"\")","v":""},{"$nulls":8},{"$f":"IF(P260>0,VLOOKUP(P260,Set!$G$2:$H$3,2,FALSE),\"\")","v":""}]
[{"$nulls":4},{"$f":"IF(D261>0,VLOOKUP(D261,Set!$K$2:$L$4,2,FALSE),\"\")","v":""},null,null,{"$f":"IF(G261>0,VLOOKUP(G261,Set!$B$2:$C$13,2,FALSE),\"\")","v":""},{"$nulls":8},{"$f":"IF(P261>0,VLOOKUP(P261,Set!$G$2:$H$3,2,FALSE),\"\")","v":""}]
[{"$nulls":4},{"$f":"IF(D262>0,VLOOKUP(D262,Set!$K$2:$L$4,2,FALSE),\"\")","v":""},null,null,{"$f":"IF(G262>0,VLOOKUP(G262,Set!$B$2:$C$13,2,FALSE),\"\")","v":""},{"$nulls":8},{"$f":"IF(P262>0,VLOOKUP(P262,Set!$G$2:$H$3,2,FALSE),\"\")","v":""}]
[{"$nulls":4},{"$f":"IF(D263>0,VLOOKUP(D263,Set!$K$2:$L$4,2,FALSE),\"\")","v":""},null,null,{"$f":"IF(G263>0,VLOOKUP(G263,Set!$B$2:$C$13,2,FALSE),\"\")","v":""},{"$nulls":8},{"$f":"IF(P263>0,VLOOKUP(P263,Set!$G$2:$H$3,2,FALSE),\"\")","v":""}]
[{"$nulls":4},{"$f":"IF(D264>0,VLOOKUP(D264,Set!$K$2:$L$4,2,FALSE),\"\")","v":""},null,null,{"$f":"IF(G264>0,VLOOKUP(G264,Set!$B$2:$C$13,2,FALSE),\"\")","v":""},{"$nulls":8},{"$f":"IF(P264>0,VLOOKUP(P264,Set!$G$2:$H$3,2,FALSE),\"\")","v":""}]
[{"$nulls":4},{"$f":"IF(D265>0,VLOOKUP(D265,Set!$K$2:$L$4,2,FALSE),\"\")","v":""},null,null,{"$f":"IF(G265>0,VLOOKUP(G265,Set!$B$2:$C$13,2,FALSE),\"\")","v":""},{"$nulls":8},{"$f":"IF(P265>0,VLOOKUP(P265,Set!$G$2:$H$3,2,FALSE),\"\")","v":""}]
[{"$nulls":4},{"$f":"IF(D266>0,VLOOKUP(D266,Set!$K$2:$L$4,2,FALSE),\"\")","v":""},null,null,{"$f":"IF(G266>0,VLOOKUP(G266,Set!$B$2:$C$13,2,FALSE),\"\")","v":""},{"$nulls":8},{"$f":"IF(P266>0,VLOOKUP(P266,Set!$G$2:$H$3,2,FALSE),\"\")","v":""}]
[{"$nulls":4},{"$f":"IF(D267>0,VLOOKUP(D267,Set!$K$2:$L$4,2,FALSE),\"\")","v":""},null,null,{"$f":"IF(G267>0,VLOOKUP(G267,Set!$B$2:$C$13,2,FALSE),\"\")","v":""},{"$nulls":8},{"$f":"IF(P267>0,VLOOKUP(P267,Set!$G$2:$H$3,2,FALSE),\"\")","v":""}]
[{"$nulls":4},{"$f":"IF(D268>0,VLOOKUP(D268,Set!$K$2:$L$4,2,FALSE),\"\")","v":""},null,null,{"$f":"IF(G268>0,VLOOKUP(G268,Set!$B$2:$C$13,2,FALSE),\"\")","v":""},{"$nulls":8},{"$f":"IF(P268>0,VLOOKUP(P268,Set!$G$2:$H$3,2,FALSE),\"\")","v":""}]
[{"$nulls":4},{"$f":"IF(D269>0,VLOOKUP(D269,Set!$K$2:$L$4,2,FALSE),\"\")","v":""},null,null,{"$f":"IF(G269>0,VLOOKUP(G269,Set!$B$2:$C$13,2,FALSE),\"\")","v":""},{"$nulls":8},{"$f":"IF(P269>0,VLOOKUP(P269,Set!$G$2:$H$3,2,FALSE),\"\")","v":""}]
[{"$nulls":4},{"$f":"IF(D270>0,VLOOKUP(D270,Set!$K$2:$L$4,2,FALSE),\"\")","v":""},null,null,{"$f":"IF(G270>0,VLOOKUP(G270,Set!$B$2:$C$13,2,FALSE),\"\")","v":""},{"$nulls":8},{"$f":"IF(P270>0,VLOOKUP(P270,Set!$G$2:$H$3,2,FALSE),\"\")","v":""}]
[{"$nulls":4},{"$f":"IF(D271>0,VLOOKUP(D271,Set!$K$2:$L$4,2,FALSE),\"\")","v":""},null,null,{"$f":"IF(G271>0,VLOOKUP(G271,Set!$B$2:$C$13,2,FALSE),\"\")","v":""},{"$nulls":8},{"$f":"IF(P271>0,VLOOKUP(P271,Set!$G$2:$H$3,2,FALSE),\"\")","v":""}]
[{"$nulls":4},{"$f":"IF(D272>0,VLOOKUP(D272,Set!$K$2:$L$4,2,FALSE),\"\")","v":""},null,null,{"$f":"IF(G272>0,VLOOKUP(G272,Set!$B$2:$C$13,2,FALSE),\"\")","v":""},{"$nulls":8},{"$f":"IF(P272>0,VLOOKUP(P272,Set!$G$2:$H$3,2,FALSE),\"\")","v":""}]
[{"$nulls":4},{"$f":"IF(D273>0,VLOOKUP(D273,Set!$K$2:$L$4,2,FALSE),\"\")","v":""},null,null,{"$f":"IF(G273>0,VLOOKUP(G273,Set!$B$2:$C$13,2,FALSE),\"\")","v":""},{"$nulls":8},{"$f":"IF(P273>0,VLOOKUP(P273,Set!$G$2:$H$3,2,FALSE),\"\")","v":""}]
[{"$nulls":4},{"$f":"IF(D274>0,VLOOKUP(D274,Set!$K$2:$L$4,2,FALSE),\"\")","v":""},null,null,{"$f":"IF(G274>0,VLOOKUP(G274,Set!$B$2:$C$13,2,FALSE),\"\")","v":""},{"$nulls":8},{"$f":"IF(P274>0,VLOOKUP(P274,Set!$G$2:$H$3,2,FALSE),\"\")","v":""}]
[{"$nulls":4},{"$f":"IF(D275>0,VLOOKUP(D275,Set!$K$2:$L$4,2,FALSE),\"\")","v":""},null,null,{"$f":"IF(G275>0,VLOOKUP(G275,Set!$B$2:$C$13,2,FALSE),\"\")","v":""},{"$nulls":8},{"$f":"IF(P275>0,VLOOKUP(P275,Set!$G$2:$H$3,2,FALSE),\"\")","v":""}]
[{"$nulls":4},{"$f":"IF(D276>0,VLOOKUP(D276,Set!$K$2:$L$4,2,FALSE),\"\")","v":""},null,null,{"$f":"IF(G276>0,VLOOKUP(G276,Set!$B$2:$C$13,2,FALSE),\"\")","v":""},{"$nulls":8},{"$f":"IF(P276>0,VLOOKUP(P276,Set!$G$2:$H$3,2,FALSE),\"\")","v":""}]
[{"$nulls":4},{"$f":"IF(D277>0,VLOOKUP(D277,Set!$K$2:$L$4,2,FALSE),\"\")","v":""},null,null,{"$f":"IF(G277>0,VLOOKUP(G277,Set!$B$2:$C$13,2,FALSE),\"\")","v":""},{"$nulls":8},{"$f":"IF(P277>0,VLOOKUP(P277,Set!$G$2:$H$3,2,FALSE),\"\")","v":""}]
[{"$nulls":4},{"$f":"IF(D278>0,VLOOKUP(D278,Set!$K$2:$L$4,2,FALSE),\"\")","v":""},null,null,{"$f":"IF(G278>0,VLOOKUP(G278,Set!$B$2:$C$13,2,FALSE),\"\")","v":""},{"$nulls":8},{"$f":"IF(P278>0,VLOOKUP(P278,Set!$G$2:$H$3,2,FALSE),\"\")","v":""}]
[{"$nulls":4},{"$f":"IF(D279>0,VLOOKUP(D279,Set!$K$2:$L$4,2,FALSE),\"\")","v":""},null,null,{"$f":"IF(G279>0,VLOOKUP(G279,Set!$B$2:$C$13,2,FALSE),\"\")","v":""},{"$nulls":8},{"$f":"IF(P279>0,VLOOKUP(P279,Set!$G$2:$H$3,2,FALSE),\"\")","v":""}]
[{"$nulls":4},{"$f":"IF(D280>0,VLOOKUP(D280,Set!$K$2:$L$4,2,FALSE),\"\")","v":""},null,null,{"$f":"IF(G280>0,VLOOKUP(G280,Set!$B$2:$C$13,2,FALSE),\"\")","v":""},{"$nulls":8},{"$f":"IF(P280>0,VLOOKUP(P280,Set!$G$2:$H$3,2,FALSE),\"\")","v":""}]
[{"$nulls":4},{"$f":"IF(D281>0,VLOOKUP(D281,Set!$K$2:$L$4,2,FALSE),\"\")","v":""},null,null,{"$f":"IF(G281>0,VLOOKUP(G281,Set!$B$2:$C$13,2,FALSE),\"\")","v":""},{"$nulls":8},{"$f":"IF(P281>0,VLOOKUP(P281,Set!$G$2:$H$3,2,FALSE),\"\")","v":""}]
[{"$nulls":4},{"$f":"IF(D282>0,VLOOKUP(D282,Set!$K$2:$L$4,2,FALSE),\"\")","v":""},null,null,{"$f":"IF(G282>0,VLOOKUP(G282,Set!$B$2:$C$13,2,FALSE),\"\")","v":""},{"$nulls":8},{"$f":"IF(P282>0,VLOOKUP(P282,Set!$G$2:$H$3,2,FALSE),\"\")","v":""}]
[{"$nulls":4},{"$f":"IF(D283>0,VLOOKUP(D283,Set!$K$2:$L$4,2,FALSE),\"\")","v":""},null,null,{"$f":"IF(G283>0,VLOOKUP(G283,Set!$B$2:$C$13,2,FALSE),\"\")","v":""},{"$nulls":8},{"$f":"IF(P283>0,VLOOKUP(P283,Set!$G$2:$H$3,2,FALSE),\"\")","v":""}]
[{"$nulls":4},{"$f":"IF(D284>0,VLOOKUP(D284,Set!$K$2:$L$4,2,FALSE),\"\")","v":""},null,null,{"$f":"IF(G284>0,VLOOKUP(G284,Set!$B$2:$C$13,2,FALSE),\"\")","v":""},{"$nulls":8},{"$f":"IF(P284>0,VLOOKUP(P284,Set!$G$2:$H$3,2,FALSE),\"\")","v":""}]
[{"$nulls":4},{"$f":"IF(D285>0,VLOOKUP(D285,Set!$K$2:$L$4,2,FALSE),\"\")","v":""},null,null,{"$f":"IF(G285>0,VLOOKUP(G285,Set!$B$2:$C$13,2,FALSE),\"\")","v":""},{"$nulls":8},{"$f":"IF(P285>0,VLOOKUP(P285,Set!$G$2:$H$3,2,FALSE),\"\")","v":""}]
[{"$nulls":4},{"$f":"IF(D286>0,VLOOKUP(D286,Set!$K$2:$L$4,2,FALSE),\"\")","v":""},null,null,{"$f":"IF(G286>0,VLOOKUP(G286,Set!$B$2:$C$13,2,FALSE),\"\")","v":""},{"$nulls":8},{"$f":"IF(P286>0,VLOOKUP(P286,Set!$G$2:$H$3,2,FALSE),\"\")","v":""}]
[{"$nulls":4},{"$f":"IF(D287>0,VLOOKUP(D287,Set!$K$2:$L$4,2,FALSE),\"\")","v":""},null,null,{"$f":"IF(G287>0,VLOOKUP(G287,Set!$B$2:$C$13,2,FALSE),\"\")","v":""},{"$nulls":8},{"$f":"IF(P287>0,VLOOKUP(P287,Set!$G$2:$H$3,2,FALSE),\"\")","v":""}]
[{"$nulls":4},{"$f":"IF(D288>0,VLOOKUP(D288,Set!$K$2:$L$4,2,FALSE),\"\")","v":""},null,null,{"$f":"IF(G288>0,VLOOKUP(G288,Set!$B$2:$C$13,2,FALSE),\"\")","v":""},{"$nulls":8},{"$f":"IF(P288>0,VLOOKUP(P288,Set!$G$2:$H$3,2,FALSE),\"\")","v":""}]
[{"$nulls":4},{"$f":"IF(D289>0,VLOOKUP(D289,Set!$K$2:$L$4,2,FALSE),\"\")","v":""},null,null,{"$f":"IF(G289>0,VLOOKUP(G289,Set!$B$2:$C$13,2,FALSE),\"\")","v":""},{"$nulls":8},{"$f":"IF(P289>0,VLOOKUP(P289,Set!$G$2:$H$3,2,FALSE),\"\")","v":""}]
[{"$nulls":4},{"$f":"IF(D290>0,VLOOKUP(D290,Set!$K$2:$L$4,2,FALSE),\"\")","v":""},null,null,{"$f":"IF(G290>0,VLOOKUP(G290,Set!$B$2:$C$13,2,FALSE),\"\")","v":""},{"$nulls":8},{"$f":"IF(P290>0,VLOOKUP(P290,Set!$G$2:$H$3,2,FALSE),\"\")","v":""}]
[{"$nulls":4},{"$f":"IF(D291>0,VLOOKUP(D291,Set!$K$2:$L$4,2,FALSE),\"\")","v":""},null,null,{"$f":"IF(G291>0,VLOOKUP(G291,Set!$B$2:$C$13,2,FALSE),\"\")","v":""},{"$nulls":8},{"$f":"IF(P291>0,VLOOKUP(P291,Set!$G$2:$H$3,2,FALSE),\"\")","v":""}]
[{"$nulls":4},{"$f":"IF(D292>0,VLOOKUP(D292,Set!$K$2:$L$4,2,FALSE),\"\")","v":""},null,null,{"$f":"IF(G292>0,VLOOKUP(G292,Set!$B$2:$C$13,2,FALSE),\"\")","v":""},{"$nulls":8},{"$f":"IF(P292>0,VLOOKUP(P292,Set!$G$2:$H$3,2,FALSE),\"\")","v":""}]
[{"$nulls":4},{"$f":"IF(D293>0,VLOOKUP(D293,Set!$K$2:$L$4,2,FALSE),\"\")","v":""},null,null,{"$f":"IF(G293>0,VLOOKUP(G293,Set!$B$2:$C$13,2,FALSE),\"\")","v":""},{"$nulls":8},{"$f":"IF(P293>0,VLOOKUP(P293,Set!$G$2:$H$3,2,FALSE),\"\")","v":""}]
[{"$nulls":4},{"$f":"IF(D294>0,VLOOKUP(D294,Set!$K$2:$L$4,2,FALSE),\"\")","v":""},null,null,{"$f":"IF(G294>0,VLOOKUP(G294,Set!$B$2:$C$13,2,FALSE),\"\")","v":""},{"$nulls":8},{"$f":"IF(P294>0,VLOOKUP(P294,Set!$G$2:$H$3,2,FALSE),\"\")","v":""}]
[{"$nulls":4},{"$f":"IF(D295>0,VLOOKUP(D295,Set!$K$2:$L$4,2,FALSE),\"\")","v":""},null,null,{"$f":"IF(G295>0,VLOOKUP(G295,Set!$B$2:$C$13,2,FALSE),\"\")","v":""},{"$nulls":8},{"$f":"IF(P295>0,VLOOKUP(P295,Set!$G$2:$H$3,2,FALSE),\"\")","v":""}]
[{"$nulls":4},{"$f":"IF(D296>0,VLOOKUP(D296,Set!$K$2:$L$4,2,FALSE),\"\")","v":""},null,null,{"$f":"IF(G296>0,VLOOKUP(G296,Set!$B$2:$C$13,2,FALSE),\"\")","v":""},{"$nulls":8},{"$f":"IF(P296>0,VLOOKUP(P296,Set!$G$2:$H$3,2,FALSE),\"\")","v":""}]
[{"$nulls":4},{"$f":"IF(D297>0,VLOOKUP(D297,Set!$K$2:$L$4,2,FALSE),\"\")","v":""},null,null,{"$f":"IF(G297>0,VLOOKUP(G297,Set!$B$2:$C$13,2,FALSE),\"\")","v":""},{"$nulls":8},{"$f":"IF(P297>0,VLOOKUP(P297,Set!$G$2:$H$3,2,FALSE),\"\")","v":""}]
[{"$nulls":4},{"$f":"IF(D298>0,VLOOKUP(D298,Set!$K$2:$L$4,2,FALSE),\"\")","v":""},null,null,{"$f":"IF(G298>0,VLOOKUP(G298,Set!$B$2:$C$13,2,FALSE),\"\")","v":""},{"$nulls":8},{"$f":"IF(P298>0,VLOOKUP(P298,Set!$G$2:$H$3,2,FALSE),\"\")","v":""}]
[{"$nulls":4},{"$f":"IF(D299>0,VLOOKUP(D299,Set!$K$2:$L$4,2,FALSE),\"\")","v":""},null,null,{"$f":"IF(G299>0,VLOOKUP(G299,Set!$B$2:$C$13,2,FALSE),\"\")","v":""},{"$nulls":8},{"$f":"IF(P299>0,VLOOKUP(P299,Set!$G$2:$H$3,2,FALSE),\"\")","v":""}]
[{"$nulls":4},{"$f":"IF(D300>0,VLOOKUP(D300,Set!$K$2:$L$4,2,FALSE),\"\")","v":""},null,null,{"$f":"IF(G300>0,VLOOKUP(G300,Set!$B$2:$C$13,2,FALSE),\"\")","v":""},{"$nulls":8},{"$f":"IF(P300>0,VLOOKUP(P300,Set!$G$2:$H$3,2,FALSE),\"\")","v":""}]
[{"$nulls":4},{"$f":"IF(D301>0,VLOOKUP(D301,Set!$K$2:$L$4,2,FALSE),\"\")","v":""},null,null,{"$f":"IF(G301>0,VLOOKUP(G301,Set!$B$2:$C$13,2,FALSE),\"\")","v":""},{"$nulls":8},{"$f":"IF(P301>0,VLOOKUP(P301,Set!$G$2:$H$3,2,FALSE),\"\")","v":""}]
[{"$nulls":4},{"$f":"IF(D302>0,VLOOKUP(D302,Set!$K$2:$L$4,2,FALSE),\"\")","v":""},null,null,{"$f":"IF(G302>0,VLOOKUP(G302,Set!$B$2:$C$13,2,FALSE),\"\")","v":""},{"$nulls":8},{"$f":"IF(P302>0,VLOOKUP(P302,Set!$G$2:$H$3,2,FALSE),\"\")","v":""}]
[{"$nulls":4},{"$f":"IF(D303>0,VLOOKUP(D303,Set!$K$2:$L$4,2,FALSE),\"\")","v":""},null,null,{"$f":"IF(G303>0,VLOOKUP(G303,Set!$B$2:$C$13,2,FALSE),\"\")","v":""},{"$nulls":8},{"$f":"IF(P303>0,VLOOKUP(P303,Set!$G$2:$H$3,2,FALSE),\"\")","v":""}]
[{"$nulls":4},{"$f":"IF(D304>0,VLOOKUP(D304,Set!$K$2:$L$4,2,FALSE),\"\")","v":""},null,null,{"$f":"IF(G304>0,VLOOKUP(G304,Set!$B$2:$C$13,2,FALSE),\"\")","v":""},{"$nulls":8},{"$f":"IF(P304>0,VLOOKUP(P304,Set!$G$2:$H$3,2,FALSE),\"\")","v":""}]
[{"$nulls":4},{"$f":"IF(D305>0,VLOOKUP(D305,Set!$K$2:$L$4,2,FALSE),\"\")","v":""},null,null,{"$f":"IF(G305>0,VLOOKUP(G305,Set!$B$2:$C$13,2,FALSE),\"\")","v":""},{"$nulls":8},{"$f":"IF(P305>0,VLOOKUP(P305,Set!$G$2:$H$3,2,FALSE),\"\")","v":""}]
[{"$nulls":4},{"$f":"IF(D306>0,VLOOKUP(D306,Set!$K$2:$L$4,2,FALSE),\"\")","v":""},null,null,{"$f":"IF(G306>0,VLOOKUP(G306,Set!$B$2:$C$13,2,FALSE),\"\")","v":""},{"$nulls":8},{"$f":"IF(P306>0,VLOOKUP(P306,Set!$G$2:$H$3,2,FALSE),\"\")","v":""}]
[{"$nulls":4},{"$f":"IF(D307>0,VLOOKUP(D307,Set!$K$2:$L$4,2,FALSE),\"\")","v":""},null,null,{"$f":"IF(G307>0,VLOOKUP(G307,Set!$B$2:$C$13,2,FALSE),\"\")","v":""},{"$nulls":8},{"$f":"IF(P307>0,VLOOKUP(P307,Set!$G$2:$H$3,2,FALSE),\"\")","v":""}]
[{"$nulls":4},{"$f":"IF(D308>0,VLOOKUP(D308,Set!$K$2:$L$4,2,FALSE),\"\")","v":""},null,null,{"$f":"IF(G308>0,VLOOKUP(G308,Set!$B$2:$C$13,2,FALSE),\"\")","v":""},{"$nulls":8},{"$f":"IF(P308>0,VLOOKUP(P308,Set!$G$2:$H$3,2,FALSE),\"\")","v":""}]
[{"$nulls":4},{"$f":"IF(D309>0,VLOOKUP(D309,Set!$K$2:$L$4,2,FALSE),\"\")","v":""},null,null,{"$f":"IF(G309>0,VLOOKUP(G309,Set!$B$2:$C$13,2,FALSE),\"\")","v":""},{"$nulls":8},{"$f":"IF(P309>0,VLOOKUP(P309,Set!$G$2:$H$3,2,FALSE),\"\")","v":""}]
[{"$nulls":4},{"$f":"IF(D310>0,VLOOKUP(D310,Set!$K$2:$L$4,2,FALSE),\"\")","v":""},null,null,{"$f":"IF(G310>0,VLOOKUP(G310,Set!$B$2:$C$13,2,FALSE),\"\")","v":""},{"$nulls":8},{"$f":"IF(P310>0,VLOOKUP(P310,Set!$G$2:$H$3,2,FALSE),\"\")","v":""}]
[{"$nulls":4},{"$f":"IF(D311>0,VLOOKUP(D311,Set!$K$2:$L$4,2,FALSE),\"\")","v":""},null,null,{"$f":"IF(G311>0,VLOOKUP(G311,Set!$B$2:$C$13,2,FALSE),\"\")","v":""},{"$nulls":8},{"$f":"IF(P311>0,VLOOKUP(P311,Set!$G$2:$H$3,2,FALSE),\"\")","v":""}]
[{"$nulls":4},{"$f":"IF(D312>0,VLOOKUP(D312,Set!$K$2:$L$4,2,FALSE),\"\")","v":""},null,null,{"$f":"IF(G312>0,VLOOKUP(G312,Set!$B$2:$C$13,2,FALSE),\"\")","v":""},{"$nulls":8},{"$f":"IF(P312>0,VLOOKUP(P312,Set!$G$2:$H$3,2,FALSE),\"\")","v":""}]
[{"$nulls":4},{"$f":"IF(D313>0,VLOOKUP(D313,Set!$K$2:$L$4,2,FALSE),\"\")","v":""},null,null,{"$f":"IF(G313>0,VLOOKUP(G313,Set!$B$2:$C$13,2,FALSE),\"\")","v":""},{"$nulls":8},{"$f":"IF(P313>0,VLOOKUP(P313,Set!$G$2:$H$3,2,FALSE),\"\")","v":""}]
[{"$nulls":4},{"$f":"IF(D314>0,VLOOKUP(D314,Set!$K$2:$L$4,2,FALSE),\"\")","v":""},null,null,{"$f":"IF(G314>0,VLOOKUP(G314,Set!$B$2:$C$13,2,FALSE),\"\")","v":""},{"$nulls":8},{"$f":"IF(P314>0,VLOOKUP(P314,Set!$G$2:$H$3,2,FALSE),\"\")","v":""}]
[{"$nulls":4},{"$f":"IF(D315>0,VLOOKUP(D315,Set!$K$2:$L$4,2,FALSE),\"\")","v":""},null,null,{"$f":"IF(G315>0,VLOOKUP(G315,Set!$B$2:$C$13,2,FALSE),\"\")","v":""},{"$nulls":8},{"$f":"IF(P315>0,VLOOKUP(P315,Set!$G$2:$H$3,2,FALSE),\"\")","v":""}]
[{"$nulls":4},{"$f":"IF(D316>0,VLOOKUP(D316,Set!$K$2:$L$4,2,FALSE),\"\")","v":""},null,null,{"$f":"IF(G316>0,VLOOKUP(G316,Set!$B$2:$C$13,2,FALSE),\"\")","v":""},{"$nulls":8},{"$f":"IF(P316>0,VLOOKUP(P316,Set!$G$2:$H$3,2,FALSE),\"\")","v":""}]
[{"$nulls":4},{"$f":"IF(D317>0,VLOOKUP(D317,Set!$K$2:$L$4,2,FALSE),\"\")","v":""},null,null,{"$f":"IF(G317>0,VLOOKUP(G317,Set!$B$2:$C$13,2,FALSE),\"\")","v":""},{"$nulls":8},{"$f":"IF(P317>0,VLOOKUP(P317,Set!$G$2:$H$3,2,FALSE),\"\")","v":""}]
[{"$nulls":4},{"$f":"IF(D318>0,VLOOKUP(D318,Set!$K$2:$L$4,2,FALSE),\"\")","v":""},null,null,{"$f":"IF(G318>0,VLOOKUP(G318,Set!$B$2:$C$13,2,FALSE),\"\")","v":""},{"$nulls":8},{"$f":"IF(P318>0,VLOOKUP(P318,Set!$G$2:$H$3,2,FALSE),\"\")","v":""}]
[{"$nulls":4},{"$f":"IF(D319>0,VLOOKUP(D319,Set!$K$2:$L$4,2,FALSE),\"\")","v":""},null,null,{"$f":"IF(G319>0,VLOOKUP(G319,Set!$B$2:$C$13,2,FALSE),\"\")","v":""},{"$nulls":8},{"$f":"IF(P319>0,VLOOKUP(P319,Set!$G$2:$H$3,2,FALSE),\"\")","v":""}]
[{"$nulls":4},{"$f":"IF(D320>0,VLOOKUP(D320,Set!$K$2:$L$4,2,FALSE),\"\")","v":""},null,null,{"$f":"IF(G320>0,VLOOKUP(G320,Set!$B$2:$C$13,2,FALSE),\"\")","v":""},{"$nulls":8},{"$f":"IF(P320>0,VLOOKUP(P320,Set!$G$2:$H$3,2,FALSE),\"\")","v":""}]
[{"$nulls":4},{"$f":"IF(D321>0,VLOOKUP(D321,Set!$K$2:$L$4,2,FALSE),\"\")","v":""},null,null,{"$f":"IF(G321>0,VLOOKUP(G321,Set!$B$2:$C$13,2,FALSE),\"\")","v":""},{"$nulls":8},{"$f":"IF(P321>0,VLOOKUP(P321,Set!$G$2:$H$3,2,FALSE),\"\")","v":""}]
[{"$nulls":4},{"$f":"IF(D322>0,VLOOKUP(D322,Set!$K$2:$L$4,2,FALSE),\"\")","v":""},null,null,{"$f":"IF(G322>0,VLOOKUP(G322,Set!$B$2:$C$13,2,FALSE),\"\")","v":""},{"$nulls":8},{"$f":"IF(P322>0,VLOOKUP(P322,Set!$G$2:$H$3,2,FALSE),\"\")","v":""}]
[{"$nulls":4},{"$f":"IF(D323>0,VLOOKUP(D323,Set!$K$2:$L$4,2,FALSE),\"\")","v":""},null,null,{"$f":"IF(G323>0,VLOOKUP(G323,Set!$B$2:$C$13,2,FALSE),\"\")","v":""},{"$nulls":8},{"$f":"IF(P323>0,VLOOKUP(P323,Set!$G$2:$H$3,2,FALSE),\"\")","v":""}]
[{"$nulls":4},{"$f":"IF(D324>0,VLOOKUP(D324,Set!$K$2:$L$4,2,FALSE),\"\")","v":""},null,null,{"$f":"IF(G324>0,VLOOKUP(G324,Set!$B$2:$C$13,2,FALSE),\"\")","v":""},{"$nulls":8},{"$f":"IF(P324>0,VLOOKUP(P324,Set!$G$2:$H$3,2,FALSE),\"\")","v":""}]
[{"$nulls":4},{"$f":"IF(D325>0,VLOOKUP(D325,Set!$K$2:$L$4,2,FALSE),\"\")","v":""},null,null,{"$f":"IF(G325>0,VLOOKUP(G325,Set!$B$2:$C$13,2,FALSE),\"\")","v":""},{"$nulls":8},{"$f":"IF(P325>0,VLOOKUP(P325,Set!$G$2:$H$3,2,FALSE),\"\")","v":""}]
[{"$nulls":4},{"$f":"IF(D326>0,VLOOKUP(D326,Set!$K$2:$L$4,2,FALSE),\"\")","v":""},null,null,{"$f":"IF(G326>0,VLOOKUP(G326,Set!$B$2:$C$13,2,FALSE),\"\")","v":""},{"$nulls":8},{"$f":"IF(P326>0,VLOOKUP(P326,Set!$G$2:$H$3,2,FALSE),\"\")","v":""}]
[{"$nulls":4},{"$f":"IF(D327>0,VLOOKUP(D327,Set!$K$2:$L$4,2,FALSE),\"\")","v":""},null,null,{"$f":"IF(G327>0,VLOOKUP(G327,Set!$B$2:$C$13,2,FALSE),\"\")","v":""},{"$nulls":8},{"$f":"IF(P327>0,VLOOKUP(P327,Set!$G$2:$H$3,2,FALSE),\"\")","v":""}]
[{"$nulls":4},{"$f":"IF(D328>0,VLOOKUP(D328,Set!$K$2:$L$4,2,FALSE),\"\")","v":""},null,null,{"$f":"IF(G328>0,VLOOKUP(G328,Set!$B$2:$C$13,2,FALSE),\"\")","v":""},{"$nulls":8},{"$f":"IF(P328>0,VLOOKUP(P328,Set!$G$2:$H$3,2,FALSE),\"\")","v":""}]
[{"$nulls":4},{"$f":"IF(D329>0,VLOOKUP(D329,Set!$K$2:$L$4,2,FALSE),\"\")","v":""},null,null,{"$f":"IF(G329>0,VLOOKUP(G329,Set!$B$2:$C$13,2,FALSE),\"\")","v":""},{"$nulls":8},{"$f":"IF(P329>0,VLOOKUP(P329,Set!$G$2:$H$3,2,FALSE),\"\")","v":""}]
[{"$nulls":4},{"$f":"IF(D330>0,VLOOKUP(D330,Set!$K$2:$L$4,2,FALSE),\"\")","v":""},null,null,{"$f":"IF(G330>0,VLOOKUP(G330,Set!$B$2:$C$13,2,FALSE),\"\")","v":""},{"$nulls":8},{"$f":"IF(P330>0,VLOOKUP(P330,Set!$G$2:$H$3,2,FALSE),\"\")","v":""}]
[{"$nulls":4},{"$f":"IF(D331>0,VLOOKUP(D331,Set!$K$2:$L$4,2,FALSE),\"\")","v":""},null,null,{"$f":"IF(G331>0,VLOOKUP(G331,Set!$B$2:$C$13,2,FALSE),\"\")","v":""},{"$nulls":8},{"$f":"IF(P331>0,VLOOKUP(P331,Set!$G$2:$H$3,2,FALSE),\"\")","v":""}]
[{"$nulls":4},{"$f":"IF(D332>0,VLOOKUP(D332,Set!$K$2:$L$4,2,FALSE),\"\")","v":""},null,null,{"$f":"IF(G332>0,VLOOKUP(G332,Set!$B$2:$C$13,2,FALSE),\"\")","v":""},{"$nulls":8},{"$f":"IF(P332>0,VLOOKUP(P332,Set!$G$2:$H$3,2,FALSE),\"\")","v":""}]
[{"$nulls":4},{"$f":"IF(D333>0,VLOOKUP(D333,Set!$K$2:$L$4,2,FALSE),\"\")","v":""},null,null,{"$f":"IF(G333>0,VLOOKUP(G333,Set!$B$2:$C$13,2,FALSE),\"\")","v":""},{"$nulls":8},{"$f":"IF(P333>0,VLOOKUP(P333,Set!$G$2:$H$3,2,FALSE),\"\")","v":""}]
[{"$nulls":4},{"$f":"IF(D334>0,VLOOKUP(D334,Set!$K$2:$L$4,2,FALSE),\"\")","v":""},null,null,{"$f":"IF(G334>0,VLOOKUP(G334,Set!$B$2:$C$13,2,FALSE),\"\")","v":""},{"$nulls":8},{"$f":"IF(P334>0,VLOOKUP(P334,Set!$G$2:$H$3,2,FALSE),\"\")","v":""}]
[{"$nulls":4},{"$f":"IF(D335>0,VLOOKUP(D335,Set!$K$2:$L$4,2,FALSE),\"\")","v":""},null,null,{"$f":"IF(G335>0,VLOOKUP(G335,Set!$B$2:$C$13,2,FALSE),\"\")","v":""},{"$nulls":8},{"$f":"IF(P335>0,VLOOKUP(P335,Set!$G$2:$H$3,2,FALSE),\"\")","v":""}]
[{"$nulls":4},{"$f":"IF(D336>0,VLOOKUP(D336,Set!$K$2:$L$4,2,FALSE),\"\")","v":""},null,null,{"$f":"IF(G336>0,VLOOKUP(G336,Set!$B$2:$C$13,2,FALSE),\"\")","v":""},{"$nulls":8},{"$f":"IF(P336>0,VLOOKUP(P336,Set!$G$2:$H$3,2,FALSE),\"\")","v":""}]
[{"$nulls":4},{"$f":"IF(D337>0,VLOOKUP(D337,Set!$K$2:$L$4,2,FALSE),\"\")","v":""},null,null,{"$f":"IF(G337>0,VLOOKUP(G337,Set!$B$2:$C$13,2,FALSE),\"\")","v":""},{"$nulls":8},{"$f":"IF(P337>0,VLOOKUP(P337,Set!$G$2:$H$3,2,FALSE),\"\")","v":""}]
[{"$nulls":4},{"$f":"IF(D338>0,VLOOKUP(D338,Set!$K$2:$L$4,2,FALSE),\"\")","v":""},null,null,{"$f":"IF(G338>0,VLOOKUP(G338,Set!$B$2:$C$13,2,FALSE),\"\")","v":""},{"$nulls":8},{"$f":"IF(P338>0,VLOOKUP(P338,Set!$G$2:$H$3,2,FALSE),\"\")","v":""}]
[{"$nulls":4},{"$f":"IF(D339>0,VLOOKUP(D339,Set!$K$2:$L$4,2,FALSE),\"\")","v":""},null,null,{"$f":"IF(G339>0,VLOOKUP(G339,Set!$B$2:$C$13,2,FALSE),\"\")","v":""},{"$nulls":8},{"$f":"IF(P339>0,VLOOKUP(P339,Set!$G$2:$H$3,2,FALSE),\"\")","v":""}]
[{"$nulls":4},{"$f":"IF(D340>0,VLOOKUP(D340,Set!$K$2:$L$4,2,FALSE),\"\")","v":""},null,null,{"$f":"IF(G340>0,VLOOKUP(G340,Set!$B$2:$C$13,2,FALSE),\"\")","v":""},{"$nulls":8},{"$f":"IF(P340>0,VLOOKUP(P340,Set!$G$2:$H$3,2,FALSE),\"\")","v":""}]
[{"$nulls":4},{"$f":"IF(D341>0,VLOOKUP(D341,Set!$K$2:$L$4,2,FALSE),\"\")","v":""},null,null,{"$f":"IF(G341>0,VLOOKUP(G341,Set!$B$2:$C$13,2,FALSE),\"\")","v":""},{"$nulls":8},{"$f":"IF(P341>0,VLOOKUP(P341,Set!$G$2:$H$3,2,FALSE),\"\")","v":""}]
[{"$nulls":4},{"$f":"IF(D342>0,VLOOKUP(D342,Set!$K$2:$L$4,2,FALSE),\"\")","v":""},null,null,{"$f":"IF(G342>0,VLOOKUP(G342,Set!$B$2:$C$13,2,FALSE),\"\")","v":""},{"$nulls":8},{"$f":"IF(P342>0,VLOOKUP(P342,Set!$G$2:$H$3,2,FALSE),\"\")","v":""}]
[{"$nulls":4},{"$f":"IF(D343>0,VLOOKUP(D343,Set!$K$2:$L$4,2,FALSE),\"\")","v":""},null,null,{"$f":"IF(G343>0,VLOOKUP(G343,Set!$B$2:$C$13,2,FALSE),\"\")","v":""},{"$nulls":8},{"$f":"IF(P343>0,VLOOKUP(P343,Set!$G$2:$H$3,2,FALSE),\"\")","v":""}]
[{"$nulls":4},{"$f":"IF(D344>0,VLOOKUP(D344,Set!$K$2:$L$4,2,FALSE),\"\")","v":""},null,null,{"$f":"IF(G344>0,VLOOKUP(G344,Set!$B$2:$C$13,2,FALSE),\"\")","v":""},{"$nulls":8},{"$f":"IF(P344>0,VLOOKUP(P344,Set!$G$2:$H$3,2,FALSE),\"\")","v":""}]
[{"$nulls":4},{"$f":"IF(D345>0,VLOOKUP(D345,Set!$K$2:$L$4,2,FALSE),\"\")","v":""},null,null,{"$f":"IF(G345>0,VLOOKUP(G345,Set!$B$2:$C$13,2,FALSE),\"\")","v":""},{"$nulls":8},{"$f":"IF(P345>0,VLOOKUP(P345,Set!$G$2:$H$3,2,FALSE),\"\")","v":""}]
[{"$nulls":4},{"$f":"IF(D346>0,VLOOKUP(D346,Set!$K$2:$L$4,2,FALSE),\"\")","v":""},null,null,{"$f":"IF(G346>0,VLOOKUP(G346,Set!$B$2:$C$13,2,FALSE),\"\")","v":""},{"$nulls":8},{"$f":"IF(P346>0,VLOOKUP(P346,Set!$G$2:$H$3,2,FALSE),\"\")","v":""}]
[{"$nulls":4},{"$f":"IF(D347>0,VLOOKUP(D347,Set!$K$2:$L$4,2,FALSE),\"\")","v":""},null,null,{"$f":"IF(G347>0,VLOOKUP(G347,Set!$B$2:$C$13,2,FALSE),\"\")","v":""},{"$nulls":8},{"$f":"IF(P347>0,VLOOKUP(P347,Set!$G$2:$H$3,2,FALSE),\"\")","v":""}]
[{"$nulls":4},{"$f":"IF(D348>0,VLOOKUP(D348,Set!$K$2:$L$4,2,FALSE),\"\")","v":""},null,null,{"$f":"IF(G348>0,VLOOKUP(G348,Set!$B$2:$C$13,2,FALSE),\"\")","v":""},{"$nulls":8},{"$f":"IF(P348>0,VLOOKUP(P348,Set!$G$2:$H$3,2,FALSE),\"\")","v":""}]
[{"$nulls":4},{"$f":"IF(D349>0,VLOOKUP(D349,Set!$K$2:$L$4,2,FALSE),\"\")","v":""},null,null,{"$f":"IF(G349>0,VLOOKUP(G349,Set!$B$2:$C$13,2,FALSE),\"\")","v":""},{"$nulls":8},{"$f":"IF(P349>0,VLOOKUP(P349,Set!$G$2:$H$3,2,FALSE),\"\")","v":""}]
[{"$nulls":4},{"$f":"IF(D350>0,VLOOKUP(D350,Set!$K$2:$L$4,2,FALSE),\"\")","v":""},null,null,{"$f":"IF(G350>0,VLOOKUP(G350,Set!$B$2:$C$13,2,FALSE),\"\")","v":""},{"$nulls":8},{"$f":"IF(P350>0,VLOOKUP(P350,Set!$G$2:$H$3,2,FALSE),\"\")","v":""}]
[{"$nulls":4},{"$f":"IF(D351>0,VLOOKUP(D351,Set!$K$2:$L$4,2,FALSE),\"\")","v":""},null,null,{"$f":"IF(G351>0,VLOOKUP(G351,Set!$B$2:$C$13,2,FALSE),\"\")","v":""},{"$nulls":8},{"$f":"IF(P351>0,VLOOKUP(P351,Set!$G$2:$H$3,2,FALSE),\"\")","v":""}]
[{"$nulls":4},{"$f":"IF(D352>0,VLOOKUP(D352,Set!$K$2:$L$4,2,FALSE),\"\")","v":""},null,null,{"$f":"IF(G352>0,VLOOKUP(G352,Set!$B$2:$C$13,2,FALSE),\"\")","v":""},{"$nulls":8},{"$f":"IF(P352>0,VLOOKUP(P352,Set!$G$2:$H$3,2,FALSE),\"\")","v":""}]
[{"$nulls":4},{"$f":"IF(D353>0,VLOOKUP(D353,Set!$K$2:$L$4,2,FALSE),\"\")","v":""},null,null,{"$f":"IF(G353>0,VLOOKUP(G353,Set!$B$2:$C$13,2,FALSE),\"\")","v":""},{"$nulls":8},{"$f":"IF(P353>0,VLOOKUP(P353,Set!$G$2:$H$3,2,FALSE),\"\")","v":""}]
[{"$nulls":4},{"$f":"IF(D354>0,VLOOKUP(D354,Set!$K$2:$L$4,2,FALSE),\"\")","v":""},null,null,{"$f":"IF(G354>0,VLOOKUP(G354,Set!$B$2:$C$13,2,FALSE),\"\")","v":""},{"$nulls":8},{"$f":"IF(P354>0,VLOOKUP(P354,Set!$G$2:$H$3,2,FALSE),\"\")","v":""}]
[{"$nulls":4},{"$f":"IF(D355>0,VLOOKUP(D355,Set!$K$2:$L$4,2,FALSE),\"\")","v":""},null,null,{"$f":"IF(G355>0,VLOOKUP(G355,Set!$B$2:$C$13,2,FALSE),\"\")","v":""},{"$nulls":8},{"$f":"IF(P355>0,VLOOKUP(P355,Set!$G$2:$H$3,2,FALSE),\"\")","v":""}]
[{"$nulls":4},{"$f":"IF(D356>0,VLOOKUP(D356,Set!$K$2:$L$4,2,FALSE),\"\")","v":""},null,null,{"$f":"IF(G356>0,VLOOKUP(G356,Set!$B$2:$C$13,2,FALSE),\"\")","v":""},{"$nulls":8},{"$f":"IF(P356>0,VLOOKUP(P356,Set!$G$2:$H$3,2,FALSE),\"\")","v":""}]
[{"$nulls":4},{"$f":"IF(D357>0,VLOOKUP(D357,Set!$K$2:$L$4,2,FALSE),\"\")","v":""},null,null,{"$f":"IF(G357>0,VLOOKUP(G357,Set!$B$2:$C$13,2,FALSE),\"\")","v":""},{"$nulls":8},{"$f":"IF(P357>0,VLOOKUP(P357,Set!$G$2:$H$3,2,FALSE),\"\")","v":""}]
[{"$nulls":4},{"$f":"IF(D358>0,VLOOKUP(D358,Set!$K$2:$L$4,2,FALSE),\"\")","v":""},null,null,{"$f":"IF(G358>0,VLOOKUP(G358,Set!$B$2:$C$13,2,FALSE),\"\")","v":""},{"$nulls":8},{"$f":"IF(P358>0,VLOOKUP(P358,Set!$G$2:$H$3,2,FALSE),\"\")","v":""}]
[{"$nulls":4},{"$f":"IF(D359>0,VLOOKUP(D359,Set!$K$2:$L$4,2,FALSE),\"\")","v":""},null,null,{"$f":"IF(G359>0,VLOOKUP(G359,Set!$B$2:$C$13,2,FALSE),\"\")","v":""},{"$nulls":8},{"$f":"IF(P359>0,VLOOKUP(P359,Set!$G$2:$H$3,2,FALSE),\"\")","v":""}]
[{"$nulls":4},{"$f":"IF(D360>0,VLOOKUP(D360,Set!$K$2:$L$4,2,FALSE),\"\")","v":""},null,null,{"$f":"IF(G360>0,VLOOKUP(G360,Set!$B$2:$C$13,2,FALSE),\"\")","v":""},{"$nulls":8},{"$f":"IF(P360>0,VLOOKUP(P360,Set!$G$2:$H$3,2,FALSE),\"\")","v":""}]
[{"$nulls":4},{"$f":"IF(D361>0,VLOOKUP(D361,Set!$K$2:$L$4,2,FALSE),\"\")","v":""},null,null,{"$f":"IF(G361>0,VLOOKUP(G361,Set!$B$2:$C$13,2,FALSE),\"\")","v":""},{"$nulls":8},{"$f":"IF(P361>0,VLOOKUP(P361,Set!$G$2:$H$3,2,FALSE),\"\")","v":""}]
[{"$nulls":4},{"$f":"IF(D362>0,VLOOKUP(D362,Set!$K$2:$L$4,2,FALSE),\"\")","v":""},null,null,{"$f":"IF(G362>0,VLOOKUP(G362,Set!$B$2:$C$13,2,FALSE),\"\")","v":""},{"$nulls":8},{"$f":"IF(P362>0,VLOOKUP(P362,Set!$G$2:$H$3,2,FALSE),\"\")","v":""}]
[{"$nulls":4},{"$f":"IF(D363>0,VLOOKUP(D363,Set!$K$2:$L$4,2,FALSE),\"\")","v":""},null,null,{"$f":"IF(G363>0,VLOOKUP(G363,Set!$B$2:$C$13,2,FALSE),\"\")","v":""},{"$nulls":8},{"$f":"IF(P363>0,VLOOKUP(P363,Set!$G$2:$H$3,2,FALSE),\"\")","v":""}]
[{"$nulls":4},{"$f":"IF(D364>0,VLOOKUP(D364,Set!$K$2:$L$4,2,FALSE),\"\")","v":""},null,null,{"$f":"IF(G364>0,VLOOKUP(G364,Set!$B$2:$C$13,2,FALSE),\"\")","v":""},{"$nulls":8},{"$f":"IF(P364>0,VLOOKUP(P364,Set!$G$2:$H$3,2,FALSE),\"\")","v":""}]
[{"$nulls":4},{"$f":"IF(D365>0,VLOOKUP(D365,Set!$K$2:$L$4,2,FALSE),\"\")","v":""},null,null,{"$f":"IF(G365>0,VLOOKUP(G365,Set!$B$2:$C$13,2,FALSE),\"\")","v":""},{"$nulls":8},{"$f":"IF(P365>0,VLOOKUP(P365,Set!$G$2:$H$3,2,FALSE),\"\")","v":""}]
[{"$nulls":4},{"$f":"IF(D366>0,VLOOKUP(D366,Set!$K$2:$L$4,2,FALSE),\"\")","v":""},null,null,{"$f":"IF(G366>0,VLOOKUP(G366,Set!$B$2:$C$13,2,FALSE),\"\")","v":""},{"$nulls":8},{"$f":"IF(P366>0,VLOOKUP(P366,Set!$G$2:$H$3,2,FALSE),\"\")","v":""}]
[{"$nulls":4},{"$f":"IF(D367>0,VLOOKUP(D367,Set!$K$2:$L$4,2,FALSE),\"\")","v":""},null,null,{"$f":"IF(G367>0,VLOOKUP(G367,Set!$B$2:$C$13,2,FALSE),\"\")","v":""},{"$nulls":8},{"$f":"IF(P367>0,VLOOKUP(P367,Set!$G$2:$H$3,2,FALSE),\"\")","v":""}]
[{"$nulls":4},{"$f":"IF(D368>0,VLOOKUP(D368,Set!$K$2:$L$4,2,FALSE),\"\")","v":""},null,null,{"$f":"IF(G368>0,VLOOKUP(G368,Set!$B$2:$C$13,2,FALSE),\"\")","v":""},{"$nulls":8},{"$f":"IF(P368>0,VLOOKUP(P368,Set!$G$2:$H$3,2,FALSE),\"\")","v":""}]
[{"$nulls":4},{"$f":"IF(D369>0,VLOOKUP(D369,Set!$K$2:$L$4,2,FALSE),\"\")","v":""},null,null,{"$f":"IF(G369>0,VLOOKUP(G369,Set!$B$2:$C$13,2,FALSE),\"\")","v":""},{"$nulls":8},{"$f":"IF(P369>0,VLOOKUP(P369,Set!$G$2:$H$3,2,FALSE),\"\")","v":""}]
[{"$nulls":4},{"$f":"IF(D370>0,VLOOKUP(D370,Set!$K$2:$L$4,2,FALSE),\"\")","v":""},null,null,{"$f":"IF(G370>0,VLOOKUP(G370,Set!$B$2:$C$13,2,FALSE),\"\")","v":""},{"$nulls":8},{"$f":"IF(P370>0,VLOOKUP(P370,Set!$G$2:$H$3,2,FALSE),\"\")","v":""}]
[{"$nulls":4},{"$f":"IF(D371>0,VLOOKUP(D371,Set!$K$2:$L$4,2,FALSE),\"\")","v":""},null,null,{"$f":"IF(G371>0,VLOOKUP(G371,Set!$B$2:$C$13,2,FALSE),\"\")","v":""},{"$nulls":8},{"$f":"IF(P371>0,VLOOKUP(P371,Set!$G$2:$H$3,2,FALSE),\"\")","v":""}]
[{"$nulls":4},{"$f":"IF(D372>0,VLOOKUP(D372,Set!$K$2:$L$4,2,FALSE),\"\")","v":""},null,null,{"$f":"IF(G372>0,VLOOKUP(G372,Set!$B$2:$C$13,2,FALSE),\"\")","v":""},{"$nulls":8},{"$f":"IF(P372>0,VLOOKUP(P372,Set!$G$2:$H$3,2,FALSE),\"\")","v":""}]
[{"$nulls":4},{"$f":"IF(D373>0,VLOOKUP(D373,Set!$K$2:$L$4,2,FALSE),\"\")","v":""},null,null,{"$f":"IF(G373>0,VLOOKUP(G373,Set!$B$2:$C$13,2,FALSE),\"\")","v":""},{"$nulls":8},{"$f":"IF(P373>0,VLOOKUP(P373,Set!$G$2:$H$3,2,FALSE),\"\")","v":""}]
[{"$nulls":4},{"$f":"IF(D374>0,VLOOKUP(D374,Set!$K$2:$L$4,2,FALSE),\"\")","v":""},null,null,{"$f":"IF(G374>0,VLOOKUP(G374,Set!$B$2:$C$13,2,FALSE),\"\")","v":""},{"$nulls":8},{"$f":"IF(P374>0,VLOOKUP(P374,Set!$G$2:$H$3,2,FALSE),\"\")","v":""}]
[{"$nulls":4},{"$f":"IF(D375>0,VLOOKUP(D375,Set!$K$2:$L$4,2,FALSE),\"\")","v":""},null,null,{"$f":"IF(G375>0,VLOOKUP(G375,Set!$B$2:$C$13,2,FALSE),\"\")","v":""},{"$nulls":8},{"$f":"IF(P375>0,VLOOKUP(P375,Set!$G$2:$H$3,2,FALSE),\"\")","v":""}]
[{"$nulls":4},{"$f":"IF(D376>0,VLOOKUP(D376,Set!$K$2:$L$4,2,FALSE),\"\")","v":""},null,null,{"$f":"IF(G376>0,VLOOKUP(G376,Set!$B$2:$C$13,2,FALSE),\"\")","v":""},{"$nulls":8},{"$f":"IF(P376>0,VLOOKUP(P376,Set!$G$2:$H$3,2,FALSE),\"\")","v":""}]
[{"$nulls":4},{"$f":"IF(D377>0,VLOOKUP(D377,Set!$K$2:$L$4,2,FALSE),\"\")","v":""},null,null,{"$f":"IF(G377>0,VLOOKUP(G377,Set!$B$2:$C$13,2,FALSE),\"\")","v":""},{"$nulls":8},{"$f":"IF(P377>0,VLOOKUP(P377,Set!$G$2:$H$3,2,FALSE),\"\")","v":""}]
[{"$nulls":4},{"$f":"IF(D378>0,VLOOKUP(D378,Set!$K$2:$L$4,2,FALSE),\"\")","v":""},null,null,{"$f":"IF(G378>0,VLOOKUP(G378,Set!$B$2:$C$13,2,FALSE),\"\")","v":""},{"$nulls":8},{"$f":"IF(P378>0,VLOOKUP(P378,Set!$G$2:$H$3,2,FALSE),\"\")","v":""}]
[{"$nulls":4},{"$f":"IF(D379>0,VLOOKUP(D379,Set!$K$2:$L$4,2,FALSE),\"\")","v":""},null,null,{"$f":"IF(G379>0,VLOOKUP(G379,Set!$B$2:$C$13,2,FALSE),\"\")","v":""},{"$nulls":8},{"$f":"IF(P379>0,VLOOKUP(P379,Set!$G$2:$H$3,2,FALSE),\"\")","v":""}]
[{"$nulls":4},{"$f":"IF(D380>0,VLOOKUP(D380,Set!$K$2:$L$4,2,FALSE),\"\")","v":""},null,null,{"$f":"IF(G380>0,VLOOKUP(G380,Set!$B$2:$C$13,2,FALSE),\"\")","v":""},{"$nulls":8},{"$f":"IF(P380>0,VLOOKUP(P380,Set!$G$2:$H$3,2,FALSE),\"\")","v":""}]
[{"$nulls":4},{"$f":"IF(D381>0,VLOOKUP(D381,Set!$K$2:$L$4,2,FALSE),\"\")","v":""},null,null,{"$f":"IF(G381>0,VLOOKUP(G381,Set!$B$2:$C$13,2,FALSE),\"\")","v":""},{"$nulls":8},{"$f":"IF(P381>0,VLOOKUP(P381,Set!$G$2:$H$3,2,FALSE),\"\")","v":""}]
[{"$nulls":4},{"$f":"IF(D382>0,VLOOKUP(D382,Set!$K$2:$L$4,2,FALSE),\"\")","v":""},null,null,{"$f":"IF(G382>0,VLOOKUP(G382,Set!$B$2:$C$13,2,FALSE),\"\")","v":""},{"$nulls":8},{"$f":"IF(P382>0,VLOOKUP(P382,Set!$G$2:$H$3,2,FALSE),\"\")","v":""}]
[{"$nulls":4},{"$f":"IF(D383>0,VLOOKUP(D383,Set!$K$2:$L$4,2,FALSE),\"\")","v":""},null,null,{"$f":"IF(G383>0,VLOOKUP(G383,Set!$B$2:$C$13,2,FALSE),\"\")","v":""},{"$nulls":8},{"$f":"IF(P383>0,VLOOKUP(P383,Set!$G$2:$H$3,2,FALSE),\"\")","v":""}]
[{"$nulls":4},{"$f":"IF(D384>0,VLOOKUP(D384,Set!$K$2:$L$4,2,FALSE),\"\")","v":""},null,null,{"$f":"IF(G384>0,VLOOKUP(G384,Set!$B$2:$C$13,2,FALSE),\"\")","v":""},{"$nulls":8},{"$f":"IF(P384>0,VLOOKUP(P384,Set!$G$2:$H$3,2,FALSE),\"\")","v":""}]
[{"$nulls":4},{"$f":"IF(D385>0,VLOOKUP(D385,Set!$K$2:$L$4,2,FALSE),\"\")","v":""},null,null,{"$f":"IF(G385>0,VLOOKUP(G385,Set!$B$2:$C$13,2,FALSE),\"\")","v":""},{"$nulls":8},{"$f":"IF(P385>0,VLOOKUP(P385,Set!$G$2:$H$3,2,FALSE),\"\")","v":""}]
[{"$nulls":4},{"$f":"IF(D386>0,VLOOKUP(D386,Set!$K$2:$L$4,2,FALSE),\"\")","v":""},null,null,{"$f":"IF(G386>0,VLOOKUP(G386,Set!$B$2:$C$13,2,FALSE),\"\")","v":""},{"$nulls":8},{"$f":"IF(P386>0,VLOOKUP(P386,Set!$G$2:$H$3,2,FALSE),\"\")","v":""}]
[{"$nulls":4},{"$f":"IF(D387>0,VLOOKUP(D387,Set!$K$2:$L$4,2,FALSE),\"\")","v":""},null,null,{"$f":"IF(G387>0,VLOOKUP(G387,Set!$B$2:$C$13,2,FALSE),\"\")","v":""},{"$nulls":8},{"$f":"IF(P387>0,VLOOKUP(P387,Set!$G$2:$H$3,2,FALSE),\"\")","v":""}]
[{"$nulls":4},{"$f":"IF(D388>0,VLOOKUP(D388,Set!$K$2:$L$4,2,FALSE),\"\")","v":""},null,null,{"$f":"IF(G388>0,VLOOKUP(G388,Set!$B$2:$C$13,2,FALSE),\"\")","v":""},{"$nulls":8},{"$f":"IF(P388>0,VLOOKUP(P388,Set!$G$2:$H$3,2,FALSE),\"\")","v":""}]
[{"$nulls":4},{"$f":"IF(D389>0,VLOOKUP(D389,Set!$K$2:$L$4,2,FALSE),\"\")","v":""},null,null,{"$f":"IF(G389>0,VLOOKUP(G389,Set!$B$2:$C$13,2,FALSE),\"\")","v":""},{"$nulls":8},{"$f":"IF(P389>0,VLOOKUP(P389,Set!$G$2:$H$3,2,FALSE),\"\")","v":""}]
[{"$nulls":4},{"$f":"IF(D390>0,VLOOKUP(D390,Set!$K$2:$L$4,2,FALSE),\"\")","v":""},null,null,{"$f":"IF(G390>0,VLOOKUP(G390,Set!$B$2:$C$13,2,FALSE),\"\")","v":""},{"$nulls":8},{"$f":"IF(P390>0,VLOOKUP(P390,Set!$G$2:$H$3,2,FALSE),\"\")","v":""}]
[{"$nulls":4},{"$f":"IF(D391>0,VLOOKUP(D391,Set!$K$2:$L$4,2,FALSE),\"\")","v":""},null,null,{"$f":"IF(G391>0,VLOOKUP(G391,Set!$B$2:$C$13,2,FALSE),\"\")","v":""},{"$nulls":8},{"$f":"IF(P391>0,VLOOKUP(P391,Set!$G$2:$H$3,2,FALSE),\"\")","v":""}]
[{"$nulls":4},{"$f":"IF(D392>0,VLOOKUP(D392,Set!$K$2:$L$4,2,FALSE),\"\")","v":""},null,null,{"$f":"IF(G392>0,VLOOKUP(G392,Set!$B$2:$C$13,2,FALSE),\"\")","v":""},{"$nulls":8},{"$f":"IF(P392>0,VLOOKUP(P392,Set!$G$2:$H$3,2,FALSE),\"\")","v":""}]
[{"$nulls":4},{"$f":"IF(D393>0,VLOOKUP(D393,Set!$K$2:$L$4,2,FALSE),\"\")","v":""},null,null,{"$f":"IF(G393>0,VLOOKUP(G393,Set!$B$2:$C$13,2,FALSE),\"\")","v":""},{"$nulls":8},{"$f":"IF(P393>0,VLOOKUP(P393,Set!$G$2:$H$3,2,FALSE),\"\")","v":""}]
[{"$nulls":4},{"$f":"IF(D394>0,VLOOKUP(D394,Set!$K$2:$L$4,2,FALSE),\"\")","v":""},null,null,{"$f":"IF(G394>0,VLOOKUP(G394,Set!$B$2:$C$13,2,FALSE),\"\")","v":""},{"$nulls":8},{"$f":"IF(P394>0,VLOOKUP(P394,Set!$G$2:$H$3,2,FALSE),\"\")","v":""}]
[{"$nulls":4},{"$f":"IF(D395>0,VLOOKUP(D395,Set!$K$2:$L$4,2,FALSE),\"\")","v":""},null,null,{"$f":"IF(G395>0,VLOOKUP(G395,Set!$B$2:$C$13,2,FALSE),\"\")","v":""},{"$nulls":8},{"$f":"IF(P395>0,VLOOKUP(P395,Set!$G$2:$H$3,2,FALSE),\"\")","v":""}]
[{"$nulls":4},{"$f":"IF(D396>0,VLOOKUP(D396,Set!$K$2:$L$4,2,FALSE),\"\")","v":""},null,null,{"$f":"IF(G396>0,VLOOKUP(G396,Set!$B$2:$C$13,2,FALSE),\"\")","v":""},{"$nulls":8},{"$f":"IF(P396>0,VLOOKUP(P396,Set!$G$2:$H$3,2,FALSE),\"\")","v":""}]
[{"$nulls":4},{"$f":"IF(D397>0,VLOOKUP(D397,Set!$K$2:$L$4,2,FALSE),\"\")","v":""},null,null,{"$f":"IF(G397>0,VLOOKUP(G397,Set!$B$2:$C$13,2,FALSE),\"\")","v":""},{"$nulls":8},{"$f":"IF(P397>0,VLOOKUP(P397,Set!$G$2:$H$3,2,FALSE),\"\")","v":""}]
[{"$nulls":4},{"$f":"IF(D398>0,VLOOKUP(D398,Set!$K$2:$L$4,2,FALSE),\"\")","v":""},null,null,{"$f":"IF(G398>0,VLOOKUP(G398,Set!$B$2:$C$13,2,FALSE),\"\")","v":""},{"$nulls":8},{"$f":"IF(P398>0,VLOOKUP(P398,Set!$G$2:$H$3,2,FALSE),\"\")","v":""}]
[{"$nulls":4},{"$f":"IF(D399>0,VLOOKUP(D399,Set!$K$2:$L$4,2,FALSE),\"\")","v":""},null,null,{"$f":"IF(G399>0,VLOOKUP(G399,Set!$B$2:$C$13,2,FALSE),\"\")","v":""},{"$nulls":8},{"$f":"IF(P399>0,VLOOKUP(P399,Set!$G$2:$H$3,2,FALSE),\"\")","v":""}]
[{"$nulls":4},{"$f":"IF(D400>0,VLOOKUP(D400,Set!$K$2:$L$4,2,FALSE),\"\")","v":""},null,null,{"$f":"IF(G400>0,VLOOKUP(G400,Set!$B$2:$C$13,2,FALSE),\"\")","v":""},{"$nulls":8},{"$f":"IF(P400>0,VLOOKUP(P400,Set!$G$2:$H$3,2,FALSE),\"\")","v":""}]
[null,null,null,"Noliktavas",null,null,null,{"$f":"IF(G401>0,VLOOKUP(G401,Set!$B$2:$C$13,2,FALSE),\"\")","v":""},{"$nulls":8},{"$f":"IF(P401>0,VLOOKUP(P401,Set!$G$2:$H$3,2,FALSE),\"\")","v":""}]
[null,null,null,"Noliktavas",null,null,null,{"$f":"IF(G402>0,VLOOKUP(G402,Set!$B$2:$C$13,2,FALSE),\"\")","v":""},{"$nulls":8},{"$f":"IF(P402>0,VLOOKUP(P402,Set!$G$2:$H$3,2,FALSE),\"\")","v":""}]
[null,null,null,"Noliktavas",null,null,null,{"$f":"IF(G403>0,VLOOKUP(G403,Set!$B$2:$C$13,2,FALSE),\"\")","v":""},{"$nulls":8},{"$f":"IF(P403>0,VLOOKUP(P403,Set!$G$2:$H$3,2,FALSE),\"\")","v":""}]
[null,null,null,"Noliktavas",null,null,null,{"$f":"IF(G404>0,VLOOKUP(G404,Set!$B$2:$C$13,2,FALSE),\"\")","v":""},{"$nulls":7},"Jā",{"$f":"IF(P404>0,VLOOKUP(P404,Set!$G$2:$H$3,2,FALSE),\"\")","v":1}]
[null,null,null,"Noliktavas",null,null,null,{"$f":"IF(G405>0,VLOOKUP(G405,Set!$B$2:$C$13,2,FALSE),\"\")","v":""},{"$nulls":7},"Jā",{"$f":"IF(P405>0,VLOOKUP(P405,Set!$G$2:$H$3,2,FALSE),\"\")","v":1}]
[null,null,null,"Noliktavas",null,null,null,{"$f":"IF(G406>0,VLOOKUP(G406,Set!$B$2:$C$13,2,FALSE),\"\")","v":""},{"$nulls":7},"Jā",{"$f":"IF(P406>0,VLOOKUP(P406,Set!$G$2:$H$3,2,FALSE),\"\")","v":1}]
[null,null,null,"Noliktavas",{"$nulls":11},"Jā",{"$f":"IF(P407>0,VLOOKUP(P407,Set!$G$2:$H$3,2,FALSE),\"\")","v":1}]
[null,null,null,"Noliktavas",{"$nulls":11},"Jā",{"$f":"IF(P408>0,VLOOKUP(P408,Set!$G$2:$H$3,2,FALSE),\"\")","v":1}]
[null,null,null,"Noliktavas",{"$nulls":11},"Jā",{"$f":"IF(P409>0,VLOOKUP(P409,Set!$G$2:$H$3,2,FALSE),\"\")","v":1}]
[{"$nulls":15},"Jā",{"$f":"IF(P410>0,VLOOKUP(P410,Set!$G$2:$H$3,2,FALSE),\"\")","v":1}]
[{"$nulls":15},"Jā",{"$f":"IF(P411>0,VLOOKUP(P411,Set!$G$2:$H$3,2,FALSE),\"\")","v":1}]
[{"$nulls":15},"Jā",{"$f":"IF(P412>0,VLOOKUP(P412,Set!$G$2:$H$3,2,FALSE),\"\")","v":1}]
[{"$nulls":15},"Jā",{"$f":"IF(P413>0,VLOOKUP(P413,Set!$G$2:$H$3,2,FALSE),\"\")","v":1}]
[{"$nulls":15},"Jā",{"$f":"IF(P414>0,VLOOKUP(P414,Set!$G$2:$H$3,2,FALSE),\"\")","v":1}]
[{"$nulls":15},"Jā",{"$f":"IF(P415>0,VLOOKUP(P415,Set!$G$2:$H$3,2,FALSE),\"\")","v":1}]
[{"$nulls":15},"Jā",{"$f":"IF(P416>0,VLOOKUP(P416,Set!$G$2:$H$3,2,FALSE),\"\")","v":1}]
[{"$nulls":15},"Jā",{"$f":"IF(P417>0,VLOOKUP(P417,Set!$G$2:$H$3,2,FALSE),\"\")","v":1}]
[{"$nulls":15},"Jā"]
[{"$nulls":15},"Jā"]
[{"$nulls":15},"Jā"]
[{"$nulls":15},"Jā"]
[{"$nulls":15},"Jā"]
[{"$nulls":15},"Jā"]
[{"$nulls":15},"Jā"]
[{"$nulls":15},"Jā"]

{"sheet":"Set","index":1,"n_rows":15,"n_cols":12,"rows_kept":15,"cut":false,"hidden":true,"merged":[]}
[null,"Mērvienības",{"$nulls":4},"Jā / Nē vērtības",null,null,null,"Tips"]
[null,"gabali","GAB",null,null,null,"Nē",0,null,null,"Parasts",0]
[null,"grami","G",null,null,null,"Jā",1,null,null,"Noliktavas",1]
[null,"iepakojumi","IEP",{"$nulls":7},"Strukturēts",2]
[null,"kilogrami","KG"]
[null,"kilometri","KM"]
[null,"kubikmetri","M3"]
[null,"kvadrātmetri","M2"]
[null,"litri","L"]
[null,"metri","M"]
[null,"mililitri","ML"]
[null,"minūte","MIN"]
[null,"paka","PK"]
[null,"palete","PAL"]
[null,"stunda","H"]