{"text_format":"2","workbook":"xlsx","n_sheets":2,"sheets":["Sheet1","Set"],"not_rendered":{"charts":0,"images":0,"macros":0,"external_links":0,"defined_names":0,"comments":0,"pivot_tables":0},"unopened":[],"bounds":{"document_bytes":16777216,"sheet_cells":100000,"run_cost":"one","rows_first":2000,"rows_last":500,"rows_between":2000,"halvings":0,"cell_chars":16384,"cell_head_chars":4096},"cells_cut":0,"cells_raw":0,"read":"whole","date_system":"1900"}

{"sheet":"Sheet1","index":0,"n_rows":1039,"n_cols":26,"rows_kept":1039,"cut":false,"hidden":false,"merged":[[1,2,2,2],[1,4,2,4],[1,10,2,10],[1,14,2,14],[1,17,2,17],[1,22,2,22],[1,23,2,23],[1,24,2,24],[1,25,2,25]]}
[1,2,3,4,5,6,7,8,9,10,11,12,13,14,15,16,17,18,19,20,21,22,23,24,25,26]
[1,"Obligāts","Pārbaude","Obligāts","Pārbaude","Obligāts","Obligāts",null,"Obligāts","Nemainīt","Pārbaude",null,"Obligāts","Obligāts","Pārbaude","Vēlams",null,"Pārbaude","Nemainīt",null,null,null,"Klienta sam. termiņš (dienas) Izvēlies no saraksta","Pārbaude","Pieg. sam. term. (dienas) Izvēlies no saraksta","Pārbaude"]
[1,"Klients? Jā/Nē",null,"Piegādātājs? Jā/Nē",null,"Uzņēmuma nosaukums","Juridiskā adrese","Piegādes adrese","Valsts. Izvēlies no saraksta","Valsts ID",null,"PVN reģistrācijas nr.","Reģistrācijas nr.","PVN maksātājs? Jā/Nē",null,"Bankas konts","Banka. Izvēlies no saraksta",null,"Bankas ID","E-pasts","Tālrunis","Mobilais"]
[null,"Nē",null,"Jā",null,"Moneo Latvia, SIA","Eduarda Smiļģa iela 2a, Rīga",null,"Latvija",{"$f":"IF(I4>0,VLOOKUP(I4,Set!$A$2:$B$250,2,FALSE),\"\")","v":"LV"},null,"LV400012312312","400012312312","Jā",null,"LV68HABA0551040256994","Swedbanka AS",null,{"$f":"IF(Q4>0,VLOOKUP(Q4,Set!$D$2:$E$23,2,FALSE),\"\")","v":"HABALV"},"info@moneo.lv",62901155,null,"05",null,"05"]
[{"$nulls":9},{"$f":"IF(I5>0,VLOOKUP(I5,Set!$A$2:$B$250,2,FALSE),\"\")","v":""},{"$nulls":8},{"$f":"IF(Q5>0,VLOOKUP(Q5,Set!$D$2:$E$23,2,FALSE),\"\")","v":""}]
[{"$nulls":9},{"$f":"IF(I6>0,VLOOKUP(I6,Set!$A$2:$B$250,2,FALSE),\"\")","v":""},{"$nulls":8},{"$f":"IF(Q6>0,VLOOKUP(Q6,Set!$D$2:$E$23,2,FALSE),\"\")","v":""}]
[{"$nulls":9},{"$f":"IF(I7>0,VLOOKUP(I7,Set!$A$2:$B$250,2,FALSE),\"\")","v":""},{"$nulls":8},{"$f":"IF(Q7>0,VLOOKUP(Q7,Set!$D$2:$E$23,2,FALSE),\"\")","v":""}]
[{"$nulls":9},{"$f":"IF(I8>0,VLOOKUP(I8,Set!$A$2:$B$250,2,FALSE),\"\")","v":""},{"$nulls":8},{"$f":"IF(Q8>0,VLOOKUP(Q8,Set!$D$2:$E$23,2,FALSE),\"\")","v":""}]
[{"$nulls":9},{"$f":"IF(I9>0,VLOOKUP(I9,Set!$A$2:$B$250,2,FALSE),\"\")","v":""},{"$nulls":8},{"$f":"IF(Q9>0,VLOOKUP(Q9,Set!$D$2:$E$23,2,FALSE),\"\")","v":""}]
[{"$nulls":9},{"$f":"IF(I10>0,VLOOKUP(I10,Set!$A$2:$B$250,2,FALSE),\"\")","v":""},{"$nulls":8},{"$f":"IF(Q10>0,VLOOKUP(Q10,Set!$D$2:$E$23,2,FALSE),\"\")","v":""}]
[{"$nulls":9},{"$f":"IF(I11>0,VLOOKUP(I11,Set!$A$2:$B$250,2,FALSE),\"\")","v":""},{"$nulls":8},{"$f":"IF(Q11>0,VLOOKUP(Q11,Set!$D$2:$E$23,2,FALSE),\"\")","v":""}]
[{"$nulls":9},{"$f":"IF(I12>0,VLOOKUP(I12,Set!$A$2:$B$250,2,FALSE),\"\")","v":""},{"$nulls":8},{"$f":"IF(Q12>0,VLOOKUP(Q12,Set!$D$2:$E$23,2,FALSE),\"\")","v":""}]
[{"$nulls":9},{"$f":"IF(I13>0,VLOOKUP(I13,Set!$A$2:$B$250,2,FALSE),\"\")","v":""},{"$nulls":8},{"$f":"IF(Q13>0,VLOOKUP(Q13,Set!$D$2:$E$23,2,FALSE),\"\")","v":""}]
[{"$nulls":9},{"$f":"IF(I14>0,VLOOKUP(I14,Set!$A$2:$B$250,2,FALSE),\"\")","v":""},{"$nulls":8},{"$f":"IF(Q14>0,VLOOKUP(Q14,Set!$D$2:$E$23,2,FALSE),\"\")","v":""}]
[{"$nulls":9},{"$f":"IF(I15>0,VLOOKUP(I15,Set!$A$2:$B$250,2,FALSE),\"\")","v":""},{"$nulls":8},{"$f":"IF(Q15>0,VLOOKUP(Q15,Set!$D$2:$E$23,2,FALSE),\"\")","v":""}]
[{"$nulls":9},{"$f":"IF(I16>0,VLOOKUP(I16,Set!$A$2:$B$250,2,FALSE),\"\")","v":""},{"$nulls":8},{"$f":"IF(Q16>0,VLOOKUP(Q16,Set!$D$2:$E$23,2,FALSE),\"\")","v":""}]
[{"$nulls":9},{"$f":"IF(I17>0,VLOOKUP(I17,Set!$A$2:$B$250,2,FALSE),\"\")","v":""},{"$nulls":8},{"$f":"IF(Q17>0,VLOOKUP(Q17,Set!$D$2:$E$23,2,FALSE),\"\")","v":""}]
[{"$nulls":9},{"$f":"IF(I18>0,VLOOKUP(I18,Set!$A$2:$B$250,2,FALSE),\"\")","v":""},{"$nulls":8},{"$f":"IF(Q18>0,VLOOKUP(Q18,Set!$D$2:$E$23,2,FALSE),\"\")","v":""}]
[{"$nulls":9},{"$f":"IF(I19>0,VLOOKUP(I19,Set!$A$2:$B$250,2,FALSE),\"\")","v":""},{"$nulls":8},{"$f":"IF(Q19>0,VLOOKUP(Q19,Set!$D$2:$E$23,2,FALSE),\"\")","v":""}]
[{"$nulls":9},{"$f":"IF(I20>0,VLOOKUP(I20,Set!$A$2:$B$250,2,FALSE),\"\")","v":""},{"$nulls":8},{"$f":"IF(Q20>0,VLOOKUP(Q20,Set!$D$2:$E$23,2,FALSE),\"\")","v":""}]
[{"$nulls":9},{"$f":"IF(I21>0,VLOOKUP(I21,Set!$A$2:$B$250,2,FALSE),\"\")","v":""},{"$nulls":8},{"$f":"IF(Q21>0,VLOOKUP(Q21,Set!$D$2:$E$23,2,FALSE),\"\")","v":""}]
[{"$nulls":9},{"$f":"IF(I22>0,VLOOKUP(I22,Set!$A$2:$B$250,2,FALSE),\"\")","v":""},{"$nulls":8},{"$f":"IF(Q22>0,VLOOKUP(Q22,Set!$D$2:$E$23,2,FALSE),\"\")","v":""}]
[{"$nulls":9},{"$f":"IF(I23>0,VLOOKUP(I23,Set!$A$2:$B$250,2,FALSE),\"\")","v":""},{"$nulls":8},{"$f":"IF(Q23>0,VLOOKUP(Q23,Set!$D$2:$E$23,2,FALSE),\"\")","v":""}]
[{"$nulls":9},{"$f":"IF(I24>0,VLOOKUP(I24,Set!$A$2:$B$250,2,FALSE),\"\")","v":""},{"$nulls":8},{"$f":"IF(Q24>0,VLOOKUP(Q24,Set!$D$2:$E$23,2,FALSE),\"\")","v":""}]
[{"$nulls":9},{"$f":"IF(I25>0,VLOOKUP(I25,Set!$A$2:$B$250,2,FALSE),\"\")","v":""},{"$nulls":8},{"$f":"IF(Q25>0,VLOOKUP(Q25,Set!$D$2:$E$23,2,FALSE),\"\")","v":""}]
[{"$nulls":9},{"$f":"IF(I26>0,VLOOKUP(I26,Set!$A$2:$B$250,2,FALSE),\"\")","v":""},{"$nulls":8},{"$f":"IF(Q26>0,VLOOKUP(Q26,Set!$D$2:$E$23,2,FALSE),\"\")","v":""}]
[{"$nulls":9},{"$f":"IF(I27>0,VLOOKUP(I27,Set!$A$2:$B$250,2,FALSE),\"\")","v":""},{"$nulls":8},{"$f":"IF(Q27>0,VLOOKUP(Q27,Set!$D$2:$E$23,2,FALSE),\"\")","v":""}]
[{"$nulls":9},{"$f":"IF(I28>0,VLOOKUP(I28,Set!$A$2:$B$250,2,FALSE),\"\")","v":""},{"$nulls":8},{"$f":"IF(Q28>0,VLOOKUP(Q28,Set!$D$2:$E$23,2,FALSE),\"\")","v":""}]
[{"$nulls":9},{"$f":"IF(I29>0,VLOOKUP(I29,Set!$A$2:$B$250,2,FALSE),\"\")","v":""},{"$nulls":8},{"$f":"IF(Q29>0,VLOOKUP(Q29,Set!$D$2:$E$23,2,FALSE),\"\")","v":""}]
[{"$nulls":9},{"$f":"IF(I30>0,VLOOKUP(I30,Set!$A$2:$B$250,2,FALSE),\"\")","v":""},{"$nulls":8},{"$f":"IF(Q30>0,VLOOKUP(Q30,Set!$D$2:$E$23,2,FALSE),\"\")","v":""}]
[{"$nulls":9},{"$f":"IF(I31>0,VLOOKUP(I31,Set!$A$2:$B$250,2,FALSE),\"\")","v":""},{"$nulls":8},{"$f":"IF(Q31>0,VLOOKUP(Q31,Set!$D$2:$E$23,2,FALSE),\"\")","v":""}]
[{"$nulls":9},{"$f":"IF(I32>0,VLOOKUP(I32,Set!$A$2:$B$250,2,FALSE),\"\")","v":""},{"$nulls":8},{"$f":"IF(Q32>0,VLOOKUP(Q32,Set!$D$2:$E$23,2,FALSE),\"\")","v":""}]
[{"$nulls":9},{"$f":"IF(I33>0,VLOOKUP(I33,Set!$A$2:$B$250,2,FALSE),\"\")","v":""},{"$nulls":8},{"$f":"IF(Q33>0,VLOOKUP(Q33,Set!$D$2:$E$23,2,FALSE),\"\")","v":""}]
[{"$nulls":9},{"$f":"IF(I34>0,VLOOKUP(I34,Set!$A$2:$B$250,2,FALSE),\"\")","v":""},{"$nulls":8},{"$f":"IF(Q34>0,VLOOKUP(Q34,Set!$D$2:$E$23,2,FALSE),\"\")","v":""}]
[{"$nulls":9},{"$f":"IF(I35>0,VLOOKUP(I35,Set!$A$2:$B$250,2,FALSE),\"\")","v":""},{"$nulls":8},{"$f":"IF(Q35>0,VLOOKUP(Q35,Set!$D$2:$E$23,2,FALSE),\"\")","v":""}]
[{"$nulls":9},{"$f":"IF(I36>0,VLOOKUP(I36,Set!$A$2:$B$250,2,FALSE),\"\")","v":""},{"$nulls":8},{"$f":"IF(Q36>0,VLOOKUP(Q36,Set!$D$2:$E$23,2,FALSE),\"\")","v":""}]
[{"$nulls":9},{"$f":"IF(I37>0,VLOOKUP(I37,Set!$A$2:$B$250,2,FALSE),\"\")","v":""},{"$nulls":8},{"$f":"IF(Q37>0,VLOOKUP(Q37,Set!$D$2:$E$23,2,FALSE),\"\")","v":""}]
[{"$nulls":9},{"$f":"IF(I38>0,VLOOKUP(I38,Set!$A$2:$B$250,2,FALSE),\"\")","v":""},{"$nulls":8},{"$f":"IF(Q38>0,VLOOKUP(Q38,Set!$D$2:$E$23,2,FALSE),\"\")","v":""}]
[{"$nulls":9},{"$f":"IF(I39>0,VLOOKUP(I39,Set!$A$2:$B$250,2,FALSE),\"\")","v":""},{"$nulls":8},{"$f":"IF(Q39>0,VLOOKUP(Q39,Set!$D$2:$E$23,2,FALSE),\"\")","v":""}]
[{"$nulls":9},{"$f":"IF(I40>0,VLOOKUP(I40,Set!$A$2:$B$250,2,FALSE),\"\")","v":""},{"$nulls":8},{"$f":"IF(Q40>0,VLOOKUP(Q40,Set!$D$2:$E$23,2,FALSE),\"\")","v":""}]
[{"$nulls":9},{"$f":"IF(I41>0,VLOOKUP(I41,Set!$A$2:$B$250,2,FALSE),\"\")","v":""},{"$nulls":8},{"$f":"IF(Q41>0,VLOOKUP(Q41,Set!$D$2:$E$23,2,FALSE),\"\")","v":""}]
[{"$nulls":9},{"$f":"IF(I42>0,VLOOKUP(I42,Set!$A$2:$B$250,2,FALSE),\"\")","v":""},{"$nulls":8},{"$f":"IF(Q42>0,VLOOKUP(Q42,Set!$D$2:$E$23,2,FALSE),\"\")","v":""}]
[{"$nulls":9},{"$f":"IF(I43>0,VLOOKUP(I43,Set!$A$2:$B$250,2,FALSE),\"\")","v":""},{"$nulls":8},{"$f":"IF(Q43>0,VLOOKUP(Q43,Set!$D$2:$E$23,2,FALSE),\"\")","v":""}]
[{"$nulls":9},{"$f":"IF(I44>0,VLOOKUP(I44,Set!$A$2:$B$250,2,FALSE),\"\")","v":""},{"$nulls":8},{"$f":"IF(Q44>0,VLOOKUP(Q44,Set!$D$2:$E$23,2,FALSE),\"\")","v":""}]
[{"$nulls":9},{"$f":"IF(I45>0,VLOOKUP(I45,Set!$A$2:$B$250,2,FALSE),\"\")","v":""},{"$nulls":8},{"$f":"IF(Q45>0,VLOOKUP(Q45,Set!$D$2:$E$23,2,FALSE),\"\")","v":""}]
[{"$nulls":9},{"$f":"IF(I46>0,VLOOKUP(I46,Set!$A$2:$B$250,2,FALSE),\"\")","v":""},{"$nulls":8},{"$f":"IF(Q46>0,VLOOKUP(Q46,Set!$D$2:$E$23,2,FALSE),\"\")","v":""}]
[{"$nulls":9},{"$f":"IF(I47>0,VLOOKUP(I47,Set!$A$2:$B$250,2,FALSE),\"\")","v":""},{"$nulls":8},{"$f":"IF(Q47>0,VLOOKUP(Q47,Set!$D$2:$E$23,2,FALSE),\"\")","v":""}]
[{"$nulls":9},{"$f":"IF(I48>0,VLOOKUP(I48,Set!$A$2:$B$250,2,FALSE),\"\")","v":""},{"$nulls":8},{"$f":"IF(Q48>0,VLOOKUP(Q48,Set!$D$2:$E$23,2,FALSE),\"\")","v":""}]
[{"$nulls":9},{"$f":"IF(I49>0,VLOOKUP(I49,Set!$A$2:$B$250,2,FALSE),\"\")","v":""},{"$nulls":8},{"$f":"IF(Q49>0,VLOOKUP(Q49,Set!$D$2:$E$23,2,FALSE),\"\")","v":""}]
[{"$nulls":9},{"$f":"IF(I50>0,VLOOKUP(I50,Set!$A$2:$B$250,2,FALSE),\"\")","v":""},{"$nulls":8},{"$f":"IF(Q50>0,VLOOKUP(Q50,Set!$D$2:$E$23,2,FALSE),\"\")","v":""}]
[{"$nulls":9},{"$f":"IF(I51>0,VLOOKUP(I51,Set!$A$2:$B$250,2,FALSE),\"\")","v":""},{"$nulls":8},{"$f":"IF(Q51>0,VLOOKUP(Q51,Set!$D$2:$E$23,2,FALSE),\"\")","v":""}]
[{"$nulls":9},{"$f":"IF(I52>0,VLOOKUP(I52,Set!$A$2:$B$250,2,FALSE),\"\")","v":""},{"$nulls":8},{"$f":"IF(Q52>0,VLOOKUP(Q52,Set!$D$2:$E$23,2,FALSE),\"\")","v":""}]
[{"$nulls":9},{"$f":"IF(I53>0,VLOOKUP(I53,Set!$A$2:$B$250,2,FALSE),\"\")","v":""},{"$nulls":8},{"$f":"IF(Q53>0,VLOOKUP(Q53,Set!$D$2:$E$23,2,FALSE),\"\")","v":""}]
[{"$nulls":9},{"$f":"IF(I54>0,VLOOKUP(I54,Set!$A$2:$B$250,2,FALSE),\"\")","v":""},{"$nulls":8},{"$f":"IF(Q54>0,VLOOKUP(Q54,Set!$D$2:$E$23,2,FALSE),\"\")","v":""}]
[{"$nulls":9},{"$f":"IF(I55>0,VLOOKUP(I55,Set!$A$2:$B$250,2,FALSE),\"\")","v":""},{"$nulls":8},{"$f":"IF(Q55>0,VLOOKUP(Q55,Set!$D$2:$E$23,2,FALSE),\"\")","v":""}]
[{"$nulls":9},{"$f":"IF(I56>0,VLOOKUP(I56,Set!$A$2:$B$250,2,FALSE),\"\")","v":""},{"$nulls":8},{"$f":"IF(Q56>0,VLOOKUP(Q56,Set!$D$2:$E$23,2,FALSE),\"\")","v":""}]
[{"$nulls":9},{"$f":"IF(I57>0,VLOOKUP(I57,Set!$A$2:$B$250,2,FALSE),\"\")","v":""},{"$nulls":8},{"$f":"IF(Q57>0,VLOOKUP(Q57,Set!$D$2:$E$23,2,FALSE),\"\")","v":""}]
[{"$nulls":9},{"$f":"IF(I58>0,VLOOKUP(I58,Set!$A$2:$B$250,2,FALSE),\"\")","v":""},{"$nulls":8},{"$f":"IF(Q58>0,VLOOKUP(Q58,Set!$D$2:$E$23,2,FALSE),\"\")","v":""}]
[{"$nulls":9},{"$f":"IF(I59>0,VLOOKUP(I59,Set!$A$2:$B$250,2,FALSE),\"\")","v":""},{"$nulls":8},{"$f":"IF(Q59>0,VLOOKUP(Q59,Set!$D$2:$E$23,2,FALSE),\"\")","v":""}]
[{"$nulls":9},{"$f":"IF(I60>0,VLOOKUP(I60,Set!$A$2:$B$250,2,FALSE),\"\")","v":""},{"$nulls":8},{"$f":"IF(Q60>0,VLOOKUP(Q60,Set!$D$2:$E$23,2,FALSE),\"\")","v":""}]
[{"$nulls":9},{"$f":"IF(I61>0,VLOOKUP(I61,Set!$A$2:$B$250,2,FALSE),\"\")","v":""},{"$nulls":8},{"$f":"IF(Q61>0,VLOOKUP(Q61,Set!$D$2:$E$23,2,FALSE),\"\")","v":""}]
[{"$nulls":9},{"$f":"IF(I62>0,VLOOKUP(I62,Set!$A$2:$B$250,2,FALSE),\"\")","v":""},{"$nulls":8},{"$f":"IF(Q62>0,VLOOKUP(Q62,Set!$D$2:$E$23,2,FALSE),\"\")","v":""}]
[{"$nulls":9},{"$f":"IF(I63>0,VLOOKUP(I63,Set!$A$2:$B$250,2,FALSE),\"\")","v":""},{"$nulls":8},{"$f":"IF(Q63>0,VLOOKUP(Q63,Set!$D$2:$E$23,2,FALSE),\"\")","v":""}]
[{"$nulls":9},{"$f":"IF(I64>0,VLOOKUP(I64,Set!$A$2:$B$250,2,FALSE),\"\")","v":""},{"$nulls":8},{"$f":"IF(Q64>0,VLOOKUP(Q64,Set!$D$2:$E$23,2,FALSE),\"\")","v":""}]
[{"$nulls":9},{"$f":"IF(I65>0,VLOOKUP(I65,Set!$A$2:$B$250,2,FALSE),\"\")","v":""},{"$nulls":8},{"$f":"IF(Q65>0,VLOOKUP(Q65,Set!$D$2:$E$23,2,FALSE),\"\")","v":""}]
[{"$nulls":9},{"$f":"IF(I66>0,VLOOKUP(I66,Set!$A$2:$B$250,2,FALSE),\"\")","v":""},{"$nulls":8},{"$f":"IF(Q66>0,VLOOKUP(Q66,Set!$D$2:$E$23,2,FALSE),\"\")","v":""}]
[{"$nulls":9},{"$f":"IF(I67>0,VLOOKUP(I67,Set!$A$2:$B$250,2,FALSE),\"\")","v":""},{"$nulls":8},{"$f":"IF(Q67>0,VLOOKUP(Q67,Set!$D$2:$E$23,2,FALSE),\"\")","v":""}]
[{"$nulls":9},{"$f":"IF(I68>0,VLOOKUP(I68,Set!$A$2:$B$250,2,FALSE),\"\")","v":""},{"$nulls":8},{"$f":"IF(Q68>0,VLOOKUP(Q68,Set!$D$2:$E$23,2,FALSE),\"\")","v":""}]
[{"$nulls":9},{"$f":"IF(I69>0,VLOOKUP(I69,Set!$A$2:$B$250,2,FALSE),\"\")","v":""},{"$nulls":8},{"$f":"IF(Q69>0,VLOOKUP(Q69,Set!$D$2:$E$23,2,FALSE),\"\")","v":""}]
[{"$nulls":9},{"$f":"IF(I70>0,VLOOKUP(I70,Set!$A$2:$B$250,2,FALSE),\"\")","v":""},{"$nulls":8},{"$f":"IF(Q70>0,VLOOKUP(Q70,Set!$D$2:$E$23,2,FALSE),\"\")","v":""}]
[{"$nulls":9},{"$f":"IF(I71>0,VLOOKUP(I71,Set!$A$2:$B$250,2,FALSE),\"\")","v":""},{"$nulls":8},{"$f":"IF(Q71>0,VLOOKUP(Q71,Set!$D$2:$E$23,2,FALSE),\"\")","v":""}]
[{"$nulls":9},{"$f":"IF(I72>0,VLOOKUP(I72,Set!$A$2:$B$250,2,FALSE),\"\")","v":""},{"$nulls":8},{"$f":"IF(Q72>0,VLOOKUP(Q72,Set!$D$2:$E$23,2,FALSE),\"\")","v":""}]
[{"$nulls":9},{"$f":"IF(I73>0,VLOOKUP(I73,Set!$A$2:$B$250,2,FALSE),\"\")","v":""},{"$nulls":8},{"$f":"IF(Q73>0,VLOOKUP(Q73,Set!$D$2:$E$23,2,FALSE),\"\")","v":""}]
[{"$nulls":9},{"$f":"IF(I74>0,VLOOKUP(I74,Set!$A$2:$B$250,2,FALSE),\"\")","v":""},{"$nulls":8},{"$f":"IF(Q74>0,VLOOKUP(Q74,Set!$D$2:$E$23,2,FALSE),\"\")","v":""}]
[{"$nulls":9},{"$f":"IF(I75>0,VLOOKUP(I75,Set!$A$2:$B$250,2,FALSE),\"\")","v":""},{"$nulls":8},{"$f":"IF(Q75>0,VLOOKUP(Q75,Set!$D$2:$E$23,2,FALSE),\"\")","v":""}]
[{"$nulls":9},{"$f":"IF(I76>0,VLOOKUP(I76,Set!$A$2:$B$250,2,FALSE),\"\")","v":""},{"$nulls":8},{"$f":"IF(Q76>0,VLOOKUP(Q76,Set!$D$2:$E$23,2,FALSE),\"\")","v":""}]
[{"$nulls":9},{"$f":"IF(I77>0,VLOOKUP(I77,Set!$A$2:$B$250,2,FALSE),\"\")","v":""},{"$nulls":8},{"$f":"IF(Q77>0,VLOOKUP(Q77,Set!$D$2:$E$23,2,FALSE),\"\")","v":""}]
[{"$nulls":9},{"$f":"IF(I78>0,VLOOKUP(I78,Set!$A$2:$B$250,2,FALSE),\"\")","v":""},{"$nulls":8},{"$f":"IF(Q78>0,VLOOKUP(Q78,Set!$D$2:$E$23,2,FALSE),\"\")","v":""}]
[{"$nulls":9},{"$f":"IF(I79>0,VLOOKUP(I79,Set!$A$2:$B$250,2,FALSE),\"\")","v":""},{"$nulls":8},{"$f":"IF(Q79>0,VLOOKUP(Q79,Set!$D$2:$E$23,2,FALSE),\"\")","v":""}]
[{"$nulls":9},{"$f":"IF(I80>0,VLOOKUP(I80,Set!$A$2:$B$250,2,FALSE),\"\")","v":""},{"$nulls":8},{"$f":"IF(Q80>0,VLOOKUP(Q80,Set!$D$2:$E$23,2,FALSE),\"\")","v":""}]
[{"$nulls":9},{"$f":"IF(I81>0,VLOOKUP(I81,Set!$A$2:$B$250,2,FALSE),\"\")","v":""},{"$nulls":8},{"$f":"IF(Q81>0,VLOOKUP(Q81,Set!$D$2:$E$23,2,FALSE),\"\")","v":""}]
[{"$nulls":9},{"$f":"IF(I82>0,VLOOKUP(I82,Set!$A$2:$B$250,2,FALSE),\"\")","v":""},{"$nulls":8},{"$f":"IF(Q82>0,VLOOKUP(Q82,Set!$D$2:$E$23,2,FALSE),\"\")","v":""}]
[{"$nulls":9},{"$f":"IF(I83>0,VLOOKUP(I83,Set!$A$2:$B$250,2,FALSE),\"\")","v":""},{"$nulls":8},{"$f":"IF(Q83>0,VLOOKUP(Q83,Set!$D$2:$E$23,2,FALSE),\"\")","v":""}]
[{"$nulls":9},{"$f":"IF(I84>0,VLOOKUP(I84,Set!$A$2:$B$250,2,FALSE),\"\")","v":""},{"$nulls":8},{"$f":"IF(Q84>0,VLOOKUP(Q84,Set!$D$2:$E$23,2,FALSE),\"\")","v":""}]
[{"$nulls":9},{"$f":"IF(I85>0,VLOOKUP(I85,Set!$A$2:$B$250,2,FALSE),\"\")","v":""},{"$nulls":8},{"$f":"IF(Q85>0,VLOOKUP(Q85,Set!$D$2:$E$23,2,FALSE),\"\")","v":""}]
[{"$nulls":9},{"$f":"IF(I86>0,VLOOKUP(I86,Set!$A$2:$B$250,2,FALSE),\"\")","v":""},{"$nulls":8},{"$f":"IF(Q86>0,VLOOKUP(Q86,Set!$D$2:$E$23,2,FALSE),\"\")","v":""}]
[{"$nulls":9},{"$f":"IF(I87>0,VLOOKUP(I87,Set!$A$2:$B$250,2,FALSE),\"\")","v":""},{"$nulls":8},{"$f":"IF(Q87>0,VLOOKUP(Q87,Set!$D$2:$E$23,2,FALSE),\"\")","v":""}]
[{"$nulls":9},{"$f":"IF(I88>0,VLOOKUP(I88,Set!$A$2:$B$250,2,FALSE),\"\")","v":""},{"$nulls":8},{"$f":"IF(Q88>0,VLOOKUP(Q88,Set!$D$2:$E$23,2,FALSE),\"\")","v":""}]
[{"$nulls":9},{"$f":"IF(I89>0,VLOOKUP(I89,Set!$A$2:$B$250,2,FALSE),\"\")","v":""},{"$nulls":8},{"$f":"IF(Q89>0,VLOOKUP(Q89,Set!$D$2:$E$23,2,FALSE),\"\")","v":""}]
[{"$nulls":9},{"$f":"IF(I90>0,VLOOKUP(I90,Set!$A$2:$B$250,2,FALSE),\"\")","v":""},{"$nulls":8},{"$f":"IF(Q90>0,VLOOKUP(Q90,Set!$D$2:$E$23,2,FALSE),\"\")","v":""}]
[{"$nulls":9},{"$f":"IF(I91>0,VLOOKUP(I91,Set!$A$2:$B$250,2,FALSE),\"\")","v":""},{"$nulls":8},{"$f":"IF(Q91>0,VLOOKUP(Q91,Set!$D$2:$E$23,2,FALSE),\"\")","v":""}]
[{"$nulls":9},{"$f":"IF(I92>0,VLOOKUP(I92,Set!$A$2:$B$250,2,FALSE),\"\")","v":""},{"$nulls":8},{"$f":"IF(Q92>0,VLOOKUP(Q92,Set!$D$2:$E$23,2,FALSE),\"\")","v":""}]
[{"$nulls":9},{"$f":"IF(I93>0,VLOOKUP(I93,Set!$A$2:$B$250,2,FALSE),\"\")","v":""},{"$nulls":8},{"$f":"IF(Q93>0,VLOOKUP(Q93,Set!$D$2:$E$23,2,FALSE),\"\")","v":""}]
[{"$nulls":9},{"$f":"IF(I94>0,VLOOKUP(I94,Set!$A$2:$B$250,2,FALSE),\"\")","v":""},{"$nulls":8},{"$f":"IF(Q94>0,VLOOKUP(Q94,Set!$D$2:$E$23,2,FALSE),\"\")","v":""}]
[{"$nulls":9},{"$f":"IF(I95>0,VLOOKUP(I95,Set!$A$2:$B$250,2,FALSE),\"\")","v":""},{"$nulls":8},{"$f":"IF(Q95>0,VLOOKUP(Q95,Set!$D$2:$E$23,2,FALSE),\"\")","v":""}]
[{"$nulls":9},{"$f":"IF(I96>0,VLOOKUP(I96,Set!$A$2:$B$250,2,FALSE),\"\")","v":""},{"$nulls":8},{"$f":"IF(Q96>0,VLOOKUP(Q96,Set!$D$2:$E$23,2,FALSE),\"\")","v":""}]
[{"$nulls":9},{"$f":"IF(I97>0,VLOOKUP(I97,Set!$A$2:$B$250,2,FALSE),\"\")","v":""},{"$nulls":8},{"$f":"IF(Q97>0,VLOOKUP(Q97,Set!$D$2:$E$23,2,FALSE),\"\")","v":""}]
[{"$nulls":9},{"$f":"IF(I98>0,VLOOKUP(I98,Set!$A$2:$B$250,2,FALSE),\"\")","v":""},{"$nulls":8},{"$f":"IF(Q98>0,VLOOKUP(Q98,Set!$D$2:$E$23,2,FALSE),\"\")","v":""}]
[{"$nulls":9},{"$f":"IF(I99>0,VLOOKUP(I99,Set!$A$2:$B$250,2,FALSE),\"\")","v":""},{"$nulls":8},{"$f":"IF(Q99>0,VLOOKUP(Q99,Set!$D$2:$E$23,2,FALSE),\"\")","v":""}]
[{"$nulls":9},{"$f":"IF(I100>0,VLOOKUP(I100,Set!$A$2:$B$250,2,FALSE),\"\")","v":""},{"$nulls":8},{"$f":"IF(Q100>0,VLOOKUP(Q100,Set!$D$2:$E$23,2,FALSE),\"\")","v":""}]
[{"$nulls":9},{"$f":"IF(I101>0,VLOOKUP(I101,Set!$A$2:$B$250,2,FALSE),\"\")","v":""},{"$nulls":8},{"$f":"IF(Q101>0,VLOOKUP(Q101,Set!$D$2:$E$23,2,FALSE),\"\")","v":""}]
[{"$nulls":9},{"$f":"IF(I102>0,VLOOKUP(I102,Set!$A$2:$B$250,2,FALSE),\"\")","v":""},{"$nulls":8},{"$f":"IF(Q102>0,VLOOKUP(Q102,Set!$D$2:$E$23,2,FALSE),\"\")","v":""}]
[{"$nulls":9},{"$f":"IF(I103>0,VLOOKUP(I103,Set!$A$2:$B$250,2,FALSE),\"\")","v":""},{"$nulls":8},{"$f":"IF(Q103>0,VLOOKUP(Q103,Set!$D$2:$E$23,2,FALSE),\"\")","v":""}]
[{"$nulls":9},{"$f":"IF(I104>0,VLOOKUP(I104,Set!$A$2:$B$250,2,FALSE),\"\")","v":""},{"$nulls":8},{"$f":"IF(Q104>0,VLOOKUP(Q104,Set!$D$2:$E$23,2,FALSE),\"\")","v":""}]
[{"$nulls":9},{"$f":"IF(I105>0,VLOOKUP(I105,Set!$A$2:$B$250,2,FALSE),\"\")","v":""},{"$nulls":8},{"$f":"IF(Q105>0,VLOOKUP(Q105,Set!$D$2:$E$23,2,FALSE),\"\")","v":""}]
[{"$nulls":9},{"$f":"IF(I106>0,VLOOKUP(I106,Set!$A$2:$B$250,2,FALSE),\"\")","v":""},{"$nulls":8},{"$f":"IF(Q106>0,VLOOKUP(Q106,Set!$D$2:$E$23,2,FALSE),\"\")","v":""}]
[{"$nulls":9},{"$f":"IF(I107>0,VLOOKUP(I107,Set!$A$2:$B$250,2,FALSE),\"\")","v":""},{"$nulls":8},{"$f":"IF(Q107>0,VLOOKUP(Q107,Set!$D$2:$E$23,2,FALSE),\"\")","v":""}]
[{"$nulls":9},{"$f":"IF(I108>0,VLOOKUP(I108,Set!$A$2:$B$250,2,FALSE),\"\")","v":""},{"$nulls":8},{"$f":"IF(Q108>0,VLOOKUP(Q108,Set!$D$2:$E$23,2,FALSE),\"\")","v":""}]
[{"$nulls":9},{"$f":"IF(I109>0,VLOOKUP(I109,Set!$A$2:$B$250,2,FALSE),\"\")","v":""},{"$nulls":8},{"$f":"IF(Q109>0,VLOOKUP(Q109,Set!$D$2:$E$23,2,FALSE),\"\")","v":""}]
[{"$nulls":9},{"$f":"IF(I110>0,VLOOKUP(I110,Set!$A$2:$B$250,2,FALSE),\"\")","v":""},{"$nulls":8},{"$f":"IF(Q110>0,VLOOKUP(Q110,Set!$D$2:$E$23,2,FALSE),\"\")","v":""}]
[{"$nulls":9},{"$f":"IF(I111>0,VLOOKUP(I111,Set!$A$2:$B$250,2,FALSE),\"\")","v":""},{"$nulls":8},{"$f":"IF(Q111>0,VLOOKUP(Q111,Set!$D$2:$E$23,2,FALSE),\"\")","v":""}]
[{"$nulls":9},{"$f":"IF(I112>0,VLOOKUP(I112,Set!$A$2:$B$250,2,FALSE),\"\")","v":""},{"$nulls":8},{"$f":"IF(Q112>0,VLOOKUP(Q112,Set!$D$2:$E$23,2,FALSE),\"\")","v":""}]
[{"$nulls":9},{"$f":"IF(I113>0,VLOOKUP(I113,Set!$A$2:$B$250,2,FALSE),\"\")","v":""},{"$nulls":8},{"$f":"IF(Q113>0,VLOOKUP(Q113,Set!$D$2:$E$23,2,FALSE),\"\")","v":""}]
[{"$nulls":9},{"$f":"IF(I114>0,VLOOKUP(I114,Set!$A$2:$B$250,2,FALSE),\"\")","v":""},{"$nulls":8},{"$f":"IF(Q114>0,VLOOKUP(Q114,Set!$D$2:$E$23,2,FALSE),\"\")","v":""}]
[{"$nulls":9},{"$f":"IF(I115>0,VLOOKUP(I115,Set!$A$2:$B$250,2,FALSE),\"\")","v":""},{"$nulls":8},{"$f":"IF(Q115>0,VLOOKUP(Q115,Set!$D$2:$E$23,2,FALSE),\"\")","v":""}]
[{"$nulls":9},{"$f":"IF(I116>0,VLOOKUP(I116,Set!$A$2:$B$250,2,FALSE),\"\")","v":""},{"$nulls":8},{"$f":"IF(Q116>0,VLOOKUP(Q116,Set!$D$2:$E$23,2,FALSE),\"\")","v":""}]
[{"$nulls":9},{"$f":"IF(I117>0,VLOOKUP(I117,Set!$A$2:$B$250,2,FALSE),\"\")","v":""},{"$nulls":8},{"$f":"IF(Q117>0,VLOOKUP(Q117,Set!$D$2:$E$23,2,FALSE),\"\")","v":""}]
[{"$nulls":9},{"$f":"IF(I118>0,VLOOKUP(I118,Set!$A$2:$B$250,2,FALSE),\"\")","v":""},{"$nulls":8},{"$f":"IF(Q118>0,VLOOKUP(Q118,Set!$D$2:$E$23,2,FALSE),\"\")","v":""}]
[{"$nulls":9},{"$f":"IF(I119>0,VLOOKUP(I119,Set!$A$2:$B$250,2,FALSE),\"\")","v":""},{"$nulls":8},{"$f":"IF(Q119>0,VLOOKUP(Q119,Set!$D$2:$E$23,2,FALSE),\"\")","v":""}]
[{"$nulls":9},{"$f":"IF(I120>0,VLOOKUP(I120,Set!$A$2:$B$250,2,FALSE),\"\")","v":""},{"$nulls":8},{"$f":"IF(Q120>0,VLOOKUP(Q120,Set!$D$2:$E$23,2,FALSE),\"\")","v":""}]
[{"$nulls":9},{"$f":"IF(I121>0,VLOOKUP(I121,Set!$A$2:$B$250,2,FALSE),\"\")","v":""},{"$nulls":8},{"$f":"IF(Q121>0,VLOOKUP(Q121,Set!$D$2:$E$23,2,FALSE),\"\")","v":""}]
[{"$nulls":9},{"$f":"IF(I122>0,VLOOKUP(I122,Set!$A$2:$B$250,2,FALSE),\"\")","v":""},{"$nulls":8},{"$f":"IF(Q122>0,VLOOKUP(Q122,Set!$D$2:$E$23,2,FALSE),\"\")","v":""}]
[{"$nulls":9},{"$f":"IF(I123>0,VLOOKUP(I123,Set!$A$2:$B$250,2,FALSE),\"\")","v":""},{"$nulls":8},{"$f":"IF(Q123>0,VLOOKUP(Q123,Set!$D$2:$E$23,2,FALSE),\"\")","v":""}]
[{"$nulls":9},{"$f":"IF(I124>0,VLOOKUP(I124,Set!$A$2:$B$250,2,FALSE),\"\")","v":""},{"$nulls":8},{"$f":"IF(Q124>0,VLOOKUP(Q124,Set!$D$2:$E$23,2,FALSE),\"\")","v":""}]
[{"$nulls":9},{"$f":"IF(I125>0,VLOOKUP(I125,Set!$A$2:$B$250,2,FALSE),\"\")","v":""},{"$nulls":8},{"$f":"IF(Q125>0,VLOOKUP(Q125,Set!$D$2:$E$23,2,FALSE),\"\")","v":""}]
[{"$nulls":9},{"$f":"IF(I126>0,VLOOKUP(I126,Set!$A$2:$B$250,2,FALSE),\"\")","v":""},{"$nulls":8},{"$f":"IF(Q126>0,VLOOKUP(Q126,Set!$D$2:$E$23,2,FALSE),\"\")","v":""}]
[{"$nulls":9},{"$f":"IF(I127>0,VLOOKUP(I127,Set!$A$2:$B$250,2,FALSE),\"\")","v":""},{"$nulls":8},{"$f":"IF(Q127>0,VLOOKUP(Q127,Set!$D$2:$E$23,2,FALSE),\"\")","v":""}]
[{"$nulls":9},{"$f":"IF(I128>0,VLOOKUP(I128,Set!$A$2:$B$250,2,FALSE),\"\")","v":""},{"$nulls":8},{"$f":"IF(Q128>0,VLOOKUP(Q128,Set!$D$2:$E$23,2,FALSE),\"\")","v":""}]
[{"$nulls":9},{"$f":"IF(I129>0,VLOOKUP(I129,Set!$A$2:$B$250,2,FALSE),\"\")","v":""},{"$nulls":8},{"$f":"IF(Q129>0,VLOOKUP(Q129,Set!$D$2:$E$23,2,FALSE),\"\")","v":""}]
[{"$nulls":9},{"$f":"IF(I130>0,VLOOKUP(I130,Set!$A$2:$B$250,2,FALSE),\"\")","v":""},{"$nulls":8},{"$f":"IF(Q130>0,VLOOKUP(Q130,Set!$D$2:$E$23,2,FALSE),\"\")","v":""}]
[{"$nulls":9},{"$f":"IF(I131>0,VLOOKUP(I131,Set!$A$2:$B$250,2,FALSE),\"\")","v":""},{"$nulls":8},{"$f":"IF(Q131>0,VLOOKUP(Q131,Set!$D$2:$E$23,2,FALSE),\"\")","v":""}]
[{"$nulls":9},{"$f":"IF(I132>0,VLOOKUP(I132,Set!$A$2:$B$250,2,FALSE),\"\")","v":""},{"$nulls":8},{"$f":"IF(Q132>0,VLOOKUP(Q132,Set!$D$2:$E$23,2,FALSE),\"\")","v":""}]
[{"$nulls":9},{"$f":"IF(I133>0,VLOOKUP(I133,Set!$A$2:$B$250,2,FALSE),\"\")","v":""},{"$nulls":8},{"$f":"IF(Q133>0,VLOOKUP(Q133,Set!$D$2:$E$23,2,FALSE),\"\")","v":""}]
[{"$nulls":9},{"$f":"IF(I134>0,VLOOKUP(I134,Set!$A$2:$B$250,2,FALSE),\"\")","v":""},{"$nulls":8},{"$f":"IF(Q134>0,VLOOKUP(Q134,Set!$D$2:$E$23,2,FALSE),\"\")","v":""}]
[{"$nulls":9},{"$f":"IF(I135>0,VLOOKUP(I135,Set!$A$2:$B$250,2,FALSE),\"\")","v":""},{"$nulls":8},{"$f":"IF(Q135>0,VLOOKUP(Q135,Set!$D$2:$E$23,2,FALSE),\"\")","v":""}]
[{"$nulls":9},{"$f":"IF(I136>0,VLOOKUP(I136,Set!$A$2:$B$250,2,FALSE),\"\")","v":""},{"$nulls":8},{"$f":"IF(Q136>0,VLOOKUP(Q136,Set!$D$2:$E$23,2,FALSE),\"\")","v":""}]
[{"$nulls":9},{"$f":"IF(I137>0,VLOOKUP(I137,Set!$A$2:$B$250,2,FALSE),\"\")","v":""},{"$nulls":8},{"$f":"IF(Q137>0,VLOOKUP(Q137,Set!$D$2:$E$23,2,FALSE),\"\")","v":""}]
[{"$nulls":9},{"$f":"IF(I138>0,VLOOKUP(I138,Set!$A$2:$B$250,2,FALSE),\"\")","v":""},{"$nulls":8},{"$f":"IF(Q138>0,VLOOKUP(Q138,Set!$D$2:$E$23,2,FALSE),\"\")","v":""}]
[{"$nulls":9},{"$f":"IF(I139>0,VLOOKUP(I139,Set!$A$2:$B$250,2,FALSE),\"\")","v":""},{"$nulls":8},{"$f":"IF(Q139>0,VLOOKUP(Q139,Set!$D$2:$E$23,2,FALSE),\"\")","v":""}]
[{"$nulls":9},{"$f":"IF(I140>0,VLOOKUP(I140,Set!$A$2:$B$250,2,FALSE),\"\")","v":""},{"$nulls":8},{"$f":"IF(Q140>0,VLOOKUP(Q140,Set!$D$2:$E$23,2,FALSE),\"\")","v":""}]
[{"$nulls":9},{"$f":"IF(I141>0,VLOOKUP(I141,Set!$A$2:$B$250,2,FALSE),\"\")","v":""},{"$nulls":8},{"$f":"IF(Q141>0,VLOOKUP(Q141,Set!$D$2:$E$23,2,FALSE),\"\")","v":""}]
[{"$nulls":9},{"$f":"IF(I142>0,VLOOKUP(I142,Set!$A$2:$B$250,2,FALSE),\"\")","v":""},{"$nulls":8},{"$f":"IF(Q142>0,VLOOKUP(Q142,Set!$D$2:$E$23,2,FALSE),\"\")","v":""}]
[{"$nulls":9},{"$f":"IF(I143>0,VLOOKUP(I143,Set!$A$2:$B$250,2,FALSE),\"\")","v":""},{"$nulls":8},{"$f":"IF(Q143>0,VLOOKUP(Q143,Set!$D$2:$E$23,2,FALSE),\"\")","v":""}]
[{"$nulls":9},{"$f":"IF(I144>0,VLOOKUP(I144,Set!$A$2:$B$250,2,FALSE),\"\")","v":""},{"$nulls":8},{"$f":"IF(Q144>0,VLOOKUP(Q144,Set!$D$2:$E$23,2,FALSE),\"\")","v":""}]
[{"$nulls":9},{"$f":"IF(I145>0,VLOOKUP(I145,Set!$A$2:$B$250,2,FALSE),\"\")","v":""},{"$nulls":8},{"$f":"IF(Q145>0,VLOOKUP(Q145,Set!$D$2:$E$23,2,FALSE),\"\")","v":""}]
[{"$nulls":9},{"$f":"IF(I146>0,VLOOKUP(I146,Set!$A$2:$B$250,2,FALSE),\"\")","v":""},{"$nulls":8},{"$f":"IF(Q146>0,VLOOKUP(Q146,Set!$D$2:$E$23,2,FALSE),\"\")","v":""}]
[{"$nulls":9},{"$f":"IF(I147>0,VLOOKUP(I147,Set!$A$2:$B$250,2,FALSE),\"\")","v":""},{"$nulls":8},{"$f":"IF(Q147>0,VLOOKUP(Q147,Set!$D$2:$E$23,2,FALSE),\"\")","v":""}]
[{"$nulls":9},{"$f":"IF(I148>0,VLOOKUP(I148,Set!$A$2:$B$250,2,FALSE),\"\")","v":""},{"$nulls":8},{"$f":"IF(Q148>0,VLOOKUP(Q148,Set!$D$2:$E$23,2,FALSE),\"\")","v":""}]
[{"$nulls":9},{"$f":"IF(I149>0,VLOOKUP(I149,Set!$A$2:$B$250,2,FALSE),\"\")","v":""},{"$nulls":8},{"$f":"IF(Q149>0,VLOOKUP(Q149,Set!$D$2:$E$23,2,FALSE),\"\")","v":""}]
[{"$nulls":9},{"$f":"IF(I150>0,VLOOKUP(I150,Set!$A$2:$B$250,2,FALSE),\"\")","v":""},{"$nulls":8},{"$f":"IF(Q150>0,VLOOKUP(Q150,Set!$D$2:$E$23,2,FALSE),\"\")","v":""}]
[{"$nulls":9},{"$f":"IF(I151>0,VLOOKUP(I151,Set!$A$2:$B$250,2,FALSE),\"\")","v":""},{"$nulls":8},{"$f":"IF(Q151>0,VLOOKUP(Q151,Set!$D$2:$E$23,2,FALSE),\"\")","v":""}]
[{"$nulls":9},{"$f":"IF(I152>0,VLOOKUP(I152,Set!$A$2:$B$250,2,FALSE),\"\")","v":""},{"$nulls":8},{"$f":"IF(Q152>0,VLOOKUP(Q152,Set!$D$2:$E$23,2,FALSE),\"\")","v":""}]
[{"$nulls":9},{"$f":"IF(I153>0,VLOOKUP(I153,Set!$A$2:$B$250,2,FALSE),\"\")","v":""},{"$nulls":8},{"$f":"IF(Q153>0,VLOOKUP(Q153,Set!$D$2:$E$23,2,FALSE),\"\")","v":""}]
[{"$nulls":9},{"$f":"IF(I154>0,VLOOKUP(I154,Set!$A$2:$B$250,2,FALSE),\"\")","v":""},{"$nulls":8},{"$f":"IF(Q154>0,VLOOKUP(Q154,Set!$D$2:$E$23,2,FALSE),\"\")","v":""}]
[{"$nulls":9},{"$f":"IF(I155>0,VLOOKUP(I155,Set!$A$2:$B$250,2,FALSE),\"\")","v":""},{"$nulls":8},{"$f":"IF(Q155>0,VLOOKUP(Q155,Set!$D$2:$E$23,2,FALSE),\"\")","v":""}]
[{"$nulls":9},{"$f":"IF(I156>0,VLOOKUP(I156,Set!$A$2:$B$250,2,FALSE),\"\")","v":""},{"$nulls":8},{"$f":"IF(Q156>0,VLOOKUP(Q156,Set!$D$2:$E$23,2,FALSE),\"\")","v":""}]
[{"$nulls":9},{"$f":"IF(I157>0,VLOOKUP(I157,Set!$A$2:$B$250,2,FALSE),\"\")","v":""},{"$nulls":8},{"$f":"IF(Q157>0,VLOOKUP(Q157,Set!$D$2:$E$23,2,FALSE),\"\")","v":""}]
[{"$nulls":9},{"$f":"IF(I158>0,VLOOKUP(I158,Set!$A$2:$B$250,2,FALSE),\"\")","v":""},{"$nulls":8},{"$f":"IF(Q158>0,VLOOKUP(Q158,Set!$D$2:$E$23,2,FALSE),\"\")","v":""}]
[{"$nulls":9},{"$f":"IF(I159>0,VLOOKUP(I159,Set!$A$2:$B$250,2,FALSE),\"\")","v":""},{"$nulls":8},{"$f":"IF(Q159>0,VLOOKUP(Q159,Set!$D$2:$E$23,2,FALSE),\"\")","v":""}]
[{"$nulls":9},{"$f":"IF(I160>0,VLOOKUP(I160,Set!$A$2:$B$250,2,FALSE),\"\")","v":""},{"$nulls":8},{"$f":"IF(Q160>0,VLOOKUP(Q160,Set!$D$2:$E$23,2,FALSE),\"\")","v":""}]
[{"$nulls":9},{"$f":"IF(I161>0,VLOOKUP(I161,Set!$A$2:$B$250,2,FALSE),\"\")","v":""},{"$nulls":8},{"$f":"IF(Q161>0,VLOOKUP(Q161,Set!$D$2:$E$23,2,FALSE),\"\")","v":""}]
[{"$nulls":9},{"$f":"IF(I162>0,VLOOKUP(I162,Set!$A$2:$B$250,2,FALSE),\"\")","v":""},{"$nulls":8},{"$f":"IF(Q162>0,VLOOKUP(Q162,Set!$D$2:$E$23,2,FALSE),\"\")","v":""}]
[{"$nulls":9},{"$f":"IF(I163>0,VLOOKUP(I163,Set!$A$2:$B$250,2,FALSE),\"\")","v":""},{"$nulls":8},{"$f":"IF(Q163>0,VLOOKUP(Q163,Set!$D$2:$E$23,2,FALSE),\"\")","v":""}]
[{"$nulls":9},{"$f":"IF(I164>0,VLOOKUP(I164,Set!$A$2:$B$250,2,FALSE),\"\")","v":""},{"$nulls":8},{"$f":"IF(Q164>0,VLOOKUP(Q164,Set!$D$2:$E$23,2,FALSE),\"\")","v":""}]
[{"$nulls":9},{"$f":"IF(I165>0,VLOOKUP(I165,Set!$A$2:$B$250,2,FALSE),\"\")","v":""},{"$nulls":8},{"$f":"IF(Q165>0,VLOOKUP(Q165,Set!$D$2:$E$23,2,FALSE),\"\")","v":""}]
[{"$nulls":9},{"$f":"IF(I166>0,VLOOKUP(I166,Set!$A$2:$B$250,2,FALSE),\"\")","v":""},{"$nulls":8},{"$f":"IF(Q166>0,VLOOKUP(Q166,Set!$D$2:$E$23,2,FALSE),\"\")","v":""}]
[{"$nulls":9},{"$f":"IF(I167>0,VLOOKUP(I167,Set!$A$2:$B$250,2,FALSE),\"\")","v":""},{"$nulls":8},{"$f":"IF(Q167>0,VLOOKUP(Q167,Set!$D$2:$E$23,2,FALSE),\"\")","v":""}]
[{"$nulls":9},{"$f":"IF(I168>0,VLOOKUP(I168,Set!$A$2:$B$250,2,FALSE),\"\")","v":""},{"$nulls":8},{"$f":"IF(Q168>0,VLOOKUP(Q168,Set!$D$2:$E$23,2,FALSE),\"\")","v":""}]
[{"$nulls":9},{"$f":"IF(I169>0,VLOOKUP(I169,Set!$A$2:$B$250,2,FALSE),\"\")","v":""},{"$nulls":8},{"$f":"IF(Q169>0,VLOOKUP(Q169,Set!$D$2:$E$23,2,FALSE),\"\")","v":""}]
[{"$nulls":9},{"$f":"IF(I170>0,VLOOKUP(I170,Set!$A$2:$B$250,2,FALSE),\"\")","v":""},{"$nulls":8},{"$f":"IF(Q170>0,VLOOKUP(Q170,Set!$D$2:$E$23,2,FALSE),\"\")","v":""}]
[{"$nulls":9},{"$f":"IF(I171>0,VLOOKUP(I171,Set!$A$2:$B$250,2,FALSE),\"\")","v":""},{"$nulls":8},{"$f":"IF(Q171>0,VLOOKUP(Q171,Set!$D$2:$E$23,2,FALSE),\"\")","v":""}]
[{"$nulls":9},{"$f":"IF(I172>0,VLOOKUP(I172,Set!$A$2:$B$250,2,FALSE),\"\")","v":""},{"$nulls":8},{"$f":"IF(Q172>0,VLOOKUP(Q172,Set!$D$2:$E$23,2,FALSE),\"\")","v":""}]
[{"$nulls":9},{"$f":"IF(I173>0,VLOOKUP(I173,Set!$A$2:$B$250,2,FALSE),\"\")","v":""},{"$nulls":8},{"$f":"IF(Q173>0,VLOOKUP(Q173,Set!$D$2:$E$23,2,FALSE),\"\")","v":""}]
[{"$nulls":9},{"$f":"IF(I174>0,VLOOKUP(I174,Set!$A$2:$B$250,2,FALSE),\"\")","v":""},{"$nulls":8},{"$f":"IF(Q174>0,VLOOKUP(Q174,Set!$D$2:$E$23,2,FALSE),\"\")","v":""}]
[{"$nulls":9},{"$f":"IF(I175>0,VLOOKUP(I175,Set!$A$2:$B$250,2,FALSE),\"\")","v":""},{"$nulls":8},{"$f":"IF(Q175>0,VLOOKUP(Q175,Set!$D$2:$E$23,2,FALSE),\"\")","v":""}]
[{"$nulls":9},{"$f":"IF(I176>0,VLOOKUP(I176,Set!$A$2:$B$250,2,FALSE),\"\")","v":""},{"$nulls":8},{"$f":"IF(Q176>0,VLOOKUP(Q176,Set!$D$2:$E$23,2,FALSE),\"\")","v":""}]
[{"$nulls":9},{"$f":"IF(I177>0,VLOOKUP(I177,Set!$A$2:$B$250,2,FALSE),\"\")","v":""},{"$nulls":8},{"$f":"IF(Q177>0,VLOOKUP(Q177,Set!$D$2:$E$23,2,FALSE),\"\")","v":""}]
[{"$nulls":9},{"$f":"IF(I178>0,VLOOKUP(I178,Set!$A$2:$B$250,2,FALSE),\"\")","v":""},{"$nulls":8},{"$f":"IF(Q178>0,VLOOKUP(Q178,Set!$D$2:$E$23,2,FALSE),\"\")","v":""}]
[{"$nulls":9},{"$f":"IF(I179>0,VLOOKUP(I179,Set!$A$2:$B$250,2,FALSE),\"\")","v":""},{"$nulls":8},{"$f":"IF(Q179>0,VLOOKUP(Q179,Set!$D$2:$E$23,2,FALSE),\"\")","v":""}]
[{"$nulls":9},{"$f":"IF(I180>0,VLOOKUP(I180,Set!$A$2:$B$250,2,FALSE),\"\")","v":""},{"$nulls":8},{"$f":"IF(Q180>0,VLOOKUP(Q180,Set!$D$2:$E$23,2,FALSE),\"\")","v":""}]
[{"$nulls":9},{"$f":"IF(I181>0,VLOOKUP(I181,Set!$A$2:$B$250,2,FALSE),\"\")","v":""},{"$nulls":8},{"$f":"IF(Q181>0,VLOOKUP(Q181,Set!$D$2:$E$23,2,FALSE),\"\")","v":""}]
[{"$nulls":9},{"$f":"IF(I182>0,VLOOKUP(I182,Set!$A$2:$B$250,2,FALSE),\"\")","v":""},{"$nulls":8},{"$f":"IF(Q182>0,VLOOKUP(Q182,Set!$D$2:$E$23,2,FALSE),\"\")","v":""}]
[{"$nulls":9},{"$f":"IF(I183>0,VLOOKUP(I183,Set!$A$2:$B$250,2,FALSE),\"\")","v":""},{"$nulls":8},{"$f":"IF(Q183>0,VLOOKUP(Q183,Set!$D$2:$E$23,2,FALSE),\"\")","v":""}]
[{"$nulls":9},{"$f":"IF(I184>0,VLOOKUP(I184,Set!$A$2:$B$250,2,FALSE),\"\")","v":""},{"$nulls":8},{"$f":"IF(Q184>0,VLOOKUP(Q184,Set!$D$2:$E$23,2,FALSE),\"\")","v":""}]
[{"$nulls":9},{"$f":"IF(I185>0,VLOOKUP(I185,Set!$A$2:$B$250,2,FALSE),\"\")","v":""},{"$nulls":8},{"$f":"IF(Q185>0,VLOOKUP(Q185,Set!$D$2:$E$23,2,FALSE),\"\")","v":""}]
[{"$nulls":9},{"$f":"IF(I186>0,VLOOKUP(I186,Set!$A$2:$B$250,2,FALSE),\"\")","v":""},{"$nulls":8},{"$f":"IF(Q186>0,VLOOKUP(Q186,Set!$D$2:$E$23,2,FALSE),\"\")","v":""}]
[{"$nulls":9},{"$f":"IF(I187>0,VLOOKUP(I187,Set!$A$2:$B$250,2,FALSE),\"\")","v":""},{"$nulls":8},{"$f":"IF(Q187>0,VLOOKUP(Q187,Set!$D$2:$E$23,2,FALSE),\"\")","v":""}]
[{"$nulls":9},{"$f":"IF(I188>0,VLOOKUP(I188,Set!$A$2:$B$250,2,FALSE),\"\")","v":""},{"$nulls":8},{"$f":"IF(Q188>0,VLOOKUP(Q188,Set!$D$2:$E$23,2,FALSE),\"\")","v":""}]
[{"$nulls":9},{"$f":"IF(I189>0,VLOOKUP(I189,Set!$A$2:$B$250,2,FALSE),\"\")","v":""},{"$nulls":8},{"$f":"IF(Q189>0,VLOOKUP(Q189,Set!$D$2:$E$23,2,FALSE),\"\")","v":""}]
[{"$nulls":9},{"$f":"IF(I190>0,VLOOKUP(I190,Set!$A$2:$B$250,2,FALSE),\"\")","v":""},{"$nulls":8},{"$f":"IF(Q190>0,VLOOKUP(Q190,Set!$D$2:$E$23,2,FALSE),\"\")","v":""}]
[{"$nulls":9},{"$f":"IF(I191>0,VLOOKUP(I191,Set!$A$2:$B$250,2,FALSE),\"\")","v":""},{"$nulls":8},{"$f":"IF(Q191>0,VLOOKUP(Q191,Set!$D$2:$E$23,2,FALSE),\"\")","v":""}]
[{"$nulls":9},{"$f":"IF(I192>0,VLOOKUP(I192,Set!$A$2:$B$250,2,FALSE),\"\")","v":""},{"$nulls":8},{"$f":"IF(Q192>0,VLOOKUP(Q192,Set!$D$2:$E$23,2,FALSE),\"\")","v":""}]
[{"$nulls":9},{"$f":"IF(I193>0,VLOOKUP(I193,Set!$A$2:$B$250,2,FALSE),\"\")","v":""},{"$nulls":8},{"$f":"IF(Q193>0,VLOOKUP(Q193,Set!$D$2:$E$23,2,FALSE),\"\")","v":""}]
[{"$nulls":9},{"$f":"IF(I194>0,VLOOKUP(I194,Set!$A$2:$B$250,2,FALSE),\"\")","v":""},{"$nulls":8},{"$f":"IF(Q194>0,VLOOKUP(Q194,Set!$D$2:$E$23,2,FALSE),\"\")","v":""}]
[{"$nulls":9},{"$f":"IF(I195>0,VLOOKUP(I195,Set!$A$2:$B$250,2,FALSE),\"\")","v":""},{"$nulls":8},{"$f":"IF(Q195>0,VLOOKUP(Q195,Set!$D$2:$E$23,2,FALSE),\"\")","v":""}]
[{"$nulls":9},{"$f":"IF(I196>0,VLOOKUP(I196,Set!$A$2:$B$250,2,FALSE),\"\")","v":""},{"$nulls":8},{"$f":"IF(Q196>0,VLOOKUP(Q196,Set!$D$2:$E$23,2,FALSE),\"\")","v":""}]
[{"$nulls":9},{"$f":"IF(I197>0,VLOOKUP(I197,Set!$A$2:$B$250,2,FALSE),\"\")","v":""},{"$nulls":8},{"$f":"IF(Q197>0,VLOOKUP(Q197,Set!$D$2:$E$23,2,FALSE),\"\")","v":""}]
[{"$nulls":9},{"$f":"IF(I198>0,VLOOKUP(I198,Set!$A$2:$B$250,2,FALSE),\"\")","v":""},{"$nulls":8},{"$f":"IF(Q198>0,VLOOKUP(Q198,Set!$D$2:$E$23,2,FALSE),\"\")","v":""}]
[{"$nulls":9},{"$f":"IF(I199>0,VLOOKUP(I199,Set!$A$2:$B$250,2,FALSE),\"\")","v":""},{"$nulls":8},{"$f":"IF(Q199>0,VLOOKUP(Q199,Set!$D$2:$E$23,2,FALSE),\"\")","v":""}]
[{"$nulls":9},{"$f":"IF(I200>0,VLOOKUP(I200,Set!$A$2:$B$250,2,FALSE),\"\")","v":""},{"$nulls":8},{"$f":"IF(Q200>0,VLOOKUP(Q200,Set!$D$2:$E$23,2,FALSE),\"\")","v":""}]
[{"$nulls":9},{"$f":"IF(I201>0,VLOOKUP(I201,Set!$A$2:$B$250,2,FALSE),\"\")","v":""},{"$nulls":8},{"$f":"IF(Q201>0,VLOOKUP(Q201,Set!$D$2:$E$23,2,FALSE),\"\")","v":""}]
[{"$nulls":9},{"$f":"IF(I202>0,VLOOKUP(I202,Set!$A$2:$B$250,2,FALSE),\"\")","v":""},{"$nulls":8},{"$f":"IF(Q202>0,VLOOKUP(Q202,Set!$D$2:$E$23,2,FALSE),\"\")","v":""}]
[{"$nulls":9},{"$f":"IF(I203>0,VLOOKUP(I203,Set!$A$2:$B$250,2,FALSE),\"\")","v":""},{"$nulls":8},{"$f":"IF(Q203>0,VLOOKUP(Q203,Set!$D$2:$E$23,2,FALSE),\"\")","v":""}]
[{"$nulls":9},{"$f":"IF(I204>0,VLOOKUP(I204,Set!$A$2:$B$250,2,FALSE),\"\")","v":""},{"$nulls":8},{"$f":"IF(Q204>0,VLOOKUP(Q204,Set!$D$2:$E$23,2,FALSE),\"\")","v":""}]
[{"$nulls":9},{"$f":"IF(I205>0,VLOOKUP(I205,Set!$A$2:$B$250,2,FALSE),\"\")","v":""},{"$nulls":8},{"$f":"IF(Q205>0,VLOOKUP(Q205,Set!$D$2:$E$23,2,FALSE),\"\")","v":""}]
[{"$nulls":9},{"$f":"IF(I206>0,VLOOKUP(I206,Set!$A$2:$B$250,2,FALSE),\"\")","v":""},{"$nulls":8},{"$f":"IF(Q206>0,VLOOKUP(Q206,Set!$D$2:$E$23,2,FALSE),\"\")","v":""}]
[{"$nulls":9},{"$f":"IF(I207>0,VLOOKUP(I207,Set!$A$2:$B$250,2,FALSE),\"\")","v":""},{"$nulls":8},{"$f":"IF(Q207>0,VLOOKUP(Q207,Set!$D$2:$E$23,2,FALSE),\"\")","v":""}]
[{"$nulls":9},{"$f":"IF(I208>0,VLOOKUP(I208,Set!$A$2:$B$250,2,FALSE),\"\")","v":""},{"$nulls":8},{"$f":"IF(Q208>0,VLOOKUP(Q208,Set!$D$2:$E$23,2,FALSE),\"\")","v":""}]
[{"$nulls":9},{"$f":"IF(I209>0,VLOOKUP(I209,Set!$A$2:$B$250,2,FALSE),\"\")","v":""},{"$nulls":8},{"$f":"IF(Q209>0,VLOOKUP(Q209,Set!$D$2:$E$23,2,FALSE),\"\")","v":""}]
[{"$nulls":9},{"$f":"IF(I210>0,VLOOKUP(I210,Set!$A$2:$B$250,2,FALSE),\"\")","v":""},{"$nulls":8},{"$f":"IF(Q210>0,VLOOKUP(Q210,Set!$D$2:$E$23,2,FALSE),\"\")","v":""}]
[{"$nulls":9},{"$f":"IF(I211>0,VLOOKUP(I211,Set!$A$2:$B$250,2,FALSE),\"\")","v":""},{"$nulls":8},{"$f":"IF(Q211>0,VLOOKUP(Q211,Set!$D$2:$E$23,2,FALSE),\"\")","v":""}]
[{"$nulls":9},{"$f":"IF(I212>0,VLOOKUP(I212,Set!$A$2:$B$250,2,FALSE),\"\")","v":""},{"$nulls":8},{"$f":"IF(Q212>0,VLOOKUP(Q212,Set!$D$2:$E$23,2,FALSE),\"\")","v":""}]
[{"$nulls":9},{"$f":"IF(I213>0,VLOOKUP(I213,Set!$A$2:$B$250,2,FALSE),\"\")","v":""},{"$nulls":8},{"$f":"IF(Q213>0,VLOOKUP(Q213,Set!$D$2:$E$23,2,FALSE),\"\")","v":""}]
[{"$nulls":9},{"$f":"IF(I214>0,VLOOKUP(I214,Set!$A$2:$B$250,2,FALSE),\"\")","v":""},{"$nulls":8},{"$f":"IF(Q214>0,VLOOKUP(Q214,Set!$D$2:$E$23,2,FALSE),\"\")","v":""}]
[{"$nulls":9},{"$f":"IF(I215>0,VLOOKUP(I215,Set!$A$2:$B$250,2,FALSE),\"\")","v":""},{"$nulls":8},{"$f":"IF(Q215>0,VLOOKUP(Q215,Set!$D$2:$E$23,2,FALSE),\"\")","v":""}]
[{"$nulls":9},{"$f":"IF(I216>0,VLOOKUP(I216,Set!$A$2:$B$250,2,FALSE),\"\")","v":""},{"$nulls":8},{"$f":"IF(Q216>0,VLOOKUP(Q216,Set!$D$2:$E$23,2,FALSE),\"\")","v":""}]
[{"$nulls":9},{"$f":"IF(I217>0,VLOOKUP(I217,Set!$A$2:$B$250,2,FALSE),\"\")","v":""},{"$nulls":8},{"$f":"IF(Q217>0,VLOOKUP(Q217,Set!$D$2:$E$23,2,FALSE),\"\")","v":""}]
[{"$nulls":9},{"$f":"IF(I218>0,VLOOKUP(I218,Set!$A$2:$B$250,2,FALSE),\"\")","v":""},{"$nulls":8},{"$f":"IF(Q218>0,VLOOKUP(Q218,Set!$D$2:$E$23,2,FALSE),\"\")","v":""}]
[{"$nulls":9},{"$f":"IF(I219>0,VLOOKUP(I219,Set!$A$2:$B$250,2,FALSE),\"\")","v":""},{"$nulls":8},{"$f":"IF(Q219>0,VLOOKUP(Q219,Set!$D$2:$E$23,2,FALSE),\"\")","v":""}]
[{"$nulls":9},{"$f":"IF(I220>0,VLOOKUP(I220,Set!$A$2:$B$250,2,FALSE),\"\")","v":""},{"$nulls":8},{"$f":"IF(Q220>0,VLOOKUP(Q220,Set!$D$2:$E$23,2,FALSE),\"\")","v":""}]
[{"$nulls":9},{"$f":"IF(I221>0,VLOOKUP(I221,Set!$A$2:$B$250,2,FALSE),\"\")","v":""},{"$nulls":8},{"$f":"IF(Q221>0,VLOOKUP(Q221,Set!$D$2:$E$23,2,FALSE),\"\")","v":""}]
[{"$nulls":9},{"$f":"IF(I222>0,VLOOKUP(I222,Set!$A$2:$B$250,2,FALSE),\"\")","v":""},{"$nulls":8},{"$f":"IF(Q222>0,VLOOKUP(Q222,Set!$D$2:$E$23,2,FALSE),\"\")","v":""}]
[{"$nulls":9},{"$f":"IF(I223>0,VLOOKUP(I223,Set!$A$2:$B$250,2,FALSE),\"\")","v":""},{"$nulls":8},{"$f":"IF(Q223>0,VLOOKUP(Q223,Set!$D$2:$E$23,2,FALSE),\"\")","v":""}]
[{"$nulls":9},{"$f":"IF(I224>0,VLOOKUP(I224,Set!$A$2:$B$250,2,FALSE),\"\")","v":""},{"$nulls":8},{"$f":"IF(Q224>0,VLOOKUP(Q224,Set!$D$2:$E$23,2,FALSE),\"\")","v":""}]
[{"$nulls":9},{"$f":"IF(I225>0,VLOOKUP(I225,Set!$A$2:$B$250,2,FALSE),\"\")","v":""},{"$nulls":8},{"$f":"IF(Q225>0,VLOOKUP(Q225,Set!$D$2:$E$23,2,FALSE),\"\")","v":""}]
[{"$nulls":9},{"$f":"IF(I226>0,VLOOKUP(I226,Set!$A$2:$B$250,2,FALSE),\"\")","v":""},{"$nulls":8},{"$f":"IF(Q226>0,VLOOKUP(Q226,Set!$D$2:$E$23,2,FALSE),\"\")","v":""}]
[{"$nulls":9},{"$f":"IF(I227>0,VLOOKUP(I227,Set!$A$2:$B$250,2,FALSE),\"\")","v":""},{"$nulls":8},{"$f":"IF(Q227>0,VLOOKUP(Q227,Set!$D$2:$E$23,2,FALSE),\"\")","v":""}]
[{"$nulls":9},{"$f":"IF(I228>0,VLOOKUP(I228,Set!$A$2:$B$250,2,FALSE),\"\")","v":""},{"$nulls":8},{"$f":"IF(Q228>0,VLOOKUP(Q228,Set!$D$2:$E$23,2,FALSE),\"\")","v":""}]
[{"$nulls":9},{"$f":"IF(I229>0,VLOOKUP(I229,Set!$A$2:$B$250,2,FALSE),\"\")","v":""},{"$nulls":8},{"$f":"IF(Q229>0,VLOOKUP(Q229,Set!$D$2:$E$23,2,FALSE),\"\")","v":""}]
[{"$nulls":9},{"$f":"IF(I230>0,VLOOKUP(I230,Set!$A$2:$B$250,2,FALSE),\"\")","v":""},{"$nulls":8},{"$f":"IF(Q230>0,VLOOKUP(Q230,Set!$D$2:$E$23,2,FALSE),\"\")","v":""}]
[{"$nulls":9},{"$f":"IF(I231>0,VLOOKUP(I231,Set!$A$2:$B$250,2,FALSE),\"\")","v":""},{"$nulls":8},{"$f":"IF(Q231>0,VLOOKUP(Q231,Set!$D$2:$E$23,2,FALSE),\"\")","v":""}]
[{"$nulls":9},{"$f":"IF(I232>0,VLOOKUP(I232,Set!$A$2:$B$250,2,FALSE),\"\")","v":""},{"$nulls":8},{"$f":"IF(Q232>0,VLOOKUP(Q232,Set!$D$2:$E$23,2,FALSE),\"\")","v":""}]
[{"$nulls":9},{"$f":"IF(I233>0,VLOOKUP(I233,Set!$A$2:$B$250,2,FALSE),\"\")","v":""},{"$nulls":8},{"$f":"IF(Q233>0,VLOOKUP(Q233,Set!$D$2:$E$23,2,FALSE),\"\")","v":""}]
[{"$nulls":9},{"$f":"IF(I234>0,VLOOKUP(I234,Set!$A$2:$B$250,2,FALSE),\"\")","v":""},{"$nulls":8},{"$f":"IF(Q234>0,VLOOKUP(Q234,Set!$D$2:$E$23,2,FALSE),\"\")","v":""}]
[{"$nulls":9},{"$f":"IF(I235>0,VLOOKUP(I235,Set!$A$2:$B$250,2,FALSE),\"\")","v":""},{"$nulls":8},{"$f":"IF(Q235>0,VLOOKUP(Q235,Set!$D$2:$E$23,2,FALSE),\"\")","v":""}]
[{"$nulls":9},{"$f":"IF(I236>0,VLOOKUP(I236,Set!$A$2:$B$250,2,FALSE),\"\")","v":""},{"$nulls":8},{"$f":"IF(Q236>0,VLOOKUP(Q236,Set!$D$2:$E$23,2,FALSE),\"\")","v":""}]
[{"$nulls":9},{"$f":"IF(I237>0,VLOOKUP(I237,Set!$A$2:$B$250,2,FALSE),\"\")","v":""},{"$nulls":8},{"$f":"IF(Q237>0,VLOOKUP(Q237,Set!$D$2:$E$23,2,FALSE),\"\")","v":""}]
[{"$nulls":9},{"$f":"IF(I238>0,VLOOKUP(I238,Set!$A$2:$B$250,2,FALSE),\"\")","v":""},{"$nulls":8},{"$f":"IF(Q238>0,VLOOKUP(Q238,Set!$D$2:$E$23,2,FALSE),\"\")","v":""}]
[{"$nulls":9},{"$f":"IF(I239>0,VLOOKUP(I239,Set!$A$2:$B$250,2,FALSE),\"\")","v":""},{"$nulls":8},{"$f":"IF(Q239>0,VLOOKUP(Q239,Set!$D$2:$E$23,2,FALSE),\"\")","v":""}]
[{"$nulls":9},{"$f":"IF(I240>0,VLOOKUP(I240,Set!$A$2:$B$250,2,FALSE),\"\")","v":""},{"$nulls":8},{"$f":"IF(Q240>0,VLOOKUP(Q240,Set!$D$2:$E$23,2,FALSE),\"\")","v":""}]
[{"$nulls":9},{"$f":"IF(I241>0,VLOOKUP(I241,Set!$A$2:$B$250,2,FALSE),\"\")","v":""},{"$nulls":8},{"$f":"IF(Q241>0,VLOOKUP(Q241,Set!$D$2:$E$23,2,FALSE),\"\")","v":""}]
[{"$nulls":9},{"$f":"IF(I242>0,VLOOKUP(I242,Set!$A$2:$B$250,2,FALSE),\"\")","v":""},{"$nulls":8},{"$f":"IF(Q242>0,VLOOKUP(Q242,Set!$D$2:$E$23,2,FALSE),\"\")","v":""}]
[{"$nulls":9},{"$f":"IF(I243>0,VLOOKUP(I243,Set!$A$2:$B$250,2,FALSE),\"\")","v":""},{"$nulls":8},{"$f":"IF(Q243>0,VLOOKUP(Q243,Set!$D$2:$E$23,2,FALSE),\"\")","v":""}]
[{"$nulls":9},{"$f":"IF(I244>0,VLOOKUP(I244,Set!$A$2:$B$250,2,FALSE),\"\")","v":""},{"$nulls":8},{"$f":"IF(Q244>0,VLOOKUP(Q244,Set!$D$2:$E$23,2,FALSE),\"\")","v":""}]
[{"$nulls":9},{"$f":"IF(I245>0,VLOOKUP(I245,Set!$A$2:$B$250,2,FALSE),\"\")","v":""},{"$nulls":8},{"$f":"IF(Q245>0,VLOOKUP(Q245,Set!$D$2:$E$23,2,FALSE),\"\")","v":""}]
[{"$nulls":9},{"$f":"IF(I246>0,VLOOKUP(I246,Set!$A$2:$B$250,2,FALSE),\"\")","v":""},{"$nulls":8},{"$f":"IF(Q246>0,VLOOKUP(Q246,Set!$D$2:$E$23,2,FALSE),\"\")","v":""}]
[{"$nulls":9},{"$f":"IF(I247>0,VLOOKUP(I247,Set!$A$2:$B$250,2,FALSE),\"\")","v":""},{"$nulls":8},{"$f":"IF(Q247>0,VLOOKUP(Q247,Set!$D$2:$E$23,2,FALSE),\"\")","v":""}]
[{"$nulls":9},{"$f":"IF(I248>0,VLOOKUP(I248,Set!$A$2:$B$250,2,FALSE),\"\")","v":""},{"$nulls":8},{"$f":"IF(Q248>0,VLOOKUP(Q248,Set!$D$2:$E$23,2,FALSE),\"\")","v":""}]
[{"$nulls":9},{"$f":"IF(I249>0,VLOOKUP(I249,Set!$A$2:$B$250,2,FALSE),\"\")","v":""},{"$nulls":8},{"$f":"IF(Q249>0,VLOOKUP(Q249,Set!$D$2:$E$23,2,FALSE),\"\")","v":""}]
[{"$nulls":9},{"$f":"IF(I250>0,VLOOKUP(I250,Set!$A$2:$B$250,2,FALSE),\"\")","v":""},{"$nulls":8},{"$f":"IF(Q250>0,VLOOKUP(Q250,Set!$D$2:$E$23,2,FALSE),\"\")","v":""}]
[{"$nulls":9},{"$f":"IF(I251>0,VLOOKUP(I251,Set!$A$2:$B$250,2,FALSE),\"\")","v":""},{"$nulls":8},{"$f":"IF(Q251>0,VLOOKUP(Q251,Set!$D$2:$E$23,2,FALSE),\"\")","v":""}]
[{"$nulls":9},{"$f":"IF(I252>0,VLOOKUP(I252,Set!$A$2:$B$250,2,FALSE),\"\")","v":""},{"$nulls":8},{"$f":"IF(Q252>0,VLOOKUP(Q252,Set!$D$2:$E$23,2,FALSE),\"\")","v":""}]
[{"$nulls":9},{"$f":"IF(I253>0,VLOOKUP(I253,Set!$A$2:$B$250,2,FALSE),\"\")","v":""},{"$nulls":8},{"$f":"IF(Q253>0,VLOOKUP(Q253,Set!$D$2:$E$23,2,FALSE),\"\")","v":""}]
[{"$nulls":9},{"$f":"IF(I254>0,VLOOKUP(I254,Set!$A$2:$B$250,2,FALSE),\"\")","v":""},{"$nulls":8},{"$f":"IF(Q254>0,VLOOKUP(Q254,Set!$D$2:$E$23,2,FALSE),\"\")","v":""}]
[{"$nulls":9},{"$f":"IF(I255>0,VLOOKUP(I255,Set!$A$2:$B$250,2,FALSE),\"\")","v":""},{"$nulls":8},{"$f":"IF(Q255>0,VLOOKUP(Q255,Set!$D$2:$E$23,2,FALSE),\"\")","v":""}]
[{"$nulls":9},{"$f":"IF(I256>0,VLOOKUP(I256,Set!$A$2:$B$250,2,FALSE),\"\")","v":""},{"$nulls":8},{"$f":"IF(Q256>0,VLOOKUP(Q256,Set!$D$2:$E$23,2,FALSE),\"\")","v":""}]
[{"$nulls":9},{"$f":"IF(I257>0,VLOOKUP(I257,Set!$A$2:$B$250,2,FALSE),\"\")","v":""},{"$nulls":8},{"$f":"IF(Q257>0,VLOOKUP(Q257,Set!$D$2:$E$23,2,FALSE),\"\")","v":""}]
[{"$nulls":9},{"$f":"IF(I258>0,VLOOKUP(I258,Set!$A$2:$B$250,2,FALSE),\"\")","v":""},{"$nulls":8},{"$f":"IF(Q258>0,VLOOKUP(Q258,Set!$D$2:$E$23,2,FALSE),\"\")","v":""}]
[{"$nulls":9},{"$f":"IF(I259>0,VLOOKUP(I259,Set!$A$2:$B$250,2,FALSE),\"\")","v":""},{"$nulls":8},{"$f":"IF(Q259>0,VLOOKUP(Q259,Set!$D$2:$E$23,2,FALSE),\"\")","v":""}]
[{"$nulls":9},{"$f":"IF(I260>0,VLOOKUP(I260,Set!$A$2:$B$250,2,FALSE),\"\")","v":""},{"$nulls":8},{"$f":"IF(Q260>0,VLOOKUP(Q260,Set!$D$2:$E$23,2,FALSE),\"\")","v":""}]
[{"$nulls":9},{"$f":"IF(I261>0,VLOOKUP(I261,Set!$A$2:$B$250,2,FALSE),\"\")","v":""},{"$nulls":8},{"$f":"IF(Q261>0,VLOOKUP(Q261,Set!$D$2:$E$23,2,FALSE),\"\")","v":""}]
[{"$nulls":9},{"$f":"IF(I262>0,VLOOKUP(I262,Set!$A$2:$B$250,2,FALSE),\"\")","v":""},{"$nulls":8},{"$f":"IF(Q262>0,VLOOKUP(Q262,Set!$D$2:$E$23,2,FALSE),\"\")","v":""}]
[{"$nulls":9},{"$f":"IF(I263>0,VLOOKUP(I263,Set!$A$2:$B$250,2,FALSE),\"\")","v":""},{"$nulls":8},{"$f":"IF(Q263>0,VLOOKUP(Q263,Set!$D$2:$E$23,2,FALSE),\"\")","v":""}]
[{"$nulls":9},{"$f":"IF(I264>0,VLOOKUP(I264,Set!$A$2:$B$250,2,FALSE),\"\")","v":""},{"$nulls":8},{"$f":"IF(Q264>0,VLOOKUP(Q264,Set!$D$2:$E$23,2,FALSE),\"\")","v":""}]
[{"$nulls":9},{"$f":"IF(I265>0,VLOOKUP(I265,Set!$A$2:$B$250,2,FALSE),\"\")","v":""},{"$nulls":8},{"$f":"IF(Q265>0,VLOOKUP(Q265,Set!$D$2:$E$23,2,FALSE),\"\")","v":""}]
[{"$nulls":9},{"$f":"IF(I266>0,VLOOKUP(I266,Set!$A$2:$B$250,2,FALSE),\"\")","v":""},{"$nulls":8},{"$f":"IF(Q266>0,VLOOKUP(Q266,Set!$D$2:$E$23,2,FALSE),\"\")","v":""}]
[{"$nulls":9},{"$f":"IF(I267>0,VLOOKUP(I267,Set!$A$2:$B$250,2,FALSE),\"\")","v":""},{"$nulls":8},{"$f":"IF(Q267>0,VLOOKUP(Q267,Set!$D$2:$E$23,2,FALSE),\"\")","v":""}]
[{"$nulls":9},{"$f":"IF(I268>0,VLOOKUP(I268,Set!$A$2:$B$250,2,FALSE),\"\")","v":""},{"$nulls":8},{"$f":"IF(Q268>0,VLOOKUP(Q268,Set!$D$2:$E$23,2,FALSE),\"\")","v":""}]
[{"$nulls":9},{"$f":"IF(I269>0,VLOOKUP(I269,Set!$A$2:$B$250,2,FALSE),\"\")","v":""},{"$nulls":8},{"$f":"IF(Q269>0,VLOOKUP(Q269,Set!$D$2:$E$23,2,FALSE),\"\")","v":""}]
[{"$nulls":9},{"$f":"IF(I270>0,VLOOKUP(I270,Set!$A$2:$B$250,2,FALSE),\"\")","v":""},{"$nulls":8},{"$f":"IF(Q270>0,VLOOKUP(Q270,Set!$D$2:$E$23,2,FALSE),\"\")","v":""}]
[{"$nulls":9},{"$f":"IF(I271>0,VLOOKUP(I271,Set!$A$2:$B$250,2,FALSE),\"\")","v":""},{"$nulls":8},{"$f":"IF(Q271>0,VLOOKUP(Q271,Set!$D$2:$E$23,2,FALSE),\"\")","v":""}]
[{"$nulls":9},{"$f":"IF(I272>0,VLOOKUP(I272,Set!$A$2:$B$250,2,FALSE),\"\")","v":""},{"$nulls":8},{"$f":"IF(Q272>0,VLOOKUP(Q272,Set!$D$2:$E$23,2,FALSE),\"\")","v":""}]
[{"$nulls":9},{"$f":"IF(I273>0,VLOOKUP(I273,Set!$A$2:$B$250,2,FALSE),\"\")","v":""},{"$nulls":8},{"$f":"IF(Q273>0,VLOOKUP(Q273,Set!$D$2:$E$23,2,FALSE),\"\")","v":""}]
[{"$nulls":9},{"$f":"IF(I274>0,VLOOKUP(I274,Set!$A$2:$B$250,2,FALSE),\"\")","v":""},{"$nulls":8},{"$f":"IF(Q274>0,VLOOKUP(Q274,Set!$D$2:$E$23,2,FALSE),\"\")","v":""}]
[{"$nulls":9},{"$f":"IF(I275>0,VLOOKUP(I275,Set!$A$2:$B$250,2,FALSE),\"\")","v":""},{"$nulls":8},{"$f":"IF(Q275>0,VLOOKUP(Q275,Set!$D$2:$E$23,2,FALSE),\"\")","v":""}]
[{"$nulls":9},{"$f":"IF(I276>0,VLOOKUP(I276,Set!$A$2:$B$250,2,FALSE),\"\")","v":""},{"$nulls":8},{"$f":"IF(Q276>0,VLOOKUP(Q276,Set!$D$2:$E$23,2,FALSE),\"\")","v":""}]
[{"$nulls":9},{"$f":"IF(I277>0,VLOOKUP(I277,Set!$A$2:$B$250,2,FALSE),\"\")","v":""},{"$nulls":8},{"$f":"IF(Q277>0,VLOOKUP(Q277,Set!$D$2:$E$23,2,FALSE),\"\")","v":""}]
[{"$nulls":9},{"$f":"IF(I278>0,VLOOKUP(I278,Set!$A$2:$B$250,2,FALSE),\"\")","v":""},{"$nulls":8},{"$f":"IF(Q278>0,VLOOKUP(Q278,Set!$D$2:$E$23,2,FALSE),\"\")","v":""}]
[{"$nulls":9},{"$f":"IF(I279>0,VLOOKUP(I279,Set!$A$2:$B$250,2,FALSE),\"\")","v":""},{"$nulls":8},{"$f":"IF(Q279>0,VLOOKUP(Q279,Set!$D$2:$E$23,2,FALSE),\"\")","v":""}]
[{"$nulls":9},{"$f":"IF(I280>0,VLOOKUP(I280,Set!$A$2:$B$250,2,FALSE),\"\")","v":""},{"$nulls":8},{"$f":"IF(Q280>0,VLOOKUP(Q280,Set!$D$2:$E$23,2,FALSE),\"\")","v":""}]
[{"$nulls":9},{"$f":"IF(I281>0,VLOOKUP(I281,Set!$A$2:$B$250,2,FALSE),\"\")","v":""},{"$nulls":8},{"$f":"IF(Q281>0,VLOOKUP(Q281,Set!$D$2:$E$23,2,FALSE),\"\")","v":""}]
[{"$nulls":9},{"$f":"IF(I282>0,VLOOKUP(I282,Set!$A$2:$B$250,2,FALSE),\"\")","v":""},{"$nulls":8},{"$f":"IF(Q282>0,VLOOKUP(Q282,Set!$D$2:$E$23,2,FALSE),\"\")","v":""}]
[{"$nulls":9},{"$f":"IF(I283>0,VLOOKUP(I283,Set!$A$2:$B$250,2,FALSE),\"\")","v":""},{"$nulls":8},{"$f":"IF(Q283>0,VLOOKUP(Q283,Set!$D$2:$E$23,2,FALSE),\"\")","v":""}]
[{"$nulls":9},{"$f":"IF(I284>0,VLOOKUP(I284,Set!$A$2:$B$250,2,FALSE),\"\")","v":""},{"$nulls":8},{"$f":"IF(Q284>0,VLOOKUP(Q284,Set!$D$2:$E$23,2,FALSE),\"\")","v":""}]
[{"$nulls":9},{"$f":"IF(I285>0,VLOOKUP(I285,Set!$A$2:$B$250,2,FALSE),\"\")","v":""},{"$nulls":8},{"$f":"IF(Q285>0,VLOOKUP(Q285,Set!$D$2:$E$23,2,FALSE),\"\")","v":""}]
[{"$nulls":9},{"$f":"IF(I286>0,VLOOKUP(I286,Set!$A$2:$B$250,2,FALSE),\"\")","v":""},{"$nulls":8},{"$f":"IF(Q286>0,VLOOKUP(Q286,Set!$D$2:$E$23,2,FALSE),\"\")","v":""}]
[{"$nulls":9},{"$f":"IF(I287>0,VLOOKUP(I287,Set!$A$2:$B$250,2,FALSE),\"\")","v":""},{"$nulls":8},{"$f":"IF(Q287>0,VLOOKUP(Q287,Set!$D$2:$E$23,2,FALSE),\"\")","v":""}]
[{"$nulls":9},{"$f":"IF(I288>0,VLOOKUP(I288,Set!$A$2:$B$250,2,FALSE),\"\")","v":""},{"$nulls":8},{"$f":"IF(Q288>0,VLOOKUP(Q288,Set!$D$2:$E$23,2,FALSE),\"\")","v":""}]
[{"$nulls":9},{"$f":"IF(I289>0,VLOOKUP(I289,Set!$A$2:$B$250,2,FALSE),\"\")","v":""},{"$nulls":8},{"$f":"IF(Q289>0,VLOOKUP(Q289,Set!$D$2:$E$23,2,FALSE),\"\")","v":""}]
[{"$nulls":9},{"$f":"IF(I290>0,VLOOKUP(I290,Set!$A$2:$B$250,2,FALSE),\"\")","v":""},{"$nulls":8},{"$f":"IF(Q290>0,VLOOKUP(Q290,Set!$D$2:$E$23,2,FALSE),\"\")","v":""}]
[{"$nulls":9},{"$f":"IF(I291>0,VLOOKUP(I291,Set!$A$2:$B$250,2,FALSE),\"\")","v":""},{"$nulls":8},{"$f":"IF(Q291>0,VLOOKUP(Q291,Set!$D$2:$E$23,2,FALSE),\"\")","v":""}]
[{"$nulls":9},{"$f":"IF(I292>0,VLOOKUP(I292,Set!$A$2:$B$250,2,FALSE),\"\")","v":""},{"$nulls":8},{"$f":"IF(Q292>0,VLOOKUP(Q292,Set!$D$2:$E$23,2,FALSE),\"\")","v":""}]
[{"$nulls":9},{"$f":"IF(I293>0,VLOOKUP(I293,Set!$A$2:$B$250,2,FALSE),\"\")","v":""},{"$nulls":8},{"$f":"IF(Q293>0,VLOOKUP(Q293,Set!$D$2:$E$23,2,FALSE),\"\")","v":""}]
[{"$nulls":9},{"$f":"IF(I294>0,VLOOKUP(I294,Set!$A$2:$B$250,2,FALSE),\"\")","v":""},{"$nulls":8},{"$f":"IF(Q294>0,VLOOKUP(Q294,Set!$D$2:$E$23,2,FALSE),\"\")","v":""}]
[{"$nulls":9},{"$f":"IF(I295>0,VLOOKUP(I295,Set!$A$2:$B$250,2,FALSE),\"\")","v":""},{"$nulls":8},{"$f":"IF(Q295>0,VLOOKUP(Q295,Set!$D$2:$E$23,2,FALSE),\"\")","v":""}]
[{"$nulls":9},{"$f":"IF(I296>0,VLOOKUP(I296,Set!$A$2:$B$250,2,FALSE),\"\")","v":""},{"$nulls":8},{"$f":"IF(Q296>0,VLOOKUP(Q296,Set!$D$2:$E$23,2,FALSE),\"\")","v":""}]
[{"$nulls":9},{"$f":"IF(I297>0,VLOOKUP(I297,Set!$A$2:$B$250,2,FALSE),\"\")","v":""},{"$nulls":8},{"$f":"IF(Q297>0,VLOOKUP(Q297,Set!$D$2:$E$23,2,FALSE),\"\")","v":""}]
[{"$nulls":9},{"$f":"IF(I298>0,VLOOKUP(I298,Set!$A$2:$B$250,2,FALSE),\"\")","v":""},{"$nulls":8},{"$f":"IF(Q298>0,VLOOKUP(Q298,Set!$D$2:$E$23,2,FALSE),\"\")","v":""}]
[{"$nulls":9},{"$f":"IF(I299>0,VLOOKUP(I299,Set!$A$2:$B$250,2,FALSE),\"\")","v":""},{"$nulls":8},{"$f":"IF(Q299>0,VLOOKUP(Q299,Set!$D$2:$E$23,2,FALSE),\"\")","v":""}]
[{"$nulls":9},{"$f":"IF(I300>0,VLOOKUP(I300,Set!$A$2:$B$250,2,FALSE),\"\")","v":""},{"$nulls":8},{"$f":"IF(Q300>0,VLOOKUP(Q300,Set!$D$2:$E$23,2,FALSE),\"\")","v":""}]
[{"$nulls":9},{"$f":"IF(I301>0,VLOOKUP(I301,Set!$A$2:$B$250,2,FALSE),\"\")","v":""},{"$nulls":8},{"$f":"IF(Q301>0,VLOOKUP(Q301,Set!$D$2:$E$23,2,FALSE),\"\")","v":""}]
[{"$nulls":9},{"$f":"IF(I302>0,VLOOKUP(I302,Set!$A$2:$B$250,2,FALSE),\"\")","v":""},{"$nulls":8},{"$f":"IF(Q302>0,VLOOKUP(Q302,Set!$D$2:$E$23,2,FALSE),\"\")","v":""}]
[{"$nulls":9},{"$f":"IF(I303>0,VLOOKUP(I303,Set!$A$2:$B$250,2,FALSE),\"\")","v":""},{"$nulls":8},{"$f":"IF(Q303>0,VLOOKUP(Q303,Set!$D$2:$E$23,2,FALSE),\"\")","v":""}]
[{"$nulls":9},{"$f":"IF(I304>0,VLOOKUP(I304,Set!$A$2:$B$250,2,FALSE),\"\")","v":""},{"$nulls":8},{"$f":"IF(Q304>0,VLOOKUP(Q304,Set!$D$2:$E$23,2,FALSE),\"\")","v":""}]
[{"$nulls":9},{"$f":"IF(I305>0,VLOOKUP(I305,Set!$A$2:$B$250,2,FALSE),\"\")","v":""},{"$nulls":8},{"$f":"IF(Q305>0,VLOOKUP(Q305,Set!$D$2:$E$23,2,FALSE),\"\")","v":""}]
[{"$nulls":9},{"$f":"IF(I306>0,VLOOKUP(I306,Set!$A$2:$B$250,2,FALSE),\"\")","v":""},{"$nulls":8},{"$f":"IF(Q306>0,VLOOKUP(Q306,Set!$D$2:$E$23,2,FALSE),\"\")","v":""}]
[{"$nulls":9},{"$f":"IF(I307>0,VLOOKUP(I307,Set!$A$2:$B$250,2,FALSE),\"\")","v":""},{"$nulls":8},{"$f":"IF(Q307>0,VLOOKUP(Q307,Set!$D$2:$E$23,2,FALSE),\"\")","v":""}]
[{"$nulls":9},{"$f":"IF(I308>0,VLOOKUP(I308,Set!$A$2:$B$250,2,FALSE),\"\")","v":""},{"$nulls":8},{"$f":"IF(Q308>0,VLOOKUP(Q308,Set!$D$2:$E$23,2,FALSE),\"\")","v":""}]
[{"$nulls":9},{"$f":"IF(I309>0,VLOOKUP(I309,Set!$A$2:$B$250,2,FALSE),\"\")","v":""},{"$nulls":8},{"$f":"IF(Q309>0,VLOOKUP(Q309,Set!$D$2:$E$23,2,FALSE),\"\")","v":""}]
[{"$nulls":9},{"$f":"IF(I310>0,VLOOKUP(I310,Set!$A$2:$B$250,2,FALSE),\"\")","v":""},{"$nulls":8},{"$f":"IF(Q310>0,VLOOKUP(Q310,Set!$D$2:$E$23,2,FALSE),\"\")","v":""}]
[{"$nulls":9},{"$f":"IF(I311>0,VLOOKUP(I311,Set!$A$2:$B$250,2,FALSE),\"\")","v":""},{"$nulls":8},{"$f":"IF(Q311>0,VLOOKUP(Q311,Set!$D$2:$E$23,2,FALSE),\"\")","v":""}]
[{"$nulls":9},{"$f":"IF(I312>0,VLOOKUP(I312,Set!$A$2:$B$250,2,FALSE),\"\")","v":""},{"$nulls":8},{"$f":"IF(Q312>0,VLOOKUP(Q312,Set!$D$2:$E$23,2,FALSE),\"\")","v":""}]
[{"$nulls":9},{"$f":"IF(I313>0,VLOOKUP(I313,Set!$A$2:$B$250,2,FALSE),\"\")","v":""},{"$nulls":8},{"$f":"IF(Q313>0,VLOOKUP(Q313,Set!$D$2:$E$23,2,FALSE),\"\")","v":""}]
[{"$nulls":9},{"$f":"IF(I314>0,VLOOKUP(I314,Set!$A$2:$B$250,2,FALSE),\"\")","v":""},{"$nulls":8},{"$f":"IF(Q314>0,VLOOKUP(Q314,Set!$D$2:$E$23,2,FALSE),\"\")","v":""}]
[{"$nulls":9},{"$f":"IF(I315>0,VLOOKUP(I315,Set!$A$2:$B$250,2,FALSE),\"\")","v":""},{"$nulls":8},{"$f":"IF(Q315>0,VLOOKUP(Q315,Set!$D$2:$E$23,2,FALSE),\"\")","v":""}]
[{"$nulls":9},{"$f":"IF(I316>0,VLOOKUP(I316,Set!$A$2:$B$250,2,FALSE),\"\")","v":""},{"$nulls":8},{"$f":"IF(Q316>0,VLOOKUP(Q316,Set!$D$2:$E$23,2,FALSE),\"\")","v":""}]
[{"$nulls":9},{"$f":"IF(I317>0,VLOOKUP(I317,Set!$A$2:$B$250,2,FALSE),\"\")","v":""},{"$nulls":8},{"$f":"IF(Q317>0,VLOOKUP(Q317,Set!$D$2:$E$23,2,FALSE),\"\")","v":""}]
[{"$nulls":9},{"$f":"IF(I318>0,VLOOKUP(I318,Set!$A$2:$B$250,2,FALSE),\"\")","v":""},{"$nulls":8},{"$f":"IF(Q318>0,VLOOKUP(Q318,Set!$D$2:$E$23,2,FALSE),\"\")","v":""}]
[{"$nulls":9},{"$f":"IF(I319>0,VLOOKUP(I319,Set!$A$2:$B$250,2,FALSE),\"\")","v":""},{"$nulls":8},{"$f":"IF(Q319>0,VLOOKUP(Q319,Set!$D$2:$E$23,2,FALSE),\"\")","v":""}]
[{"$nulls":9},{"$f":"IF(I320>0,VLOOKUP(I320,Set!$A$2:$B$250,2,FALSE),\"\")","v":""},{"$nulls":8},{"$f":"IF(Q320>0,VLOOKUP(Q320,Set!$D$2:$E$23,2,FALSE),\"\")","v":""}]
[{"$nulls":9},{"$f":"IF(I321>0,VLOOKUP(I321,Set!$A$2:$B$250,2,FALSE),\"\")","v":""},{"$nulls":8},{"$f":"IF(Q321>0,VLOOKUP(Q321,Set!$D$2:$E$23,2,FALSE),\"\")","v":""}]
[{"$nulls":9},{"$f":"IF(I322>0,VLOOKUP(I322,Set!$A$2:$B$250,2,FALSE),\"\")","v":""},{"$nulls":8},{"$f":"IF(Q322>0,VLOOKUP(Q322,Set!$D$2:$E$23,2,FALSE),\"\")","v":""}]
[{"$nulls":9},{"$f":"IF(I323>0,VLOOKUP(I323,Set!$A$2:$B$250,2,FALSE),\"\")","v":""},{"$nulls":8},{"$f":"IF(Q323>0,VLOOKUP(Q323,Set!$D$2:$E$23,2,FALSE),\"\")","v":""}]
[{"$nulls":9},{"$f":"IF(I324>0,VLOOKUP(I324,Set!$A$2:$B$250,2,FALSE),\"\")","v":""},{"$nulls":8},{"$f":"IF(Q324>0,VLOOKUP(Q324,Set!$D$2:$E$23,2,FALSE),\"\")","v":""}]
[{"$nulls":9},{"$f":"IF(I325>0,VLOOKUP(I325,Set!$A$2:$B$250,2,FALSE),\"\")","v":""},{"$nulls":8},{"$f":"IF(Q325>0,VLOOKUP(Q325,Set!$D$2:$E$23,2,FALSE),\"\")","v":""}]
[{"$nulls":9},{"$f":"IF(I326>0,VLOOKUP(I326,Set!$A$2:$B$250,2,FALSE),\"\")","v":""},{"$nulls":8},{"$f":"IF(Q326>0,VLOOKUP(Q326,Set!$D$2:$E$23,2,FALSE),\"\")","v":""}]
[{"$nulls":9},{"$f":"IF(I327>0,VLOOKUP(I327,Set!$A$2:$B$250,2,FALSE),\"\")","v":""},{"$nulls":8},{"$f":"IF(Q327>0,VLOOKUP(Q327,Set!$D$2:$E$23,2,FALSE),\"\")","v":""}]
[{"$nulls":9},{"$f":"IF(I328>0,VLOOKUP(I328,Set!$A$2:$B$250,2,FALSE),\"\")","v":""},{"$nulls":8},{"$f":"IF(Q328>0,VLOOKUP(Q328,Set!$D$2:$E$23,2,FALSE),\"\")","v":""}]
[{"$nulls":9},{"$f":"IF(I329>0,VLOOKUP(I329,Set!$A$2:$B$250,2,FALSE),\"\")","v":""},{"$nulls":8},{"$f":"IF(Q329>0,VLOOKUP(Q329,Set!$D$2:$E$23,2,FALSE),\"\")","v":""}]
[{"$nulls":9},{"$f":"IF(I330>0,VLOOKUP(I330,Set!$A$2:$B$250,2,FALSE),\"\")","v":""},{"$nulls":8},{"$f":"IF(Q330>0,VLOOKUP(Q330,Set!$D$2:$E$23,2,FALSE),\"\")","v":""}]
[{"$nulls":9},{"$f":"IF(I331>0,VLOOKUP(I331,Set!$A$2:$B$250,2,FALSE),\"\")","v":""},{"$nulls":8},{"$f":"IF(Q331>0,VLOOKUP(Q331,Set!$D$2:$E$23,2,FALSE),\"\")","v":""}]
[{"$nulls":9},{"$f":"IF(I332>0,VLOOKUP(I332,Set!$A$2:$B$250,2,FALSE),\"\")","v":""},{"$nulls":8},{"$f":"IF(Q332>0,VLOOKUP(Q332,Set!$D$2:$E$23,2,FALSE),\"\")","v":""}]
[{"$nulls":9},{"$f":"IF(I333>0,VLOOKUP(I333,Set!$A$2:$B$250,2,FALSE),\"\")","v":""},{"$nulls":8},{"$f":"IF(Q333>0,VLOOKUP(Q333,Set!$D$2:$E$23,2,FALSE),\"\")","v":""}]
[{"$nulls":9},{"$f":"IF(I334>0,VLOOKUP(I334,Set!$A$2:$B$250,2,FALSE),\"\")","v":""},{"$nulls":8},{"$f":"IF(Q334>0,VLOOKUP(Q334,Set!$D$2:$E$23,2,FALSE),\"\")","v":""}]
[{"$nulls":9},{"$f":"IF(I335>0,VLOOKUP(I335,Set!$A$2:$B$250,2,FALSE),\"\")","v":""},{"$nulls":8},{"$f":"IF(Q335>0,VLOOKUP(Q335,Set!$D$2:$E$23,2,FALSE),\"\")","v":""}]
[{"$nulls":9},{"$f":"IF(I336>0,VLOOKUP(I336,Set!$A$2:$B$250,2,FALSE),\"\")","v":""},{"$nulls":8},{"$f":"IF(Q336>0,VLOOKUP(Q336,Set!$D$2:$E$23,2,FALSE),\"\")","v":""}]
[{"$nulls":9},{"$f":"IF(I337>0,VLOOKUP(I337,Set!$A$2:$B$250,2,FALSE),\"\")","v":""},{"$nulls":8},{"$f":"IF(Q337>0,VLOOKUP(Q337,Set!$D$2:$E$23,2,FALSE),\"\")","v":""}]
[{"$nulls":9},{"$f":"IF(I338>0,VLOOKUP(I338,Set!$A$2:$B$250,2,FALSE),\"\")","v":""},{"$nulls":8},{"$f":"IF(Q338>0,VLOOKUP(Q338,Set!$D$2:$E$23,2,FALSE),\"\")","v":""}]
[{"$nulls":9},{"$f":"IF(I339>0,VLOOKUP(I339,Set!$A$2:$B$250,2,FALSE),\"\")","v":""},{"$nulls":8},{"$f":"IF(Q339>0,VLOOKUP(Q339,Set!$D$2:$E$23,2,FALSE),\"\")","v":""}]
[{"$nulls":9},{"$f":"IF(I340>0,VLOOKUP(I340,Set!$A$2:$B$250,2,FALSE),\"\")","v":""},{"$nulls":8},{"$f":"IF(Q340>0,VLOOKUP(Q340,Set!$D$2:$E$23,2,FALSE),\"\")","v":""}]
[{"$nulls":9},{"$f":"IF(I341>0,VLOOKUP(I341,Set!$A$2:$B$250,2,FALSE),\"\")","v":""},{"$nulls":8},{"$f":"IF(Q341>0,VLOOKUP(Q341,Set!$D$2:$E$23,2,FALSE),\"\")","v":""}]
[{"$nulls":9},{"$f":"IF(I342>0,VLOOKUP(I342,Set!$A$2:$B$250,2,FALSE),\"\")","v":""},{"$nulls":8},{"$f":"IF(Q342>0,VLOOKUP(Q342,Set!$D$2:$E$23,2,FALSE),\"\")","v":""}]
[{"$nulls":9},{"$f":"IF(I343>0,VLOOKUP(I343,Set!$A$2:$B$250,2,FALSE),\"\")","v":""},{"$nulls":8},{"$f":"IF(Q343>0,VLOOKUP(Q343,Set!$D$2:$E$23,2,FALSE),\"\")","v":""}]
[{"$nulls":9},{"$f":"IF(I344>0,VLOOKUP(I344,Set!$A$2:$B$250,2,FALSE),\"\")","v":""},{"$nulls":8},{"$f":"IF(Q344>0,VLOOKUP(Q344,Set!$D$2:$E$23,2,FALSE),\"\")","v":""}]
[{"$nulls":9},{"$f":"IF(I345>0,VLOOKUP(I345,Set!$A$2:$B$250,2,FALSE),\"\")","v":""},{"$nulls":8},{"$f":"IF(Q345>0,VLOOKUP(Q345,Set!$D$2:$E$23,2,FALSE),\"\")","v":""}]
[{"$nulls":9},{"$f":"IF(I346>0,VLOOKUP(I346,Set!$A$2:$B$250,2,FALSE),\"\")","v":""},{"$nulls":8},{"$f":"IF(Q346>0,VLOOKUP(Q346,Set!$D$2:$E$23,2,FALSE),\"\")","v":""}]
[{"$nulls":9},{"$f":"IF(I347>0,VLOOKUP(I347,Set!$A$2:$B$250,2,FALSE),\"\")","v":""},{"$nulls":8},{"$f":"IF(Q347>0,VLOOKUP(Q347,Set!$D$2:$E$23,2,FALSE),\"\")","v":""}]
[{"$nulls":9},{"$f":"IF(I348>0,VLOOKUP(I348,Set!$A$2:$B$250,2,FALSE),\"\")","v":""},{"$nulls":8},{"$f":"IF(Q348>0,VLOOKUP(Q348,Set!$D$2:$E$23,2,FALSE),\"\")","v":""}]
[{"$nulls":9},{"$f":"IF(I349>0,VLOOKUP(I349,Set!$A$2:$B$250,2,FALSE),\"\")","v":""},{"$nulls":8},{"$f":"IF(Q349>0,VLOOKUP(Q349,Set!$D$2:$E$23,2,FALSE),\"\")","v":""}]
[{"$nulls":9},{"$f":"IF(I350>0,VLOOKUP(I350,Set!$A$2:$B$250,2,FALSE),\"\")","v":""},{"$nulls":8},{"$f":"IF(Q350>0,VLOOKUP(Q350,Set!$D$2:$E$23,2,FALSE),\"\")","v":""}]
[{"$nulls":9},{"$f":"IF(I351>0,VLOOKUP(I351,Set!$A$2:$B$250,2,FALSE),\"\")","v":""},{"$nulls":8},{"$f":"IF(Q351>0,VLOOKUP(Q351,Set!$D$2:$E$23,2,FALSE),\"\")","v":""}]
[{"$nulls":9},{"$f":"IF(I352>0,VLOOKUP(I352,Set!$A$2:$B$250,2,FALSE),\"\")","v":""},{"$nulls":8},{"$f":"IF(Q352>0,VLOOKUP(Q352,Set!$D$2:$E$23,2,FALSE),\"\")","v":""}]
[{"$nulls":9},{"$f":"IF(I353>0,VLOOKUP(I353,Set!$A$2:$B$250,2,FALSE),\"\")","v":""},{"$nulls":8},{"$f":"IF(Q353>0,VLOOKUP(Q353,Set!$D$2:$E$23,2,FALSE),\"\")","v":""}]
[{"$nulls":9},{"$f":"IF(I354>0,VLOOKUP(I354,Set!$A$2:$B$250,2,FALSE),\"\")","v":""},{"$nulls":8},{"$f":"IF(Q354>0,VLOOKUP(Q354,Set!$D$2:$E$23,2,FALSE),\"\")","v":""}]
[{"$nulls":9},{"$f":"IF(I355>0,VLOOKUP(I355,Set!$A$2:$B$250,2,FALSE),\"\")","v":""},{"$nulls":8},{"$f":"IF(Q355>0,VLOOKUP(Q355,Set!$D$2:$E$23,2,FALSE),\"\")","v":""}]
[{"$nulls":9},{"$f":"IF(I356>0,VLOOKUP(I356,Set!$A$2:$B$250,2,FALSE),\"\")","v":""},{"$nulls":8},{"$f":"IF(Q356>0,VLOOKUP(Q356,Set!$D$2:$E$23,2,FALSE),\"\")","v":""}]
[{"$nulls":9},{"$f":"IF(I357>0,VLOOKUP(I357,Set!$A$2:$B$250,2,FALSE),\"\")","v":""},{"$nulls":8},{"$f":"IF(Q357>0,VLOOKUP(Q357,Set!$D$2:$E$23,2,FALSE),\"\")","v":""}]
[{"$nulls":9},{"$f":"IF(I358>0,VLOOKUP(I358,Set!$A$2:$B$250,2,FALSE),\"\")","v":""},{"$nulls":8},{"$f":"IF(Q358>0,VLOOKUP(Q358,Set!$D$2:$E$23,2,FALSE),\"\")","v":""}]
[{"$nulls":9},{"$f":"IF(I359>0,VLOOKUP(I359,Set!$A$2:$B$250,2,FALSE),\"\")","v":""},{"$nulls":8},{"$f":"IF(Q359>0,VLOOKUP(Q359,Set!$D$2:$E$23,2,FALSE),\"\")","v":""}]
[{"$nulls":9},{"$f":"IF(I360>0,VLOOKUP(I360,Set!$A$2:$B$250,2,FALSE),\"\")","v":""},{"$nulls":8},{"$f":"IF(Q360>0,VLOOKUP(Q360,Set!$D$2:$E$23,2,FALSE),\"\")","v":""}]
[{"$nulls":9},{"$f":"IF(I361>0,VLOOKUP(I361,Set!$A$2:$B$250,2,FALSE),\"\")","v":""},{"$nulls":8},{"$f":"IF(Q361>0,VLOOKUP(Q361,Set!$D$2:$E$23,2,FALSE),\"\")","v":""}]
[{"$nulls":9},{"$f":"IF(I362>0,VLOOKUP(I362,Set!$A$2:$B$250,2,FALSE),\"\")","v":""},{"$nulls":8},{"$f":"IF(Q362>0,VLOOKUP(Q362,Set!$D$2:$E$23,2,FALSE),\"\")","v":""}]
[{"$nulls":9},{"$f":"IF(I363>0,VLOOKUP(I363,Set!$A$2:$B$250,2,FALSE),\"\")","v":""},{"$nulls":8},{"$f":"IF(Q363>0,VLOOKUP(Q363,Set!$D$2:$E$23,2,FALSE),\"\")","v":""}]
[{"$nulls":9},{"$f":"IF(I364>0,VLOOKUP(I364,Set!$A$2:$B$250,2,FALSE),\"\")","v":""},{"$nulls":8},{"$f":"IF(Q364>0,VLOOKUP(Q364,Set!$D$2:$E$23,2,FALSE),\"\")","v":""}]
[{"$nulls":9},{"$f":"IF(I365>0,VLOOKUP(I365,Set!$A$2:$B$250,2,FALSE),\"\")","v":""},{"$nulls":8},{"$f":"IF(Q365>0,VLOOKUP(Q365,Set!$D$2:$E$23,2,FALSE),\"\")","v":""}]
[{"$nulls":9},{"$f":"IF(I366>0,VLOOKUP(I366,Set!$A$2:$B$250,2,FALSE),\"\")","v":""},{"$nulls":8},{"$f":"IF(Q366>0,VLOOKUP(Q366,Set!$D$2:$E$23,2,FALSE),\"\")","v":""}]
[{"$nulls":9},{"$f":"IF(I367>0,VLOOKUP(I367,Set!$A$2:$B$250,2,FALSE),\"\")","v":""},{"$nulls":8},{"$f":"IF(Q367>0,VLOOKUP(Q367,Set!$D$2:$E$23,2,FALSE),\"\")","v":""}]
[{"$nulls":9},{"$f":"IF(I368>0,VLOOKUP(I368,Set!$A$2:$B$250,2,FALSE),\"\")","v":""},{"$nulls":8},{"$f":"IF(Q368>0,VLOOKUP(Q368,Set!$D$2:$E$23,2,FALSE),\"\")","v":""}]
[{"$nulls":9},{"$f":"IF(I369>0,VLOOKUP(I369,Set!$A$2:$B$250,2,FALSE),\"\")","v":""},{"$nulls":8},{"$f":"IF(Q369>0,VLOOKUP(Q369,Set!$D$2:$E$23,2,FALSE),\"\")","v":""}]
[{"$nulls":9},{"$f":"IF(I370>0,VLOOKUP(I370,Set!$A$2:$B$250,2,FALSE),\"\")","v":""},{"$nulls":8},{"$f":"IF(Q370>0,VLOOKUP(Q370,Set!$D$2:$E$23,2,FALSE),\"\")","v":""}]
[{"$nulls":9},{"$f":"IF(I371>0,VLOOKUP(I371,Set!$A$2:$B$250,2,FALSE),\"\")","v":""},{"$nulls":8},{"$f":"IF(Q371>0,VLOOKUP(Q371,Set!$D$2:$E$23,2,FALSE),\"\")","v":""}]
[{"$nulls":9},{"$f":"IF(I372>0,VLOOKUP(I372,Set!$A$2:$B$250,2,FALSE),\"\")","v":""},{"$nulls":8},{"$f":"IF(Q372>0,VLOOKUP(Q372,Set!$D$2:$E$23,2,FALSE),\"\")","v":""}]
[{"$nulls":9},{"$f":"IF(I373>0,VLOOKUP(I373,Set!$A$2:$B$250,2,FALSE),\"\")","v":""},{"$nulls":8},{"$f":"IF(Q373>0,VLOOKUP(Q373,Set!$D$2:$E$23,2,FALSE),\"\")","v":""}]
[{"$nulls":9},{"$f":"IF(I374>0,VLOOKUP(I374,Set!$A$2:$B$250,2,FALSE),\"\")","v":""},{"$nulls":8},{"$f":"IF(Q374>0,VLOOKUP(Q374,Set!$D$2:$E$23,2,FALSE),\"\")","v":""}]
[{"$nulls":9},{"$f":"IF(I375>0,VLOOKUP(I375,Set!$A$2:$B$250,2,FALSE),\"\")","v":""},{"$nulls":8},{"$f":"IF(Q375>0,VLOOKUP(Q375,Set!$D$2:$E$23,2,FALSE),\"\")","v":""}]
[{"$nulls":9},{"$f":"IF(I376>0,VLOOKUP(I376,Set!$A$2:$B$250,2,FALSE),\"\")","v":""},{"$nulls":8},{"$f":"IF(Q376>0,VLOOKUP(Q376,Set!$D$2:$E$23,2,FALSE),\"\")","v":""}]
[{"$nulls":9},{"$f":"IF(I377>0,VLOOKUP(I377,Set!$A$2:$B$250,2,FALSE),\"\")","v":""},{"$nulls":8},{"$f":"IF(Q377>0,VLOOKUP(Q377,Set!$D$2:$E$23,2,FALSE),\"\")","v":""}]
[{"$nulls":9},{"$f":"IF(I378>0,VLOOKUP(I378,Set!$A$2:$B$250,2,FALSE),\"\")","v":""},{"$nulls":8},{"$f":"IF(Q378>0,VLOOKUP(Q378,Set!$D$2:$E$23,2,FALSE),\"\")","v":""}]
[{"$nulls":9},{"$f":"IF(I379>0,VLOOKUP(I379,Set!$A$2:$B$250,2,FALSE),\"\")","v":""},{"$nulls":8},{"$f":"IF(Q379>0,VLOOKUP(Q379,Set!$D$2:$E$23,2,FALSE),\"\")","v":""}]
[{"$nulls":9},{"$f":"IF(I380>0,VLOOKUP(I380,Set!$A$2:$B$250,2,FALSE),\"\")","v":""},{"$nulls":8},{"$f":"IF(Q380>0,VLOOKUP(Q380,Set!$D$2:$E$23,2,FALSE),\"\")","v":""}]
[{"$nulls":9},{"$f":"IF(I381>0,VLOOKUP(I381,Set!$A$2:$B$250,2,FALSE),\"\")","v":""},{"$nulls":8},{"$f":"IF(Q381>0,VLOOKUP(Q381,Set!$D$2:$E$23,2,FALSE),\"\")","v":""}]
[{"$nulls":9},{"$f":"IF(I382>0,VLOOKUP(I382,Set!$A$2:$B$250,2,FALSE),\"\")","v":""},{"$nulls":8},{"$f":"IF(Q382>0,VLOOKUP(Q382,Set!$D$2:$E$23,2,FALSE),\"\")","v":""}]
[{"$nulls":9},{"$f":"IF(I383>0,VLOOKUP(I383,Set!$A$2:$B$250,2,FALSE),\"\")","v":""},{"$nulls":8},{"$f":"IF(Q383>0,VLOOKUP(Q383,Set!$D$2:$E$23,2,FALSE),\"\")","v":""}]
[{"$nulls":9},{"$f":"IF(I384>0,VLOOKUP(I384,Set!$A$2:$B$250,2,FALSE),\"\")","v":""},{"$nulls":8},{"$f":"IF(Q384>0,VLOOKUP(Q384,Set!$D$2:$E$23,2,FALSE),\"\")","v":""}]
[{"$nulls":9},{"$f":"IF(I385>0,VLOOKUP(I385,Set!$A$2:$B$250,2,FALSE),\"\")","v":""},{"$nulls":8},{"$f":"IF(Q385>0,VLOOKUP(Q385,Set!$D$2:$E$23,2,FALSE),\"\")","v":""}]
[{"$nulls":9},{"$f":"IF(I386>0,VLOOKUP(I386,Set!$A$2:$B$250,2,FALSE),\"\")","v":""},{"$nulls":8},{"$f":"IF(Q386>0,VLOOKUP(Q386,Set!$D$2:$E$23,2,FALSE),\"\")","v":""}]
[{"$nulls":9},{"$f":"IF(I387>0,VLOOKUP(I387,Set!$A$2:$B$250,2,FALSE),\"\")","v":""},{"$nulls":8},{"$f":"IF(Q387>0,VLOOKUP(Q387,Set!$D$2:$E$23,2,FALSE),\"\")","v":""}]
[{"$nulls":9},{"$f":"IF(I388>0,VLOOKUP(I388,Set!$A$2:$B$250,2,FALSE),\"\")","v":""},{"$nulls":8},{"$f":"IF(Q388>0,VLOOKUP(Q388,Set!$D$2:$E$23,2,FALSE),\"\")","v":""}]
[{"$nulls":9},{"$f":"IF(I389>0,VLOOKUP(I389,Set!$A$2:$B$250,2,FALSE),\"\")","v":""},{"$nulls":8},{"$f":"IF(Q389>0,VLOOKUP(Q389,Set!$D$2:$E$23,2,FALSE),\"\")","v":""}]
[{"$nulls":9},{"$f":"IF(I390>0,VLOOKUP(I390,Set!$A$2:$B$250,2,FALSE),\"\")","v":""},{"$nulls":8},{"$f":"IF(Q390>0,VLOOKUP(Q390,Set!$D$2:$E$23,2,FALSE),\"\")","v":""}]
[{"$nulls":9},{"$f":"IF(I391>0,VLOOKUP(I391,Set!$A$2:$B$250,2,FALSE),\"\")","v":""},{"$nulls":8},{"$f":"IF(Q391>0,VLOOKUP(Q391,Set!$D$2:$E$23,2,FALSE),\"\")","v":""}]
[{"$nulls":9},{"$f":"IF(I392>0,VLOOKUP(I392,Set!$A$2:$B$250,2,FALSE),\"\")","v":""},{"$nulls":8},{"$f":"IF(Q392>0,VLOOKUP(Q392,Set!$D$2:$E$23,2,FALSE),\"\")","v":""}]
[{"$nulls":9},{"$f":"IF(I393>0,VLOOKUP(I393,Set!$A$2:$B$250,2,FALSE),\"\")","v":""},{"$nulls":8},{"$f":"IF(Q393>0,VLOOKUP(Q393,Set!$D$2:$E$23,2,FALSE),\"\")","v":""}]
[{"$nulls":9},{"$f":"IF(I394>0,VLOOKUP(I394,Set!$A$2:$B$250,2,FALSE),\"\")","v":""},{"$nulls":8},{"$f":"IF(Q394>0,VLOOKUP(Q394,Set!$D$2:$E$23,2,FALSE),\"\")","v":""}]
[{"$nulls":9},{"$f":"IF(I395>0,VLOOKUP(I395,Set!$A$2:$B$250,2,FALSE),\"\")","v":""},{"$nulls":8},{"$f":"IF(Q395>0,VLOOKUP(Q395,Set!$D$2:$E$23,2,FALSE),\"\")","v":""}]
[{"$nulls":9},{"$f":"IF(I396>0,VLOOKUP(I396,Set!$A$2:$B$250,2,FALSE),\"\")","v":""},{"$nulls":8},{"$f":"IF(Q396>0,VLOOKUP(Q396,Set!$D$2:$E$23,2,FALSE),\"\")","v":""}]
[{"$nulls":9},{"$f":"IF(I397>0,VLOOKUP(I397,Set!$A$2:$B$250,2,FALSE),\"\")","v":""},{"$nulls":8},{"$f":"IF(Q397>0,VLOOKUP(Q397,Set!$D$2:$E$23,2,FALSE),\"\")","v":""}]
[{"$nulls":9},{"$f":"IF(I398>0,VLOOKUP(I398,Set!$A$2:$B$250,2,FALSE),\"\")","v":""},{"$nulls":8},{"$f":"IF(Q398>0,VLOOKUP(Q398,Set!$D$2:$E$23,2,FALSE),\"\")","v":""}]
[{"$nulls":9},{"$f":"IF(I399>0,VLOOKUP(I399,Set!$A$2:$B$250,2,FALSE),\"\")","v":""},{"$nulls":8},{"$f":"IF(Q399>0,VLOOKUP(Q399,Set!$D$2:$E$23,2,FALSE),\"\")","v":""}]
[{"$nulls":9},{"$f":"IF(I400>0,VLOOKUP(I400,Set!$A$2:$B$250,2,FALSE),\"\")","v":""},{"$nulls":8},{"$f":"IF(Q400>0,VLOOKUP(Q400,Set!$D$2:$E$23,2,FALSE),\"\")","v":""}]
[{"$nulls":9},{"$f":"IF(I401>0,VLOOKUP(I401,Set!$A$2:$B$250,2,FALSE),\"\")","v":""},{"$nulls":8},{"$f":"IF(Q401>0,VLOOKUP(Q401,Set!$D$2:$E$23,2,FALSE),\"\")","v":""}]
[{"$nulls":9},{"$f":"IF(I402>0,VLOOKUP(I402,Set!$A$2:$B$250,2,FALSE),\"\")","v":""},{"$nulls":8},{"$f":"IF(Q402>0,VLOOKUP(Q402,Set!$D$2:$E$23,2,FALSE),\"\")","v":""}]
[{"$nulls":9},{"$f":"IF(I403>0,VLOOKUP(I403,Set!$A$2:$B$250,2,FALSE),\"\")","v":""},{"$nulls":8},{"$f":"IF(Q403>0,VLOOKUP(Q403,Set!$D$2:$E$23,2,FALSE),\"\")","v":""}]
[{"$nulls":9},{"$f":"IF(I404>0,VLOOKUP(I404,Set!$A$2:$B$250,2,FALSE),\"\")","v":""},{"$nulls":8},{"$f":"IF(Q404>0,VLOOKUP(Q404,Set!$D$2:$E$23,2,FALSE),\"\")","v":""}]
[{"$nulls":9},{"$f":"IF(I405>0,VLOOKUP(I405,Set!$A$2:$B$250,2,FALSE),\"\")","v":""},{"$nulls":8},{"$f":"IF(Q405>0,VLOOKUP(Q405,Set!$D$2:$E$23,2,FALSE),\"\")","v":""}]
[{"$nulls":9},{"$f":"IF(I406>0,VLOOKUP(I406,Set!$A$2:$B$250,2,FALSE),\"\")","v":""},{"$nulls":8},{"$f":"IF(Q406>0,VLOOKUP(Q406,Set!$D$2:$E$23,2,FALSE),\"\")","v":""}]
[{"$nulls":9},{"$f":"IF(I407>0,VLOOKUP(I407,Set!$A$2:$B$250,2,FALSE),\"\")","v":""},{"$nulls":8},{"$f":"IF(Q407>0,VLOOKUP(Q407,Set!$D$2:$E$23,2,FALSE),\"\")","v":""}]
[{"$nulls":9},{"$f":"IF(I408>0,VLOOKUP(I408,Set!$A$2:$B$250,2,FALSE),\"\")","v":""},{"$nulls":8},{"$f":"IF(Q408>0,VLOOKUP(Q408,Set!$D$2:$E$23,2,FALSE),\"\")","v":""}]
[{"$nulls":9},{"$f":"IF(I409>0,VLOOKUP(I409,Set!$A$2:$B$250,2,FALSE),\"\")","v":""},{"$nulls":8},{"$f":"IF(Q409>0,VLOOKUP(Q409,Set!$D$2:$E$23,2,FALSE),\"\")","v":""}]
[{"$nulls":9},{"$f":"IF(I410>0,VLOOKUP(I410,Set!$A$2:$B$250,2,FALSE),\"\")","v":""},{"$nulls":8},{"$f":"IF(Q410>0,VLOOKUP(Q410,Set!$D$2:$E$23,2,FALSE),\"\")","v":""}]
[{"$nulls":9},{"$f":"IF(I411>0,VLOOKUP(I411,Set!$A$2:$B$250,2,FALSE),\"\")","v":""},{"$nulls":8},{"$f":"IF(Q411>0,VLOOKUP(Q411,Set!$D$2:$E$23,2,FALSE),\"\")","v":""}]
[{"$nulls":9},{"$f":"IF(I412>0,VLOOKUP(I412,Set!$A$2:$B$250,2,FALSE),\"\")","v":""},{"$nulls":8},{"$f":"IF(Q412>0,VLOOKUP(Q412,Set!$D$2:$E$23,2,FALSE),\"\")","v":""}]
[{"$nulls":9},{"$f":"IF(I413>0,VLOOKUP(I413,Set!$A$2:$B$250,2,FALSE),\"\")","v":""},{"$nulls":8},{"$f":"IF(Q413>0,VLOOKUP(Q413,Set!$D$2:$E$23,2,FALSE),\"\")","v":""}]
[{"$nulls":9},{"$f":"IF(I414>0,VLOOKUP(I414,Set!$A$2:$B$250,2,FALSE),\"\")","v":""},{"$nulls":8},{"$f":"IF(Q414>0,VLOOKUP(Q414,Set!$D$2:$E$23,2,FALSE),\"\")","v":""}]
[{"$nulls":9},{"$f":"IF(I415>0,VLOOKUP(I415,Set!$A$2:$B$250,2,FALSE),\"\")","v":""},{"$nulls":8},{"$f":"IF(Q415>0,VLOOKUP(Q415,Set!$D$2:$E$23,2,FALSE),\"\")","v":""}]
[{"$nulls":9},{"$f":"IF(I416>0,VLOOKUP(I416,Set!$A$2:$B$250,2,FALSE),\"\")","v":""},{"$nulls":8},{"$f":"IF(Q416>0,VLOOKUP(Q416,Set!$D$2:$E$23,2,FALSE),\"\")","v":""}]
[{"$nulls":9},{"$f":"IF(I417>0,VLOOKUP(I417,Set!$A$2:$B$250,2,FALSE),\"\")","v":""},{"$nulls":8},{"$f":"IF(Q417>0,VLOOKUP(Q417,Set!$D$2:$E$23,2,FALSE),\"\")","v":""}]
[{"$nulls":9},{"$f":"IF(I418>0,VLOOKUP(I418,Set!$A$2:$B$250,2,FALSE),\"\")","v":""},{"$nulls":8},{"$f":"IF(Q418>0,VLOOKUP(Q418,Set!$D$2:$E$23,2,FALSE),\"\")","v":""}]
[{"$nulls":9},{"$f":"IF(I419>0,VLOOKUP(I419,Set!$A$2:$B$250,2,FALSE),\"\")","v":""},{"$nulls":8},{"$f":"IF(Q419>0,VLOOKUP(Q419,Set!$D$2:$E$23,2,FALSE),\"\")","v":""}]
[{"$nulls":9},{"$f":"IF(I420>0,VLOOKUP(I420,Set!$A$2:$B$250,2,FALSE),\"\")","v":""},{"$nulls":8},{"$f":"IF(Q420>0,VLOOKUP(Q420,Set!$D$2:$E$23,2,FALSE),\"\")","v":""}]
[{"$nulls":9},{"$f":"IF(I421>0,VLOOKUP(I421,Set!$A$2:$B$250,2,FALSE),\"\")","v":""},{"$nulls":8},{"$f":"IF(Q421>0,VLOOKUP(Q421,Set!$D$2:$E$23,2,FALSE),\"\")","v":""}]
[{"$nulls":9},{"$f":"IF(I422>0,VLOOKUP(I422,Set!$A$2:$B$250,2,FALSE),\"\")","v":""},{"$nulls":8},{"$f":"IF(Q422>0,VLOOKUP(Q422,Set!$D$2:$E$23,2,FALSE),\"\")","v":""}]
[{"$nulls":9},{"$f":"IF(I423>0,VLOOKUP(I423,Set!$A$2:$B$250,2,FALSE),\"\")","v":""},{"$nulls":8},{"$f":"IF(Q423>0,VLOOKUP(Q423,Set!$D$2:$E$23,2,FALSE),\"\")","v":""}]
[{"$nulls":9},{"$f":"IF(I424>0,VLOOKUP(I424,Set!$A$2:$B$250,2,FALSE),\"\")","v":""},{"$nulls":8},{"$f":"IF(Q424>0,VLOOKUP(Q424,Set!$D$2:$E$23,2,FALSE),\"\")","v":""}]
[{"$nulls":9},{"$f":"IF(I425>0,VLOOKUP(I425,Set!$A$2:$B$250,2,FALSE),\"\")","v":""},{"$nulls":8},{"$f":"IF(Q425>0,VLOOKUP(Q425,Set!$D$2:$E$23,2,FALSE),\"\")","v":""}]
[{"$nulls":9},{"$f":"IF(I426>0,VLOOKUP(I426,Set!$A$2:$B$250,2,FALSE),\"\")","v":""},{"$nulls":8},{"$f":"IF(Q426>0,VLOOKUP(Q426,Set!$D$2:$E$23,2,FALSE),\"\")","v":""}]
[{"$nulls":9},{"$f":"IF(I427>0,VLOOKUP(I427,Set!$A$2:$B$250,2,FALSE),\"\")","v":""},{"$nulls":8},{"$f":"IF(Q427>0,VLOOKUP(Q427,Set!$D$2:$E$23,2,FALSE),\"\")","v":""}]
[{"$nulls":9},{"$f":"IF(I428>0,VLOOKUP(I428,Set!$A$2:$B$250,2,FALSE),\"\")","v":""},{"$nulls":8},{"$f":"IF(Q428>0,VLOOKUP(Q428,Set!$D$2:$E$23,2,FALSE),\"\")","v":""}]
[{"$nulls":9},{"$f":"IF(I429>0,VLOOKUP(I429,Set!$A$2:$B$250,2,FALSE),\"\")","v":""},{"$nulls":8},{"$f":"IF(Q429>0,VLOOKUP(Q429,Set!$D$2:$E$23,2,FALSE),\"\")","v":""}]
[{"$nulls":9},{"$f":"IF(I430>0,VLOOKUP(I430,Set!$A$2:$B$250,2,FALSE),\"\")","v":""},{"$nulls":8},{"$f":"IF(Q430>0,VLOOKUP(Q430,Set!$D$2:$E$23,2,FALSE),\"\")","v":""}]
[{"$nulls":9},{"$f":"IF(I431>0,VLOOKUP(I431,Set!$A$2:$B$250,2,FALSE),\"\")","v":""},{"$nulls":8},{"$f":"IF(Q431>0,VLOOKUP(Q431,Set!$D$2:$E$23,2,FALSE),\"\")","v":""}]
[{"$nulls":9},{"$f":"IF(I432>0,VLOOKUP(I432,Set!$A$2:$B$250,2,FALSE),\"\")","v":""},{"$nulls":8},{"$f":"IF(Q432>0,VLOOKUP(Q432,Set!$D$2:$E$23,2,FALSE),\"\")","v":""}]
[{"$nulls":9},{"$f":"IF(I433>0,VLOOKUP(I433,Set!$A$2:$B$250,2,FALSE),\"\")","v":""},{"$nulls":8},{"$f":"IF(Q433>0,VLOOKUP(Q433,Set!$D$2:$E$23,2,FALSE),\"\")","v":""}]
[{"$nulls":9},{"$f":"IF(I434>0,VLOOKUP(I434,Set!$A$2:$B$250,2,FALSE),\"\")","v":""},{"$nulls":8},{"$f":"IF(Q434>0,VLOOKUP(Q434,Set!$D$2:$E$23,2,FALSE),\"\")","v":""}]
[{"$nulls":9},{"$f":"IF(I435>0,VLOOKUP(I435,Set!$A$2:$B$250,2,FALSE),\"\")","v":""},{"$nulls":8},{"$f":"IF(Q435>0,VLOOKUP(Q435,Set!$D$2:$E$23,2,FALSE),\"\")","v":""}]
[{"$nulls":9},{"$f":"IF(I436>0,VLOOKUP(I436,Set!$A$2:$B$250,2,FALSE),\"\")","v":""},{"$nulls":8},{"$f":"IF(Q436>0,VLOOKUP(Q436,Set!$D$2:$E$23,2,FALSE),\"\")","v":""}]
[{"$nulls":9},{"$f":"IF(I437>0,VLOOKUP(I437,Set!$A$2:$B$250,2,FALSE),\"\")","v":""},{"$nulls":8},{"$f":"IF(Q437>0,VLOOKUP(Q437,Set!$D$2:$E$23,2,FALSE),\"\")","v":""}]
[{"$nulls":9},{"$f":"IF(I438>0,VLOOKUP(I438,Set!$A$2:$B$250,2,FALSE),\"\")","v":""},{"$nulls":8},{"$f":"IF(Q438>0,VLOOKUP(Q438,Set!$D$2:$E$23,2,FALSE),\"\")","v":""}]
[{"$nulls":9},{"$f":"IF(I439>0,VLOOKUP(I439,Set!$A$2:$B$250,2,FALSE),\"\")","v":""},{"$nulls":8},{"$f":"IF(Q439>0,VLOOKUP(Q439,Set!$D$2:$E$23,2,FALSE),\"\")","v":""}]
[{"$nulls":9},{"$f":"IF(I440>0,VLOOKUP(I440,Set!$A$2:$B$250,2,FALSE),\"\")","v":""},{"$nulls":8},{"$f":"IF(Q440>0,VLOOKUP(Q440,Set!$D$2:$E$23,2,FALSE),\"\")","v":""}]
[{"$nulls":9},{"$f":"IF(I441>0,VLOOKUP(I441,Set!$A$2:$B$250,2,FALSE),\"\")","v":""},{"$nulls":8},{"$f":"IF(Q441>0,VLOOKUP(Q441,Set!$D$2:$E$23,2,FALSE),\"\")","v":""}]
[{"$nulls":9},{"$f":"IF(I442>0,VLOOKUP(I442,Set!$A$2:$B$250,2,FALSE),\"\")","v":""},{"$nulls":8},{"$f":"IF(Q442>0,VLOOKUP(Q442,Set!$D$2:$E$23,2,FALSE),\"\")","v":""}]
[{"$nulls":9},{"$f":"IF(I443>0,VLOOKUP(I443,Set!$A$2:$B$250,2,FALSE),\"\")","v":""},{"$nulls":8},{"$f":"IF(Q443>0,VLOOKUP(Q443,Set!$D$2:$E$23,2,FALSE),\"\")","v":""}]
[{"$nulls":9},{"$f":"IF(I444>0,VLOOKUP(I444,Set!$A$2:$B$250,2,FALSE),\"\")","v":""},{"$nulls":8},{"$f":"IF(Q444>0,VLOOKUP(Q444,Set!$D$2:$E$23,2,FALSE),\"\")","v":""}]
[{"$nulls":9},{"$f":"IF(I445>0,VLOOKUP(I445,Set!$A$2:$B$250,2,FALSE),\"\")","v":""},{"$nulls":8},{"$f":"IF(Q445>0,VLOOKUP(Q445,Set!$D$2:$E$23,2,FALSE),\"\")","v":""}]
[{"$nulls":9},{"$f":"IF(I446>0,VLOOKUP(I446,Set!$A$2:$B$250,2,FALSE),\"\")","v":""},{"$nulls":8},{"$f":"IF(Q446>0,VLOOKUP(Q446,Set!$D$2:$E$23,2,FALSE),\"\")","v":""}]
[{"$nulls":9},{"$f":"IF(I447>0,VLOOKUP(I447,Set!$A$2:$B$250,2,FALSE),\"\")","v":""},{"$nulls":8},{"$f":"IF(Q447>0,VLOOKUP(Q447,Set!$D$2:$E$23,2,FALSE),\"\")","v":""}]
[{"$nulls":9},{"$f":"IF(I448>0,VLOOKUP(I448,Set!$A$2:$B$250,2,FALSE),\"\")","v":""},{"$nulls":8},{"$f":"IF(Q448>0,VLOOKUP(Q448,Set!$D$2:$E$23,2,FALSE),\"\")","v":""}]
[{"$nulls":9},{"$f":"IF(I449>0,VLOOKUP(I449,Set!$A$2:$B$250,2,FALSE),\"\")","v":""},{"$nulls":8},{"$f":"IF(Q449>0,VLOOKUP(Q449,Set!$D$2:$E$23,2,FALSE),\"\")","v":""}]
[{"$nulls":9},{"$f":"IF(I450>0,VLOOKUP(I450,Set!$A$2:$B$250,2,FALSE),\"\")","v":""},{"$nulls":8},{"$f":"IF(Q450>0,VLOOKUP(Q450,Set!$D$2:$E$23,2,FALSE),\"\")","v":""}]
[{"$nulls":9},{"$f":"IF(I451>0,VLOOKUP(I451,Set!$A$2:$B$250,2,FALSE),\"\")","v":""},{"$nulls":8},{"$f":"IF(Q451>0,VLOOKUP(Q451,Set!$D$2:$E$23,2,FALSE),\"\")","v":""}]
[{"$nulls":9},{"$f":"IF(I452>0,VLOOKUP(I452,Set!$A$2:$B$250,2,FALSE),\"\")","v":""},{"$nulls":8},{"$f":"IF(Q452>0,VLOOKUP(Q452,Set!$D$2:$E$23,2,FALSE),\"\")","v":""}]
[{"$nulls":9},{"$f":"IF(I453>0,VLOOKUP(I453,Set!$A$2:$B$250,2,FALSE),\"\")","v":""},{"$nulls":8},{"$f":"IF(Q453>0,VLOOKUP(Q453,Set!$D$2:$E$23,2,FALSE),\"\")","v":""}]
[{"$nulls":9},{"$f":"IF(I454>0,VLOOKUP(I454,Set!$A$2:$B$250,2,FALSE),\"\")","v":""},{"$nulls":8},{"$f":"IF(Q454>0,VLOOKUP(Q454,Set!$D$2:$E$23,2,FALSE),\"\")","v":""}]
[{"$nulls":9},{"$f":"IF(I455>0,VLOOKUP(I455,Set!$A$2:$B$250,2,FALSE),\"\")","v":""},{"$nulls":8},{"$f":"IF(Q455>0,VLOOKUP(Q455,Set!$D$2:$E$23,2,FALSE),\"\")","v":""}]
[{"$nulls":9},{"$f":"IF(I456>0,VLOOKUP(I456,Set!$A$2:$B$250,2,FALSE),\"\")","v":""},{"$nulls":8},{"$f":"IF(Q456>0,VLOOKUP(Q456,Set!$D$2:$E$23,2,FALSE),\"\")","v":""}]
[{"$nulls":9},{"$f":"IF(I457>0,VLOOKUP(I457,Set!$A$2:$B$250,2,FALSE),\"\")","v":""},{"$nulls":8},{"$f":"IF(Q457>0,VLOOKUP(Q457,Set!$D$2:$E$23,2,FALSE),\"\")","v":""}]
[{"$nulls":9},{"$f":"IF(I458>0,VLOOKUP(I458,Set!$A$2:$B$250,2,FALSE),\"\")","v":""},{"$nulls":8},{"$f":"IF(Q458>0,VLOOKUP(Q458,Set!$D$2:$E$23,2,FALSE),\"\")","v":""}]
[{"$nulls":9},{"$f":"IF(I459>0,VLOOKUP(I459,Set!$A$2:$B$250,2,FALSE),\"\")","v":""},{"$nulls":8},{"$f":"IF(Q459>0,VLOOKUP(Q459,Set!$D$2:$E$23,2,FALSE),\"\")","v":""}]
[{"$nulls":9},{"$f":"IF(I460>0,VLOOKUP(I460,Set!$A$2:$B$250,2,FALSE),\"\")","v":""},{"$nulls":8},{"$f":"IF(Q460>0,VLOOKUP(Q460,Set!$D$2:$E$23,2,FALSE),\"\")","v":""}]
[{"$nulls":9},{"$f":"IF(I461>0,VLOOKUP(I461,Set!$A$2:$B$250,2,FALSE),\"\")","v":""},{"$nulls":8},{"$f":"IF(Q461>0,VLOOKUP(Q461,Set!$D$2:$E$23,2,FALSE),\"\")","v":""}]
[{"$nulls":9},{"$f":"IF(I462>0,VLOOKUP(I462,Set!$A$2:$B$250,2,FALSE),\"\")","v":""},{"$nulls":8},{"$f":"IF(Q462>0,VLOOKUP(Q462,Set!$D$2:$E$23,2,FALSE),\"\")","v":""}]
[{"$nulls":9},{"$f":"IF(I463>0,VLOOKUP(I463,Set!$A$2:$B$250,2,FALSE),\"\")","v":""},{"$nulls":8},{"$f":"IF(Q463>0,VLOOKUP(Q463,Set!$D$2:$E$23,2,FALSE),\"\")","v":""}]
[{"$nulls":9},{"$f":"IF(I464>0,VLOOKUP(I464,Set!$A$2:$B$250,2,FALSE),\"\")","v":""},{"$nulls":8},{"$f":"IF(Q464>0,VLOOKUP(Q464,Set!$D$2:$E$23,2,FALSE),\"\")","v":""}]
[{"$nulls":9},{"$f":"IF(I465>0,VLOOKUP(I465,Set!$A$2:$B$250,2,FALSE),\"\")","v":""},{"$nulls":8},{"$f":"IF(Q465>0,VLOOKUP(Q465,Set!$D$2:$E$23,2,FALSE),\"\")","v":""}]
[{"$nulls":9},{"$f":"IF(I466>0,VLOOKUP(I466,Set!$A$2:$B$250,2,FALSE),\"\")","v":""},{"$nulls":8},{"$f":"IF(Q466>0,VLOOKUP(Q466,Set!$D$2:$E$23,2,FALSE),\"\")","v":""}]
[{"$nulls":9},{"$f":"IF(I467>0,VLOOKUP(I467,Set!$A$2:$B$250,2,FALSE),\"\")","v":""},{"$nulls":8},{"$f":"IF(Q467>0,VLOOKUP(Q467,Set!$D$2:$E$23,2,FALSE),\"\")","v":""}]
[{"$nulls":9},{"$f":"IF(I468>0,VLOOKUP(I468,Set!$A$2:$B$250,2,FALSE),\"\")","v":""},{"$nulls":8},{"$f":"IF(Q468>0,VLOOKUP(Q468,Set!$D$2:$E$23,2,FALSE),\"\")","v":""}]
[{"$nulls":9},{"$f":"IF(I469>0,VLOOKUP(I469,Set!$A$2:$B$250,2,FALSE),\"\")","v":""},{"$nulls":8},{"$f":"IF(Q469>0,VLOOKUP(Q469,Set!$D$2:$E$23,2,FALSE),\"\")","v":""}]
[{"$nulls":9},{"$f":"IF(I470>0,VLOOKUP(I470,Set!$A$2:$B$250,2,FALSE),\"\")","v":""},{"$nulls":8},{"$f":"IF(Q470>0,VLOOKUP(Q470,Set!$D$2:$E$23,2,FALSE),\"\")","v":""}]
[{"$nulls":9},{"$f":"IF(I471>0,VLOOKUP(I471,Set!$A$2:$B$250,2,FALSE),\"\")","v":""},{"$nulls":8},{"$f":"IF(Q471>0,VLOOKUP(Q471,Set!$D$2:$E$23,2,FALSE),\"\")","v":""}]
[{"$nulls":9},{"$f":"IF(I472>0,VLOOKUP(I472,Set!$A$2:$B$250,2,FALSE),\"\")","v":""},{"$nulls":8},{"$f":"IF(Q472>0,VLOOKUP(Q472,Set!$D$2:$E$23,2,FALSE),\"\")","v":""}]
[{"$nulls":9},{"$f":"IF(I473>0,VLOOKUP(I473,Set!$A$2:$B$250,2,FALSE),\"\")","v":""},{"$nulls":8},{"$f":"IF(Q473>0,VLOOKUP(Q473,Set!$D$2:$E$23,2,FALSE),\"\")","v":""}]
[{"$nulls":9},{"$f":"IF(I474>0,VLOOKUP(I474,Set!$A$2:$B$250,2,FALSE),\"\")","v":""},{"$nulls":8},{"$f":"IF(Q474>0,VLOOKUP(Q474,Set!$D$2:$E$23,2,FALSE),\"\")","v":""}]
[{"$nulls":9},{"$f":"IF(I475>0,VLOOKUP(I475,Set!$A$2:$B$250,2,FALSE),\"\")","v":""},{"$nulls":8},{"$f":"IF(Q475>0,VLOOKUP(Q475,Set!$D$2:$E$23,2,FALSE),\"\")","v":""}]
[{"$nulls":9},{"$f":"IF(I476>0,VLOOKUP(I476,Set!$A$2:$B$250,2,FALSE),\"\")","v":""},{"$nulls":8},{"$f":"IF(Q476>0,VLOOKUP(Q476,Set!$D$2:$E$23,2,FALSE),\"\")","v":""}]
[{"$nulls":9},{"$f":"IF(I477>0,VLOOKUP(I477,Set!$A$2:$B$250,2,FALSE),\"\")","v":""},{"$nulls":8},{"$f":"IF(Q477>0,VLOOKUP(Q477,Set!$D$2:$E$23,2,FALSE),\"\")","v":""}]
[{"$nulls":9},{"$f":"IF(I478>0,VLOOKUP(I478,Set!$A$2:$B$250,2,FALSE),\"\")","v":""},{"$nulls":8},{"$f":"IF(Q478>0,VLOOKUP(Q478,Set!$D$2:$E$23,2,FALSE),\"\")","v":""}]
[{"$nulls":9},{"$f":"IF(I479>0,VLOOKUP(I479,Set!$A$2:$B$250,2,FALSE),\"\")","v":""},{"$nulls":8},{"$f":"IF(Q479>0,VLOOKUP(Q479,Set!$D$2:$E$23,2,FALSE),\"\")","v":""}]
[{"$nulls":9},{"$f":"IF(I480>0,VLOOKUP(I480,Set!$A$2:$B$250,2,FALSE),\"\")","v":""},{"$nulls":8},{"$f":"IF(Q480>0,VLOOKUP(Q480,Set!$D$2:$E$23,2,FALSE),\"\")","v":""}]
[{"$nulls":9},{"$f":"IF(I481>0,VLOOKUP(I481,Set!$A$2:$B$250,2,FALSE),\"\")","v":""},{"$nulls":8},{"$f":"IF(Q481>0,VLOOKUP(Q481,Set!$D$2:$E$23,2,FALSE),\"\")","v":""}]
[{"$nulls":9},{"$f":"IF(I482>0,VLOOKUP(I482,Set!$A$2:$B$250,2,FALSE),\"\")","v":""},{"$nulls":8},{"$f":"IF(Q482>0,VLOOKUP(Q482,Set!$D$2:$E$23,2,FALSE),\"\")","v":""}]
[{"$nulls":9},{"$f":"IF(I483>0,VLOOKUP(I483,Set!$A$2:$B$250,2,FALSE),\"\")","v":""},{"$nulls":8},{"$f":"IF(Q483>0,VLOOKUP(Q483,Set!$D$2:$E$23,2,FALSE),\"\")","v":""}]
[{"$nulls":9},{"$f":"IF(I484>0,VLOOKUP(I484,Set!$A$2:$B$250,2,FALSE),\"\")","v":""},{"$nulls":8},{"$f":"IF(Q484>0,VLOOKUP(Q484,Set!$D$2:$E$23,2,FALSE),\"\")","v":""}]
[{"$nulls":9},{"$f":"IF(I485>0,VLOOKUP(I485,Set!$A$2:$B$250,2,FALSE),\"\")","v":""},{"$nulls":8},{"$f":"IF(Q485>0,VLOOKUP(Q485,Set!$D$2:$E$23,2,FALSE),\"\")","v":""}]
[{"$nulls":9},{"$f":"IF(I486>0,VLOOKUP(I486,Set!$A$2:$B$250,2,FALSE),\"\")","v":""},{"$nulls":8},{"$f":"IF(Q486>0,VLOOKUP(Q486,Set!$D$2:$E$23,2,FALSE),\"\")","v":""}]
[{"$nulls":9},{"$f":"IF(I487>0,VLOOKUP(I487,Set!$A$2:$B$250,2,FALSE),\"\")","v":""},{"$nulls":8},{"$f":"IF(Q487>0,VLOOKUP(Q487,Set!$D$2:$E$23,2,FALSE),\"\")","v":""}]
[{"$nulls":9},{"$f":"IF(I488>0,VLOOKUP(I488,Set!$A$2:$B$250,2,FALSE),\"\")","v":""},{"$nulls":8},{"$f":"IF(Q488>0,VLOOKUP(Q488,Set!$D$2:$E$23,2,FALSE),\"\")","v":""}]
[{"$nulls":9},{"$f":"IF(I489>0,VLOOKUP(I489,Set!$A$2:$B$250,2,FALSE),\"\")","v":""},{"$nulls":8},{"$f":"IF(Q489>0,VLOOKUP(Q489,Set!$D$2:$E$23,2,FALSE),\"\")","v":""}]
[{"$nulls":9},{"$f":"IF(I490>0,VLOOKUP(I490,Set!$A$2:$B$250,2,FALSE),\"\")","v":""},{"$nulls":8},{"$f":"IF(Q490>0,VLOOKUP(Q490,Set!$D$2:$E$23,2,FALSE),\"\")","v":""}]
[{"$nulls":9},{"$f":"IF(I491>0,VLOOKUP(I491,Set!$A$2:$B$250,2,FALSE),\"\")","v":""},{"$nulls":8},{"$f":"IF(Q491>0,VLOOKUP(Q491,Set!$D$2:$E$23,2,FALSE),\"\")","v":""}]
[{"$nulls":9},{"$f":"IF(I492>0,VLOOKUP(I492,Set!$A$2:$B$250,2,FALSE),\"\")","v":""},{"$nulls":8},{"$f":"IF(Q492>0,VLOOKUP(Q492,Set!$D$2:$E$23,2,FALSE),\"\")","v":""}]
[{"$nulls":9},{"$f":"IF(I493>0,VLOOKUP(I493,Set!$A$2:$B$250,2,FALSE),\"\")","v":""},{"$nulls":8},{"$f":"IF(Q493>0,VLOOKUP(Q493,Set!$D$2:$E$23,2,FALSE),\"\")","v":""}]
[{"$nulls":9},{"$f":"IF(I494>0,VLOOKUP(I494,Set!$A$2:$B$250,2,FALSE),\"\")","v":""},{"$nulls":8},{"$f":"IF(Q494>0,VLOOKUP(Q494,Set!$D$2:$E$23,2,FALSE),\"\")","v":""}]
[{"$nulls":9},{"$f":"IF(I495>0,VLOOKUP(I495,Set!$A$2:$B$250,2,FALSE),\"\")","v":""},{"$nulls":8},{"$f":"IF(Q495>0,VLOOKUP(Q495,Set!$D$2:$E$23,2,FALSE),\"\")","v":""}]
[{"$nulls":9},{"$f":"IF(I496>0,VLOOKUP(I496,Set!$A$2:$B$250,2,FALSE),\"\")","v":""},{"$nulls":8},{"$f":"IF(Q496>0,VLOOKUP(Q496,Set!$D$2:$E$23,2,FALSE),\"\")","v":""}]
[{"$nulls":9},{"$f":"IF(I497>0,VLOOKUP(I497,Set!$A$2:$B$250,2,FALSE),\"\")","v":""},{"$nulls":8},{"$f":"IF(Q497>0,VLOOKUP(Q497,Set!$D$2:$E$23,2,FALSE),\"\")","v":""}]
[{"$nulls":9},{"$f":"IF(I498>0,VLOOKUP(I498,Set!$A$2:$B$250,2,FALSE),\"\")","v":""},{"$nulls":8},{"$f":"IF(Q498>0,VLOOKUP(Q498,Set!$D$2:$E$23,2,FALSE),\"\")","v":""}]
[{"$nulls":9},{"$f":"IF(I499>0,VLOOKUP(I499,Set!$A$2:$B$250,2,FALSE),\"\")","v":""},{"$nulls":8},{"$f":"IF(Q499>0,VLOOKUP(Q499,Set!$D$2:$E$23,2,FALSE),\"\")","v":""}]
[{"$nulls":9},{"$f":"IF(I500>0,VLOOKUP(I500,Set!$A$2:$B$250,2,FALSE),\"\")","v":""},{"$nulls":8},{"$f":"IF(Q500>0,VLOOKUP(Q500,Set!$D$2:$E$23,2,FALSE),\"\")","v":""}]
[{"$nulls":9},{"$f":"IF(I501>0,VLOOKUP(I501,Set!$A$2:$B$250,2,FALSE),\"\")","v":""},{"$nulls":8},{"$f":"IF(Q501>0,VLOOKUP(Q501,Set!$D$2:$E$23,2,FALSE),\"\")","v":""}]
[{"$nulls":9},{"$f":"IF(I502>0,VLOOKUP(I502,Set!$A$2:$B$250,2,FALSE),\"\")","v":""},{"$nulls":8},{"$f":"IF(Q502>0,VLOOKUP(Q502,Set!$D$2:$E$23,2,FALSE),\"\")","v":""}]
[{"$nulls":9},{"$f":"IF(I503>0,VLOOKUP(I503,Set!$A$2:$B$250,2,FALSE),\"\")","v":""},{"$nulls":8},{"$f":"IF(Q503>0,VLOOKUP(Q503,Set!$D$2:$E$23,2,FALSE),\"\")","v":""}]
[{"$nulls":9},{"$f":"IF(I504>0,VLOOKUP(I504,Set!$A$2:$B$250,2,FALSE),\"\")","v":""},{"$nulls":8},{"$f":"IF(Q504>0,VLOOKUP(Q504,Set!$D$2:$E$23,2,FALSE),\"\")","v":""}]
[{"$nulls":9},{"$f":"IF(I505>0,VLOOKUP(I505,Set!$A$2:$B$250,2,FALSE),\"\")","v":""},{"$nulls":8},{"$f":"IF(Q505>0,VLOOKUP(Q505,Set!$D$2:$E$23,2,FALSE),\"\")","v":""}]
[{"$nulls":9},{"$f":"IF(I506>0,VLOOKUP(I506,Set!$A$2:$B$250,2,FALSE),\"\")","v":""},{"$nulls":8},{"$f":"IF(Q506>0,VLOOKUP(Q506,Set!$D$2:$E$23,2,FALSE),\"\")","v":""}]
[{"$nulls":9},{"$f":"IF(I507>0,VLOOKUP(I507,Set!$A$2:$B$250,2,FALSE),\"\")","v":""},{"$nulls":8},{"$f":"IF(Q507>0,VLOOKUP(Q507,Set!$D$2:$E$23,2,FALSE),\"\")","v":""}]
[{"$nulls":9},{"$f":"IF(I508>0,VLOOKUP(I508,Set!$A$2:$B$250,2,FALSE),\"\")","v":""},{"$nulls":8},{"$f":"IF(Q508>0,VLOOKUP(Q508,Set!$D$2:$E$23,2,FALSE),\"\")","v":""}]
[{"$nulls":9},{"$f":"IF(I509>0,VLOOKUP(I509,Set!$A$2:$B$250,2,FALSE),\"\")","v":""},{"$nulls":8},{"$f":"IF(Q509>0,VLOOKUP(Q509,Set!$D$2:$E$23,2,FALSE),\"\")","v":""}]
[{"$nulls":9},{"$f":"IF(I510>0,VLOOKUP(I510,Set!$A$2:$B$250,2,FALSE),\"\")","v":""},{"$nulls":8},{"$f":"IF(Q510>0,VLOOKUP(Q510,Set!$D$2:$E$23,2,FALSE),\"\")","v":""}]
[{"$nulls":9},{"$f":"IF(I511>0,VLOOKUP(I511,Set!$A$2:$B$250,2,FALSE),\"\")","v":""},{"$nulls":8},{"$f":"IF(Q511>0,VLOOKUP(Q511,Set!$D$2:$E$23,2,FALSE),\"\")","v":""}]
[{"$nulls":9},{"$f":"IF(I512>0,VLOOKUP(I512,Set!$A$2:$B$250,2,FALSE),\"\")","v":""},{"$nulls":8},{"$f":"IF(Q512>0,VLOOKUP(Q512,Set!$D$2:$E$23,2,FALSE),\"\")","v":""}]
[{"$nulls":9},{"$f":"IF(I513>0,VLOOKUP(I513,Set!$A$2:$B$250,2,FALSE),\"\")","v":""},{"$nulls":8},{"$f":"IF(Q513>0,VLOOKUP(Q513,Set!$D$2:$E$23,2,FALSE),\"\")","v":""}]
[{"$nulls":9},{"$f":"IF(I514>0,VLOOKUP(I514,Set!$A$2:$B$250,2,FALSE),\"\")","v":""},{"$nulls":8},{"$f":"IF(Q514>0,VLOOKUP(Q514,Set!$D$2:$E$23,2,FALSE),\"\")","v":""}]
[{"$nulls":9},{"$f":"IF(I515>0,VLOOKUP(I515,Set!$A$2:$B$250,2,FALSE),\"\")","v":""},{"$nulls":8},{"$f":"IF(Q515>0,VLOOKUP(Q515,Set!$D$2:$E$23,2,FALSE),\"\")","v":""}]
[{"$nulls":9},{"$f":"IF(I516>0,VLOOKUP(I516,Set!$A$2:$B$250,2,FALSE),\"\")","v":""},{"$nulls":8},{"$f":"IF(Q516>0,VLOOKUP(Q516,Set!$D$2:$E$23,2,FALSE),\"\")","v":""}]
[{"$nulls":9},{"$f":"IF(I517>0,VLOOKUP(I517,Set!$A$2:$B$250,2,FALSE),\"\")","v":""},{"$nulls":8},{"$f":"IF(Q517>0,VLOOKUP(Q517,Set!$D$2:$E$23,2,FALSE),\"\")","v":""}]
[{"$nulls":9},{"$f":"IF(I518>0,VLOOKUP(I518,Set!$A$2:$B$250,2,FALSE),\"\")","v":""},{"$nulls":8},{"$f":"IF(Q518>0,VLOOKUP(Q518,Set!$D$2:$E$23,2,FALSE),\"\")","v":""}]
[{"$nulls":9},{"$f":"IF(I519>0,VLOOKUP(I519,Set!$A$2:$B$250,2,FALSE),\"\")","v":""},{"$nulls":8},{"$f":"IF(Q519>0,VLOOKUP(Q519,Set!$D$2:$E$23,2,FALSE),\"\")","v":""}]
[{"$nulls":9},{"$f":"IF(I520>0,VLOOKUP(I520,Set!$A$2:$B$250,2,FALSE),\"\")","v":""},{"$nulls":8},{"$f":"IF(Q520>0,VLOOKUP(Q520,Set!$D$2:$E$23,2,FALSE),\"\")","v":""}]
[{"$nulls":9},{"$f":"IF(I521>0,VLOOKUP(I521,Set!$A$2:$B$250,2,FALSE),\"\")","v":""},{"$nulls":8},{"$f":"IF(Q521>0,VLOOKUP(Q521,Set!$D$2:$E$23,2,FALSE),\"\")","v":""}]
[{"$nulls":9},{"$f":"IF(I522>0,VLOOKUP(I522,Set!$A$2:$B$250,2,FALSE),\"\")","v":""},{"$nulls":8},{"$f":"IF(Q522>0,VLOOKUP(Q522,Set!$D$2:$E$23,2,FALSE),\"\")","v":""}]
[{"$nulls":9},{"$f":"IF(I523>0,VLOOKUP(I523,Set!$A$2:$B$250,2,FALSE),\"\")","v":""},{"$nulls":8},{"$f":"IF(Q523>0,VLOOKUP(Q523,Set!$D$2:$E$23,2,FALSE),\"\")","v":""}]
[{"$nulls":9},{"$f":"IF(I524>0,VLOOKUP(I524,Set!$A$2:$B$250,2,FALSE),\"\")","v":""},{"$nulls":8},{"$f":"IF(Q524>0,VLOOKUP(Q524,Set!$D$2:$E$23,2,FALSE),\"\")","v":""}]
[{"$nulls":9},{"$f":"IF(I525>0,VLOOKUP(I525,Set!$A$2:$B$250,2,FALSE),\"\")","v":""},{"$nulls":8},{"$f":"IF(Q525>0,VLOOKUP(Q525,Set!$D$2:$E$23,2,FALSE),\"\")","v":""}]
[{"$nulls":9},{"$f":"IF(I526>0,VLOOKUP(I526,Set!$A$2:$B$250,2,FALSE),\"\")","v":""},{"$nulls":8},{"$f":"IF(Q526>0,VLOOKUP(Q526,Set!$D$2:$E$23,2,FALSE),\"\")","v":""}]
[{"$nulls":9},{"$f":"IF(I527>0,VLOOKUP(I527,Set!$A$2:$B$250,2,FALSE),\"\")","v":""},{"$nulls":8},{"$f":"IF(Q527>0,VLOOKUP(Q527,Set!$D$2:$E$23,2,FALSE),\"\")","v":""}]
[{"$nulls":9},{"$f":"IF(I528>0,VLOOKUP(I528,Set!$A$2:$B$250,2,FALSE),\"\")","v":""},{"$nulls":8},{"$f":"IF(Q528>0,VLOOKUP(Q528,Set!$D$2:$E$23,2,FALSE),\"\")","v":""}]
[{"$nulls":9},{"$f":"IF(I529>0,VLOOKUP(I529,Set!$A$2:$B$250,2,FALSE),\"\")","v":""},{"$nulls":8},{"$f":"IF(Q529>0,VLOOKUP(Q529,Set!$D$2:$E$23,2,FALSE),\"\")","v":""}]
[{"$nulls":9},{"$f":"IF(I530>0,VLOOKUP(I530,Set!$A$2:$B$250,2,FALSE),\"\")","v":""},{"$nulls":8},{"$f":"IF(Q530>0,VLOOKUP(Q530,Set!$D$2:$E$23,2,FALSE),\"\")","v":""}]
[{"$nulls":9},{"$f":"IF(I531>0,VLOOKUP(I531,Set!$A$2:$B$250,2,FALSE),\"\")","v":""},{"$nulls":8},{"$f":"IF(Q531>0,VLOOKUP(Q531,Set!$D$2:$E$23,2,FALSE),\"\")","v":""}]
[{"$nulls":9},{"$f":"IF(I532>0,VLOOKUP(I532,Set!$A$2:$B$250,2,FALSE),\"\")","v":""},{"$nulls":8},{"$f":"IF(Q532>0,VLOOKUP(Q532,Set!$D$2:$E$23,2,FALSE),\"\")","v":""}]
[{"$nulls":9},{"$f":"IF(I533>0,VLOOKUP(I533,Set!$A$2:$B$250,2,FALSE),\"\")","v":""},{"$nulls":8},{"$f":"IF(Q533>0,VLOOKUP(Q533,Set!$D$2:$E$23,2,FALSE),\"\")","v":""}]
[{"$nulls":9},{"$f":"IF(I534>0,VLOOKUP(I534,Set!$A$2:$B$250,2,FALSE),\"\")","v":""},{"$nulls":8},{"$f":"IF(Q534>0,VLOOKUP(Q534,Set!$D$2:$E$23,2,FALSE),\"\")","v":""}]
[{"$nulls":9},{"$f":"IF(I535>0,VLOOKUP(I535,Set!$A$2:$B$250,2,FALSE),\"\")","v":""},{"$nulls":8},{"$f":"IF(Q535>0,VLOOKUP(Q535,Set!$D$2:$E$23,2,FALSE),\"\")","v":""}]
[{"$nulls":9},{"$f":"IF(I536>0,VLOOKUP(I536,Set!$A$2:$B$250,2,FALSE),\"\")","v":""},{"$nulls":8},{"$f":"IF(Q536>0,VLOOKUP(Q536,Set!$D$2:$E$23,2,FALSE),\"\")","v":""}]
[{"$nulls":9},{"$f":"IF(I537>0,VLOOKUP(I537,Set!$A$2:$B$250,2,FALSE),\"\")","v":""},{"$nulls":8},{"$f":"IF(Q537>0,VLOOKUP(Q537,Set!$D$2:$E$23,2,FALSE),\"\")","v":""}]
[{"$nulls":9},{"$f":"IF(I538>0,VLOOKUP(I538,Set!$A$2:$B$250,2,FALSE),\"\")","v":""},{"$nulls":8},{"$f":"IF(Q538>0,VLOOKUP(Q538,Set!$D$2:$E$23,2,FALSE),\"\")","v":""}]
[{"$nulls":9},{"$f":"IF(I539>0,VLOOKUP(I539,Set!$A$2:$B$250,2,FALSE),\"\")","v":""},{"$nulls":8},{"$f":"IF(Q539>0,VLOOKUP(Q539,Set!$D$2:$E$23,2,FALSE),\"\")","v":""}]
[{"$nulls":9},{"$f":"IF(I540>0,VLOOKUP(I540,Set!$A$2:$B$250,2,FALSE),\"\")","v":""},{"$nulls":8},{"$f":"IF(Q540>0,VLOOKUP(Q540,Set!$D$2:$E$23,2,FALSE),\"\")","v":""}]
[{"$nulls":9},{"$f":"IF(I541>0,VLOOKUP(I541,Set!$A$2:$B$250,2,FALSE),\"\")","v":""},{"$nulls":8},{"$f":"IF(Q541>0,VLOOKUP(Q541,Set!$D$2:$E$23,2,FALSE),\"\")","v":""}]
[{"$nulls":9},{"$f":"IF(I542>0,VLOOKUP(I542,Set!$A$2:$B$250,2,FALSE),\"\")","v":""},{"$nulls":8},{"$f":"IF(Q542>0,VLOOKUP(Q542,Set!$D$2:$E$23,2,FALSE),\"\")","v":""}]
[{"$nulls":9},{"$f":"IF(I543>0,VLOOKUP(I543,Set!$A$2:$B$250,2,FALSE),\"\")","v":""},{"$nulls":8},{"$f":"IF(Q543>0,VLOOKUP(Q543,Set!$D$2:$E$23,2,FALSE),\"\")","v":""}]
[{"$nulls":9},{"$f":"IF(I544>0,VLOOKUP(I544,Set!$A$2:$B$250,2,FALSE),\"\")","v":""},{"$nulls":8},{"$f":"IF(Q544>0,VLOOKUP(Q544,Set!$D$2:$E$23,2,FALSE),\"\")","v":""}]
[{"$nulls":9},{"$f":"IF(I545>0,VLOOKUP(I545,Set!$A$2:$B$250,2,FALSE),\"\")","v":""},{"$nulls":8},{"$f":"IF(Q545>0,VLOOKUP(Q545,Set!$D$2:$E$23,2,FALSE),\"\")","v":""}]
[{"$nulls":9},{"$f":"IF(I546>0,VLOOKUP(I546,Set!$A$2:$B$250,2,FALSE),\"\")","v":""},{"$nulls":8},{"$f":"IF(Q546>0,VLOOKUP(Q546,Set!$D$2:$E$23,2,FALSE),\"\")","v":""}]
[{"$nulls":9},{"$f":"IF(I547>0,VLOOKUP(I547,Set!$A$2:$B$250,2,FALSE),\"\")","v":""},{"$nulls":8},{"$f":"IF(Q547>0,VLOOKUP(Q547,Set!$D$2:$E$23,2,FALSE),\"\")","v":""}]
[{"$nulls":9},{"$f":"IF(I548>0,VLOOKUP(I548,Set!$A$2:$B$250,2,FALSE),\"\")","v":""},{"$nulls":8},{"$f":"IF(Q548>0,VLOOKUP(Q548,Set!$D$2:$E$23,2,FALSE),\"\")","v":""}]
[{"$nulls":9},{"$f":"IF(I549>0,VLOOKUP(I549,Set!$A$2:$B$250,2,FALSE),\"\")","v":""},{"$nulls":8},{"$f":"IF(Q549>0,VLOOKUP(Q549,Set!$D$2:$E$23,2,FALSE),\"\")","v":""}]
[{"$nulls":9},{"$f":"IF(I550>0,VLOOKUP(I550,Set!$A$2:$B$250,2,FALSE),\"\")","v":""},{"$nulls":8},{"$f":"IF(Q550>0,VLOOKUP(Q550,Set!$D$2:$E$23,2,FALSE),\"\")","v":""}]
[{"$nulls":9},{"$f":"IF(I551>0,VLOOKUP(I551,Set!$A$2:$B$250,2,FALSE),\"\")","v":""},{"$nulls":8},{"$f":"IF(Q551>0,VLOOKUP(Q551,Set!$D$2:$E$23,2,FALSE),\"\")","v":""}]
[{"$nulls":9},{"$f":"IF(I552>0,VLOOKUP(I552,Set!$A$2:$B$250,2,FALSE),\"\")","v":""},{"$nulls":8},{"$f":"IF(Q552>0,VLOOKUP(Q552,Set!$D$2:$E$23,2,FALSE),\"\")","v":""}]
[{"$nulls":9},{"$f":"IF(I553>0,VLOOKUP(I553,Set!$A$2:$B$250,2,FALSE),\"\")","v":""},{"$nulls":8},{"$f":"IF(Q553>0,VLOOKUP(Q553,Set!$D$2:$E$23,2,FALSE),\"\")","v":""}]
[{"$nulls":9},{"$f":"IF(I554>0,VLOOKUP(I554,Set!$A$2:$B$250,2,FALSE),\"\")","v":""},{"$nulls":8},{"$f":"IF(Q554>0,VLOOKUP(Q554,Set!$D$2:$E$23,2,FALSE),\"\")","v":""}]
[{"$nulls":9},{"$f":"IF(I555>0,VLOOKUP(I555,Set!$A$2:$B$250,2,FALSE),\"\")","v":""},{"$nulls":8},{"$f":"IF(Q555>0,VLOOKUP(Q555,Set!$D$2:$E$23,2,FALSE),\"\")","v":""}]
[{"$nulls":9},{"$f":"IF(I556>0,VLOOKUP(I556,Set!$A$2:$B$250,2,FALSE),\"\")","v":""},{"$nulls":8},{"$f":"IF(Q556>0,VLOOKUP(Q556,Set!$D$2:$E$23,2,FALSE),\"\")","v":""}]
[{"$nulls":9},{"$f":"IF(I557>0,VLOOKUP(I557,Set!$A$2:$B$250,2,FALSE),\"\")","v":""},{"$nulls":8},{"$f":"IF(Q557>0,VLOOKUP(Q557,Set!$D$2:$E$23,2,FALSE),\"\")","v":""}]
[{"$nulls":9},{"$f":"IF(I558>0,VLOOKUP(I558,Set!$A$2:$B$250,2,FALSE),\"\")","v":""},{"$nulls":8},{"$f":"IF(Q558>0,VLOOKUP(Q558,Set!$D$2:$E$23,2,FALSE),\"\")","v":""}]
[{"$nulls":9},{"$f":"IF(I559>0,VLOOKUP(I559,Set!$A$2:$B$250,2,FALSE),\"\")","v":""},{"$nulls":8},{"$f":"IF(Q559>0,VLOOKUP(Q559,Set!$D$2:$E$23,2,FALSE),\"\")","v":""}]
[{"$nulls":9},{"$f":"IF(I560>0,VLOOKUP(I560,Set!$A$2:$B$250,2,FALSE),\"\")","v":""},{"$nulls":8},{"$f":"IF(Q560>0,VLOOKUP(Q560,Set!$D$2:$E$23,2,FALSE),\"\")","v":""}]
[{"$nulls":9},{"$f":"IF(I561>0,VLOOKUP(I561,Set!$A$2:$B$250,2,FALSE),\"\")","v":""},{"$nulls":8},{"$f":"IF(Q561>0,VLOOKUP(Q561,Set!$D$2:$E$23,2,FALSE),\"\")","v":""}]
[{"$nulls":9},{"$f":"IF(I562>0,VLOOKUP(I562,Set!$A$2:$B$250,2,FALSE),\"\")","v":""},{"$nulls":8},{"$f":"IF(Q562>0,VLOOKUP(Q562,Set!$D$2:$E$23,2,FALSE),\"\")","v":""}]
[{"$nulls":9},{"$f":"IF(I563>0,VLOOKUP(I563,Set!$A$2:$B$250,2,FALSE),\"\")","v":""},{"$nulls":8},{"$f":"IF(Q563>0,VLOOKUP(Q563,Set!$D$2:$E$23,2,FALSE),\"\")","v":""}]
[{"$nulls":9},{"$f":"IF(I564>0,VLOOKUP(I564,Set!$A$2:$B$250,2,FALSE),\"\")","v":""},{"$nulls":8},{"$f":"IF(Q564>0,VLOOKUP(Q564,Set!$D$2:$E$23,2,FALSE),\"\")","v":""}]
[{"$nulls":9},{"$f":"IF(I565>0,VLOOKUP(I565,Set!$A$2:$B$250,2,FALSE),\"\")","v":""},{"$nulls":8},{"$f":"IF(Q565>0,VLOOKUP(Q565,Set!$D$2:$E$23,2,FALSE),\"\")","v":""}]
[{"$nulls":9},{"$f":"IF(I566>0,VLOOKUP(I566,Set!$A$2:$B$250,2,FALSE),\"\")","v":""},{"$nulls":8},{"$f":"IF(Q566>0,VLOOKUP(Q566,Set!$D$2:$E$23,2,FALSE),\"\")","v":""}]
[{"$nulls":9},{"$f":"IF(I567>0,VLOOKUP(I567,Set!$A$2:$B$250,2,FALSE),\"\")","v":""},{"$nulls":8},{"$f":"IF(Q567>0,VLOOKUP(Q567,Set!$D$2:$E$23,2,FALSE),\"\")","v":""}]
[{"$nulls":9},{"$f":"IF(I568>0,VLOOKUP(I568,Set!$A$2:$B$250,2,FALSE),\"\")","v":""},{"$nulls":8},{"$f":"IF(Q568>0,VLOOKUP(Q568,Set!$D$2:$E$23,2,FALSE),\"\")","v":""}]
[{"$nulls":9},{"$f":"IF(I569>0,VLOOKUP(I569,Set!$A$2:$B$250,2,FALSE),\"\")","v":""},{"$nulls":8},{"$f":"IF(Q569>0,VLOOKUP(Q569,Set!$D$2:$E$23,2,FALSE),\"\")","v":""}]
[{"$nulls":9},{"$f":"IF(I570>0,VLOOKUP(I570,Set!$A$2:$B$250,2,FALSE),\"\")","v":""},{"$nulls":8},{"$f":"IF(Q570>0,VLOOKUP(Q570,Set!$D$2:$E$23,2,FALSE),\"\")","v":""}]
[{"$nulls":9},{"$f":"IF(I571>0,VLOOKUP(I571,Set!$A$2:$B$250,2,FALSE),\"\")","v":""},{"$nulls":8},{"$f":"IF(Q571>0,VLOOKUP(Q571,Set!$D$2:$E$23,2,FALSE),\"\")","v":""}]
[{"$nulls":9},{"$f":"IF(I572>0,VLOOKUP(I572,Set!$A$2:$B$250,2,FALSE),\"\")","v":""},{"$nulls":8},{"$f":"IF(Q572>0,VLOOKUP(Q572,Set!$D$2:$E$23,2,FALSE),\"\")","v":""}]
[{"$nulls":9},{"$f":"IF(I573>0,VLOOKUP(I573,Set!$A$2:$B$250,2,FALSE),\"\")","v":""},{"$nulls":8},{"$f":"IF(Q573>0,VLOOKUP(Q573,Set!$D$2:$E$23,2,FALSE),\"\")","v":""}]
[{"$nulls":9},{"$f":"IF(I574>0,VLOOKUP(I574,Set!$A$2:$B$250,2,FALSE),\"\")","v":""},{"$nulls":8},{"$f":"IF(Q574>0,VLOOKUP(Q574,Set!$D$2:$E$23,2,FALSE),\"\")","v":""}]
[{"$nulls":9},{"$f":"IF(I575>0,VLOOKUP(I575,Set!$A$2:$B$250,2,FALSE),\"\")","v":""},{"$nulls":8},{"$f":"IF(Q575>0,VLOOKUP(Q575,Set!$D$2:$E$23,2,FALSE),\"\")","v":""}]
[{"$nulls":9},{"$f":"IF(I576>0,VLOOKUP(I576,Set!$A$2:$B$250,2,FALSE),\"\")","v":""},{"$nulls":8},{"$f":"IF(Q576>0,VLOOKUP(Q576,Set!$D$2:$E$23,2,FALSE),\"\")","v":""}]
[{"$nulls":9},{"$f":"IF(I577>0,VLOOKUP(I577,Set!$A$2:$B$250,2,FALSE),\"\")","v":""},{"$nulls":8},{"$f":"IF(Q577>0,VLOOKUP(Q577,Set!$D$2:$E$23,2,FALSE),\"\")","v":""}]
[{"$nulls":9},{"$f":"IF(I578>0,VLOOKUP(I578,Set!$A$2:$B$250,2,FALSE),\"\")","v":""},{"$nulls":8},{"$f":"IF(Q578>0,VLOOKUP(Q578,Set!$D$2:$E$23,2,FALSE),\"\")","v":""}]
[{"$nulls":9},{"$f":"IF(I579>0,VLOOKUP(I579,Set!$A$2:$B$250,2,FALSE),\"\")","v":""},{"$nulls":8},{"$f":"IF(Q579>0,VLOOKUP(Q579,Set!$D$2:$E$23,2,FALSE),\"\")","v":""}]
[{"$nulls":9},{"$f":"IF(I580>0,VLOOKUP(I580,Set!$A$2:$B$250,2,FALSE),\"\")","v":""},{"$nulls":8},{"$f":"IF(Q580>0,VLOOKUP(Q580,Set!$D$2:$E$23,2,FALSE),\"\")","v":""}]
[{"$nulls":9},{"$f":"IF(I581>0,VLOOKUP(I581,Set!$A$2:$B$250,2,FALSE),\"\")","v":""},{"$nulls":8},{"$f":"IF(Q581>0,VLOOKUP(Q581,Set!$D$2:$E$23,2,FALSE),\"\")","v":""}]
[{"$nulls":9},{"$f":"IF(I582>0,VLOOKUP(I582,Set!$A$2:$B$250,2,FALSE),\"\")","v":""},{"$nulls":8},{"$f":"IF(Q582>0,VLOOKUP(Q582,Set!$D$2:$E$23,2,FALSE),\"\")","v":""}]
[{"$nulls":9},{"$f":"IF(I583>0,VLOOKUP(I583,Set!$A$2:$B$250,2,FALSE),\"\")","v":""},{"$nulls":8},{"$f":"IF(Q583>0,VLOOKUP(Q583,Set!$D$2:$E$23,2,FALSE),\"\")","v":""}]
[{"$nulls":9},{"$f":"IF(I584>0,VLOOKUP(I584,Set!$A$2:$B$250,2,FALSE),\"\")","v":""},{"$nulls":8},{"$f":"IF(Q584>0,VLOOKUP(Q584,Set!$D$2:$E$23,2,FALSE),\"\")","v":""}]
[{"$nulls":9},{"$f":"IF(I585>0,VLOOKUP(I585,Set!$A$2:$B$250,2,FALSE),\"\")","v":""},{"$nulls":8},{"$f":"IF(Q585>0,VLOOKUP(Q585,Set!$D$2:$E$23,2,FALSE),\"\")","v":""}]
[{"$nulls":9},{"$f":"IF(I586>0,VLOOKUP(I586,Set!$A$2:$B$250,2,FALSE),\"\")","v":""},{"$nulls":8},{"$f":"IF(Q586>0,VLOOKUP(Q586,Set!$D$2:$E$23,2,FALSE),\"\")","v":""}]
[{"$nulls":9},{"$f":"IF(I587>0,VLOOKUP(I587,Set!$A$2:$B$250,2,FALSE),\"\")","v":""},{"$nulls":8},{"$f":"IF(Q587>0,VLOOKUP(Q587,Set!$D$2:$E$23,2,FALSE),\"\")","v":""}]
[{"$nulls":9},{"$f":"IF(I588>0,VLOOKUP(I588,Set!$A$2:$B$250,2,FALSE),\"\")","v":""},{"$nulls":8},{"$f":"IF(Q588>0,VLOOKUP(Q588,Set!$D$2:$E$23,2,FALSE),\"\")","v":""}]
[{"$nulls":9},{"$f":"IF(I589>0,VLOOKUP(I589,Set!$A$2:$B$250,2,FALSE),\"\")","v":""},{"$nulls":8},{"$f":"IF(Q589>0,VLOOKUP(Q589,Set!$D$2:$E$23,2,FALSE),\"\")","v":""}]
[{"$nulls":9},{"$f":"IF(I590>0,VLOOKUP(I590,Set!$A$2:$B$250,2,FALSE),\"\")","v":""},{"$nulls":8},{"$f":"IF(Q590>0,VLOOKUP(Q590,Set!$D$2:$E$23,2,FALSE),\"\")","v":""}]
[{"$nulls":9},{"$f":"IF(I591>0,VLOOKUP(I591,Set!$A$2:$B$250,2,FALSE),\"\")","v":""},{"$nulls":8},{"$f":"IF(Q591>0,VLOOKUP(Q591,Set!$D$2:$E$23,2,FALSE),\"\")","v":""}]
[{"$nulls":9},{"$f":"IF(I592>0,VLOOKUP(I592,Set!$A$2:$B$250,2,FALSE),\"\")","v":""},{"$nulls":8},{"$f":"IF(Q592>0,VLOOKUP(Q592,Set!$D$2:$E$23,2,FALSE),\"\")","v":""}]
[{"$nulls":9},{"$f":"IF(I593>0,VLOOKUP(I593,Set!$A$2:$B$250,2,FALSE),\"\")","v":""},{"$nulls":8},{"$f":"IF(Q593>0,VLOOKUP(Q593,Set!$D$2:$E$23,2,FALSE),\"\")","v":""}]
[{"$nulls":9},{"$f":"IF(I594>0,VLOOKUP(I594,Set!$A$2:$B$250,2,FALSE),\"\")","v":""},{"$nulls":8},{"$f":"IF(Q594>0,VLOOKUP(Q594,Set!$D$2:$E$23,2,FALSE),\"\")","v":""}]
[{"$nulls":9},{"$f":"IF(I595>0,VLOOKUP(I595,Set!$A$2:$B$250,2,FALSE),\"\")","v":""},{"$nulls":8},{"$f":"IF(Q595>0,VLOOKUP(Q595,Set!$D$2:$E$23,2,FALSE),\"\")","v":""}]
[{"$nulls":9},{"$f":"IF(I596>0,VLOOKUP(I596,Set!$A$2:$B$250,2,FALSE),\"\")","v":""},{"$nulls":8},{"$f":"IF(Q596>0,VLOOKUP(Q596,Set!$D$2:$E$23,2,FALSE),\"\")","v":""}]
[{"$nulls":9},{"$f":"IF(I597>0,VLOOKUP(I597,Set!$A$2:$B$250,2,FALSE),\"\")","v":""},{"$nulls":8},{"$f":"IF(Q597>0,VLOOKUP(Q597,Set!$D$2:$E$23,2,FALSE),\"\")","v":""}]
[{"$nulls":9},{"$f":"IF(I598>0,VLOOKUP(I598,Set!$A$2:$B$250,2,FALSE),\"\")","v":""},{"$nulls":8},{"$f":"IF(Q598>0,VLOOKUP(Q598,Set!$D$2:$E$23,2,FALSE),\"\")","v":""}]
[{"$nulls":9},{"$f":"IF(I599>0,VLOOKUP(I599,Set!$A$2:$B$250,2,FALSE),\"\")","v":""},{"$nulls":8},{"$f":"IF(Q599>0,VLOOKUP(Q599,Set!$D$2:$E$23,2,FALSE),\"\")","v":""}]
[{"$nulls":9},{"$f":"IF(I600>0,VLOOKUP(I600,Set!$A$2:$B$250,2,FALSE),\"\")","v":""},{"$nulls":8},{"$f":"IF(Q600>0,VLOOKUP(Q600,Set!$D$2:$E$23,2,FALSE),\"\")","v":""}]
[{"$nulls":9},{"$f":"IF(I601>0,VLOOKUP(I601,Set!$A$2:$B$250,2,FALSE),\"\")","v":""},{"$nulls":8},{"$f":"IF(Q601>0,VLOOKUP(Q601,Set!$D$2:$E$23,2,FALSE),\"\")","v":""}]
[{"$nulls":9},{"$f":"IF(I602>0,VLOOKUP(I602,Set!$A$2:$B$250,2,FALSE),\"\")","v":""},{"$nulls":8},{"$f":"IF(Q602>0,VLOOKUP(Q602,Set!$D$2:$E$23,2,FALSE),\"\")","v":""}]
[{"$nulls":9},{"$f":"IF(I603>0,VLOOKUP(I603,Set!$A$2:$B$250,2,FALSE),\"\")","v":""},{"$nulls":8},{"$f":"IF(Q603>0,VLOOKUP(Q603,Set!$D$2:$E$23,2,FALSE),\"\")","v":""}]
[{"$nulls":9},{"$f":"IF(I604>0,VLOOKUP(I604,Set!$A$2:$B$250,2,FALSE),\"\")","v":""},{"$nulls":8},{"$f":"IF(Q604>0,VLOOKUP(Q604,Set!$D$2:$E$23,2,FALSE),\"\")","v":""}]
[{"$nulls":9},{"$f":"IF(I605>0,VLOOKUP(I605,Set!$A$2:$B$250,2,FALSE),\"\")","v":""},{"$nulls":8},{"$f":"IF(Q605>0,VLOOKUP(Q605,Set!$D$2:$E$23,2,FALSE),\"\")","v":""}]
[{"$nulls":9},{"$f":"IF(I606>0,VLOOKUP(I606,Set!$A$2:$B$250,2,FALSE),\"\")","v":""},{"$nulls":8},{"$f":"IF(Q606>0,VLOOKUP(Q606,Set!$D$2:$E$23,2,FALSE),\"\")","v":""}]
[{"$nulls":9},{"$f":"IF(I607>0,VLOOKUP(I607,Set!$A$2:$B$250,2,FALSE),\"\")","v":""},{"$nulls":8},{"$f":"IF(Q607>0,VLOOKUP(Q607,Set!$D$2:$E$23,2,FALSE),\"\")","v":""}]
[{"$nulls":9},{"$f":"IF(I608>0,VLOOKUP(I608,Set!$A$2:$B$250,2,FALSE),\"\")","v":""},{"$nulls":8},{"$f":"IF(Q608>0,VLOOKUP(Q608,Set!$D$2:$E$23,2,FALSE),\"\")","v":""}]
[{"$nulls":9},{"$f":"IF(I609>0,VLOOKUP(I609,Set!$A$2:$B$250,2,FALSE),\"\")","v":""},{"$nulls":8},{"$f":"IF(Q609>0,VLOOKUP(Q609,Set!$D$2:$E$23,2,FALSE),\"\")","v":""}]
[{"$nulls":9},{"$f":"IF(I610>0,VLOOKUP(I610,Set!$A$2:$B$250,2,FALSE),\"\")","v":""},{"$nulls":8},{"$f":"IF(Q610>0,VLOOKUP(Q610,Set!$D$2:$E$23,2,FALSE),\"\")","v":""}]
[{"$nulls":9},{"$f":"IF(I611>0,VLOOKUP(I611,Set!$A$2:$B$250,2,FALSE),\"\")","v":""},{"$nulls":8},{"$f":"IF(Q611>0,VLOOKUP(Q611,Set!$D$2:$E$23,2,FALSE),\"\")","v":""}]
[{"$nulls":9},{"$f":"IF(I612>0,VLOOKUP(I612,Set!$A$2:$B$250,2,FALSE),\"\")","v":""},{"$nulls":8},{"$f":"IF(Q612>0,VLOOKUP(Q612,Set!$D$2:$E$23,2,FALSE),\"\")","v":""}]
[{"$nulls":9},{"$f":"IF(I613>0,VLOOKUP(I613,Set!$A$2:$B$250,2,FALSE),\"\")","v":""},{"$nulls":8},{"$f":"IF(Q613>0,VLOOKUP(Q613,Set!$D$2:$E$23,2,FALSE),\"\")","v":""}]
[{"$nulls":9},{"$f":"IF(I614>0,VLOOKUP(I614,Set!$A$2:$B$250,2,FALSE),\"\")","v":""},{"$nulls":8},{"$f":"IF(Q614>0,VLOOKUP(Q614,Set!$D$2:$E$23,2,FALSE),\"\")","v":""}]
[{"$nulls":9},{"$f":"IF(I615>0,VLOOKUP(I615,Set!$A$2:$B$250,2,FALSE),\"\")","v":""},{"$nulls":8},{"$f":"IF(Q615>0,VLOOKUP(Q615,Set!$D$2:$E$23,2,FALSE),\"\")","v":""}]
[{"$nulls":9},{"$f":"IF(I616>0,VLOOKUP(I616,Set!$A$2:$B$250,2,FALSE),\"\")","v":""},{"$nulls":8},{"$f":"IF(Q616>0,VLOOKUP(Q616,Set!$D$2:$E$23,2,FALSE),\"\")","v":""}]
[{"$nulls":9},{"$f":"IF(I617>0,VLOOKUP(I617,Set!$A$2:$B$250,2,FALSE),\"\")","v":""},{"$nulls":8},{"$f":"IF(Q617>0,VLOOKUP(Q617,Set!$D$2:$E$23,2,FALSE),\"\")","v":""}]
[{"$nulls":9},{"$f":"IF(I618>0,VLOOKUP(I618,Set!$A$2:$B$250,2,FALSE),\"\")","v":""},{"$nulls":8},{"$f":"IF(Q618>0,VLOOKUP(Q618,Set!$D$2:$E$23,2,FALSE),\"\")","v":""}]
[{"$nulls":9},{"$f":"IF(I619>0,VLOOKUP(I619,Set!$A$2:$B$250,2,FALSE),\"\")","v":""},{"$nulls":8},{"$f":"IF(Q619>0,VLOOKUP(Q619,Set!$D$2:$E$23,2,FALSE),\"\")","v":""}]
[{"$nulls":9},{"$f":"IF(I620>0,VLOOKUP(I620,Set!$A$2:$B$250,2,FALSE),\"\")","v":""},{"$nulls":8},{"$f":"IF(Q620>0,VLOOKUP(Q620,Set!$D$2:$E$23,2,FALSE),\"\")","v":""}]
[{"$nulls":9},{"$f":"IF(I621>0,VLOOKUP(I621,Set!$A$2:$B$250,2,FALSE),\"\")","v":""},{"$nulls":8},{"$f":"IF(Q621>0,VLOOKUP(Q621,Set!$D$2:$E$23,2,FALSE),\"\")","v":""}]
[{"$nulls":9},{"$f":"IF(I622>0,VLOOKUP(I622,Set!$A$2:$B$250,2,FALSE),\"\")","v":""},{"$nulls":8},{"$f":"IF(Q622>0,VLOOKUP(Q622,Set!$D$2:$E$23,2,FALSE),\"\")","v":""}]
[{"$nulls":9},{"$f":"IF(I623>0,VLOOKUP(I623,Set!$A$2:$B$250,2,FALSE),\"\")","v":""},{"$nulls":8},{"$f":"IF(Q623>0,VLOOKUP(Q623,Set!$D$2:$E$23,2,FALSE),\"\")","v":""}]
[{"$nulls":9},{"$f":"IF(I624>0,VLOOKUP(I624,Set!$A$2:$B$250,2,FALSE),\"\")","v":""},{"$nulls":8},{"$f":"IF(Q624>0,VLOOKUP(Q624,Set!$D$2:$E$23,2,FALSE),\"\")","v":""}]
[{"$nulls":9},{"$f":"IF(I625>0,VLOOKUP(I625,Set!$A$2:$B$250,2,FALSE),\"\")","v":""},{"$nulls":8},{"$f":"IF(Q625>0,VLOOKUP(Q625,Set!$D$2:$E$23,2,FALSE),\"\")","v":""}]
[{"$nulls":9},{"$f":"IF(I626>0,VLOOKUP(I626,Set!$A$2:$B$250,2,FALSE),\"\")","v":""},{"$nulls":8},{"$f":"IF(Q626>0,VLOOKUP(Q626,Set!$D$2:$E$23,2,FALSE),\"\")","v":""}]
[{"$nulls":9},{"$f":"IF(I627>0,VLOOKUP(I627,Set!$A$2:$B$250,2,FALSE),\"\")","v":""},{"$nulls":8},{"$f":"IF(Q627>0,VLOOKUP(Q627,Set!$D$2:$E$23,2,FALSE),\"\")","v":""}]
[{"$nulls":9},{"$f":"IF(I628>0,VLOOKUP(I628,Set!$A$2:$B$250,2,FALSE),\"\")","v":""},{"$nulls":8},{"$f":"IF(Q628>0,VLOOKUP(Q628,Set!$D$2:$E$23,2,FALSE),\"\")","v":""}]
[{"$nulls":9},{"$f":"IF(I629>0,VLOOKUP(I629,Set!$A$2:$B$250,2,FALSE),\"\")","v":""},{"$nulls":8},{"$f":"IF(Q629>0,VLOOKUP(Q629,Set!$D$2:$E$23,2,FALSE),\"\")","v":""}]
[{"$nulls":9},{"$f":"IF(I630>0,VLOOKUP(I630,Set!$A$2:$B$250,2,FALSE),\"\")","v":""},{"$nulls":8},{"$f":"IF(Q630>0,VLOOKUP(Q630,Set!$D$2:$E$23,2,FALSE),\"\")","v":""}]
[{"$nulls":9},{"$f":"IF(I631>0,VLOOKUP(I631,Set!$A$2:$B$250,2,FALSE),\"\")","v":""},{"$nulls":8},{"$f":"IF(Q631>0,VLOOKUP(Q631,Set!$D$2:$E$23,2,FALSE),\"\")","v":""}]
[{"$nulls":9},{"$f":"IF(I632>0,VLOOKUP(I632,Set!$A$2:$B$250,2,FALSE),\"\")","v":""},{"$nulls":8},{"$f":"IF(Q632>0,VLOOKUP(Q632,Set!$D$2:$E$23,2,FALSE),\"\")","v":""}]
[{"$nulls":9},{"$f":"IF(I633>0,VLOOKUP(I633,Set!$A$2:$B$250,2,FALSE),\"\")","v":""},{"$nulls":8},{"$f":"IF(Q633>0,VLOOKUP(Q633,Set!$D$2:$E$23,2,FALSE),\"\")","v":""}]
[{"$nulls":9},{"$f":"IF(I634>0,VLOOKUP(I634,Set!$A$2:$B$250,2,FALSE),\"\")","v":""},{"$nulls":8},{"$f":"IF(Q634>0,VLOOKUP(Q634,Set!$D$2:$E$23,2,FALSE),\"\")","v":""}]
[{"$nulls":9},{"$f":"IF(I635>0,VLOOKUP(I635,Set!$A$2:$B$250,2,FALSE),\"\")","v":""},{"$nulls":8},{"$f":"IF(Q635>0,VLOOKUP(Q635,Set!$D$2:$E$23,2,FALSE),\"\")","v":""}]
[{"$nulls":9},{"$f":"IF(I636>0,VLOOKUP(I636,Set!$A$2:$B$250,2,FALSE),\"\")","v":""},{"$nulls":8},{"$f":"IF(Q636>0,VLOOKUP(Q636,Set!$D$2:$E$23,2,FALSE),\"\")","v":""}]
[{"$nulls":9},{"$f":"IF(I637>0,VLOOKUP(I637,Set!$A$2:$B$250,2,FALSE),\"\")","v":""},{"$nulls":8},{"$f":"IF(Q637>0,VLOOKUP(Q637,Set!$D$2:$E$23,2,FALSE),\"\")","v":""}]
[{"$nulls":9},{"$f":"IF(I638>0,VLOOKUP(I638,Set!$A$2:$B$250,2,FALSE),\"\")","v":""},{"$nulls":8},{"$f":"IF(Q638>0,VLOOKUP(Q638,Set!$D$2:$E$23,2,FALSE),\"\")","v":""}]
[{"$nulls":9},{"$f":"IF(I639>0,VLOOKUP(I639,Set!$A$2:$B$250,2,FALSE),\"\")","v":""},{"$nulls":8},{"$f":"IF(Q639>0,VLOOKUP(Q639,Set!$D$2:$E$23,2,FALSE),\"\")","v":""}]
[{"$nulls":9},{"$f":"IF(I640>0,VLOOKUP(I640,Set!$A$2:$B$250,2,FALSE),\"\")","v":""},{"$nulls":8},{"$f":"IF(Q640>0,VLOOKUP(Q640,Set!$D$2:$E$23,2,FALSE),\"\")","v":""}]
[{"$nulls":9},{"$f":"IF(I641>0,VLOOKUP(I641,Set!$A$2:$B$250,2,FALSE),\"\")","v":""},{"$nulls":8},{"$f":"IF(Q641>0,VLOOKUP(Q641,Set!$D$2:$E$23,2,FALSE),\"\")","v":""}]
[{"$nulls":9},{"$f":"IF(I642>0,VLOOKUP(I642,Set!$A$2:$B$250,2,FALSE),\"\")","v":""},{"$nulls":8},{"$f":"IF(Q642>0,VLOOKUP(Q642,Set!$D$2:$E$23,2,FALSE),\"\")","v":""}]
[{"$nulls":9},{"$f":"IF(I643>0,VLOOKUP(I643,Set!$A$2:$B$250,2,FALSE),\"\")","v":""},{"$nulls":8},{"$f":"IF(Q643>0,VLOOKUP(Q643,Set!$D$2:$E$23,2,FALSE),\"\")","v":""}]
[{"$nulls":9},{"$f":"IF(I644>0,VLOOKUP(I644,Set!$A$2:$B$250,2,FALSE),\"\")","v":""},{"$nulls":8},{"$f":"IF(Q644>0,VLOOKUP(Q644,Set!$D$2:$E$23,2,FALSE),\"\")","v":""}]
[{"$nulls":9},{"$f":"IF(I645>0,VLOOKUP(I645,Set!$A$2:$B$250,2,FALSE),\"\")","v":""},{"$nulls":8},{"$f":"IF(Q645>0,VLOOKUP(Q645,Set!$D$2:$E$23,2,FALSE),\"\")","v":""}]
[{"$nulls":9},{"$f":"IF(I646>0,VLOOKUP(I646,Set!$A$2:$B$250,2,FALSE),\"\")","v":""},{"$nulls":8},{"$f":"IF(Q646>0,VLOOKUP(Q646,Set!$D$2:$E$23,2,FALSE),\"\")","v":""}]
[{"$nulls":9},{"$f":"IF(I647>0,VLOOKUP(I647,Set!$A$2:$B$250,2,FALSE),\"\")","v":""},{"$nulls":8},{"$f":"IF(Q647>0,VLOOKUP(Q647,Set!$D$2:$E$23,2,FALSE),\"\")","v":""}]
[{"$nulls":9},{"$f":"IF(I648>0,VLOOKUP(I648,Set!$A$2:$B$250,2,FALSE),\"\")","v":""},{"$nulls":8},{"$f":"IF(Q648>0,VLOOKUP(Q648,Set!$D$2:$E$23,2,FALSE),\"\")","v":""}]
[{"$nulls":9},{"$f":"IF(I649>0,VLOOKUP(I649,Set!$A$2:$B$250,2,FALSE),\"\")","v":""},{"$nulls":8},{"$f":"IF(Q649>0,VLOOKUP(Q649,Set!$D$2:$E$23,2,FALSE),\"\")","v":""}]
[{"$nulls":9},{"$f":"IF(I650>0,VLOOKUP(I650,Set!$A$2:$B$250,2,FALSE),\"\")","v":""},{"$nulls":8},{"$f":"IF(Q650>0,VLOOKUP(Q650,Set!$D$2:$E$23,2,FALSE),\"\")","v":""}]
[{"$nulls":9},{"$f":"IF(I651>0,VLOOKUP(I651,Set!$A$2:$B$250,2,FALSE),\"\")","v":""},{"$nulls":8},{"$f":"IF(Q651>0,VLOOKUP(Q651,Set!$D$2:$E$23,2,FALSE),\"\")","v":""}]
[{"$nulls":9},{"$f":"IF(I652>0,VLOOKUP(I652,Set!$A$2:$B$250,2,FALSE),\"\")","v":""},{"$nulls":8},{"$f":"IF(Q652>0,VLOOKUP(Q652,Set!$D$2:$E$23,2,FALSE),\"\")","v":""}]
[{"$nulls":9},{"$f":"IF(I653>0,VLOOKUP(I653,Set!$A$2:$B$250,2,FALSE),\"\")","v":""},{"$nulls":8},{"$f":"IF(Q653>0,VLOOKUP(Q653,Set!$D$2:$E$23,2,FALSE),\"\")","v":""}]
[{"$nulls":9},{"$f":"IF(I654>0,VLOOKUP(I654,Set!$A$2:$B$250,2,FALSE),\"\")","v":""},{"$nulls":8},{"$f":"IF(Q654>0,VLOOKUP(Q654,Set!$D$2:$E$23,2,FALSE),\"\")","v":""}]
[{"$nulls":9},{"$f":"IF(I655>0,VLOOKUP(I655,Set!$A$2:$B$250,2,FALSE),\"\")","v":""},{"$nulls":8},{"$f":"IF(Q655>0,VLOOKUP(Q655,Set!$D$2:$E$23,2,FALSE),\"\")","v":""}]
[{"$nulls":9},{"$f":"IF(I656>0,VLOOKUP(I656,Set!$A$2:$B$250,2,FALSE),\"\")","v":""},{"$nulls":8},{"$f":"IF(Q656>0,VLOOKUP(Q656,Set!$D$2:$E$23,2,FALSE),\"\")","v":""}]
[{"$nulls":9},{"$f":"IF(I657>0,VLOOKUP(I657,Set!$A$2:$B$250,2,FALSE),\"\")","v":""},{"$nulls":8},{"$f":"IF(Q657>0,VLOOKUP(Q657,Set!$D$2:$E$23,2,FALSE),\"\")","v":""}]
[{"$nulls":9},{"$f":"IF(I658>0,VLOOKUP(I658,Set!$A$2:$B$250,2,FALSE),\"\")","v":""},{"$nulls":8},{"$f":"IF(Q658>0,VLOOKUP(Q658,Set!$D$2:$E$23,2,FALSE),\"\")","v":""}]
[{"$nulls":9},{"$f":"IF(I659>0,VLOOKUP(I659,Set!$A$2:$B$250,2,FALSE),\"\")","v":""},{"$nulls":8},{"$f":"IF(Q659>0,VLOOKUP(Q659,Set!$D$2:$E$23,2,FALSE),\"\")","v":""}]
[{"$nulls":9},{"$f":"IF(I660>0,VLOOKUP(I660,Set!$A$2:$B$250,2,FALSE),\"\")","v":""},{"$nulls":8},{"$f":"IF(Q660>0,VLOOKUP(Q660,Set!$D$2:$E$23,2,FALSE),\"\")","v":""}]
[{"$nulls":9},{"$f":"IF(I661>0,VLOOKUP(I661,Set!$A$2:$B$250,2,FALSE),\"\")","v":""},{"$nulls":8},{"$f":"IF(Q661>0,VLOOKUP(Q661,Set!$D$2:$E$23,2,FALSE),\"\")","v":""}]
[{"$nulls":9},{"$f":"IF(I662>0,VLOOKUP(I662,Set!$A$2:$B$250,2,FALSE),\"\")","v":""},{"$nulls":8},{"$f":"IF(Q662>0,VLOOKUP(Q662,Set!$D$2:$E$23,2,FALSE),\"\")","v":""}]
[{"$nulls":9},{"$f":"IF(I663>0,VLOOKUP(I663,Set!$A$2:$B$250,2,FALSE),\"\")","v":""},{"$nulls":8},{"$f":"IF(Q663>0,VLOOKUP(Q663,Set!$D$2:$E$23,2,FALSE),\"\")","v":""}]
[{"$nulls":9},{"$f":"IF(I664>0,VLOOKUP(I664,Set!$A$2:$B$250,2,FALSE),\"\")","v":""},{"$nulls":8},{"$f":"IF(Q664>0,VLOOKUP(Q664,Set!$D$2:$E$23,2,FALSE),\"\")","v":""}]
[{"$nulls":9},{"$f":"IF(I665>0,VLOOKUP(I665,Set!$A$2:$B$250,2,FALSE),\"\")","v":""},{"$nulls":8},{"$f":"IF(Q665>0,VLOOKUP(Q665,Set!$D$2:$E$23,2,FALSE),\"\")","v":""}]
[{"$nulls":9},{"$f":"IF(I666>0,VLOOKUP(I666,Set!$A$2:$B$250,2,FALSE),\"\")","v":""},{"$nulls":8},{"$f":"IF(Q666>0,VLOOKUP(Q666,Set!$D$2:$E$23,2,FALSE),\"\")","v":""}]
[{"$nulls":9},{"$f":"IF(I667>0,VLOOKUP(I667,Set!$A$2:$B$250,2,FALSE),\"\")","v":""},{"$nulls":8},{"$f":"IF(Q667>0,VLOOKUP(Q667,Set!$D$2:$E$23,2,FALSE),\"\")","v":""}]
[{"$nulls":9},{"$f":"IF(I668>0,VLOOKUP(I668,Set!$A$2:$B$250,2,FALSE),\"\")","v":""},{"$nulls":8},{"$f":"IF(Q668>0,VLOOKUP(Q668,Set!$D$2:$E$23,2,FALSE),\"\")","v":""}]
[{"$nulls":9},{"$f":"IF(I669>0,VLOOKUP(I669,Set!$A$2:$B$250,2,FALSE),\"\")","v":""},{"$nulls":8},{"$f":"IF(Q669>0,VLOOKUP(Q669,Set!$D$2:$E$23,2,FALSE),\"\")","v":""}]
[{"$nulls":9},{"$f":"IF(I670>0,VLOOKUP(I670,Set!$A$2:$B$250,2,FALSE),\"\")","v":""},{"$nulls":8},{"$f":"IF(Q670>0,VLOOKUP(Q670,Set!$D$2:$E$23,2,FALSE),\"\")","v":""}]
[{"$nulls":9},{"$f":"IF(I671>0,VLOOKUP(I671,Set!$A$2:$B$250,2,FALSE),\"\")","v":""},{"$nulls":8},{"$f":"IF(Q671>0,VLOOKUP(Q671,Set!$D$2:$E$23,2,FALSE),\"\")","v":""}]
[{"$nulls":9},{"$f":"IF(I672>0,VLOOKUP(I672,Set!$A$2:$B$250,2,FALSE),\"\")","v":""},{"$nulls":8},{"$f":"IF(Q672>0,VLOOKUP(Q672,Set!$D$2:$E$23,2,FALSE),\"\")","v":""}]
[{"$nulls":9},{"$f":"IF(I673>0,VLOOKUP(I673,Set!$A$2:$B$250,2,FALSE),\"\")","v":""},{"$nulls":8},{"$f":"IF(Q673>0,VLOOKUP(Q673,Set!$D$2:$E$23,2,FALSE),\"\")","v":""}]
[{"$nulls":9},{"$f":"IF(I674>0,VLOOKUP(I674,Set!$A$2:$B$250,2,FALSE),\"\")","v":""},{"$nulls":8},{"$f":"IF(Q674>0,VLOOKUP(Q674,Set!$D$2:$E$23,2,FALSE),\"\")","v":""}]
[{"$nulls":9},{"$f":"IF(I675>0,VLOOKUP(I675,Set!$A$2:$B$250,2,FALSE),\"\")","v":""},{"$nulls":8},{"$f":"IF(Q675>0,VLOOKUP(Q675,Set!$D$2:$E$23,2,FALSE),\"\")","v":""}]
[{"$nulls":9},{"$f":"IF(I676>0,VLOOKUP(I676,Set!$A$2:$B$250,2,FALSE),\"\")","v":""},{"$nulls":8},{"$f":"IF(Q676>0,VLOOKUP(Q676,Set!$D$2:$E$23,2,FALSE),\"\")","v":""}]
[{"$nulls":9},{"$f":"IF(I677>0,VLOOKUP(I677,Set!$A$2:$B$250,2,FALSE),\"\")","v":""},{"$nulls":8},{"$f":"IF(Q677>0,VLOOKUP(Q677,Set!$D$2:$E$23,2,FALSE),\"\")","v":""}]
[{"$nulls":9},{"$f":"IF(I678>0,VLOOKUP(I678,Set!$A$2:$B$250,2,FALSE),\"\")","v":""},{"$nulls":8},{"$f":"IF(Q678>0,VLOOKUP(Q678,Set!$D$2:$E$23,2,FALSE),\"\")","v":""}]
[{"$nulls":9},{"$f":"IF(I679>0,VLOOKUP(I679,Set!$A$2:$B$250,2,FALSE),\"\")","v":""},{"$nulls":8},{"$f":"IF(Q679>0,VLOOKUP(Q679,Set!$D$2:$E$23,2,FALSE),\"\")","v":""}]
[{"$nulls":9},{"$f":"IF(I680>0,VLOOKUP(I680,Set!$A$2:$B$250,2,FALSE),\"\")","v":""},{"$nulls":8},{"$f":"IF(Q680>0,VLOOKUP(Q680,Set!$D$2:$E$23,2,FALSE),\"\")","v":""}]
[{"$nulls":9},{"$f":"IF(I681>0,VLOOKUP(I681,Set!$A$2:$B$250,2,FALSE),\"\")","v":""},{"$nulls":8},{"$f":"IF(Q681>0,VLOOKUP(Q681,Set!$D$2:$E$23,2,FALSE),\"\")","v":""}]
[{"$nulls":9},{"$f":"IF(I682>0,VLOOKUP(I682,Set!$A$2:$B$250,2,FALSE),\"\")","v":""},{"$nulls":8},{"$f":"IF(Q682>0,VLOOKUP(Q682,Set!$D$2:$E$23,2,FALSE),\"\")","v":""}]
[{"$nulls":9},{"$f":"IF(I683>0,VLOOKUP(I683,Set!$A$2:$B$250,2,FALSE),\"\")","v":""},{"$nulls":8},{"$f":"IF(Q683>0,VLOOKUP(Q683,Set!$D$2:$E$23,2,FALSE),\"\")","v":""}]
[{"$nulls":9},{"$f":"IF(I684>0,VLOOKUP(I684,Set!$A$2:$B$250,2,FALSE),\"\")","v":""},{"$nulls":8},{"$f":"IF(Q684>0,VLOOKUP(Q684,Set!$D$2:$E$23,2,FALSE),\"\")","v":""}]
[{"$nulls":9},{"$f":"IF(I685>0,VLOOKUP(I685,Set!$A$2:$B$250,2,FALSE),\"\")","v":""},{"$nulls":8},{"$f":"IF(Q685>0,VLOOKUP(Q685,Set!$D$2:$E$23,2,FALSE),\"\")","v":""}]
[{"$nulls":9},{"$f":"IF(I686>0,VLOOKUP(I686,Set!$A$2:$B$250,2,FALSE),\"\")","v":""},{"$nulls":8},{"$f":"IF(Q686>0,VLOOKUP(Q686,Set!$D$2:$E$23,2,FALSE),\"\")","v":""}]
[{"$nulls":9},{"$f":"IF(I687>0,VLOOKUP(I687,Set!$A$2:$B$250,2,FALSE),\"\")","v":""},{"$nulls":8},{"$f":"IF(Q687>0,VLOOKUP(Q687,Set!$D$2:$E$23,2,FALSE),\"\")","v":""}]
[{"$nulls":9},{"$f":"IF(I688>0,VLOOKUP(I688,Set!$A$2:$B$250,2,FALSE),\"\")","v":""},{"$nulls":8},{"$f":"IF(Q688>0,VLOOKUP(Q688,Set!$D$2:$E$23,2,FALSE),\"\")","v":""}]
[{"$nulls":9},{"$f":"IF(I689>0,VLOOKUP(I689,Set!$A$2:$B$250,2,FALSE),\"\")","v":""},{"$nulls":8},{"$f":"IF(Q689>0,VLOOKUP(Q689,Set!$D$2:$E$23,2,FALSE),\"\")","v":""}]
[{"$nulls":9},{"$f":"IF(I690>0,VLOOKUP(I690,Set!$A$2:$B$250,2,FALSE),\"\")","v":""},{"$nulls":8},{"$f":"IF(Q690>0,VLOOKUP(Q690,Set!$D$2:$E$23,2,FALSE),\"\")","v":""}]
[{"$nulls":9},{"$f":"IF(I691>0,VLOOKUP(I691,Set!$A$2:$B$250,2,FALSE),\"\")","v":""},{"$nulls":8},{"$f":"IF(Q691>0,VLOOKUP(Q691,Set!$D$2:$E$23,2,FALSE),\"\")","v":""}]
[{"$nulls":9},{"$f":"IF(I692>0,VLOOKUP(I692,Set!$A$2:$B$250,2,FALSE),\"\")","v":""},{"$nulls":8},{"$f":"IF(Q692>0,VLOOKUP(Q692,Set!$D$2:$E$23,2,FALSE),\"\")","v":""}]
[{"$nulls":9},{"$f":"IF(I693>0,VLOOKUP(I693,Set!$A$2:$B$250,2,FALSE),\"\")","v":""},{"$nulls":8},{"$f":"IF(Q693>0,VLOOKUP(Q693,Set!$D$2:$E$23,2,FALSE),\"\")","v":""}]
[{"$nulls":9},{"$f":"IF(I694>0,VLOOKUP(I694,Set!$A$2:$B$250,2,FALSE),\"\")","v":""},{"$nulls":8},{"$f":"IF(Q694>0,VLOOKUP(Q694,Set!$D$2:$E$23,2,FALSE),\"\")","v":""}]
[{"$nulls":9},{"$f":"IF(I695>0,VLOOKUP(I695,Set!$A$2:$B$250,2,FALSE),\"\")","v":""},{"$nulls":8},{"$f":"IF(Q695>0,VLOOKUP(Q695,Set!$D$2:$E$23,2,FALSE),\"\")","v":""}]
[{"$nulls":9},{"$f":"IF(I696>0,VLOOKUP(I696,Set!$A$2:$B$250,2,FALSE),\"\")","v":""},{"$nulls":8},{"$f":"IF(Q696>0,VLOOKUP(Q696,Set!$D$2:$E$23,2,FALSE),\"\")","v":""}]
[{"$nulls":9},{"$f":"IF(I697>0,VLOOKUP(I697,Set!$A$2:$B$250,2,FALSE),\"\")","v":""},{"$nulls":8},{"$f":"IF(Q697>0,VLOOKUP(Q697,Set!$D$2:$E$23,2,FALSE),\"\")","v":""}]
[{"$nulls":9},{"$f":"IF(I698>0,VLOOKUP(I698,Set!$A$2:$B$250,2,FALSE),\"\")","v":""},{"$nulls":8},{"$f":"IF(Q698>0,VLOOKUP(Q698,Set!$D$2:$E$23,2,FALSE),\"\")","v":""}]
[{"$nulls":9},{"$f":"IF(I699>0,VLOOKUP(I699,Set!$A$2:$B$250,2,FALSE),\"\")","v":""},{"$nulls":8},{"$f":"IF(Q699>0,VLOOKUP(Q699,Set!$D$2:$E$23,2,FALSE),\"\")","v":""}]
[{"$nulls":9},{"$f":"IF(I700>0,VLOOKUP(I700,Set!$A$2:$B$250,2,FALSE),\"\")","v":""},{"$nulls":8},{"$f":"IF(Q700>0,VLOOKUP(Q700,Set!$D$2:$E$23,2,FALSE),\"\")","v":""}]
[{"$nulls":9},{"$f":"IF(I701>0,VLOOKUP(I701,Set!$A$2:$B$250,2,FALSE),\"\")","v":""},{"$nulls":8},{"$f":"IF(Q701>0,VLOOKUP(Q701,Set!$D$2:$E$23,2,FALSE),\"\")","v":""}]
[{"$nulls":9},{"$f":"IF(I702>0,VLOOKUP(I702,Set!$A$2:$B$250,2,FALSE),\"\")","v":""},{"$nulls":8},{"$f":"IF(Q702>0,VLOOKUP(Q702,Set!$D$2:$E$23,2,FALSE),\"\")","v":""}]
[{"$nulls":9},{"$f":"IF(I703>0,VLOOKUP(I703,Set!$A$2:$B$250,2,FALSE),\"\")","v":""},{"$nulls":8},{"$f":"IF(Q703>0,VLOOKUP(Q703,Set!$D$2:$E$23,2,FALSE),\"\")","v":""}]
[{"$nulls":9},{"$f":"IF(I704>0,VLOOKUP(I704,Set!$A$2:$B$250,2,FALSE),\"\")","v":""},{"$nulls":8},{"$f":"IF(Q704>0,VLOOKUP(Q704,Set!$D$2:$E$23,2,FALSE),\"\")","v":""}]
[{"$nulls":9},{"$f":"IF(I705>0,VLOOKUP(I705,Set!$A$2:$B$250,2,FALSE),\"\")","v":""},{"$nulls":8},{"$f":"IF(Q705>0,VLOOKUP(Q705,Set!$D$2:$E$23,2,FALSE),\"\")","v":""}]
[{"$nulls":9},{"$f":"IF(I706>0,VLOOKUP(I706,Set!$A$2:$B$250,2,FALSE),\"\")","v":""},{"$nulls":8},{"$f":"IF(Q706>0,VLOOKUP(Q706,Set!$D$2:$E$23,2,FALSE),\"\")","v":""}]
[{"$nulls":9},{"$f":"IF(I707>0,VLOOKUP(I707,Set!$A$2:$B$250,2,FALSE),\"\")","v":""},{"$nulls":8},{"$f":"IF(Q707>0,VLOOKUP(Q707,Set!$D$2:$E$23,2,FALSE),\"\")","v":""}]
[{"$nulls":9},{"$f":"IF(I708>0,VLOOKUP(I708,Set!$A$2:$B$250,2,FALSE),\"\")","v":""},{"$nulls":8},{"$f":"IF(Q708>0,VLOOKUP(Q708,Set!$D$2:$E$23,2,FALSE),\"\")","v":""}]
[{"$nulls":9},{"$f":"IF(I709>0,VLOOKUP(I709,Set!$A$2:$B$250,2,FALSE),\"\")","v":""},{"$nulls":8},{"$f":"IF(Q709>0,VLOOKUP(Q709,Set!$D$2:$E$23,2,FALSE),\"\")","v":""}]
[{"$nulls":9},{"$f":"IF(I710>0,VLOOKUP(I710,Set!$A$2:$B$250,2,FALSE),\"\")","v":""},{"$nulls":8},{"$f":"IF(Q710>0,VLOOKUP(Q710,Set!$D$2:$E$23,2,FALSE),\"\")","v":""}]
[{"$nulls":9},{"$f":"IF(I711>0,VLOOKUP(I711,Set!$A$2:$B$250,2,FALSE),\"\")","v":""},{"$nulls":8},{"$f":"IF(Q711>0,VLOOKUP(Q711,Set!$D$2:$E$23,2,FALSE),\"\")","v":""}]
[{"$nulls":9},{"$f":"IF(I712>0,VLOOKUP(I712,Set!$A$2:$B$250,2,FALSE),\"\")","v":""},{"$nulls":8},{"$f":"IF(Q712>0,VLOOKUP(Q712,Set!$D$2:$E$23,2,FALSE),\"\")","v":""}]
[{"$nulls":9},{"$f":"IF(I713>0,VLOOKUP(I713,Set!$A$2:$B$250,2,FALSE),\"\")","v":""},{"$nulls":8},{"$f":"IF(Q713>0,VLOOKUP(Q713,Set!$D$2:$E$23,2,FALSE),\"\")","v":""}]
[{"$nulls":9},{"$f":"IF(I714>0,VLOOKUP(I714,Set!$A$2:$B$250,2,FALSE),\"\")","v":""},{"$nulls":8},{"$f":"IF(Q714>0,VLOOKUP(Q714,Set!$D$2:$E$23,2,FALSE),\"\")","v":""}]
[{"$nulls":9},{"$f":"IF(I715>0,VLOOKUP(I715,Set!$A$2:$B$250,2,FALSE),\"\")","v":""},{"$nulls":8},{"$f":"IF(Q715>0,VLOOKUP(Q715,Set!$D$2:$E$23,2,FALSE),\"\")","v":""}]
[{"$nulls":9},{"$f":"IF(I716>0,VLOOKUP(I716,Set!$A$2:$B$250,2,FALSE),\"\")","v":""},{"$nulls":8},{"$f":"IF(Q716>0,VLOOKUP(Q716,Set!$D$2:$E$23,2,FALSE),\"\")","v":""}]
[{"$nulls":9},{"$f":"IF(I717>0,VLOOKUP(I717,Set!$A$2:$B$250,2,FALSE),\"\")","v":""},{"$nulls":8},{"$f":"IF(Q717>0,VLOOKUP(Q717,Set!$D$2:$E$23,2,FALSE),\"\")","v":""}]
[{"$nulls":9},{"$f":"IF(I718>0,VLOOKUP(I718,Set!$A$2:$B$250,2,FALSE),\"\")","v":""},{"$nulls":8},{"$f":"IF(Q718>0,VLOOKUP(Q718,Set!$D$2:$E$23,2,FALSE),\"\")","v":""}]
[{"$nulls":9},{"$f":"IF(I719>0,VLOOKUP(I719,Set!$A$2:$B$250,2,FALSE),\"\")","v":""},{"$nulls":8},{"$f":"IF(Q719>0,VLOOKUP(Q719,Set!$D$2:$E$23,2,FALSE),\"\")","v":""}]
[{"$nulls":9},{"$f":"IF(I720>0,VLOOKUP(I720,Set!$A$2:$B$250,2,FALSE),\"\")","v":""},{"$nulls":8},{"$f":"IF(Q720>0,VLOOKUP(Q720,Set!$D$2:$E$23,2,FALSE),\"\")","v":""}]
[{"$nulls":9},{"$f":"IF(I721>0,VLOOKUP(I721,Set!$A$2:$B$250,2,FALSE),\"\")","v":""},{"$nulls":8},{"$f":"IF(Q721>0,VLOOKUP(Q721,Set!$D$2:$E$23,2,FALSE),\"\")","v":""}]
[{"$nulls":9},{"$f":"IF(I722>0,VLOOKUP(I722,Set!$A$2:$B$250,2,FALSE),\"\")","v":""},{"$nulls":8},{"$f":"IF(Q722>0,VLOOKUP(Q722,Set!$D$2:$E$23,2,FALSE),\"\")","v":""}]
[{"$nulls":9},{"$f":"IF(I723>0,VLOOKUP(I723,Set!$A$2:$B$250,2,FALSE),\"\")","v":""},{"$nulls":8},{"$f":"IF(Q723>0,VLOOKUP(Q723,Set!$D$2:$E$23,2,FALSE),\"\")","v":""}]
[{"$nulls":9},{"$f":"IF(I724>0,VLOOKUP(I724,Set!$A$2:$B$250,2,FALSE),\"\")","v":""},{"$nulls":8},{"$f":"IF(Q724>0,VLOOKUP(Q724,Set!$D$2:$E$23,2,FALSE),\"\")","v":""}]
[{"$nulls":9},{"$f":"IF(I725>0,VLOOKUP(I725,Set!$A$2:$B$250,2,FALSE),\"\")","v":""},{"$nulls":8},{"$f":"IF(Q725>0,VLOOKUP(Q725,Set!$D$2:$E$23,2,FALSE),\"\")","v":""}]
[{"$nulls":9},{"$f":"IF(I726>0,VLOOKUP(I726,Set!$A$2:$B$250,2,FALSE),\"\")","v":""},{"$nulls":8},{"$f":"IF(Q726>0,VLOOKUP(Q726,Set!$D$2:$E$23,2,FALSE),\"\")","v":""}]
[{"$nulls":9},{"$f":"IF(I727>0,VLOOKUP(I727,Set!$A$2:$B$250,2,FALSE),\"\")","v":""},{"$nulls":8},{"$f":"IF(Q727>0,VLOOKUP(Q727,Set!$D$2:$E$23,2,FALSE),\"\")","v":""}]
[{"$nulls":9},{"$f":"IF(I728>0,VLOOKUP(I728,Set!$A$2:$B$250,2,FALSE),\"\")","v":""},{"$nulls":8},{"$f":"IF(Q728>0,VLOOKUP(Q728,Set!$D$2:$E$23,2,FALSE),\"\")","v":""}]
[{"$nulls":9},{"$f":"IF(I729>0,VLOOKUP(I729,Set!$A$2:$B$250,2,FALSE),\"\")","v":""},{"$nulls":8},{"$f":"IF(Q729>0,VLOOKUP(Q729,Set!$D$2:$E$23,2,FALSE),\"\")","v":""}]
[{"$nulls":9},{"$f":"IF(I730>0,VLOOKUP(I730,Set!$A$2:$B$250,2,FALSE),\"\")","v":""},{"$nulls":8},{"$f":"IF(Q730>0,VLOOKUP(Q730,Set!$D$2:$E$23,2,FALSE),\"\")","v":""}]
[{"$nulls":9},{"$f":"IF(I731>0,VLOOKUP(I731,Set!$A$2:$B$250,2,FALSE),\"\")","v":""},{"$nulls":8},{"$f":"IF(Q731>0,VLOOKUP(Q731,Set!$D$2:$E$23,2,FALSE),\"\")","v":""}]
[{"$nulls":9},{"$f":"IF(I732>0,VLOOKUP(I732,Set!$A$2:$B$250,2,FALSE),\"\")","v":""},{"$nulls":8},{"$f":"IF(Q732>0,VLOOKUP(Q732,Set!$D$2:$E$23,2,FALSE),\"\")","v":""}]
[{"$nulls":9},{"$f":"IF(I733>0,VLOOKUP(I733,Set!$A$2:$B$250,2,FALSE),\"\")","v":""},{"$nulls":8},{"$f":"IF(Q733>0,VLOOKUP(Q733,Set!$D$2:$E$23,2,FALSE),\"\")","v":""}]
[{"$nulls":9},{"$f":"IF(I734>0,VLOOKUP(I734,Set!$A$2:$B$250,2,FALSE),\"\")","v":""},{"$nulls":8},{"$f":"IF(Q734>0,VLOOKUP(Q734,Set!$D$2:$E$23,2,FALSE),\"\")","v":""}]
[{"$nulls":9},{"$f":"IF(I735>0,VLOOKUP(I735,Set!$A$2:$B$250,2,FALSE),\"\")","v":""},{"$nulls":8},{"$f":"IF(Q735>0,VLOOKUP(Q735,Set!$D$2:$E$23,2,FALSE),\"\")","v":""}]
[{"$nulls":9},{"$f":"IF(I736>0,VLOOKUP(I736,Set!$A$2:$B$250,2,FALSE),\"\")","v":""},{"$nulls":8},{"$f":"IF(Q736>0,VLOOKUP(Q736,Set!$D$2:$E$23,2,FALSE),\"\")","v":""}]
[{"$nulls":9},{"$f":"IF(I737>0,VLOOKUP(I737,Set!$A$2:$B$250,2,FALSE),\"\")","v":""},{"$nulls":8},{"$f":"IF(Q737>0,VLOOKUP(Q737,Set!$D$2:$E$23,2,FALSE),\"\")","v":""}]
[{"$nulls":9},{"$f":"IF(I738>0,VLOOKUP(I738,Set!$A$2:$B$250,2,FALSE),\"\")","v":""},{"$nulls":8},{"$f":"IF(Q738>0,VLOOKUP(Q738,Set!$D$2:$E$23,2,FALSE),\"\")","v":""}]
[{"$nulls":9},{"$f":"IF(I739>0,VLOOKUP(I739,Set!$A$2:$B$250,2,FALSE),\"\")","v":""},{"$nulls":8},{"$f":"IF(Q739>0,VLOOKUP(Q739,Set!$D$2:$E$23,2,FALSE),\"\")","v":""}]
[{"$nulls":9},{"$f":"IF(I740>0,VLOOKUP(I740,Set!$A$2:$B$250,2,FALSE),\"\")","v":""},{"$nulls":8},{"$f":"IF(Q740>0,VLOOKUP(Q740,Set!$D$2:$E$23,2,FALSE),\"\")","v":""}]
[{"$nulls":9},{"$f":"IF(I741>0,VLOOKUP(I741,Set!$A$2:$B$250,2,FALSE),\"\")","v":""},{"$nulls":8},{"$f":"IF(Q741>0,VLOOKUP(Q741,Set!$D$2:$E$23,2,FALSE),\"\")","v":""}]
[{"$nulls":9},{"$f":"IF(I742>0,VLOOKUP(I742,Set!$A$2:$B$250,2,FALSE),\"\")","v":""},{"$nulls":8},{"$f":"IF(Q742>0,VLOOKUP(Q742,Set!$D$2:$E$23,2,FALSE),\"\")","v":""}]
[{"$nulls":9},{"$f":"IF(I743>0,VLOOKUP(I743,Set!$A$2:$B$250,2,FALSE),\"\")","v":""},{"$nulls":8},{"$f":"IF(Q743>0,VLOOKUP(Q743,Set!$D$2:$E$23,2,FALSE),\"\")","v":""}]
[{"$nulls":9},{"$f":"IF(I744>0,VLOOKUP(I744,Set!$A$2:$B$250,2,FALSE),\"\")","v":""},{"$nulls":8},{"$f":"IF(Q744>0,VLOOKUP(Q744,Set!$D$2:$E$23,2,FALSE),\"\")","v":""}]
[{"$nulls":9},{"$f":"IF(I745>0,VLOOKUP(I745,Set!$A$2:$B$250,2,FALSE),\"\")","v":""},{"$nulls":8},{"$f":"IF(Q745>0,VLOOKUP(Q745,Set!$D$2:$E$23,2,FALSE),\"\")","v":""}]
[{"$nulls":9},{"$f":"IF(I746>0,VLOOKUP(I746,Set!$A$2:$B$250,2,FALSE),\"\")","v":""},{"$nulls":8},{"$f":"IF(Q746>0,VLOOKUP(Q746,Set!$D$2:$E$23,2,FALSE),\"\")","v":""}]
[{"$nulls":9},{"$f":"IF(I747>0,VLOOKUP(I747,Set!$A$2:$B$250,2,FALSE),\"\")","v":""},{"$nulls":8},{"$f":"IF(Q747>0,VLOOKUP(Q747,Set!$D$2:$E$23,2,FALSE),\"\")","v":""}]
[{"$nulls":9},{"$f":"IF(I748>0,VLOOKUP(I748,Set!$A$2:$B$250,2,FALSE),\"\")","v":""},{"$nulls":8},{"$f":"IF(Q748>0,VLOOKUP(Q748,Set!$D$2:$E$23,2,FALSE),\"\")","v":""}]
[{"$nulls":9},{"$f":"IF(I749>0,VLOOKUP(I749,Set!$A$2:$B$250,2,FALSE),\"\")","v":""},{"$nulls":8},{"$f":"IF(Q749>0,VLOOKUP(Q749,Set!$D$2:$E$23,2,FALSE),\"\")","v":""}]
[{"$nulls":9},{"$f":"IF(I750>0,VLOOKUP(I750,Set!$A$2:$B$250,2,FALSE),\"\")","v":""},{"$nulls":8},{"$f":"IF(Q750>0,VLOOKUP(Q750,Set!$D$2:$E$23,2,FALSE),\"\")","v":""}]
[{"$nulls":9},{"$f":"IF(I751>0,VLOOKUP(I751,Set!$A$2:$B$250,2,FALSE),\"\")","v":""},{"$nulls":8},{"$f":"IF(Q751>0,VLOOKUP(Q751,Set!$D$2:$E$23,2,FALSE),\"\")","v":""}]
[{"$nulls":9},{"$f":"IF(I752>0,VLOOKUP(I752,Set!$A$2:$B$250,2,FALSE),\"\")","v":""},{"$nulls":8},{"$f":"IF(Q752>0,VLOOKUP(Q752,Set!$D$2:$E$23,2,FALSE),\"\")","v":""}]
[{"$nulls":9},{"$f":"IF(I753>0,VLOOKUP(I753,Set!$A$2:$B$250,2,FALSE),\"\")","v":""},{"$nulls":8},{"$f":"IF(Q753>0,VLOOKUP(Q753,Set!$D$2:$E$23,2,FALSE),\"\")","v":""}]
[{"$nulls":9},{"$f":"IF(I754>0,VLOOKUP(I754,Set!$A$2:$B$250,2,FALSE),\"\")","v":""},{"$nulls":8},{"$f":"IF(Q754>0,VLOOKUP(Q754,Set!$D$2:$E$23,2,FALSE),\"\")","v":""}]
[{"$nulls":9},{"$f":"IF(I755>0,VLOOKUP(I755,Set!$A$2:$B$250,2,FALSE),\"\")","v":""},{"$nulls":8},{"$f":"IF(Q755>0,VLOOKUP(Q755,Set!$D$2:$E$23,2,FALSE),\"\")","v":""}]
[{"$nulls":9},{"$f":"IF(I756>0,VLOOKUP(I756,Set!$A$2:$B$250,2,FALSE),\"\")","v":""},{"$nulls":8},{"$f":"IF(Q756>0,VLOOKUP(Q756,Set!$D$2:$E$23,2,FALSE),\"\")","v":""}]
[{"$nulls":9},{"$f":"IF(I757>0,VLOOKUP(I757,Set!$A$2:$B$250,2,FALSE),\"\")","v":""},{"$nulls":8},{"$f":"IF(Q757>0,VLOOKUP(Q757,Set!$D$2:$E$23,2,FALSE),\"\")","v":""}]
[{"$nulls":9},{"$f":"IF(I758>0,VLOOKUP(I758,Set!$A$2:$B$250,2,FALSE),\"\")","v":""},{"$nulls":8},{"$f":"IF(Q758>0,VLOOKUP(Q758,Set!$D$2:$E$23,2,FALSE),\"\")","v":""}]
[{"$nulls":9},{"$f":"IF(I759>0,VLOOKUP(I759,Set!$A$2:$B$250,2,FALSE),\"\")","v":""},{"$nulls":8},{"$f":"IF(Q759>0,VLOOKUP(Q759,Set!$D$2:$E$23,2,FALSE),\"\")","v":""}]
[{"$nulls":9},{"$f":"IF(I760>0,VLOOKUP(I760,Set!$A$2:$B$250,2,FALSE),\"\")","v":""},{"$nulls":8},{"$f":"IF(Q760>0,VLOOKUP(Q760,Set!$D$2:$E$23,2,FALSE),\"\")","v":""}]
[{"$nulls":9},{"$f":"IF(I761>0,VLOOKUP(I761,Set!$A$2:$B$250,2,FALSE),\"\")","v":""},{"$nulls":8},{"$f":"IF(Q761>0,VLOOKUP(Q761,Set!$D$2:$E$23,2,FALSE),\"\")","v":""}]
[{"$nulls":9},{"$f":"IF(I762>0,VLOOKUP(I762,Set!$A$2:$B$250,2,FALSE),\"\")","v":""},{"$nulls":8},{"$f":"IF(Q762>0,VLOOKUP(Q762,Set!$D$2:$E$23,2,FALSE),\"\")","v":""}]
[{"$nulls":9},{"$f":"IF(I763>0,VLOOKUP(I763,Set!$A$2:$B$250,2,FALSE),\"\")","v":""},{"$nulls":8},{"$f":"IF(Q763>0,VLOOKUP(Q763,Set!$D$2:$E$23,2,FALSE),\"\")","v":""}]
[{"$nulls":9},{"$f":"IF(I764>0,VLOOKUP(I764,Set!$A$2:$B$250,2,FALSE),\"\")","v":""},{"$nulls":8},{"$f":"IF(Q764>0,VLOOKUP(Q764,Set!$D$2:$E$23,2,FALSE),\"\")","v":""}]
[{"$nulls":9},{"$f":"IF(I765>0,VLOOKUP(I765,Set!$A$2:$B$250,2,FALSE),\"\")","v":""},{"$nulls":8},{"$f":"IF(Q765>0,VLOOKUP(Q765,Set!$D$2:$E$23,2,FALSE),\"\")","v":""}]
[{"$nulls":9},{"$f":"IF(I766>0,VLOOKUP(I766,Set!$A$2:$B$250,2,FALSE),\"\")","v":""},{"$nulls":8},{"$f":"IF(Q766>0,VLOOKUP(Q766,Set!$D$2:$E$23,2,FALSE),\"\")","v":""}]
[{"$nulls":9},{"$f":"IF(I767>0,VLOOKUP(I767,Set!$A$2:$B$250,2,FALSE),\"\")","v":""},{"$nulls":8},{"$f":"IF(Q767>0,VLOOKUP(Q767,Set!$D$2:$E$23,2,FALSE),\"\")","v":""}]
[{"$nulls":9},{"$f":"IF(I768>0,VLOOKUP(I768,Set!$A$2:$B$250,2,FALSE),\"\")","v":""},{"$nulls":8},{"$f":"IF(Q768>0,VLOOKUP(Q768,Set!$D$2:$E$23,2,FALSE),\"\")","v":""}]
[{"$nulls":9},{"$f":"IF(I769>0,VLOOKUP(I769,Set!$A$2:$B$250,2,FALSE),\"\")","v":""},{"$nulls":8},{"$f":"IF(Q769>0,VLOOKUP(Q769,Set!$D$2:$E$23,2,FALSE),\"\")","v":""}]
[{"$nulls":9},{"$f":"IF(I770>0,VLOOKUP(I770,Set!$A$2:$B$250,2,FALSE),\"\")","v":""},{"$nulls":8},{"$f":"IF(Q770>0,VLOOKUP(Q770,Set!$D$2:$E$23,2,FALSE),\"\")","v":""}]
[{"$nulls":9},{"$f":"IF(I771>0,VLOOKUP(I771,Set!$A$2:$B$250,2,FALSE),\"\")","v":""},{"$nulls":8},{"$f":"IF(Q771>0,VLOOKUP(Q771,Set!$D$2:$E$23,2,FALSE),\"\")","v":""}]
[{"$nulls":9},{"$f":"IF(I772>0,VLOOKUP(I772,Set!$A$2:$B$250,2,FALSE),\"\")","v":""},{"$nulls":8},{"$f":"IF(Q772>0,VLOOKUP(Q772,Set!$D$2:$E$23,2,FALSE),\"\")","v":""}]
[{"$nulls":9},{"$f":"IF(I773>0,VLOOKUP(I773,Set!$A$2:$B$250,2,FALSE),\"\")","v":""},{"$nulls":8},{"$f":"IF(Q773>0,VLOOKUP(Q773,Set!$D$2:$E$23,2,FALSE),\"\")","v":""}]
[{"$nulls":9},{"$f":"IF(I774>0,VLOOKUP(I774,Set!$A$2:$B$250,2,FALSE),\"\")","v":""},{"$nulls":8},{"$f":"IF(Q774>0,VLOOKUP(Q774,Set!$D$2:$E$23,2,FALSE),\"\")","v":""}]
[{"$nulls":9},{"$f":"IF(I775>0,VLOOKUP(I775,Set!$A$2:$B$250,2,FALSE),\"\")","v":""},{"$nulls":8},{"$f":"IF(Q775>0,VLOOKUP(Q775,Set!$D$2:$E$23,2,FALSE),\"\")","v":""}]
[{"$nulls":9},{"$f":"IF(I776>0,VLOOKUP(I776,Set!$A$2:$B$250,2,FALSE),\"\")","v":""},{"$nulls":8},{"$f":"IF(Q776>0,VLOOKUP(Q776,Set!$D$2:$E$23,2,FALSE),\"\")","v":""}]
[{"$nulls":9},{"$f":"IF(I777>0,VLOOKUP(I777,Set!$A$2:$B$250,2,FALSE),\"\")","v":""},{"$nulls":8},{"$f":"IF(Q777>0,VLOOKUP(Q777,Set!$D$2:$E$23,2,FALSE),\"\")","v":""}]
[{"$nulls":9},{"$f":"IF(I778>0,VLOOKUP(I778,Set!$A$2:$B$250,2,FALSE),\"\")","v":""},{"$nulls":8},{"$f":"IF(Q778>0,VLOOKUP(Q778,Set!$D$2:$E$23,2,FALSE),\"\")","v":""}]
[{"$nulls":9},{"$f":"IF(I779>0,VLOOKUP(I779,Set!$A$2:$B$250,2,FALSE),\"\")","v":""},{"$nulls":8},{"$f":"IF(Q779>0,VLOOKUP(Q779,Set!$D$2:$E$23,2,FALSE),\"\")","v":""}]
[{"$nulls":9},{"$f":"IF(I780>0,VLOOKUP(I780,Set!$A$2:$B$250,2,FALSE),\"\")","v":""},{"$nulls":8},{"$f":"IF(Q780>0,VLOOKUP(Q780,Set!$D$2:$E$23,2,FALSE),\"\")","v":""}]
[{"$nulls":9},{"$f":"IF(I781>0,VLOOKUP(I781,Set!$A$2:$B$250,2,FALSE),\"\")","v":""},{"$nulls":8},{"$f":"IF(Q781>0,VLOOKUP(Q781,Set!$D$2:$E$23,2,FALSE),\"\")","v":""}]
[{"$nulls":9},{"$f":"IF(I782>0,VLOOKUP(I782,Set!$A$2:$B$250,2,FALSE),\"\")","v":""},{"$nulls":8},{"$f":"IF(Q782>0,VLOOKUP(Q782,Set!$D$2:$E$23,2,FALSE),\"\")","v":""}]
[{"$nulls":9},{"$f":"IF(I783>0,VLOOKUP(I783,Set!$A$2:$B$250,2,FALSE),\"\")","v":""},{"$nulls":8},{"$f":"IF(Q783>0,VLOOKUP(Q783,Set!$D$2:$E$23,2,FALSE),\"\")","v":""}]
[{"$nulls":9},{"$f":"IF(I784>0,VLOOKUP(I784,Set!$A$2:$B$250,2,FALSE),\"\")","v":""},{"$nulls":8},{"$f":"IF(Q784>0,VLOOKUP(Q784,Set!$D$2:$E$23,2,FALSE),\"\")","v":""}]
[{"$nulls":9},{"$f":"IF(I785>0,VLOOKUP(I785,Set!$A$2:$B$250,2,FALSE),\"\")","v":""},{"$nulls":8},{"$f":"IF(Q785>0,VLOOKUP(Q785,Set!$D$2:$E$23,2,FALSE),\"\")","v":""}]
[{"$nulls":9},{"$f":"IF(I786>0,VLOOKUP(I786,Set!$A$2:$B$250,2,FALSE),\"\")","v":""},{"$nulls":8},{"$f":"IF(Q786>0,VLOOKUP(Q786,Set!$D$2:$E$23,2,FALSE),\"\")","v":""}]
[{"$nulls":9},{"$f":"IF(I787>0,VLOOKUP(I787,Set!$A$2:$B$250,2,FALSE),\"\")","v":""},{"$nulls":8},{"$f":"IF(Q787>0,VLOOKUP(Q787,Set!$D$2:$E$23,2,FALSE),\"\")","v":""}]
[{"$nulls":9},{"$f":"IF(I788>0,VLOOKUP(I788,Set!$A$2:$B$250,2,FALSE),\"\")","v":""},{"$nulls":8},{"$f":"IF(Q788>0,VLOOKUP(Q788,Set!$D$2:$E$23,2,FALSE),\"\")","v":""}]
[{"$nulls":9},{"$f":"IF(I789>0,VLOOKUP(I789,Set!$A$2:$B$250,2,FALSE),\"\")","v":""},{"$nulls":8},{"$f":"IF(Q789>0,VLOOKUP(Q789,Set!$D$2:$E$23,2,FALSE),\"\")","v":""}]
[{"$nulls":9},{"$f":"IF(I790>0,VLOOKUP(I790,Set!$A$2:$B$250,2,FALSE),\"\")","v":""},{"$nulls":8},{"$f":"IF(Q790>0,VLOOKUP(Q790,Set!$D$2:$E$23,2,FALSE),\"\")","v":""}]
[{"$nulls":9},{"$f":"IF(I791>0,VLOOKUP(I791,Set!$A$2:$B$250,2,FALSE),\"\")","v":""},{"$nulls":8},{"$f":"IF(Q791>0,VLOOKUP(Q791,Set!$D$2:$E$23,2,FALSE),\"\")","v":""}]
[{"$nulls":9},{"$f":"IF(I792>0,VLOOKUP(I792,Set!$A$2:$B$250,2,FALSE),\"\")","v":""},{"$nulls":8},{"$f":"IF(Q792>0,VLOOKUP(Q792,Set!$D$2:$E$23,2,FALSE),\"\")","v":""}]
[{"$nulls":9},{"$f":"IF(I793>0,VLOOKUP(I793,Set!$A$2:$B$250,2,FALSE),\"\")","v":""},{"$nulls":8},{"$f":"IF(Q793>0,VLOOKUP(Q793,Set!$D$2:$E$23,2,FALSE),\"\")","v":""}]
[{"$nulls":9},{"$f":"IF(I794>0,VLOOKUP(I794,Set!$A$2:$B$250,2,FALSE),\"\")","v":""},{"$nulls":8},{"$f":"IF(Q794>0,VLOOKUP(Q794,Set!$D$2:$E$23,2,FALSE),\"\")","v":""}]
[{"$nulls":9},{"$f":"IF(I795>0,VLOOKUP(I795,Set!$A$2:$B$250,2,FALSE),\"\")","v":""},{"$nulls":8},{"$f":"IF(Q795>0,VLOOKUP(Q795,Set!$D$2:$E$23,2,FALSE),\"\")","v":""}]
[{"$nulls":9},{"$f":"IF(I796>0,VLOOKUP(I796,Set!$A$2:$B$250,2,FALSE),\"\")","v":""},{"$nulls":8},{"$f":"IF(Q796>0,VLOOKUP(Q796,Set!$D$2:$E$23,2,FALSE),\"\")","v":""}]
[{"$nulls":9},{"$f":"IF(I797>0,VLOOKUP(I797,Set!$A$2:$B$250,2,FALSE),\"\")","v":""},{"$nulls":8},{"$f":"IF(Q797>0,VLOOKUP(Q797,Set!$D$2:$E$23,2,FALSE),\"\")","v":""}]
[{"$nulls":9},{"$f":"IF(I798>0,VLOOKUP(I798,Set!$A$2:$B$250,2,FALSE),\"\")","v":""},{"$nulls":8},{"$f":"IF(Q798>0,VLOOKUP(Q798,Set!$D$2:$E$23,2,FALSE),\"\")","v":""}]
[{"$nulls":9},{"$f":"IF(I799>0,VLOOKUP(I799,Set!$A$2:$B$250,2,FALSE),\"\")","v":""},{"$nulls":8},{"$f":"IF(Q799>0,VLOOKUP(Q799,Set!$D$2:$E$23,2,FALSE),\"\")","v":""}]
[{"$nulls":9},{"$f":"IF(I800>0,VLOOKUP(I800,Set!$A$2:$B$250,2,FALSE),\"\")","v":""},{"$nulls":8},{"$f":"IF(Q800>0,VLOOKUP(Q800,Set!$D$2:$E$23,2,FALSE),\"\")","v":""}]
[{"$nulls":9},{"$f":"IF(I801>0,VLOOKUP(I801,Set!$A$2:$B$250,2,FALSE),\"\")","v":""},{"$nulls":8},{"$f":"IF(Q801>0,VLOOKUP(Q801,Set!$D$2:$E$23,2,FALSE),\"\")","v":""}]
[{"$nulls":9},{"$f":"IF(I802>0,VLOOKUP(I802,Set!$A$2:$B$250,2,FALSE),\"\")","v":""},{"$nulls":8},{"$f":"IF(Q802>0,VLOOKUP(Q802,Set!$D$2:$E$23,2,FALSE),\"\")","v":""}]
[{"$nulls":9},{"$f":"IF(I803>0,VLOOKUP(I803,Set!$A$2:$B$250,2,FALSE),\"\")","v":""},{"$nulls":8},{"$f":"IF(Q803>0,VLOOKUP(Q803,Set!$D$2:$E$23,2,FALSE),\"\")","v":""}]
[{"$nulls":9},{"$f":"IF(I804>0,VLOOKUP(I804,Set!$A$2:$B$250,2,FALSE),\"\")","v":""},{"$nulls":8},{"$f":"IF(Q804>0,VLOOKUP(Q804,Set!$D$2:$E$23,2,FALSE),\"\")","v":""}]
[{"$nulls":9},{"$f":"IF(I805>0,VLOOKUP(I805,Set!$A$2:$B$250,2,FALSE),\"\")","v":""},{"$nulls":8},{"$f":"IF(Q805>0,VLOOKUP(Q805,Set!$D$2:$E$23,2,FALSE),\"\")","v":""}]
[{"$nulls":9},{"$f":"IF(I806>0,VLOOKUP(I806,Set!$A$2:$B$250,2,FALSE),\"\")","v":""},{"$nulls":8},{"$f":"IF(Q806>0,VLOOKUP(Q806,Set!$D$2:$E$23,2,FALSE),\"\")","v":""}]
[{"$nulls":9},{"$f":"IF(I807>0,VLOOKUP(I807,Set!$A$2:$B$250,2,FALSE),\"\")","v":""},{"$nulls":8},{"$f":"IF(Q807>0,VLOOKUP(Q807,Set!$D$2:$E$23,2,FALSE),\"\")","v":""}]
[{"$nulls":9},{"$f":"IF(I808>0,VLOOKUP(I808,Set!$A$2:$B$250,2,FALSE),\"\")","v":""},{"$nulls":8},{"$f":"IF(Q808>0,VLOOKUP(Q808,Set!$D$2:$E$23,2,FALSE),\"\")","v":""}]
[{"$nulls":9},{"$f":"IF(I809>0,VLOOKUP(I809,Set!$A$2:$B$250,2,FALSE),\"\")","v":""},{"$nulls":8},{"$f":"IF(Q809>0,VLOOKUP(Q809,Set!$D$2:$E$23,2,FALSE),\"\")","v":""}]
[{"$nulls":9},{"$f":"IF(I810>0,VLOOKUP(I810,Set!$A$2:$B$250,2,FALSE),\"\")","v":""},{"$nulls":8},{"$f":"IF(Q810>0,VLOOKUP(Q810,Set!$D$2:$E$23,2,FALSE),\"\")","v":""}]
[{"$nulls":9},{"$f":"IF(I811>0,VLOOKUP(I811,Set!$A$2:$B$250,2,FALSE),\"\")","v":""},{"$nulls":8},{"$f":"IF(Q811>0,VLOOKUP(Q811,Set!$D$2:$E$23,2,FALSE),\"\")","v":""}]
[{"$nulls":9},{"$f":"IF(I812>0,VLOOKUP(I812,Set!$A$2:$B$250,2,FALSE),\"\")","v":""},{"$nulls":8},{"$f":"IF(Q812>0,VLOOKUP(Q812,Set!$D$2:$E$23,2,FALSE),\"\")","v":""}]
[{"$nulls":9},{"$f":"IF(I813>0,VLOOKUP(I813,Set!$A$2:$B$250,2,FALSE),\"\")","v":""},{"$nulls":8},{"$f":"IF(Q813>0,VLOOKUP(Q813,Set!$D$2:$E$23,2,FALSE),\"\")","v":""}]
[{"$nulls":9},{"$f":"IF(I814>0,VLOOKUP(I814,Set!$A$2:$B$250,2,FALSE),\"\")","v":""},{"$nulls":8},{"$f":"IF(Q814>0,VLOOKUP(Q814,Set!$D$2:$E$23,2,FALSE),\"\")","v":""}]
[{"$nulls":9},{"$f":"IF(I815>0,VLOOKUP(I815,Set!$A$2:$B$250,2,FALSE),\"\")","v":""},{"$nulls":8},{"$f":"IF(Q815>0,VLOOKUP(Q815,Set!$D$2:$E$23,2,FALSE),\"\")","v":""}]
[{"$nulls":9},{"$f":"IF(I816>0,VLOOKUP(I816,Set!$A$2:$B$250,2,FALSE),\"\")","v":""},{"$nulls":8},{"$f":"IF(Q816>0,VLOOKUP(Q816,Set!$D$2:$E$23,2,FALSE),\"\")","v":""}]
[{"$nulls":9},{"$f":"IF(I817>0,VLOOKUP(I817,Set!$A$2:$B$250,2,FALSE),\"\")","v":""},{"$nulls":8},{"$f":"IF(Q817>0,VLOOKUP(Q817,Set!$D$2:$E$23,2,FALSE),\"\")","v":""}]
[{"$nulls":9},{"$f":"IF(I818>0,VLOOKUP(I818,Set!$A$2:$B$250,2,FALSE),\"\")","v":""},{"$nulls":8},{"$f":"IF(Q818>0,VLOOKUP(Q818,Set!$D$2:$E$23,2,FALSE),\"\")","v":""}]
[{"$nulls":9},{"$f":"IF(I819>0,VLOOKUP(I819,Set!$A$2:$B$250,2,FALSE),\"\")","v":""},{"$nulls":8},{"$f":"IF(Q819>0,VLOOKUP(Q819,Set!$D$2:$E$23,2,FALSE),\"\")","v":""}]
[{"$nulls":9},{"$f":"IF(I820>0,VLOOKUP(I820,Set!$A$2:$B$250,2,FALSE),\"\")","v":""},{"$nulls":8},{"$f":"IF(Q820>0,VLOOKUP(Q820,Set!$D$2:$E$23,2,FALSE),\"\")","v":""}]
[{"$nulls":9},{"$f":"IF(I821>0,VLOOKUP(I821,Set!$A$2:$B$250,2,FALSE),\"\")","v":""},{"$nulls":8},{"$f":"IF(Q821>0,VLOOKUP(Q821,Set!$D$2:$E$23,2,FALSE),\"\")","v":""}]
[{"$nulls":9},{"$f":"IF(I822>0,VLOOKUP(I822,Set!$A$2:$B$250,2,FALSE),\"\")","v":""},{"$nulls":8},{"$f":"IF(Q822>0,VLOOKUP(Q822,Set!$D$2:$E$23,2,FALSE),\"\")","v":""}]
[{"$nulls":9},{"$f":"IF(I823>0,VLOOKUP(I823,Set!$A$2:$B$250,2,FALSE),\"\")","v":""},{"$nulls":8},{"$f":"IF(Q823>0,VLOOKUP(Q823,Set!$D$2:$E$23,2,FALSE),\"\")","v":""}]
[{"$nulls":9},{"$f":"IF(I824>0,VLOOKUP(I824,Set!$A$2:$B$250,2,FALSE),\"\")","v":""},{"$nulls":8},{"$f":"IF(Q824>0,VLOOKUP(Q824,Set!$D$2:$E$23,2,FALSE),\"\")","v":""}]
[{"$nulls":9},{"$f":"IF(I825>0,VLOOKUP(I825,Set!$A$2:$B$250,2,FALSE),\"\")","v":""},{"$nulls":8},{"$f":"IF(Q825>0,VLOOKUP(Q825,Set!$D$2:$E$23,2,FALSE),\"\")","v":""}]
[{"$nulls":9},{"$f":"IF(I826>0,VLOOKUP(I826,Set!$A$2:$B$250,2,FALSE),\"\")","v":""},{"$nulls":8},{"$f":"IF(Q826>0,VLOOKUP(Q826,Set!$D$2:$E$23,2,FALSE),\"\")","v":""}]
[{"$nulls":9},{"$f":"IF(I827>0,VLOOKUP(I827,Set!$A$2:$B$250,2,FALSE),\"\")","v":""},{"$nulls":8},{"$f":"IF(Q827>0,VLOOKUP(Q827,Set!$D$2:$E$23,2,FALSE),\"\")","v":""}]
[{"$nulls":9},{"$f":"IF(I828>0,VLOOKUP(I828,Set!$A$2:$B$250,2,FALSE),\"\")","v":""},{"$nulls":8},{"$f":"IF(Q828>0,VLOOKUP(Q828,Set!$D$2:$E$23,2,FALSE),\"\")","v":""}]
[{"$nulls":9},{"$f":"IF(I829>0,VLOOKUP(I829,Set!$A$2:$B$250,2,FALSE),\"\")","v":""},{"$nulls":8},{"$f":"IF(Q829>0,VLOOKUP(Q829,Set!$D$2:$E$23,2,FALSE),\"\")","v":""}]
[{"$nulls":9},{"$f":"IF(I830>0,VLOOKUP(I830,Set!$A$2:$B$250,2,FALSE),\"\")","v":""},{"$nulls":8},{"$f":"IF(Q830>0,VLOOKUP(Q830,Set!$D$2:$E$23,2,FALSE),\"\")","v":""}]
[{"$nulls":9},{"$f":"IF(I831>0,VLOOKUP(I831,Set!$A$2:$B$250,2,FALSE),\"\")","v":""},{"$nulls":8},{"$f":"IF(Q831>0,VLOOKUP(Q831,Set!$D$2:$E$23,2,FALSE),\"\")","v":""}]
[{"$nulls":9},{"$f":"IF(I832>0,VLOOKUP(I832,Set!$A$2:$B$250,2,FALSE),\"\")","v":""},{"$nulls":8},{"$f":"IF(Q832>0,VLOOKUP(Q832,Set!$D$2:$E$23,2,FALSE),\"\")","v":""}]
[{"$nulls":9},{"$f":"IF(I833>0,VLOOKUP(I833,Set!$A$2:$B$250,2,FALSE),\"\")","v":""},{"$nulls":8},{"$f":"IF(Q833>0,VLOOKUP(Q833,Set!$D$2:$E$23,2,FALSE),\"\")","v":""}]
[{"$nulls":9},{"$f":"IF(I834>0,VLOOKUP(I834,Set!$A$2:$B$250,2,FALSE),\"\")","v":""},{"$nulls":8},{"$f":"IF(Q834>0,VLOOKUP(Q834,Set!$D$2:$E$23,2,FALSE),\"\")","v":""}]
[{"$nulls":9},{"$f":"IF(I835>0,VLOOKUP(I835,Set!$A$2:$B$250,2,FALSE),\"\")","v":""},{"$nulls":8},{"$f":"IF(Q835>0,VLOOKUP(Q835,Set!$D$2:$E$23,2,FALSE),\"\")","v":""}]
[{"$nulls":9},{"$f":"IF(I836>0,VLOOKUP(I836,Set!$A$2:$B$250,2,FALSE),\"\")","v":""},{"$nulls":8},{"$f":"IF(Q836>0,VLOOKUP(Q836,Set!$D$2:$E$23,2,FALSE),\"\")","v":""}]
[{"$nulls":9},{"$f":"IF(I837>0,VLOOKUP(I837,Set!$A$2:$B$250,2,FALSE),\"\")","v":""},{"$nulls":8},{"$f":"IF(Q837>0,VLOOKUP(Q837,Set!$D$2:$E$23,2,FALSE),\"\")","v":""}]
[{"$nulls":9},{"$f":"IF(I838>0,VLOOKUP(I838,Set!$A$2:$B$250,2,FALSE),\"\")","v":""},{"$nulls":8},{"$f":"IF(Q838>0,VLOOKUP(Q838,Set!$D$2:$E$23,2,FALSE),\"\")","v":""}]
[{"$nulls":9},{"$f":"IF(I839>0,VLOOKUP(I839,Set!$A$2:$B$250,2,FALSE),\"\")","v":""},{"$nulls":8},{"$f":"IF(Q839>0,VLOOKUP(Q839,Set!$D$2:$E$23,2,FALSE),\"\")","v":""}]
[{"$nulls":9},{"$f":"IF(I840>0,VLOOKUP(I840,Set!$A$2:$B$250,2,FALSE),\"\")","v":""},{"$nulls":8},{"$f":"IF(Q840>0,VLOOKUP(Q840,Set!$D$2:$E$23,2,FALSE),\"\")","v":""}]
[{"$nulls":9},{"$f":"IF(I841>0,VLOOKUP(I841,Set!$A$2:$B$250,2,FALSE),\"\")","v":""},{"$nulls":8},{"$f":"IF(Q841>0,VLOOKUP(Q841,Set!$D$2:$E$23,2,FALSE),\"\")","v":""}]
[{"$nulls":9},{"$f":"IF(I842>0,VLOOKUP(I842,Set!$A$2:$B$250,2,FALSE),\"\")","v":""},{"$nulls":8},{"$f":"IF(Q842>0,VLOOKUP(Q842,Set!$D$2:$E$23,2,FALSE),\"\")","v":""}]
[{"$nulls":9},{"$f":"IF(I843>0,VLOOKUP(I843,Set!$A$2:$B$250,2,FALSE),\"\")","v":""},{"$nulls":8},{"$f":"IF(Q843>0,VLOOKUP(Q843,Set!$D$2:$E$23,2,FALSE),\"\")","v":""}]
[{"$nulls":9},{"$f":"IF(I844>0,VLOOKUP(I844,Set!$A$2:$B$250,2,FALSE),\"\")","v":""},{"$nulls":8},{"$f":"IF(Q844>0,VLOOKUP(Q844,Set!$D$2:$E$23,2,FALSE),\"\")","v":""}]
[{"$nulls":9},{"$f":"IF(I845>0,VLOOKUP(I845,Set!$A$2:$B$250,2,FALSE),\"\")","v":""},{"$nulls":8},{"$f":"IF(Q845>0,VLOOKUP(Q845,Set!$D$2:$E$23,2,FALSE),\"\")","v":""}]
[{"$nulls":9},{"$f":"IF(I846>0,VLOOKUP(I846,Set!$A$2:$B$250,2,FALSE),\"\")","v":""},{"$nulls":8},{"$f":"IF(Q846>0,VLOOKUP(Q846,Set!$D$2:$E$23,2,FALSE),\"\")","v":""}]
[{"$nulls":9},{"$f":"IF(I847>0,VLOOKUP(I847,Set!$A$2:$B$250,2,FALSE),\"\")","v":""},{"$nulls":8},{"$f":"IF(Q847>0,VLOOKUP(Q847,Set!$D$2:$E$23,2,FALSE),\"\")","v":""}]
[{"$nulls":9},{"$f":"IF(I848>0,VLOOKUP(I848,Set!$A$2:$B$250,2,FALSE),\"\")","v":""},{"$nulls":8},{"$f":"IF(Q848>0,VLOOKUP(Q848,Set!$D$2:$E$23,2,FALSE),\"\")","v":""}]
[{"$nulls":9},{"$f":"IF(I849>0,VLOOKUP(I849,Set!$A$2:$B$250,2,FALSE),\"\")","v":""},{"$nulls":8},{"$f":"IF(Q849>0,VLOOKUP(Q849,Set!$D$2:$E$23,2,FALSE),\"\")","v":""}]
[{"$nulls":9},{"$f":"IF(I850>0,VLOOKUP(I850,Set!$A$2:$B$250,2,FALSE),\"\")","v":""},{"$nulls":8},{"$f":"IF(Q850>0,VLOOKUP(Q850,Set!$D$2:$E$23,2,FALSE),\"\")","v":""}]
[{"$nulls":9},{"$f":"IF(I851>0,VLOOKUP(I851,Set!$A$2:$B$250,2,FALSE),\"\")","v":""},{"$nulls":8},{"$f":"IF(Q851>0,VLOOKUP(Q851,Set!$D$2:$E$23,2,FALSE),\"\")","v":""}]
[{"$nulls":9},{"$f":"IF(I852>0,VLOOKUP(I852,Set!$A$2:$B$250,2,FALSE),\"\")","v":""},{"$nulls":8},{"$f":"IF(Q852>0,VLOOKUP(Q852,Set!$D$2:$E$23,2,FALSE),\"\")","v":""}]
[{"$nulls":9},{"$f":"IF(I853>0,VLOOKUP(I853,Set!$A$2:$B$250,2,FALSE),\"\")","v":""},{"$nulls":8},{"$f":"IF(Q853>0,VLOOKUP(Q853,Set!$D$2:$E$23,2,FALSE),\"\")","v":""}]
[{"$nulls":9},{"$f":"IF(I854>0,VLOOKUP(I854,Set!$A$2:$B$250,2,FALSE),\"\")","v":""},{"$nulls":8},{"$f":"IF(Q854>0,VLOOKUP(Q854,Set!$D$2:$E$23,2,FALSE),\"\")","v":""}]
[{"$nulls":9},{"$f":"IF(I855>0,VLOOKUP(I855,Set!$A$2:$B$250,2,FALSE),\"\")","v":""},{"$nulls":8},{"$f":"IF(Q855>0,VLOOKUP(Q855,Set!$D$2:$E$23,2,FALSE),\"\")","v":""}]
[{"$nulls":9},{"$f":"IF(I856>0,VLOOKUP(I856,Set!$A$2:$B$250,2,FALSE),\"\")","v":""},{"$nulls":8},{"$f":"IF(Q856>0,VLOOKUP(Q856,Set!$D$2:$E$23,2,FALSE),\"\")","v":""}]
[{"$nulls":9},{"$f":"IF(I857>0,VLOOKUP(I857,Set!$A$2:$B$250,2,FALSE),\"\")","v":""},{"$nulls":8},{"$f":"IF(Q857>0,VLOOKUP(Q857,Set!$D$2:$E$23,2,FALSE),\"\")","v":""}]
[{"$nulls":9},{"$f":"IF(I858>0,VLOOKUP(I858,Set!$A$2:$B$250,2,FALSE),\"\")","v":""},{"$nulls":8},{"$f":"IF(Q858>0,VLOOKUP(Q858,Set!$D$2:$E$23,2,FALSE),\"\")","v":""}]
[{"$nulls":9},{"$f":"IF(I859>0,VLOOKUP(I859,Set!$A$2:$B$250,2,FALSE),\"\")","v":""},{"$nulls":8},{"$f":"IF(Q859>0,VLOOKUP(Q859,Set!$D$2:$E$23,2,FALSE),\"\")","v":""}]
[{"$nulls":9},{"$f":"IF(I860>0,VLOOKUP(I860,Set!$A$2:$B$250,2,FALSE),\"\")","v":""},{"$nulls":8},{"$f":"IF(Q860>0,VLOOKUP(Q860,Set!$D$2:$E$23,2,FALSE),\"\")","v":""}]
[{"$nulls":9},{"$f":"IF(I861>0,VLOOKUP(I861,Set!$A$2:$B$250,2,FALSE),\"\")","v":""},{"$nulls":8},{"$f":"IF(Q861>0,VLOOKUP(Q861,Set!$D$2:$E$23,2,FALSE),\"\")","v":""}]
[{"$nulls":9},{"$f":"IF(I862>0,VLOOKUP(I862,Set!$A$2:$B$250,2,FALSE),\"\")","v":""},{"$nulls":8},{"$f":"IF(Q862>0,VLOOKUP(Q862,Set!$D$2:$E$23,2,FALSE),\"\")","v":""}]
[{"$nulls":9},{"$f":"IF(I863>0,VLOOKUP(I863,Set!$A$2:$B$250,2,FALSE),\"\")","v":""},{"$nulls":8},{"$f":"IF(Q863>0,VLOOKUP(Q863,Set!$D$2:$E$23,2,FALSE),\"\")","v":""}]
[{"$nulls":9},{"$f":"IF(I864>0,VLOOKUP(I864,Set!$A$2:$B$250,2,FALSE),\"\")","v":""},{"$nulls":8},{"$f":"IF(Q864>0,VLOOKUP(Q864,Set!$D$2:$E$23,2,FALSE),\"\")","v":""}]
[{"$nulls":9},{"$f":"IF(I865>0,VLOOKUP(I865,Set!$A$2:$B$250,2,FALSE),\"\")","v":""},{"$nulls":8},{"$f":"IF(Q865>0,VLOOKUP(Q865,Set!$D$2:$E$23,2,FALSE),\"\")","v":""}]
[{"$nulls":9},{"$f":"IF(I866>0,VLOOKUP(I866,Set!$A$2:$B$250,2,FALSE),\"\")","v":""},{"$nulls":8},{"$f":"IF(Q866>0,VLOOKUP(Q866,Set!$D$2:$E$23,2,FALSE),\"\")","v":""}]
[{"$nulls":9},{"$f":"IF(I867>0,VLOOKUP(I867,Set!$A$2:$B$250,2,FALSE),\"\")","v":""},{"$nulls":8},{"$f":"IF(Q867>0,VLOOKUP(Q867,Set!$D$2:$E$23,2,FALSE),\"\")","v":""}]
[{"$nulls":9},{"$f":"IF(I868>0,VLOOKUP(I868,Set!$A$2:$B$250,2,FALSE),\"\")","v":""},{"$nulls":8},{"$f":"IF(Q868>0,VLOOKUP(Q868,Set!$D$2:$E$23,2,FALSE),\"\")","v":""}]
[{"$nulls":9},{"$f":"IF(I869>0,VLOOKUP(I869,Set!$A$2:$B$250,2,FALSE),\"\")","v":""},{"$nulls":8},{"$f":"IF(Q869>0,VLOOKUP(Q869,Set!$D$2:$E$23,2,FALSE),\"\")","v":""}]
[{"$nulls":9},{"$f":"IF(I870>0,VLOOKUP(I870,Set!$A$2:$B$250,2,FALSE),\"\")","v":""},{"$nulls":8},{"$f":"IF(Q870>0,VLOOKUP(Q870,Set!$D$2:$E$23,2,FALSE),\"\")","v":""}]
[{"$nulls":9},{"$f":"IF(I871>0,VLOOKUP(I871,Set!$A$2:$B$250,2,FALSE),\"\")","v":""},{"$nulls":8},{"$f":"IF(Q871>0,VLOOKUP(Q871,Set!$D$2:$E$23,2,FALSE),\"\")","v":""}]
[{"$nulls":9},{"$f":"IF(I872>0,VLOOKUP(I872,Set!$A$2:$B$250,2,FALSE),\"\")","v":""},{"$nulls":8},{"$f":"IF(Q872>0,VLOOKUP(Q872,Set!$D$2:$E$23,2,FALSE),\"\")","v":""}]
[{"$nulls":9},{"$f":"IF(I873>0,VLOOKUP(I873,Set!$A$2:$B$250,2,FALSE),\"\")","v":""},{"$nulls":8},{"$f":"IF(Q873>0,VLOOKUP(Q873,Set!$D$2:$E$23,2,FALSE),\"\")","v":""}]
[{"$nulls":9},{"$f":"IF(I874>0,VLOOKUP(I874,Set!$A$2:$B$250,2,FALSE),\"\")","v":""},{"$nulls":8},{"$f":"IF(Q874>0,VLOOKUP(Q874,Set!$D$2:$E$23,2,FALSE),\"\")","v":""}]
[{"$nulls":9},{"$f":"IF(I875>0,VLOOKUP(I875,Set!$A$2:$B$250,2,FALSE),\"\")","v":""},{"$nulls":8},{"$f":"IF(Q875>0,VLOOKUP(Q875,Set!$D$2:$E$23,2,FALSE),\"\")","v":""}]
[{"$nulls":9},{"$f":"IF(I876>0,VLOOKUP(I876,Set!$A$2:$B$250,2,FALSE),\"\")","v":""},{"$nulls":8},{"$f":"IF(Q876>0,VLOOKUP(Q876,Set!$D$2:$E$23,2,FALSE),\"\")","v":""}]
[{"$nulls":9},{"$f":"IF(I877>0,VLOOKUP(I877,Set!$A$2:$B$250,2,FALSE),\"\")","v":""},{"$nulls":8},{"$f":"IF(Q877>0,VLOOKUP(Q877,Set!$D$2:$E$23,2,FALSE),\"\")","v":""}]
[{"$nulls":9},{"$f":"IF(I878>0,VLOOKUP(I878,Set!$A$2:$B$250,2,FALSE),\"\")","v":""},{"$nulls":8},{"$f":"IF(Q878>0,VLOOKUP(Q878,Set!$D$2:$E$23,2,FALSE),\"\")","v":""}]
[{"$nulls":9},{"$f":"IF(I879>0,VLOOKUP(I879,Set!$A$2:$B$250,2,FALSE),\"\")","v":""},{"$nulls":8},{"$f":"IF(Q879>0,VLOOKUP(Q879,Set!$D$2:$E$23,2,FALSE),\"\")","v":""}]
[{"$nulls":9},{"$f":"IF(I880>0,VLOOKUP(I880,Set!$A$2:$B$250,2,FALSE),\"\")","v":""},{"$nulls":8},{"$f":"IF(Q880>0,VLOOKUP(Q880,Set!$D$2:$E$23,2,FALSE),\"\")","v":""}]
[{"$nulls":9},{"$f":"IF(I881>0,VLOOKUP(I881,Set!$A$2:$B$250,2,FALSE),\"\")","v":""},{"$nulls":8},{"$f":"IF(Q881>0,VLOOKUP(Q881,Set!$D$2:$E$23,2,FALSE),\"\")","v":""}]
[{"$nulls":9},{"$f":"IF(I882>0,VLOOKUP(I882,Set!$A$2:$B$250,2,FALSE),\"\")","v":""},{"$nulls":8},{"$f":"IF(Q882>0,VLOOKUP(Q882,Set!$D$2:$E$23,2,FALSE),\"\")","v":""}]
[{"$nulls":9},{"$f":"IF(I883>0,VLOOKUP(I883,Set!$A$2:$B$250,2,FALSE),\"\")","v":""},{"$nulls":8},{"$f":"IF(Q883>0,VLOOKUP(Q883,Set!$D$2:$E$23,2,FALSE),\"\")","v":""}]
[{"$nulls":9},{"$f":"IF(I884>0,VLOOKUP(I884,Set!$A$2:$B$250,2,FALSE),\"\")","v":""},{"$nulls":8},{"$f":"IF(Q884>0,VLOOKUP(Q884,Set!$D$2:$E$23,2,FALSE),\"\")","v":""}]
[{"$nulls":9},{"$f":"IF(I885>0,VLOOKUP(I885,Set!$A$2:$B$250,2,FALSE),\"\")","v":""},{"$nulls":8},{"$f":"IF(Q885>0,VLOOKUP(Q885,Set!$D$2:$E$23,2,FALSE),\"\")","v":""}]
[{"$nulls":9},{"$f":"IF(I886>0,VLOOKUP(I886,Set!$A$2:$B$250,2,FALSE),\"\")","v":""},{"$nulls":8},{"$f":"IF(Q886>0,VLOOKUP(Q886,Set!$D$2:$E$23,2,FALSE),\"\")","v":""}]
[{"$nulls":9},{"$f":"IF(I887>0,VLOOKUP(I887,Set!$A$2:$B$250,2,FALSE),\"\")","v":""},{"$nulls":8},{"$f":"IF(Q887>0,VLOOKUP(Q887,Set!$D$2:$E$23,2,FALSE),\"\")","v":""}]
[{"$nulls":9},{"$f":"IF(I888>0,VLOOKUP(I888,Set!$A$2:$B$250,2,FALSE),\"\")","v":""},{"$nulls":8},{"$f":"IF(Q888>0,VLOOKUP(Q888,Set!$D$2:$E$23,2,FALSE),\"\")","v":""}]
[{"$nulls":9},{"$f":"IF(I889>0,VLOOKUP(I889,Set!$A$2:$B$250,2,FALSE),\"\")","v":""},{"$nulls":8},{"$f":"IF(Q889>0,VLOOKUP(Q889,Set!$D$2:$E$23,2,FALSE),\"\")","v":""}]
[{"$nulls":9},{"$f":"IF(I890>0,VLOOKUP(I890,Set!$A$2:$B$250,2,FALSE),\"\")","v":""},{"$nulls":8},{"$f":"IF(Q890>0,VLOOKUP(Q890,Set!$D$2:$E$23,2,FALSE),\"\")","v":""}]
[{"$nulls":9},{"$f":"IF(I891>0,VLOOKUP(I891,Set!$A$2:$B$250,2,FALSE),\"\")","v":""},{"$nulls":8},{"$f":"IF(Q891>0,VLOOKUP(Q891,Set!$D$2:$E$23,2,FALSE),\"\")","v":""}]
[{"$nulls":9},{"$f":"IF(I892>0,VLOOKUP(I892,Set!$A$2:$B$250,2,FALSE),\"\")","v":""},{"$nulls":8},{"$f":"IF(Q892>0,VLOOKUP(Q892,Set!$D$2:$E$23,2,FALSE),\"\")","v":""}]
[{"$nulls":9},{"$f":"IF(I893>0,VLOOKUP(I893,Set!$A$2:$B$250,2,FALSE),\"\")","v":""},{"$nulls":8},{"$f":"IF(Q893>0,VLOOKUP(Q893,Set!$D$2:$E$23,2,FALSE),\"\")","v":""}]
[{"$nulls":9},{"$f":"IF(I894>0,VLOOKUP(I894,Set!$A$2:$B$250,2,FALSE),\"\")","v":""},{"$nulls":8},{"$f":"IF(Q894>0,VLOOKUP(Q894,Set!$D$2:$E$23,2,FALSE),\"\")","v":""}]
[{"$nulls":9},{"$f":"IF(I895>0,VLOOKUP(I895,Set!$A$2:$B$250,2,FALSE),\"\")","v":""},{"$nulls":8},{"$f":"IF(Q895>0,VLOOKUP(Q895,Set!$D$2:$E$23,2,FALSE),\"\")","v":""}]
[{"$nulls":9},{"$f":"IF(I896>0,VLOOKUP(I896,Set!$A$2:$B$250,2,FALSE),\"\")","v":""},{"$nulls":8},{"$f":"IF(Q896>0,VLOOKUP(Q896,Set!$D$2:$E$23,2,FALSE),\"\")","v":""}]
[{"$nulls":9},{"$f":"IF(I897>0,VLOOKUP(I897,Set!$A$2:$B$250,2,FALSE),\"\")","v":""},{"$nulls":8},{"$f":"IF(Q897>0,VLOOKUP(Q897,Set!$D$2:$E$23,2,FALSE),\"\")","v":""}]
[{"$nulls":9},{"$f":"IF(I898>0,VLOOKUP(I898,Set!$A$2:$B$250,2,FALSE),\"\")","v":""},{"$nulls":8},{"$f":"IF(Q898>0,VLOOKUP(Q898,Set!$D$2:$E$23,2,FALSE),\"\")","v":""}]
[{"$nulls":9},{"$f":"IF(I899>0,VLOOKUP(I899,Set!$A$2:$B$250,2,FALSE),\"\")","v":""},{"$nulls":8},{"$f":"IF(Q899>0,VLOOKUP(Q899,Set!$D$2:$E$23,2,FALSE),\"\")","v":""}]
[{"$nulls":9},{"$f":"IF(I900>0,VLOOKUP(I900,Set!$A$2:$B$250,2,FALSE),\"\")","v":""},{"$nulls":8},{"$f":"IF(Q900>0,VLOOKUP(Q900,Set!$D$2:$E$23,2,FALSE),\"\")","v":""}]
[{"$nulls":9},{"$f":"IF(I901>0,VLOOKUP(I901,Set!$A$2:$B$250,2,FALSE),\"\")","v":""},{"$nulls":8},{"$f":"IF(Q901>0,VLOOKUP(Q901,Set!$D$2:$E$23,2,FALSE),\"\")","v":""}]
[{"$nulls":9},{"$f":"IF(I902>0,VLOOKUP(I902,Set!$A$2:$B$250,2,FALSE),\"\")","v":""},{"$nulls":8},{"$f":"IF(Q902>0,VLOOKUP(Q902,Set!$D$2:$E$23,2,FALSE),\"\")","v":""}]
[{"$nulls":9},{"$f":"IF(I903>0,VLOOKUP(I903,Set!$A$2:$B$250,2,FALSE),\"\")","v":""},{"$nulls":8},{"$f":"IF(Q903>0,VLOOKUP(Q903,Set!$D$2:$E$23,2,FALSE),\"\")","v":""}]
[{"$nulls":9},{"$f":"IF(I904>0,VLOOKUP(I904,Set!$A$2:$B$250,2,FALSE),\"\")","v":""},{"$nulls":8},{"$f":"IF(Q904>0,VLOOKUP(Q904,Set!$D$2:$E$23,2,FALSE),\"\")","v":""}]
[{"$nulls":9},{"$f":"IF(I905>0,VLOOKUP(I905,Set!$A$2:$B$250,2,FALSE),\"\")","v":""},{"$nulls":8},{"$f":"IF(Q905>0,VLOOKUP(Q905,Set!$D$2:$E$23,2,FALSE),\"\")","v":""}]
[{"$nulls":9},{"$f":"IF(I906>0,VLOOKUP(I906,Set!$A$2:$B$250,2,FALSE),\"\")","v":""},{"$nulls":8},{"$f":"IF(Q906>0,VLOOKUP(Q906,Set!$D$2:$E$23,2,FALSE),\"\")","v":""}]
[{"$nulls":9},{"$f":"IF(I907>0,VLOOKUP(I907,Set!$A$2:$B$250,2,FALSE),\"\")","v":""},{"$nulls":8},{"$f":"IF(Q907>0,VLOOKUP(Q907,Set!$D$2:$E$23,2,FALSE),\"\")","v":""}]
[{"$nulls":9},{"$f":"IF(I908>0,VLOOKUP(I908,Set!$A$2:$B$250,2,FALSE),\"\")","v":""},{"$nulls":8},{"$f":"IF(Q908>0,VLOOKUP(Q908,Set!$D$2:$E$23,2,FALSE),\"\")","v":""}]
[{"$nulls":9},{"$f":"IF(I909>0,VLOOKUP(I909,Set!$A$2:$B$250,2,FALSE),\"\")","v":""},{"$nulls":8},{"$f":"IF(Q909>0,VLOOKUP(Q909,Set!$D$2:$E$23,2,FALSE),\"\")","v":""}]
[{"$nulls":9},{"$f":"IF(I910>0,VLOOKUP(I910,Set!$A$2:$B$250,2,FALSE),\"\")","v":""},{"$nulls":8},{"$f":"IF(Q910>0,VLOOKUP(Q910,Set!$D$2:$E$23,2,FALSE),\"\")","v":""}]
[{"$nulls":9},{"$f":"IF(I911>0,VLOOKUP(I911,Set!$A$2:$B$250,2,FALSE),\"\")","v":""},{"$nulls":8},{"$f":"IF(Q911>0,VLOOKUP(Q911,Set!$D$2:$E$23,2,FALSE),\"\")","v":""}]
[{"$nulls":9},{"$f":"IF(I912>0,VLOOKUP(I912,Set!$A$2:$B$250,2,FALSE),\"\")","v":""},{"$nulls":8},{"$f":"IF(Q912>0,VLOOKUP(Q912,Set!$D$2:$E$23,2,FALSE),\"\")","v":""}]
[{"$nulls":9},{"$f":"IF(I913>0,VLOOKUP(I913,Set!$A$2:$B$250,2,FALSE),\"\")","v":""},{"$nulls":8},{"$f":"IF(Q913>0,VLOOKUP(Q913,Set!$D$2:$E$23,2,FALSE),\"\")","v":""}]
[{"$nulls":9},{"$f":"IF(I914>0,VLOOKUP(I914,Set!$A$2:$B$250,2,FALSE),\"\")","v":""},{"$nulls":8},{"$f":"IF(Q914>0,VLOOKUP(Q914,Set!$D$2:$E$23,2,FALSE),\"\")","v":""}]
[{"$nulls":9},{"$f":"IF(I915>0,VLOOKUP(I915,Set!$A$2:$B$250,2,FALSE),\"\")","v":""},{"$nulls":8},{"$f":"IF(Q915>0,VLOOKUP(Q915,Set!$D$2:$E$23,2,FALSE),\"\")","v":""}]
[{"$nulls":9},{"$f":"IF(I916>0,VLOOKUP(I916,Set!$A$2:$B$250,2,FALSE),\"\")","v":""},{"$nulls":8},{"$f":"IF(Q916>0,VLOOKUP(Q916,Set!$D$2:$E$23,2,FALSE),\"\")","v":""}]
[{"$nulls":9},{"$f":"IF(I917>0,VLOOKUP(I917,Set!$A$2:$B$250,2,FALSE),\"\")","v":""},{"$nulls":8},{"$f":"IF(Q917>0,VLOOKUP(Q917,Set!$D$2:$E$23,2,FALSE),\"\")","v":""}]
[{"$nulls":9},{"$f":"IF(I918>0,VLOOKUP(I918,Set!$A$2:$B$250,2,FALSE),\"\")","v":""},{"$nulls":8},{"$f":"IF(Q918>0,VLOOKUP(Q918,Set!$D$2:$E$23,2,FALSE),\"\")","v":""}]
[{"$nulls":9},{"$f":"IF(I919>0,VLOOKUP(I919,Set!$A$2:$B$250,2,FALSE),\"\")","v":""},{"$nulls":8},{"$f":"IF(Q919>0,VLOOKUP(Q919,Set!$D$2:$E$23,2,FALSE),\"\")","v":""}]
[{"$nulls":9},{"$f":"IF(I920>0,VLOOKUP(I920,Set!$A$2:$B$250,2,FALSE),\"\")","v":""},{"$nulls":8},{"$f":"IF(Q920>0,VLOOKUP(Q920,Set!$D$2:$E$23,2,FALSE),\"\")","v":""}]
[{"$nulls":9},{"$f":"IF(I921>0,VLOOKUP(I921,Set!$A$2:$B$250,2,FALSE),\"\")","v":""},{"$nulls":8},{"$f":"IF(Q921>0,VLOOKUP(Q921,Set!$D$2:$E$23,2,FALSE),\"\")","v":""}]
[{"$nulls":9},{"$f":"IF(I922>0,VLOOKUP(I922,Set!$A$2:$B$250,2,FALSE),\"\")","v":""},{"$nulls":8},{"$f":"IF(Q922>0,VLOOKUP(Q922,Set!$D$2:$E$23,2,FALSE),\"\")","v":""}]
[{"$nulls":9},{"$f":"IF(I923>0,VLOOKUP(I923,Set!$A$2:$B$250,2,FALSE),\"\")","v":""},{"$nulls":8},{"$f":"IF(Q923>0,VLOOKUP(Q923,Set!$D$2:$E$23,2,FALSE),\"\")","v":""}]
[{"$nulls":9},{"$f":"IF(I924>0,VLOOKUP(I924,Set!$A$2:$B$250,2,FALSE),\"\")","v":""},{"$nulls":8},{"$f":"IF(Q924>0,VLOOKUP(Q924,Set!$D$2:$E$23,2,FALSE),\"\")","v":""}]
[{"$nulls":9},{"$f":"IF(I925>0,VLOOKUP(I925,Set!$A$2:$B$250,2,FALSE),\"\")","v":""},{"$nulls":8},{"$f":"IF(Q925>0,VLOOKUP(Q925,Set!$D$2:$E$23,2,FALSE),\"\")","v":""}]
[{"$nulls":9},{"$f":"IF(I926>0,VLOOKUP(I926,Set!$A$2:$B$250,2,FALSE),\"\")","v":""},{"$nulls":8},{"$f":"IF(Q926>0,VLOOKUP(Q926,Set!$D$2:$E$23,2,FALSE),\"\")","v":""}]
[{"$nulls":9},{"$f":"IF(I927>0,VLOOKUP(I927,Set!$A$2:$B$250,2,FALSE),\"\")","v":""},{"$nulls":8},{"$f":"IF(Q927>0,VLOOKUP(Q927,Set!$D$2:$E$23,2,FALSE),\"\")","v":""}]
[{"$nulls":9},{"$f":"IF(I928>0,VLOOKUP(I928,Set!$A$2:$B$250,2,FALSE),\"\")","v":""},{"$nulls":8},{"$f":"IF(Q928>0,VLOOKUP(Q928,Set!$D$2:$E$23,2,FALSE),\"\")","v":""}]
[{"$nulls":9},{"$f":"IF(I929>0,VLOOKUP(I929,Set!$A$2:$B$250,2,FALSE),\"\")","v":""},{"$nulls":8},{"$f":"IF(Q929>0,VLOOKUP(Q929,Set!$D$2:$E$23,2,FALSE),\"\")","v":""}]
[{"$nulls":9},{"$f":"IF(I930>0,VLOOKUP(I930,Set!$A$2:$B$250,2,FALSE),\"\")","v":""},{"$nulls":8},{"$f":"IF(Q930>0,VLOOKUP(Q930,Set!$D$2:$E$23,2,FALSE),\"\")","v":""}]
[{"$nulls":9},{"$f":"IF(I931>0,VLOOKUP(I931,Set!$A$2:$B$250,2,FALSE),\"\")","v":""},{"$nulls":8},{"$f":"IF(Q931>0,VLOOKUP(Q931,Set!$D$2:$E$23,2,FALSE),\"\")","v":""}]
[{"$nulls":9},{"$f":"IF(I932>0,VLOOKUP(I932,Set!$A$2:$B$250,2,FALSE),\"\")","v":""},{"$nulls":8},{"$f":"IF(Q932>0,VLOOKUP(Q932,Set!$D$2:$E$23,2,FALSE),\"\")","v":""}]
[{"$nulls":9},{"$f":"IF(I933>0,VLOOKUP(I933,Set!$A$2:$B$250,2,FALSE),\"\")","v":""},{"$nulls":8},{"$f":"IF(Q933>0,VLOOKUP(Q933,Set!$D$2:$E$23,2,FALSE),\"\")","v":""}]
[{"$nulls":9},{"$f":"IF(I934>0,VLOOKUP(I934,Set!$A$2:$B$250,2,FALSE),\"\")","v":""},{"$nulls":8},{"$f":"IF(Q934>0,VLOOKUP(Q934,Set!$D$2:$E$23,2,FALSE),\"\")","v":""}]
[{"$nulls":9},{"$f":"IF(I935>0,VLOOKUP(I935,Set!$A$2:$B$250,2,FALSE),\"\")","v":""},{"$nulls":8},{"$f":"IF(Q935>0,VLOOKUP(Q935,Set!$D$2:$E$23,2,FALSE),\"\")","v":""}]
[{"$nulls":9},{"$f":"IF(I936>0,VLOOKUP(I936,Set!$A$2:$B$250,2,FALSE),\"\")","v":""},{"$nulls":8},{"$f":"IF(Q936>0,VLOOKUP(Q936,Set!$D$2:$E$23,2,FALSE),\"\")","v":""}]
[{"$nulls":9},{"$f":"IF(I937>0,VLOOKUP(I937,Set!$A$2:$B$250,2,FALSE),\"\")","v":""},{"$nulls":8},{"$f":"IF(Q937>0,VLOOKUP(Q937,Set!$D$2:$E$23,2,FALSE),\"\")","v":""}]
[{"$nulls":9},{"$f":"IF(I938>0,VLOOKUP(I938,Set!$A$2:$B$250,2,FALSE),\"\")","v":""},{"$nulls":8},{"$f":"IF(Q938>0,VLOOKUP(Q938,Set!$D$2:$E$23,2,FALSE),\"\")","v":""}]
[{"$nulls":9},{"$f":"IF(I939>0,VLOOKUP(I939,Set!$A$2:$B$250,2,FALSE),\"\")","v":""},{"$nulls":8},{"$f":"IF(Q939>0,VLOOKUP(Q939,Set!$D$2:$E$23,2,FALSE),\"\")","v":""}]
[{"$nulls":9},{"$f":"IF(I940>0,VLOOKUP(I940,Set!$A$2:$B$250,2,FALSE),\"\")","v":""},{"$nulls":8},{"$f":"IF(Q940>0,VLOOKUP(Q940,Set!$D$2:$E$23,2,FALSE),\"\")","v":""}]
[{"$nulls":9},{"$f":"IF(I941>0,VLOOKUP(I941,Set!$A$2:$B$250,2,FALSE),\"\")","v":""},{"$nulls":8},{"$f":"IF(Q941>0,VLOOKUP(Q941,Set!$D$2:$E$23,2,FALSE),\"\")","v":""}]
[{"$nulls":9},{"$f":"IF(I942>0,VLOOKUP(I942,Set!$A$2:$B$250,2,FALSE),\"\")","v":""},{"$nulls":8},{"$f":"IF(Q942>0,VLOOKUP(Q942,Set!$D$2:$E$23,2,FALSE),\"\")","v":""}]
[{"$nulls":9},{"$f":"IF(I943>0,VLOOKUP(I943,Set!$A$2:$B$250,2,FALSE),\"\")","v":""},{"$nulls":8},{"$f":"IF(Q943>0,VLOOKUP(Q943,Set!$D$2:$E$23,2,FALSE),\"\")","v":""}]
[{"$nulls":9},{"$f":"IF(I944>0,VLOOKUP(I944,Set!$A$2:$B$250,2,FALSE),\"\")","v":""},{"$nulls":8},{"$f":"IF(Q944>0,VLOOKUP(Q944,Set!$D$2:$E$23,2,FALSE),\"\")","v":""}]
[{"$nulls":9},{"$f":"IF(I945>0,VLOOKUP(I945,Set!$A$2:$B$250,2,FALSE),\"\")","v":""},{"$nulls":8},{"$f":"IF(Q945>0,VLOOKUP(Q945,Set!$D$2:$E$23,2,FALSE),\"\")","v":""}]
[{"$nulls":9},{"$f":"IF(I946>0,VLOOKUP(I946,Set!$A$2:$B$250,2,FALSE),\"\")","v":""},{"$nulls":8},{"$f":"IF(Q946>0,VLOOKUP(Q946,Set!$D$2:$E$23,2,FALSE),\"\")","v":""}]
[{"$nulls":9},{"$f":"IF(I947>0,VLOOKUP(I947,Set!$A$2:$B$250,2,FALSE),\"\")","v":""},{"$nulls":8},{"$f":"IF(Q947>0,VLOOKUP(Q947,Set!$D$2:$E$23,2,FALSE),\"\")","v":""}]
[{"$nulls":9},{"$f":"IF(I948>0,VLOOKUP(I948,Set!$A$2:$B$250,2,FALSE),\"\")","v":""},{"$nulls":8},{"$f":"IF(Q948>0,VLOOKUP(Q948,Set!$D$2:$E$23,2,FALSE),\"\")","v":""}]
[{"$nulls":9},{"$f":"IF(I949>0,VLOOKUP(I949,Set!$A$2:$B$250,2,FALSE),\"\")","v":""},{"$nulls":8},{"$f":"IF(Q949>0,VLOOKUP(Q949,Set!$D$2:$E$23,2,FALSE),\"\")","v":""}]
[{"$nulls":9},{"$f":"IF(I950>0,VLOOKUP(I950,Set!$A$2:$B$250,2,FALSE),\"\")","v":""},{"$nulls":8},{"$f":"IF(Q950>0,VLOOKUP(Q950,Set!$D$2:$E$23,2,FALSE),\"\")","v":""}]
[{"$nulls":9},{"$f":"IF(I951>0,VLOOKUP(I951,Set!$A$2:$B$250,2,FALSE),\"\")","v":""},{"$nulls":8},{"$f":"IF(Q951>0,VLOOKUP(Q951,Set!$D$2:$E$23,2,FALSE),\"\")","v":""}]
[{"$nulls":9},{"$f":"IF(I952>0,VLOOKUP(I952,Set!$A$2:$B$250,2,FALSE),\"\")","v":""},{"$nulls":8},{"$f":"IF(Q952>0,VLOOKUP(Q952,Set!$D$2:$E$23,2,FALSE),\"\")","v":""}]
[{"$nulls":9},{"$f":"IF(I953>0,VLOOKUP(I953,Set!$A$2:$B$250,2,FALSE),\"\")","v":""},{"$nulls":8},{"$f":"IF(Q953>0,VLOOKUP(Q953,Set!$D$2:$E$23,2,FALSE),\"\")","v":""}]
[{"$nulls":9},{"$f":"IF(I954>0,VLOOKUP(I954,Set!$A$2:$B$250,2,FALSE),\"\")","v":""},{"$nulls":8},{"$f":"IF(Q954>0,VLOOKUP(Q954,Set!$D$2:$E$23,2,FALSE),\"\")","v":""}]
[{"$nulls":9},{"$f":"IF(I955>0,VLOOKUP(I955,Set!$A$2:$B$250,2,FALSE),\"\")","v":""},{"$nulls":8},{"$f":"IF(Q955>0,VLOOKUP(Q955,Set!$D$2:$E$23,2,FALSE),\"\")","v":""}]
[{"$nulls":9},{"$f":"IF(I956>0,VLOOKUP(I956,Set!$A$2:$B$250,2,FALSE),\"\")","v":""},{"$nulls":8},{"$f":"IF(Q956>0,VLOOKUP(Q956,Set!$D$2:$E$23,2,FALSE),\"\")","v":""}]
[{"$nulls":9},{"$f":"IF(I957>0,VLOOKUP(I957,Set!$A$2:$B$250,2,FALSE),\"\")","v":""},{"$nulls":8},{"$f":"IF(Q957>0,VLOOKUP(Q957,Set!$D$2:$E$23,2,FALSE),\"\")","v":""}]
[{"$nulls":9},{"$f":"IF(I958>0,VLOOKUP(I958,Set!$A$2:$B$250,2,FALSE),\"\")","v":""},{"$nulls":8},{"$f":"IF(Q958>0,VLOOKUP(Q958,Set!$D$2:$E$23,2,FALSE),\"\")","v":""}]
[{"$nulls":9},{"$f":"IF(I959>0,VLOOKUP(I959,Set!$A$2:$B$250,2,FALSE),\"\")","v":""},{"$nulls":8},{"$f":"IF(Q959>0,VLOOKUP(Q959,Set!$D$2:$E$23,2,FALSE),\"\")","v":""}]
[{"$nulls":9},{"$f":"IF(I960>0,VLOOKUP(I960,Set!$A$2:$B$250,2,FALSE),\"\")","v":""},{"$nulls":8},{"$f":"IF(Q960>0,VLOOKUP(Q960,Set!$D$2:$E$23,2,FALSE),\"\")","v":""}]
[{"$nulls":9},{"$f":"IF(I961>0,VLOOKUP(I961,Set!$A$2:$B$250,2,FALSE),\"\")","v":""},{"$nulls":8},{"$f":"IF(Q961>0,VLOOKUP(Q961,Set!$D$2:$E$23,2,FALSE),\"\")","v":""}]
[{"$nulls":9},{"$f":"IF(I962>0,VLOOKUP(I962,Set!$A$2:$B$250,2,FALSE),\"\")","v":""},{"$nulls":8},{"$f":"IF(Q962>0,VLOOKUP(Q962,Set!$D$2:$E$23,2,FALSE),\"\")","v":""}]
[{"$nulls":9},{"$f":"IF(I963>0,VLOOKUP(I963,Set!$A$2:$B$250,2,FALSE),\"\")","v":""},{"$nulls":8},{"$f":"IF(Q963>0,VLOOKUP(Q963,Set!$D$2:$E$23,2,FALSE),\"\")","v":""}]
[{"$nulls":9},{"$f":"IF(I964>0,VLOOKUP(I964,Set!$A$2:$B$250,2,FALSE),\"\")","v":""},{"$nulls":8},{"$f":"IF(Q964>0,VLOOKUP(Q964,Set!$D$2:$E$23,2,FALSE),\"\")","v":""}]
[{"$nulls":9},{"$f":"IF(I965>0,VLOOKUP(I965,Set!$A$2:$B$250,2,FALSE),\"\")","v":""},{"$nulls":8},{"$f":"IF(Q965>0,VLOOKUP(Q965,Set!$D$2:$E$23,2,FALSE),\"\")","v":""}]
[{"$nulls":9},{"$f":"IF(I966>0,VLOOKUP(I966,Set!$A$2:$B$250,2,FALSE),\"\")","v":""},{"$nulls":8},{"$f":"IF(Q966>0,VLOOKUP(Q966,Set!$D$2:$E$23,2,FALSE),\"\")","v":""}]
[{"$nulls":9},{"$f":"IF(I967>0,VLOOKUP(I967,Set!$A$2:$B$250,2,FALSE),\"\")","v":""},{"$nulls":8},{"$f":"IF(Q967>0,VLOOKUP(Q967,Set!$D$2:$E$23,2,FALSE),\"\")","v":""}]
[{"$nulls":9},{"$f":"IF(I968>0,VLOOKUP(I968,Set!$A$2:$B$250,2,FALSE),\"\")","v":""},{"$nulls":8},{"$f":"IF(Q968>0,VLOOKUP(Q968,Set!$D$2:$E$23,2,FALSE),\"\")","v":""}]
[{"$nulls":9},{"$f":"IF(I969>0,VLOOKUP(I969,Set!$A$2:$B$250,2,FALSE),\"\")","v":""},{"$nulls":8},{"$f":"IF(Q969>0,VLOOKUP(Q969,Set!$D$2:$E$23,2,FALSE),\"\")","v":""}]
[{"$nulls":9},{"$f":"IF(I970>0,VLOOKUP(I970,Set!$A$2:$B$250,2,FALSE),\"\")","v":""},{"$nulls":8},{"$f":"IF(Q970>0,VLOOKUP(Q970,Set!$D$2:$E$23,2,FALSE),\"\")","v":""}]
[{"$nulls":9},{"$f":"IF(I971>0,VLOOKUP(I971,Set!$A$2:$B$250,2,FALSE),\"\")","v":""},{"$nulls":8},{"$f":"IF(Q971>0,VLOOKUP(Q971,Set!$D$2:$E$23,2,FALSE),\"\")","v":""}]
[{"$nulls":9},{"$f":"IF(I972>0,VLOOKUP(I972,Set!$A$2:$B$250,2,FALSE),\"\")","v":""},{"$nulls":8},{"$f":"IF(Q972>0,VLOOKUP(Q972,Set!$D$2:$E$23,2,FALSE),\"\")","v":""}]
[{"$nulls":9},{"$f":"IF(I973>0,VLOOKUP(I973,Set!$A$2:$B$250,2,FALSE),\"\")","v":""},{"$nulls":8},{"$f":"IF(Q973>0,VLOOKUP(Q973,Set!$D$2:$E$23,2,FALSE),\"\")","v":""}]
[{"$nulls":9},{"$f":"IF(I974>0,VLOOKUP(I974,Set!$A$2:$B$250,2,FALSE),\"\")","v":""},{"$nulls":8},{"$f":"IF(Q974>0,VLOOKUP(Q974,Set!$D$2:$E$23,2,FALSE),\"\")","v":""}]
[{"$nulls":9},{"$f":"IF(I975>0,VLOOKUP(I975,Set!$A$2:$B$250,2,FALSE),\"\")","v":""},{"$nulls":8},{"$f":"IF(Q975>0,VLOOKUP(Q975,Set!$D$2:$E$23,2,FALSE),\"\")","v":""}]
[{"$nulls":9},{"$f":"IF(I976>0,VLOOKUP(I976,Set!$A$2:$B$250,2,FALSE),\"\")","v":""},{"$nulls":8},{"$f":"IF(Q976>0,VLOOKUP(Q976,Set!$D$2:$E$23,2,FALSE),\"\")","v":""}]
[{"$nulls":9},{"$f":"IF(I977>0,VLOOKUP(I977,Set!$A$2:$B$250,2,FALSE),\"\")","v":""},{"$nulls":8},{"$f":"IF(Q977>0,VLOOKUP(Q977,Set!$D$2:$E$23,2,FALSE),\"\")","v":""}]
[{"$nulls":9},{"$f":"IF(I978>0,VLOOKUP(I978,Set!$A$2:$B$250,2,FALSE),\"\")","v":""},{"$nulls":8},{"$f":"IF(Q978>0,VLOOKUP(Q978,Set!$D$2:$E$23,2,FALSE),\"\")","v":""}]
[{"$nulls":9},{"$f":"IF(I979>0,VLOOKUP(I979,Set!$A$2:$B$250,2,FALSE),\"\")","v":""},{"$nulls":8},{"$f":"IF(Q979>0,VLOOKUP(Q979,Set!$D$2:$E$23,2,FALSE),\"\")","v":""}]
[{"$nulls":9},{"$f":"IF(I980>0,VLOOKUP(I980,Set!$A$2:$B$250,2,FALSE),\"\")","v":""},{"$nulls":8},{"$f":"IF(Q980>0,VLOOKUP(Q980,Set!$D$2:$E$23,2,FALSE),\"\")","v":""}]
[{"$nulls":9},{"$f":"IF(I981>0,VLOOKUP(I981,Set!$A$2:$B$250,2,FALSE),\"\")","v":""},{"$nulls":8},{"$f":"IF(Q981>0,VLOOKUP(Q981,Set!$D$2:$E$23,2,FALSE),\"\")","v":""}]
[{"$nulls":9},{"$f":"IF(I982>0,VLOOKUP(I982,Set!$A$2:$B$250,2,FALSE),\"\")","v":""},{"$nulls":8},{"$f":"IF(Q982>0,VLOOKUP(Q982,Set!$D$2:$E$23,2,FALSE),\"\")","v":""}]
[{"$nulls":9},{"$f":"IF(I983>0,VLOOKUP(I983,Set!$A$2:$B$250,2,FALSE),\"\")","v":""},{"$nulls":8},{"$f":"IF(Q983>0,VLOOKUP(Q983,Set!$D$2:$E$23,2,FALSE),\"\")","v":""}]
[{"$nulls":9},{"$f":"IF(I984>0,VLOOKUP(I984,Set!$A$2:$B$250,2,FALSE),\"\")","v":""},{"$nulls":8},{"$f":"IF(Q984>0,VLOOKUP(Q984,Set!$D$2:$E$23,2,FALSE),\"\")","v":""}]
[{"$nulls":9},{"$f":"IF(I985>0,VLOOKUP(I985,Set!$A$2:$B$250,2,FALSE),\"\")","v":""},{"$nulls":8},{"$f":"IF(Q985>0,VLOOKUP(Q985,Set!$D$2:$E$23,2,FALSE),\"\")","v":""}]
[{"$nulls":9},{"$f":"IF(I986>0,VLOOKUP(I986,Set!$A$2:$B$250,2,FALSE),\"\")","v":""},{"$nulls":8},{"$f":"IF(Q986>0,VLOOKUP(Q986,Set!$D$2:$E$23,2,FALSE),\"\")","v":""}]
[{"$nulls":9},{"$f":"IF(I987>0,VLOOKUP(I987,Set!$A$2:$B$250,2,FALSE),\"\")","v":""},{"$nulls":8},{"$f":"IF(Q987>0,VLOOKUP(Q987,Set!$D$2:$E$23,2,FALSE),\"\")","v":""}]
[{"$nulls":9},{"$f":"IF(I988>0,VLOOKUP(I988,Set!$A$2:$B$250,2,FALSE),\"\")","v":""},{"$nulls":8},{"$f":"IF(Q988>0,VLOOKUP(Q988,Set!$D$2:$E$23,2,FALSE),\"\")","v":""}]
[{"$nulls":9},{"$f":"IF(I989>0,VLOOKUP(I989,Set!$A$2:$B$250,2,FALSE),\"\")","v":""},{"$nulls":8},{"$f":"IF(Q989>0,VLOOKUP(Q989,Set!$D$2:$E$23,2,FALSE),\"\")","v":""}]
[{"$nulls":9},{"$f":"IF(I990>0,VLOOKUP(I990,Set!$A$2:$B$250,2,FALSE),\"\")","v":""},{"$nulls":8},{"$f":"IF(Q990>0,VLOOKUP(Q990,Set!$D$2:$E$23,2,FALSE),\"\")","v":""}]
[{"$nulls":9},{"$f":"IF(I991>0,VLOOKUP(I991,Set!$A$2:$B$250,2,FALSE),\"\")","v":""},{"$nulls":8},{"$f":"IF(Q991>0,VLOOKUP(Q991,Set!$D$2:$E$23,2,FALSE),\"\")","v":""}]
[{"$nulls":9},{"$f":"IF(I992>0,VLOOKUP(I992,Set!$A$2:$B$250,2,FALSE),\"\")","v":""},{"$nulls":8},{"$f":"IF(Q992>0,VLOOKUP(Q992,Set!$D$2:$E$23,2,FALSE),\"\")","v":""}]
[{"$nulls":9},{"$f":"IF(I993>0,VLOOKUP(I993,Set!$A$2:$B$250,2,FALSE),\"\")","v":""},{"$nulls":8},{"$f":"IF(Q993>0,VLOOKUP(Q993,Set!$D$2:$E$23,2,FALSE),\"\")","v":""}]
[{"$nulls":9},{"$f":"IF(I994>0,VLOOKUP(I994,Set!$A$2:$B$250,2,FALSE),\"\")","v":""},{"$nulls":8},{"$f":"IF(Q994>0,VLOOKUP(Q994,Set!$D$2:$E$23,2,FALSE),\"\")","v":""}]
[{"$nulls":9},{"$f":"IF(I995>0,VLOOKUP(I995,Set!$A$2:$B$250,2,FALSE),\"\")","v":""},{"$nulls":8},{"$f":"IF(Q995>0,VLOOKUP(Q995,Set!$D$2:$E$23,2,FALSE),\"\")","v":""}]
[{"$nulls":9},{"$f":"IF(I996>0,VLOOKUP(I996,Set!$A$2:$B$250,2,FALSE),\"\")","v":""},{"$nulls":8},{"$f":"IF(Q996>0,VLOOKUP(Q996,Set!$D$2:$E$23,2,FALSE),\"\")","v":""}]
[{"$nulls":9},{"$f":"IF(I997>0,VLOOKUP(I997,Set!$A$2:$B$250,2,FALSE),\"\")","v":""},{"$nulls":8},{"$f":"IF(Q997>0,VLOOKUP(Q997,Set!$D$2:$E$23,2,FALSE),\"\")","v":""}]
[{"$nulls":9},{"$f":"IF(I998>0,VLOOKUP(I998,Set!$A$2:$B$250,2,FALSE),\"\")","v":""},{"$nulls":8},{"$f":"IF(Q998>0,VLOOKUP(Q998,Set!$D$2:$E$23,2,FALSE),\"\")","v":""}]
[{"$nulls":9},{"$f":"IF(I999>0,VLOOKUP(I999,Set!$A$2:$B$250,2,FALSE),\"\")","v":""},{"$nulls":8},{"$f":"IF(Q999>0,VLOOKUP(Q999,Set!$D$2:$E$23,2,FALSE),\"\")","v":""}]
[{"$nulls":9},{"$f":"IF(I1000>0,VLOOKUP(I1000,Set!$A$2:$B$250,2,FALSE),\"\")","v":""},{"$nulls":8},{"$f":"IF(Q1000>0,VLOOKUP(Q1000,Set!$D$2:$E$23,2,FALSE),\"\")","v":""}]
[{"$nulls":9},{"$f":"IF(I1001>0,VLOOKUP(I1001,Set!$A$2:$B$250,2,FALSE),\"\")","v":""},{"$nulls":8},{"$f":"IF(Q1001>0,VLOOKUP(Q1001,Set!$D$2:$E$23,2,FALSE),\"\")","v":""}]
[{"$nulls":9},{"$f":"IF(I1002>0,VLOOKUP(I1002,Set!$A$2:$B$250,2,FALSE),\"\")","v":""},{"$nulls":8},{"$f":"IF(Q1002>0,VLOOKUP(Q1002,Set!$D$2:$E$23,2,FALSE),\"\")","v":""}]
[{"$nulls":9},{"$f":"IF(I1003>0,VLOOKUP(I1003,Set!$A$2:$B$250,2,FALSE),\"\")","v":""},{"$nulls":8},{"$f":"IF(Q1003>0,VLOOKUP(Q1003,Set!$D$2:$E$23,2,FALSE),\"\")","v":""}]
[{"$nulls":9},{"$f":"IF(I1004>0,VLOOKUP(I1004,Set!$A$2:$B$250,2,FALSE),\"\")","v":""},{"$nulls":8},{"$f":"IF(Q1004>0,VLOOKUP(Q1004,Set!$D$2:$E$23,2,FALSE),\"\")","v":""}]
[{"$nulls":9},{"$f":"IF(I1005>0,VLOOKUP(I1005,Set!$A$2:$B$250,2,FALSE),\"\")","v":""},{"$nulls":8},{"$f":"IF(Q1005>0,VLOOKUP(Q1005,Set!$D$2:$E$23,2,FALSE),\"\")","v":""}]
[{"$nulls":9},{"$f":"IF(I1006>0,VLOOKUP(I1006,Set!$A$2:$B$250,2,FALSE),\"\")","v":""},{"$nulls":8},{"$f":"IF(Q1006>0,VLOOKUP(Q1006,Set!$D$2:$E$23,2,FALSE),\"\")","v":""}]
[{"$nulls":9},{"$f":"IF(I1007>0,VLOOKUP(I1007,Set!$A$2:$B$250,2,FALSE),\"\")","v":""},{"$nulls":8},{"$f":"IF(Q1007>0,VLOOKUP(Q1007,Set!$D$2:$E$23,2,FALSE),\"\")","v":""}]
[{"$nulls":9},{"$f":"IF(I1008>0,VLOOKUP(I1008,Set!$A$2:$B$250,2,FALSE),\"\")","v":""},{"$nulls":8},{"$f":"IF(Q1008>0,VLOOKUP(Q1008,Set!$D$2:$E$23,2,FALSE),\"\")","v":""}]
[{"$nulls":9},{"$f":"IF(I1009>0,VLOOKUP(I1009,Set!$A$2:$B$250,2,FALSE),\"\")","v":""},{"$nulls":8},{"$f":"IF(Q1009>0,VLOOKUP(Q1009,Set!$D$2:$E$23,2,FALSE),\"\")","v":""}]
[{"$nulls":9},{"$f":"IF(I1010>0,VLOOKUP(I1010,Set!$A$2:$B$250,2,FALSE),\"\")","v":""},{"$nulls":8},{"$f":"IF(Q1010>0,VLOOKUP(Q1010,Set!$D$2:$E$23,2,FALSE),\"\")","v":""}]
[{"$nulls":9},{"$f":"IF(I1011>0,VLOOKUP(I1011,Set!$A$2:$B$250,2,FALSE),\"\")","v":""},{"$nulls":8},{"$f":"IF(Q1011>0,VLOOKUP(Q1011,Set!$D$2:$E$23,2,FALSE),\"\")","v":""}]
[{"$nulls":9},{"$f":"IF(I1012>0,VLOOKUP(I1012,Set!$A$2:$B$250,2,FALSE),\"\")","v":""},{"$nulls":8},{"$f":"IF(Q1012>0,VLOOKUP(Q1012,Set!$D$2:$E$23,2,FALSE),\"\")","v":""}]
[{"$nulls":9},{"$f":"IF(I1013>0,VLOOKUP(I1013,Set!$A$2:$B$250,2,FALSE),\"\")","v":""},{"$nulls":8},{"$f":"IF(Q1013>0,VLOOKUP(Q1013,Set!$D$2:$E$23,2,FALSE),\"\")","v":""}]
[{"$nulls":9},{"$f":"IF(I1014>0,VLOOKUP(I1014,Set!$A$2:$B$250,2,FALSE),\"\")","v":""},{"$nulls":8},{"$f":"IF(Q1014>0,VLOOKUP(Q1014,Set!$D$2:$E$23,2,FALSE),\"\")","v":""}]
[{"$nulls":9},{"$f":"IF(I1015>0,VLOOKUP(I1015,Set!$A$2:$B$250,2,FALSE),\"\")","v":""},{"$nulls":8},{"$f":"IF(Q1015>0,VLOOKUP(Q1015,Set!$D$2:$E$23,2,FALSE),\"\")","v":""}]
[{"$nulls":9},{"$f":"IF(I1016>0,VLOOKUP(I1016,Set!$A$2:$B$250,2,FALSE),\"\")","v":""},{"$nulls":8},{"$f":"IF(Q1016>0,VLOOKUP(Q1016,Set!$D$2:$E$23,2,FALSE),\"\")","v":""}]
[{"$nulls":9},{"$f":"IF(I1017>0,VLOOKUP(I1017,Set!$A$2:$B$250,2,FALSE),\"\")","v":""},{"$nulls":8},{"$f":"IF(Q1017>0,VLOOKUP(Q1017,Set!$D$2:$E$23,2,FALSE),\"\")","v":""}]
[{"$nulls":9},{"$f":"IF(I1018>0,VLOOKUP(I1018,Set!$A$2:$B$250,2,FALSE),\"\")","v":""},{"$nulls":8},{"$f":"IF(Q1018>0,VLOOKUP(Q1018,Set!$D$2:$E$23,2,FALSE),\"\")","v":""}]
[{"$nulls":9},{"$f":"IF(I1019>0,VLOOKUP(I1019,Set!$A$2:$B$250,2,FALSE),\"\")","v":""},{"$nulls":8},{"$f":"IF(Q1019>0,VLOOKUP(Q1019,Set!$D$2:$E$23,2,FALSE),\"\")","v":""}]
[{"$nulls":9},{"$f":"IF(I1020>0,VLOOKUP(I1020,Set!$A$2:$B$250,2,FALSE),\"\")","v":""},{"$nulls":8},{"$f":"IF(Q1020>0,VLOOKUP(Q1020,Set!$D$2:$E$23,2,FALSE),\"\")","v":""}]
[{"$nulls":9},{"$f":"IF(I1021>0,VLOOKUP(I1021,Set!$A$2:$B$250,2,FALSE),\"\")","v":""},{"$nulls":8},{"$f":"IF(Q1021>0,VLOOKUP(Q1021,Set!$D$2:$E$23,2,FALSE),\"\")","v":""}]
[{"$nulls":9},{"$f":"IF(I1022>0,VLOOKUP(I1022,Set!$A$2:$B$250,2,FALSE),\"\")","v":""},{"$nulls":8},{"$f":"IF(Q1022>0,VLOOKUP(Q1022,Set!$D$2:$E$23,2,FALSE),\"\")","v":""}]
[{"$nulls":9},{"$f":"IF(I1023>0,VLOOKUP(I1023,Set!$A$2:$B$250,2,FALSE),\"\")","v":""},{"$nulls":8},{"$f":"IF(Q1023>0,VLOOKUP(Q1023,Set!$D$2:$E$23,2,FALSE),\"\")","v":""}]
[{"$nulls":9},{"$f":"IF(I1024>0,VLOOKUP(I1024,Set!$A$2:$B$250,2,FALSE),\"\")","v":""},{"$nulls":8},{"$f":"IF(Q1024>0,VLOOKUP(Q1024,Set!$D$2:$E$23,2,FALSE),\"\")","v":""}]
[{"$nulls":9},{"$f":"IF(I1025>0,VLOOKUP(I1025,Set!$A$2:$B$250,2,FALSE),\"\")","v":""},{"$nulls":8},{"$f":"IF(Q1025>0,VLOOKUP(Q1025,Set!$D$2:$E$23,2,FALSE),\"\")","v":""}]
[{"$nulls":9},{"$f":"IF(I1026>0,VLOOKUP(I1026,Set!$A$2:$B$250,2,FALSE),\"\")","v":""},{"$nulls":8},{"$f":"IF(Q1026>0,VLOOKUP(Q1026,Set!$D$2:$E$23,2,FALSE),\"\")","v":""}]
[{"$nulls":9},{"$f":"IF(I1027>0,VLOOKUP(I1027,Set!$A$2:$B$250,2,FALSE),\"\")","v":""},{"$nulls":8},{"$f":"IF(Q1027>0,VLOOKUP(Q1027,Set!$D$2:$E$23,2,FALSE),\"\")","v":""}]
[{"$nulls":9},{"$f":"IF(I1028>0,VLOOKUP(I1028,Set!$A$2:$B$250,2,FALSE),\"\")","v":""},{"$nulls":8},{"$f":"IF(Q1028>0,VLOOKUP(Q1028,Set!$D$2:$E$23,2,FALSE),\"\")","v":""}]
[{"$nulls":9},{"$f":"IF(I1029>0,VLOOKUP(I1029,Set!$A$2:$B$250,2,FALSE),\"\")","v":""},{"$nulls":8},{"$f":"IF(Q1029>0,VLOOKUP(Q1029,Set!$D$2:$E$23,2,FALSE),\"\")","v":""}]
[{"$nulls":9},{"$f":"IF(I1030>0,VLOOKUP(I1030,Set!$A$2:$B$250,2,FALSE),\"\")","v":""},{"$nulls":8},{"$f":"IF(Q1030>0,VLOOKUP(Q1030,Set!$D$2:$E$23,2,FALSE),\"\")","v":""}]
[{"$nulls":16},"Swedbanka AS"]
[{"$nulls":16},"Swedbanka AS"]
[{"$nulls":16},"Swedbanka AS"]
[{"$nulls":16},"Swedbanka AS"]
[{"$nulls":16},"Swedbanka AS"]
[{"$nulls":16},"Swedbanka AS"]
[{"$nulls":16},"Swedbanka AS"]
[{"$nulls":16},"Swedbanka AS"]
[{"$nulls":16},"Swedbanka AS"]

{"sheet":"Set","index":1,"n_rows":250,"n_cols":9,"rows_kept":250,"cut":false,"hidden":true,"merged":[]}
["Valsts","Valsts kods",null,"Banka","Bankas kods",null,"Jā / Nē vērtības",null,"Samaksas dienas"]
["Andora","AD",null,"ABLV Bank AS","AIZKLV",null,"Jā",null,"00"]
["Apvienotie Arābu Emirāti","AE",null,"GE Money Bank AS","BATRLV",null,"Nē",null,"01"]
["Afganistāna","AF",null,"SEB bankas AB","CBVILT",null,null,null,"02"]
["Antigva un Barbuda","AG",null,"Dresdner bank AG","DRESNL",null,null,null,"03"]
["Angilja","AI",null,"Paysera LT UAB","EVIULT",null,null,null,"04"]
["Albānija","AL",null,"Hansapank","HABAEE",null,null,null,"05"]
["Armēnija","AM",null,"Swedbanka AS","HABALV",null,null,null,"06"]
["Angola","AO",null,"Hamburger Sparkasse","HASPDE",null,null,null,"07"]
["Antarktika","AQ",null,"Latvijas pasta banka","LAPBLV",null,null,null,"08"]
["Argentīna","AR",null,"Norvik banka AS","LATBLV",null,null,null,"09"]
["Amerikāņu Samoa","AS",null,"Danske Bank A/S filiāle Latvijā","MARALV",null,null,null,"10"]
["Austrija","AT",null,"Meridian Trade Bank AS","MULTLV",null,null,null,"11"]
["Austrālija","AU",null,"Luminor banka (Nordea)","NDEALV",null,null,null,"12"]
["Aruba","AW",null,"Pohjola Bank plc filiāle Latvijā","OKOYLV",null,null,null,"13"]
["Olande","AX",null,"Citadele banka AS","PARXLV",null,null,null,"14"]
["Azerbaidžāna","AZ",null,"Spoldzielczy W Lubeni Bank","POLUPL",null,null,null,"15"]
["Bosnija un Hercegovina","BA",null,"Privat bank AS","PRTTLV",null,null,null,"16"]
["Barbadosa","BB",null,"Luminor banka (DNB)","RIKOLV",null,null,null,"17"]
["Bangladeša","BD",null,"Rietumu Banka AS","RTMBLV",null,null,null,"18"]
["Beļģija","BE",null,"Stadtsparkasse Muenchen","SSKMDE",null,null,null,"19"]
["Burkinafaso","BF",null,"Valsts kase","TRELLV",null,null,null,"20"]
["Bulgārija","BG",null,"SEB banka AS","UNLALV",null,null,null,"21"]
["Bahreina","BH",{"$nulls":6},"30"]
["Burundi","BI"]
["Baltkrievija","BY"]
["Benina","BJ"]
["Senbartelmī","BL"]
["Bermuda","BM"]
["Bruneja","BN"]
["Bolīvija","BO"]
["Bonaire, Sintēstatiusa un Saba[a]","BQ"]
["Brazīlija","BR"]
["Bahamas","BS"]
["Butāna","BT"]
["Buvē Sala","BV"]
["Botsvana","BW"]
["Beliza","BZ"]
["Kanāda","CA"]
["Kokosu (Kīlinga) Salas","CC"]
["Kongo Demokrātiskā Republika","CD"]
["Centrālāfrikas Republika","CF"]
["Kongo","CG"]
["Šveice","CH"]
["Kotdivuāra","CI"]
["Kipra","CY"]
["Kuka Salas","CK"]
["Čīle","CL"]
["Kamerūna","CM"]
["Ķīna","CN"]
["Kolumbija","CO"]
["Kostarika","CR"]
["Kuba","CU"]
["Kaboverde","CV"]
["Kirasao","CW"]
["Ziemsvētku Sala","CX"]
["Čehija","CZ"]
["Vācija","DE"]
["Džibutija","DJ"]
["Dānija","DK"]
["Dominika","DM"]
["Dominikāna","DO"]
["Alžīrija","DZ"]
["Ekvadora","EC"]
["Igaunija","EE"]
["Ēģipte","EG"]
["Rietumsahāra","EH"]
["Eritreja","ER"]
["Spānija","ES"]
["Etiopija","ET"]
["Somija","FI"]
["Fidži","FJ"]
["Folklenda Salas","FK"]
["Mikronēzija","FM"]
["Fēru Salas","FO"]
["Francija","FR"]
["Gabona","GA"]
["Lielbritānija","GB"]
["Grenāda","GD"]
["Gruzija","GE"]
["Gviāna","GF"]
["Gērnsija","GG"]
["Gana","GH"]
["Gibraltārs","GI"]
["Gajāna","GY"]
["Grenlande","GL"]
["Gambija","GM"]
["Gvineja","GN"]
["Gvadelupa","GP"]
["Ekvatoriālā Gvineja","GQ"]
["Grieķija","GR"]
["Dienviddžordžija un Dienvidsendviču Salas","GS"]
["Gvatemala","GT"]
["Guama","GU"]
["Gvineja-Bisava","GW"]
["Honkonga (Sjangana)","HK"]
["Hērda Sala un Makdonalda Salas","HM"]
["Hondurasa","HN"]
["Horvātija","HR"]
["Haiti","HT"]
["Ungārija","HU"]
["Indonēzija","ID"]
["Īrija","IE"]
["Jemena","YE"]
["Izraēla","IL"]
["Mena","IM"]
["Indija","IN"]
["Indijas Okeāna Britu Teritorija","IO"]
["Irāka","IQ"]
["Irāna","IR"]
["Īslande","IS"]
["Itālija","IT"]
["Majota","YT"]
["Džērsija","JE"]
["Jamaika","JM"]
["Jordānija","JO"]
["Japāna","JP"]
["Kenija","KE"]
["Kirgizstāna","KG"]
["Kambodža","KH"]
["Kiribati","KI"]
["Kaimanu Salas","KY"]
["Komoras","KM"]
["Sentkitsa un Nevisa","KN"]
["Korejas TDR (Ziemeļkoreja)","KP"]
["Korejas Republika (Dienvidkoreja)","KR"]
["Kuveita","KW"]
["Kazahstāna","KZ"]
["Laosa","LA"]
["Libāna","LB"]
["Sentlūsija","LC"]
["Lihtenšteina","LI"]
["Lībija","LY"]
["Šrilanka","LK"]
["Libērija","LR"]
["Lesoto","LS"]
["Lietuva","LT"]
["Luksemburga","LU"]
["Latvija","LV"]
["Maroka","MA"]
["Monako","MC"]
["Moldova","MD"]
["Melnkalne","ME"]
["Senmartēna","MF"]
["Madagaskara","MG"]
["Māršala Salas","MH"]
["Malaizija","MY"]
["Maķedonija","MK"]
["Mali","ML"]
["Mjanma","MM"]
["Mongolija","MN"]
["Makao (Aomiņa)","MO"]
["Ziemeļu Marianas Salas","MP"]
["Martinika","MQ"]
["Mauritānija","MR"]
["Montserrata","MS"]
["Malta","MT"]
["Maurīcija","MU"]
["Maldīvija","MV"]
["Malāvija","MW"]
["Meksika","MX"]
["Mozambika","MZ"]
["Namībija","NA"]
["Jaunkaledonija","NC"]
["Nigēra","NE"]
["Norfolkas Sala","NF"]
["Nigērija","NG"]
["Nikaragva","NI"]
["Nīderlande","NL"]
["Norvēģija","NO"]
["Nepāla","NP"]
["Nauru","NR"]
["Niue","NU"]
["Jaunzēlande","NZ"]
["Omāna","OM"]
["Panama","PA"]
["Peru","PE"]
["Franču Polinēzija","PF"]
["Papua-Jaungvineja","PG"]
["Filipīnas","PH"]
["Paragvaja","PY"]
["Pakistāna","PK"]
["Polija","PL"]
["Senpjēra un Mikelona","PM"]
["Pitkērna","PN"]
["Puertoriko","PR"]
["Palestīna","PS"]
["Portugāle","PT"]
["Palau","PW"]
["Katara","QA"]
["Reinjona","RE"]
["Rumānija","RO"]
["Serbija","RS"]
["Krievija","RU"]
["Ruanda","RW"]
["Saūda Arābija","SA"]
["Zālamana Salas","SB"]
["Seišelas","SC"]
["Sudāna","SD"]
["Zviedrija","SE"]
["Singapūra","SG"]
["Svētās Helēnas Sala","SH"]
["Slovēnija","SI"]
["Sīrija","SY"]
["Svalbāra, Jana Majena sala","SJ"]
["Slovākija","SK"]
["Sjerraleone","SL"]
["Sanmarīno","SM"]
["Senegāla","SN"]
["Somālija","SO"]
["Surinama","SR"]
["Dienvidsudāna","SS"]
["Santome un Prinsipi","ST"]
["Salvadora","SV"]
["Sintmārtena","SX"]
["Svazilenda","SZ"]
["Tērksas un Kaikosas","TC"]
["Čada","TD"]
["Francijas Dienvidjūru un Antarktikas Zemes","TF"]
["Togo","TG"]
["Taizeme","TH"]
["Tadžikistāna","TJ"]
["Tokelau","TK"]
["Austrumtimora","TL"]
["Turkmenistāna","TM"]
["Tunisija","TN"]
["Tonga","TO"]
["Turcija","TR"]
["Trinidāda un Tobāgo","TT"]
["Tuvalu","TV"]
["Taivāna","TW"]
["Tanzānija","TZ"]
["Ukraina","UA"]
["Uganda","UG"]
["Urugvaja","UY"]
["ASV Mazās Aizjūras Salas","UM"]
["Amerikas Savienotās Valstis","US"]
["Uzbekistāna","UZ"]
["Vatikāns (Svētais Krēsls)","VA"]
["Sentvinsenta un Grenadīnas","VC"]
["Venecuēla","VE"]
["Britu Virdžīnas","VG"]
["ASV Virdžīnas","VI"]
["Vjetnama","VN"]
["Vanuatu","VU"]
["Volisa un Futuna","WF"]
["Samoa","WS"]
["Dienvidāfrika","ZA"]
["Zambija","ZM"]
["Zimbabve","ZW"]